{"text_format":"1","workbook":"xlsx","n_sheets":26,"sheets":["Taules","Clubs","Inici","Participants","Rànquing Inicial","Organigrama","Horaris","Grups PPP","Resultats PPP","PPP (C)","Classificació PPP","Grups PP","Resultats PP","PP (C)","Classificació PP","Grups P","Resultats P","P (C)","Classificació P","Resultats SF","SF (C)","Classificació SF","Resultats VF","Resultats QF-SF-F","FF (CP)","Classificació Final"],"not_rendered":{"charts":0,"images":6,"macros":1,"external_links":0,"defined_names":41,"comments":0,"pivot_tables":0},"unopened":[],"bounds":{"document_bytes":16777216,"sheet_cells":100000,"rows_first":2000,"rows_last":500,"rows_between":2000,"halvings":0,"cell_chars":16384,"cell_head_chars":4096},"cells_cut":0,"cells_raw":0,"read":"whole","date_system":"1900"}

{"sheet":"Taules","index":0,"n_rows":129,"n_cols":10,"rows_kept":129,"cut":false,"hidden":true,"merged":[]}
[null,"RF","JP","CP","RP","JPP","CPP","RPP","JPPP","CPPP"]
[1,1,0,0,0,0,0,0,0,0]
[2,2,0,0,0,0,0,0,0,0]
[3,3,0,0,0,0,0,0,0,0]
[4,4,0,0,0,0,0,0,0,0]
[5,5,0,0,0,0,0,0,0,0]
[6,6,0,0,0,0,0,0,0,0]
[7,7,0,0,0,0,0,0,0,0]
[8,8,0,0,0,0,0,0,0,0]
[9,9,0,0,0,0,0,0,0,0]
[10,10,0,0,0,0,0,0,0,0]
[11,11,0,0,0,0,0,0,0,0]
[12,12,0,0,0,0,0,0,0,0]
[13,13,0,0,0,0,0,0,0,0]
[14,14,0,0,0,0,0,0,0,0]
[15,15,0,0,0,0,0,0,0,0]
[16,16,0,0,0,0,0,0,0,0]
[17,17,0,0,0,0,0,0,0,0]
[18,18,0,0,0,0,0,0,0,0]
[19,19,0,0,0,0,0,0,0,0]
[20,20,0,0,0,0,0,0,0,0]
[21,21,0,0,0,0,0,0,0,0]
[22,22,0,0,0,0,0,0,0,0]
[23,23,0,0,0,0,0,0,0,0]
[24,24,0,0,0,0,0,0,0,0]
[25,25,0,0,0,0,0,0,0,0]
[26,26,0,0,0,0,0,0,0,0]
[27,27,0,0,0,0,0,0,0,0]
[28,28,0,0,0,0,0,0,0,0]
[29,29,0,0,0,0,0,0,0,0]
[30,30,0,0,0,0,0,0,0,0]
[31,31,0,0,0,0,0,0,0,0]
[32,32,0,0,0,0,0,0,0,0]
[33,18,{"$f":"A34-B34","v":15},{"$f":"32-B34","v":14},0,0,0,0,0,0]
[34,16,{"$f":"A35-B35","v":18},{"$f":"32-B35","v":16},0,0,0,0,0,0]
[35,17,18,15,0,0,0,0,0,0]
[36,18,18,14,0,0,0,0,0,0]
[37,16,21,16,0,0,0,0,0,0]
[38,17,21,15,0,0,0,0,0,0]
[39,18,21,14,0,0,0,0,0,0]
[40,16,24,16,0,0,0,0,0,0]
[41,17,24,15,0,0,0,0,0,0]
[42,18,24,14,0,0,0,0,0,0]
[43,16,27,16,0,0,0,0,0,0]
[44,17,27,15,0,0,0,0,0,0]
[45,18,27,14,0,0,0,0,0,0]
[46,16,30,16,0,0,0,0,0,0]
[47,17,30,15,0,0,0,0,0,0]
[48,18,30,14,0,0,0,0,0,0]
[49,16,33,16,0,0,0,0,0,0]
[50,17,33,15,0,0,0,0,0,0]
[51,18,33,14,0,0,0,0,0,0]
[52,16,36,16,0,0,0,0,0,0]
[53,17,36,15,0,0,0,0,0,0]
[54,18,36,14,0,0,0,0,0,0]
[55,16,39,16,0,0,0,0,0,0]
[56,17,39,15,0,0,0,0,0,0]
[57,18,39,14,0,0,0,0,0,0]
[58,16,42,16,0,0,0,0,0,0]
[59,17,42,15,0,0,0,0,0,0]
[60,18,42,14,0,0,0,0,0,0]
[61,16,45,16,0,0,0,0,0,0]
[62,17,45,15,0,0,0,0,0,0]
[63,18,45,14,0,0,0,0,0,0]
[64,16,48,16,0,0,0,0,0,0]
[65,16,48,16,37,{"$f":"A66-B66-E66","v":12},{"$f":"C66-E66","v":11},0,0,0]
[66,16,48,16,38,12,10,0,0,0]
[67,16,48,16,39,12,9,0,0,0]
[68,16,48,16,40,12,8,0,0,0]
[69,16,48,16,41,12,7,0,0,0]
[70,16,48,16,42,12,6,0,0,0]
[71,16,48,16,43,12,5,0,0,0]
[72,16,48,16,44,12,4,0,0,0]
[73,16,48,16,42,15,6,0,0,0]
[74,16,48,16,43,15,5,0,0,0]
[75,16,48,16,41,18,7,0,0,0]
[76,16,48,16,42,18,6,0,0,0]
[77,16,48,16,40,21,8,0,0,0]
[78,16,48,16,41,21,7,0,0,0]
[79,16,48,16,39,24,9,0,0,0]
[80,16,48,16,40,24,8,0,0,0]
[81,16,48,16,38,27,10,0,0,0]
[82,16,48,16,39,{"$f":"A83-B83-E83","v":27},{"$f":"C83-E83","v":9},0,0,0]
[83,16,48,16,37,{"$f":"A84-B84-E84","v":30},{"$f":"C84-E84","v":11},0,0,0]
[84,16,48,16,38,30,10,0,0,0]
[85,16,48,16,36,33,12,0,0,0]
[86,16,48,16,37,33,11,0,0,0]
[87,16,48,16,35,36,13,0,0,0]
[88,16,48,16,36,36,12,0,0,0]
[89,16,48,16,34,39,14,0,0,0]
[90,16,48,16,35,39,13,0,0,0]
[91,16,48,16,33,42,15,0,0,0]
[92,16,48,16,34,42,14,0,0,0]
[93,16,48,16,32,45,16,0,0,0]
[94,16,48,16,33,45,15,0,0,0]
[95,16,48,16,34,45,14,0,0,0]
[96,16,48,16,32,48,16,0,0,0]
[97,16,48,16,32,48,16,37,{"$f":"A98-B98-E98-H98","v":12},{"$f":"F98-H98","v":11}]
[98,16,48,16,32,48,16,38,{"$f":"A99-B99-E99-H99","v":12},{"$f":"F99-H99","v":10}]
[99,16,48,16,32,48,16,39,12,9]
[100,16,48,16,32,48,16,40,12,8]
[101,16,48,16,32,48,16,41,12,7]
[102,16,48,16,32,48,16,42,12,6]
[103,16,48,16,32,48,16,43,12,5]
[104,16,48,16,32,48,16,44,12,4]
[105,16,48,16,32,48,16,42,15,6]
[106,16,48,16,32,48,16,43,15,5]
[107,16,48,16,32,48,16,41,18,7]
[108,16,48,16,32,48,16,42,18,6]
[109,16,48,16,32,48,16,40,21,8]
[110,16,48,16,32,48,16,41,21,7]
[111,16,48,16,32,48,16,39,24,9]
[112,16,48,16,32,48,16,40,24,8]
[113,16,48,16,32,48,16,38,27,10]
[114,16,48,16,32,48,16,39,27,9]
[115,16,48,16,32,48,16,37,30,11]
[116,16,48,16,32,48,16,38,30,10]
[117,16,48,16,32,48,16,36,33,12]
[118,16,48,16,32,48,16,37,33,11]
[119,16,48,16,32,48,16,35,36,13]
[120,16,48,16,32,48,16,36,36,12]
[121,16,48,16,32,48,16,34,39,14]
[122,16,48,16,32,48,16,35,39,13]
[123,16,48,16,32,48,16,33,42,15]
[124,16,48,16,32,48,16,34,42,14]
[125,16,48,16,32,48,16,32,45,16]
[126,16,48,16,32,48,16,33,45,15]
[127,16,48,16,32,48,16,34,45,14]
[128,16,48,16,32,48,16,32,48,16]

{"sheet":"Clubs","index":1,"n_rows":40,"n_cols":4,"rows_kept":40,"cut":false,"hidden":true,"merged":[]}
["CLUB","DIRECCIÓ","TELÈFON","EMAIL"]
["B.C.GRANOLLERS","C/ Girona, 222 (Pavelló Bàsket) - Granollers","938 443 554","billargranollers@hotmail.com"]
["B.LA UNIÓ CORAL","Pg. Bertrand, 13 - Sant Feliu de Llobregat","936 661 138","billaruniocoral@hotmail.com"]
["C.B.2000 CERDANYOLA","Avda. Guiera, 6 - Cerdanyola del Vallès","656 851 126","cbillar2000@gmail.com"]
["C.B.ALBA","C/ Sant Pau, 13 - Badalona","933 843 405","billaralba@gmail.com"]
["C.B.BANYOLES","C/ L'abeurador, 10 - Banyoles","972 572 045","frnavarra55@gmail.com"]
["C.B.BARCELONA","Gran Via Corts Catalanes, 595 (sot. club comedia) - Barcelona","933 173 641","clubbillarbarcelona@gmail.com"]
["C.B.BLANES","Pça. d'Espanya, 5 (baixos Casino de Blanes) - Blanes","972 337 152","c.billarblanes@gmail.com"]
["C.B.CANET DE MAR","Rial de Can Goday, S/N (Costat camp futbol) - Canet de Mar","678 080 889","clubbillarcanet@gmail.com"]
["C.B.L'AMISTAT MOLLERUSSA","C/ Ferrer i Busquets, 90 - Mollerussa","609 891 435","billaramistat@gmail.com"]
["C.B.LLEIDA","Avda. Navarra, S/N (camp d'esports) - Lleida","973 225 305","clubbillarlleida@hotmail.com"]
["C.B.LLIÇÀ D'AMUNT","C/ Folch i Torres, 117 ¨Els Galliners¨ - Lliçà d'Amunt","649 492 354","bllicadamunt@gmail.com"]
["C.B.LLINARS","C/ Ravalet, 17 - Llinars del Vallès","639 129 325","jvila@billarllinars.com"]
["C.B.MANRESA","Ptge. Dipòsits Vells, 4 - Manresa","938 736 051","clubbillarmanresa@hotmail.com"]
["C.B.MATADEPERA","C/ Antoni Genescà, 3, 1er - Matadepera","635 401 315","cbmatadepera@gmail.com"]
["C.B.MATARÓ","Pg. Carles Padrós, 12 (Pav. Mun. Josep Mora) - Mataró","937 964 557","cbillarmataro@gmail.com"]
["C.B.MOLLET","Rda. Can Fàbregas, 1 (Pavelló Municipal) - Mollet del Vellès","935 704 718","clubbillarmollet@yahoo.es"]
["C.B.MONFORTE","C/ Sant Antoni Maria Claret, 373 - Barcelona","933 181 019","monfortebillares@gmail.com"]
["C.B.MONT-ROIG","C/ Vinyols, 7 - Mont-Roig del Camp","630 038 843","billarmontroig@gmail.com"]
["C.B.MONTMELÓ","C/ Federico García Lorca, 14 - Montmeló","935 720 144","billarmontmelo@live.com"]
["C.B.OLESA","Pça. Països Catalans, 2 - Olesa de Montserrat","937 082 202","billarolesa@gmail.com"]
["C.B.PRAT","C/ Lo Gaiter del Llobregat, 24 - El Prat de Llobregat","671 438 701","CLUBBILLARPRAT@GMAIL.COM"]
["C.B.PREMIÀ","C/ Sant Antoni, 60, 2on - Premià de Mar","659 364 776","premiabillar@gmail.com"]
["C.B.PUNT D'ATAC","C/ Capella, 6 - Torredembarra","649 859 147","puntdatac@gmail.com"]
["C.B.SANT ADRIÀ","C/ Dr. Barraquer, 6 - Sant Adrià de Besòs","933 814 898","clubbillarsantadria@gmail.com"]
["C.B.SANT BOI","C/ Jaume I, 52 - Sant Boi de Llobregat","932 229 624","cbsantboi@gmail.com"]
["C.B.SANT FELIU","Centre Cívic \"La Fonteta\" 08182 Sant Feliu de Codines","938 662 570","jordihuguet.2548@gmail.com"]
["C.B.SANTS","Rector Triadó, 53, bajos interior - 08014 Barcelona","934 245 301","clubbillarsants@gmail.com"]
["C.B.TARRAGONA","Pça. Imperial Tarraco, 1 (sot. estació autobusos) - Tarragona","977 227 795","clubbillartarragona@gmail.com"]
["C.B.VIC","C/ Arquebisbe Alemany, 24 Baixos - Vic","650 985 280","c.billar.vic@gmail.com"]
["C.B.VILANOVA","Rda. Ibèrica, 66 (pav. Isaac Gálvez) - Vilanova i la Geltrú","938 143 450","club.billar.vilanova@gmail.com"]
["DANY'ELLS C.B.","Rda. Can Fàbregas, 2 Local 3 - Mollet del Vallés","935 791 674","danyellscb@gmail.com"]
["S.B. EL CASINET MASNOU","C/ Barcelona, 46 - El Masnou","935 554 514","elcasinet1950@yahoo.es"]
["S.B. GEiEG","C/ Esglèssia de Sant Miquel, 18 (GEIEG Palau) - Girona","690 053 022","sbgeieg@gmail.com"]
["S.B.CORAL COLÓN","Avda. Once de Setembre, 125 - Sabadell","931 535 538","billar@coralcolon.net"]
["S.B.F.MOLINS","Pg. del terraplé, 49 - Molins de Rei","608 490 279","bfmolins@gmail.com"]
["S.B.LA COLMENA","C/ Francesc Vinyes, 5 - Sta. Coloma de Gramanet","619 965 755","billarcolmena@hotmail.com"]
["S.B.LA GRAN PENYA","Rbla. Principal, 52 - Vilanova i la Geltrú","616 545 700","s.billar.la.gran.penya@gmail.com"]
["S.B.P.E.CENTELLES","C/ Sant Joan, 25 2on - Centelles","651 127 799","billarcentelles@gmail.com"]
["S.E.CASAL CERVERA","Pça. Santa Anna, 2 - Cervera","629 606 663","billarcervera@hotmail.com"]

{"sheet":"Inici","index":2,"n_rows":75,"n_cols":7,"rows_kept":75,"cut":false,"hidden":false,"merged":[[1,1,1,4],[3,1,3,4]]}
[]
[{"$f":"MID(CELL(\"nombrearchivo\"),FIND(\"[\",CELL(\"nombrearchivo\"))+1,FIND(\"]\",CELL(\"nombrearchivo\"))-FIND(\"[\",CELL(\"nombrearchivo\"))-1)","v":"Plantilla Open 3B 4 taules_V05.xlsm"},"INTRODUIR EN MAIÚSCULES EL NOM DE L'OPEN",null,null,null,null,"Anar a:"]
[null,null,null,null,null,null,"Participants"]
[null,"DADES DE L'OPEN",null,null,null,null,"Rànquing Inicial"]
[null,null,null,null,null,null,"Organigrama"]
[null,null,"Club organitzador:",null,null,null,"Horaris"]
[]
[null,null,"Adreça:",{"$f":"IFERROR(VLOOKUP($D$6,Clubs!$A$2:$D$51,2,FALSE),\"\")","v":""}]
[]
[null,null,"Telèfon de contacte:",{"$f":"IFERROR(VLOOKUP($D$6,Clubs!$A$2:$D$51,3,FALSE),\"\")","v":""}]
[]
[null,null,"Correu electrònic:",{"$f":"IFERROR(VLOOKUP($D$6,Clubs!$A$2:$D$51,4,FALSE),\"\")","v":""}]
[]
[null,null,"Data de la final:"]
[]
[]
[]
[]
[]
[]
[]
[]
[]
[]
[null,null,null,{"$f":"IF(Clubs!A2=\"\",\"\",Clubs!A2)","v":"B.C.GRANOLLERS"}]
[null,null,null,{"$f":"IF(Clubs!A3=\"\",\"\",Clubs!A3)","v":"B.LA UNIÓ CORAL"}]
[null,null,null,{"$f":"IF(Clubs!A4=\"\",\"\",Clubs!A4)","v":"C.B.2000 CERDANYOLA"}]
[null,null,null,{"$f":"IF(Clubs!A5=\"\",\"\",Clubs!A5)","v":"C.B.ALBA"}]
[null,null,null,{"$f":"IF(Clubs!A6=\"\",\"\",Clubs!A6)","v":"C.B.BANYOLES"}]
[null,null,null,{"$f":"IF(Clubs!A7=\"\",\"\",Clubs!A7)","v":"C.B.BARCELONA"}]
[null,null,null,{"$f":"IF(Clubs!A8=\"\",\"\",Clubs!A8)","v":"C.B.BLANES"}]
[null,null,null,{"$f":"IF(Clubs!A9=\"\",\"\",Clubs!A9)","v":"C.B.CANET DE MAR"}]
[null,null,null,{"$f":"IF(Clubs!A10=\"\",\"\",Clubs!A10)","v":"C.B.L'AMISTAT MOLLERUSSA"}]
[null,null,null,{"$f":"IF(Clubs!A11=\"\",\"\",Clubs!A11)","v":"C.B.LLEIDA"}]
[null,null,null,{"$f":"IF(Clubs!A12=\"\",\"\",Clubs!A12)","v":"C.B.LLIÇÀ D'AMUNT"}]
[null,null,null,{"$f":"IF(Clubs!A13=\"\",\"\",Clubs!A13)","v":"C.B.LLINARS"}]
[null,null,null,{"$f":"IF(Clubs!A14=\"\",\"\",Clubs!A14)","v":"C.B.MANRESA"}]
[null,null,null,{"$f":"IF(Clubs!A15=\"\",\"\",Clubs!A15)","v":"C.B.MATADEPERA"}]
[null,null,null,{"$f":"IF(Clubs!A16=\"\",\"\",Clubs!A16)","v":"C.B.MATARÓ"}]
[null,null,null,{"$f":"IF(Clubs!A17=\"\",\"\",Clubs!A17)","v":"C.B.MOLLET"}]
[null,null,null,{"$f":"IF(Clubs!A18=\"\",\"\",Clubs!A18)","v":"C.B.MONFORTE"}]
[null,null,null,{"$f":"IF(Clubs!A19=\"\",\"\",Clubs!A19)","v":"C.B.MONT-ROIG"}]
[null,null,null,{"$f":"IF(Clubs!A20=\"\",\"\",Clubs!A20)","v":"C.B.MONTMELÓ"}]
[null,null,null,{"$f":"IF(Clubs!A21=\"\",\"\",Clubs!A21)","v":"C.B.OLESA"}]
[null,null,null,{"$f":"IF(Clubs!A22=\"\",\"\",Clubs!A22)","v":"C.B.PRAT"}]
[null,null,null,{"$f":"IF(Clubs!A23=\"\",\"\",Clubs!A23)","v":"C.B.PREMIÀ"}]
[null,null,null,{"$f":"IF(Clubs!A24=\"\",\"\",Clubs!A24)","v":"C.B.PUNT D'ATAC"}]
[null,null,null,{"$f":"IF(Clubs!A25=\"\",\"\",Clubs!A25)","v":"C.B.SANT ADRIÀ"}]
[null,null,null,{"$f":"IF(Clubs!A26=\"\",\"\",Clubs!A26)","v":"C.B.SANT BOI"}]
[null,null,null,{"$f":"IF(Clubs!A27=\"\",\"\",Clubs!A27)","v":"C.B.SANT FELIU"}]
[null,null,null,{"$f":"IF(Clubs!A28=\"\",\"\",Clubs!A28)","v":"C.B.SANTS"}]
[null,null,null,{"$f":"IF(Clubs!A29=\"\",\"\",Clubs!A29)","v":"C.B.TARRAGONA"}]
[null,null,null,{"$f":"IF(Clubs!A30=\"\",\"\",Clubs!A30)","v":"C.B.VIC"}]
[null,null,null,{"$f":"IF(Clubs!A31=\"\",\"\",Clubs!A31)","v":"C.B.VILANOVA"}]
[null,null,null,{"$f":"IF(Clubs!A32=\"\",\"\",Clubs!A32)","v":"DANY'ELLS C.B."}]
[null,null,null,{"$f":"IF(Clubs!A33=\"\",\"\",Clubs!A33)","v":"S.B. EL CASINET MASNOU"}]
[null,null,null,{"$f":"IF(Clubs!A34=\"\",\"\",Clubs!A34)","v":"S.B. GEiEG"}]
[null,null,null,{"$f":"IF(Clubs!A35=\"\",\"\",Clubs!A35)","v":"S.B.CORAL COLÓN"}]
[null,null,null,{"$f":"IF(Clubs!A36=\"\",\"\",Clubs!A36)","v":"S.B.F.MOLINS"}]
[null,null,null,{"$f":"IF(Clubs!A37=\"\",\"\",Clubs!A37)","v":"S.B.LA COLMENA"}]
[null,null,null,{"$f":"IF(Clubs!A38=\"\",\"\",Clubs!A38)","v":"S.B.LA GRAN PENYA"}]
[null,null,null,{"$f":"IF(Clubs!A39=\"\",\"\",Clubs!A39)","v":"S.B.P.E.CENTELLES"}]
[null,null,null,{"$f":"IF(Clubs!A40=\"\",\"\",Clubs!A40)","v":"S.E.CASAL CERVERA"}]
[null,null,null,{"$f":"IF(Clubs!A41=\"\",\"\",Clubs!A41)","v":""}]
[null,null,null,{"$f":"IF(Clubs!A42=\"\",\"\",Clubs!A42)","v":""}]
[null,null,null,{"$f":"IF(Clubs!A43=\"\",\"\",Clubs!A43)","v":""}]
[null,null,null,{"$f":"IF(Clubs!A44=\"\",\"\",Clubs!A44)","v":""}]
[null,null,null,{"$f":"IF(Clubs!A45=\"\",\"\",Clubs!A45)","v":""}]
[null,null,null,{"$f":"IF(Clubs!A46=\"\",\"\",Clubs!A46)","v":""}]
[null,null,null,{"$f":"IF(Clubs!A47=\"\",\"\",Clubs!A47)","v":""}]
[null,null,null,{"$f":"IF(Clubs!A48=\"\",\"\",Clubs!A48)","v":""}]
[null,null,null,{"$f":"IF(Clubs!A49=\"\",\"\",Clubs!A49)","v":""}]
[null,null,null,{"$f":"IF(Clubs!A50=\"\",\"\",Clubs!A50)","v":""}]
[null,null,null,{"$f":"IF(Clubs!A51=\"\",\"\",Clubs!A51)","v":""}]
[null,null,null,{"$f":"IF(Clubs!A52=\"\",\"\",Clubs!A52)","v":""}]

{"sheet":"Participants","index":3,"n_rows":173,"n_cols":10,"rows_kept":173,"cut":false,"hidden":false,"merged":[[5,1,7,6],[3,1,3,6],[1,1,1,6]]}
[]
[null,{"$f":"IF(Inici!B2=\"INTRODUIR EN MAIÚSCULES EL NOM DE L'OPEN\",\"Introduiu el nom de l'Open a la pantalla d'Inici!!!\",Inici!B2)","v":"Introduiu el nom de l'Open a la pantalla d'Inici!!!"},null,null,null,null,null,null,"Anar a:","Inici"]
[null,null,null,null,null,null,null,null,"Rànquing Inicial"]
[null,"INTRODUCCIÓ DE PARTICIPANTS DE L'OPEN",null,null,null,null,null,null,"Organigrama"]
[null,null,null,null,null,null,null,null,"Horaris"]
[null,"Ompliu únicament els espais en groc. En cas de que un jugador no tingui rànquing català, introduir el registre existent de la seva mitjana general i definir el seu rànquing con a definitiu, per tal d'establir la seva posició al rànquing inicial.     Màxim nombre de jugadors: 128"]
[]
[]
[]
[null,"Posició","Jugador","Club","Rànquing","Tipus Rànquing","Punts/mitjana"]
[null,{"$f":"IF(C11=\"\",\"\",1)","v":1},"JUGADOR 1","CLUB JUGADOR 1",1,"Definitiu",1000]
[null,{"$f":"IF(C12=\"\",\"\",B11+1)","v":2},"JUGADOR 2","CLUB JUGADOR 2",2,"Definitiu",{"$f":"G11-1","v":999}]
[null,{"$f":"IF(C13=\"\",\"\",B12+1)","v":3},"JUGADOR 3","CLUB JUGADOR 3",3,"Definitiu",998]
[null,4,"JUGADOR 4","CLUB JUGADOR 4",4,"Definitiu",997]
[null,5,"JUGADOR 5","CLUB JUGADOR 5",5,"Definitiu",996]
[null,6,"JUGADOR 6","CLUB JUGADOR 6",6,"Definitiu",995]
[null,7,"JUGADOR 7","CLUB JUGADOR 7",7,"Definitiu",994]
[null,8,"JUGADOR 8","CLUB JUGADOR 8",8,"Definitiu",993]
[null,9,"JUGADOR 9","CLUB JUGADOR 9",9,"Definitiu",992]
[null,10,"JUGADOR 10","CLUB JUGADOR 10",10,"Definitiu",991]
[null,11,"JUGADOR 11","CLUB JUGADOR 11",11,"Definitiu",990]
[null,12,"JUGADOR 12","CLUB JUGADOR 12",12,"Definitiu",989]
[null,13,"JUGADOR 13","CLUB JUGADOR 13",13,"Definitiu",988]
[null,14,"JUGADOR 14","CLUB JUGADOR 14",14,"Definitiu",987]
[null,15,"JUGADOR 15","CLUB JUGADOR 15",15,"Definitiu",986]
[null,16,"JUGADOR 16","CLUB JUGADOR 16",16,"Definitiu",985]
[null,17,"JUGADOR 17","CLUB JUGADOR 17",17,"Definitiu",984]
[null,18,"JUGADOR 18","CLUB JUGADOR 18",18,"Definitiu",983]
[null,19,"JUGADOR 19","CLUB JUGADOR 19",19,"Definitiu",982]
[null,20,"JUGADOR 20","CLUB JUGADOR 20",20,"Definitiu",981]
[null,21,"JUGADOR 21","CLUB JUGADOR 21",21,"Definitiu",980]
[null,22,"JUGADOR 22","CLUB JUGADOR 22",22,"Definitiu",979]
[null,23,"JUGADOR 23","CLUB JUGADOR 23",23,"Definitiu",978]
[null,24,"JUGADOR 24","CLUB JUGADOR 24",24,"Definitiu",977]
[null,25,"JUGADOR 25","CLUB JUGADOR 25",25,"Definitiu",976]
[null,26,"JUGADOR 26","CLUB JUGADOR 26",26,"Definitiu",975]
[null,27,"JUGADOR 27","CLUB JUGADOR 27",27,"Definitiu",974]
[null,28,"JUGADOR 28","CLUB JUGADOR 28",28,"Definitiu",973]
[null,29,"JUGADOR 29","CLUB JUGADOR 29",29,"Definitiu",972]
[null,30,"JUGADOR 30","CLUB JUGADOR 30",30,"Definitiu",971]
[null,31,"JUGADOR 31","CLUB JUGADOR 31",31,"Definitiu",970]
[null,32,"JUGADOR 32","CLUB JUGADOR 32",32,"Definitiu",969]
[null,33,"JUGADOR 33","CLUB JUGADOR 33",33,"Definitiu",968]
[null,34,"JUGADOR 34","CLUB JUGADOR 34",34,"Definitiu",967]
[null,35,"JUGADOR 35","CLUB JUGADOR 35",35,"Definitiu",966]
[null,36,"JUGADOR 36","CLUB JUGADOR 36",36,"Definitiu",965]
[null,37,"JUGADOR 37","CLUB JUGADOR 37",37,"Definitiu",964]
[null,38,"JUGADOR 38","CLUB JUGADOR 38",38,"Definitiu",963]
[null,39,"JUGADOR 39","CLUB JUGADOR 39",39,"Definitiu",962]
[null,40,"JUGADOR 40","CLUB JUGADOR 40",40,"Definitiu",961]
[null,41,"JUGADOR 41","CLUB JUGADOR 41",41,"Definitiu",960]
[null,42,"JUGADOR 42","CLUB JUGADOR 42",42,"Definitiu",959]
[null,""]
[null,""]
[null,""]
[null,""]
[null,""]
[null,""]
[null,""]
[null,""]
[null,""]
[null,""]
[null,""]
[null,""]
[null,""]
[null,""]
[null,""]
[null,""]
[null,""]
[null,""]
[null,""]
[null,""]
[null,""]
[null,""]
[null,""]
[null,""]
[null,{"$f":"IF(C77=\"\",\"\",B76+1)","v":""}]
[null,""]
[null,""]
[null,""]
[null,""]
[null,""]
[null,""]
[null,""]
[null,""]
[null,""]
[null,""]
[null,""]
[null,""]
[null,""]
[null,""]
[null,""]
[null,""]
[null,""]
[null,""]
[null,""]
[null,""]
[null,""]
[null,""]
[null,""]
[null,""]
[null,""]
[null,""]
[null,""]
[null,""]
[null,""]
[null,""]
[null,""]
[null,""]
[null,""]
[null,""]
[null,""]
[null,""]
[null,""]
[null,""]
[null,""]
[null,""]
[null,""]
[null,""]
[null,""]
[null,""]
[null,""]
[null,""]
[null,""]
[null,""]
[null,""]
[null,""]
[null,""]
[null,""]
[null,""]
[null,""]
[null,""]
[null,""]
[null,""]
[null,""]
[null,""]
[null,""]
[null,""]
[]
[]
[]
[]
[]
[]
[]
[]
[]
[]
[]
[]
[]
[]
[]
[]
[]
[]
[]
[]
[]
[]
[]
[]
[]
[]
[]
[]
[]
[]
[]
[]
[]
[null,null,"Total jugadors",{"$f":"128-(COUNTBLANK(B11:B138))","v":42},null,"Definitiu"]
[null,null,null,null,null,"Provisional"]

{"sheet":"Rànquing Inicial","index":4,"n_rows":150,"n_cols":14,"rows_kept":150,"cut":false,"hidden":false,"merged":[[7,1,7,6],[1,6,5,6],[1,1,1,5],[2,3,5,5],[1,12,1,13]]}
[]
[null,{"$f":"IF(Inici!B2=\"INTRODUIR EN MAIÚSCULES EL NOM DE L'OPEN\",\"Introduiu el nom de l'Open a la pantalla d'Inici!!!\",Inici!B2)","v":"Introduiu el nom de l'Open a la pantalla d'Inici!!!"},null,null,null,null,null,null,"ANAR A PÀGINA","P-P-PRÈVIA","P-PRÈVIA","PRÈVIA","FASE FINAL"]
[null,null,null,null,null,null,null,null,"Rànquing Inicial","Grups PPP","Grups PP","Grups P","Setzens","Vuitens"]
[null,null,null,null,null,null,null,null,"Organigrama","Result PPP","Result PP","Result P","Class SF","Quarts/SF/F"]
[null,null,null,null,null,null,null,null,"Horaris","Classif PPP","Classif PP","Classif P"]
[]
[]
[null,"RÀNQUING INICIAL",null,null,null,null,null,null,"Inici","Participants"]
[]
[null,"Posició","Jugador","Club","Rànquing","Tipus Rànquing","Punts/mitjana"]
[null,{"$f":"IF(C11=\"\",\"\",1)","v":1},{"$f":"IFERROR(VLOOKUP(1,Participants!$B$11:$G$138,2,FALSE),\"\")","v":"JUGADOR 1"},{"$f":"IFERROR(VLOOKUP(C11,Participants!$C$11:$G$138,2,FALSE),\"\")","v":"CLUB JUGADOR 1"},{"$f":"IFERROR(VLOOKUP(C11,Participants!$C$11:$G$138,3,FALSE),\"\")","v":1},{"$f":"IFERROR(VLOOKUP(C11,Participants!$C$11:$G$138,4,FALSE),\"\")","v":"Definitiu"},{"$f":"IFERROR(VLOOKUP(C11,Participants!$C$11:$G$138,5,FALSE),\"\")","v":1000}]
[null,{"$f":"IF(C12=\"\",\"\",B11+1)","v":2},{"$f":"IFERROR(VLOOKUP(2,Participants!$B$11:$G$138,2,FALSE),\"\")","v":"JUGADOR 2"},{"$f":"IFERROR(VLOOKUP(C12,Participants!$C$11:$G$138,2,FALSE),\"\")","v":"CLUB JUGADOR 2"},{"$f":"IFERROR(VLOOKUP(C12,Participants!$C$11:$G$138,3,FALSE),\"\")","v":2},{"$f":"IFERROR(VLOOKUP(C12,Participants!$C$11:$G$138,4,FALSE),\"\")","v":"Definitiu"},{"$f":"IFERROR(VLOOKUP(C12,Participants!$C$11:$G$138,5,FALSE),\"\")","v":999}]
[null,{"$f":"IF(C13=\"\",\"\",B12+1)","v":3},{"$f":"IFERROR(VLOOKUP(3,Participants!$B$11:$G$138,2,FALSE),\"\")","v":"JUGADOR 3"},{"$f":"IFERROR(VLOOKUP(C13,Participants!$C$11:$G$138,2,FALSE),\"\")","v":"CLUB JUGADOR 3"},{"$f":"IFERROR(VLOOKUP(C13,Participants!$C$11:$G$138,3,FALSE),\"\")","v":3},{"$f":"IFERROR(VLOOKUP(C13,Participants!$C$11:$G$138,4,FALSE),\"\")","v":"Definitiu"},{"$f":"IFERROR(VLOOKUP(C13,Participants!$C$11:$G$138,5,FALSE),\"\")","v":998}]
[null,{"$f":"IF(C14=\"\",\"\",B13+1)","v":4},{"$f":"IFERROR(VLOOKUP(4,Participants!$B$11:$G$138,2,FALSE),\"\")","v":"JUGADOR 4"},{"$f":"IFERROR(VLOOKUP(C14,Participants!$C$11:$G$138,2,FALSE),\"\")","v":"CLUB JUGADOR 4"},{"$f":"IFERROR(VLOOKUP(C14,Participants!$C$11:$G$138,3,FALSE),\"\")","v":4},{"$f":"IFERROR(VLOOKUP(C14,Participants!$C$11:$G$138,4,FALSE),\"\")","v":"Definitiu"},{"$f":"IFERROR(VLOOKUP(C14,Participants!$C$11:$G$138,5,FALSE),\"\")","v":997}]
[null,5,{"$f":"IFERROR(VLOOKUP(5,Participants!$B$11:$G$138,2,FALSE),\"\")","v":"JUGADOR 5"},{"$f":"IFERROR(VLOOKUP(C15,Participants!$C$11:$G$138,2,FALSE),\"\")","v":"CLUB JUGADOR 5"},{"$f":"IFERROR(VLOOKUP(C15,Participants!$C$11:$G$138,3,FALSE),\"\")","v":5},{"$f":"IFERROR(VLOOKUP(C15,Participants!$C$11:$G$138,4,FALSE),\"\")","v":"Definitiu"},{"$f":"IFERROR(VLOOKUP(C15,Participants!$C$11:$G$138,5,FALSE),\"\")","v":996}]
[null,6,{"$f":"IFERROR(VLOOKUP(6,Participants!$B$11:$G$138,2,FALSE),\"\")","v":"JUGADOR 6"},{"$f":"IFERROR(VLOOKUP(C16,Participants!$C$11:$G$138,2,FALSE),\"\")","v":"CLUB JUGADOR 6"},{"$f":"IFERROR(VLOOKUP(C16,Participants!$C$11:$G$138,3,FALSE),\"\")","v":6},{"$f":"IFERROR(VLOOKUP(C16,Participants!$C$11:$G$138,4,FALSE),\"\")","v":"Definitiu"},{"$f":"IFERROR(VLOOKUP(C16,Participants!$C$11:$G$138,5,FALSE),\"\")","v":995}]
[null,7,{"$f":"IFERROR(VLOOKUP(7,Participants!$B$11:$G$138,2,FALSE),\"\")","v":"JUGADOR 7"},{"$f":"IFERROR(VLOOKUP(C17,Participants!$C$11:$G$138,2,FALSE),\"\")","v":"CLUB JUGADOR 7"},{"$f":"IFERROR(VLOOKUP(C17,Participants!$C$11:$G$138,3,FALSE),\"\")","v":7},{"$f":"IFERROR(VLOOKUP(C17,Participants!$C$11:$G$138,4,FALSE),\"\")","v":"Definitiu"},{"$f":"IFERROR(VLOOKUP(C17,Participants!$C$11:$G$138,5,FALSE),\"\")","v":994}]
[null,8,{"$f":"IFERROR(VLOOKUP(8,Participants!$B$11:$G$138,2,FALSE),\"\")","v":"JUGADOR 8"},{"$f":"IFERROR(VLOOKUP(C18,Participants!$C$11:$G$138,2,FALSE),\"\")","v":"CLUB JUGADOR 8"},{"$f":"IFERROR(VLOOKUP(C18,Participants!$C$11:$G$138,3,FALSE),\"\")","v":8},{"$f":"IFERROR(VLOOKUP(C18,Participants!$C$11:$G$138,4,FALSE),\"\")","v":"Definitiu"},{"$f":"IFERROR(VLOOKUP(C18,Participants!$C$11:$G$138,5,FALSE),\"\")","v":993}]
[null,9,{"$f":"IFERROR(VLOOKUP(9,Participants!$B$11:$G$138,2,FALSE),\"\")","v":"JUGADOR 9"},{"$f":"IFERROR(VLOOKUP(C19,Participants!$C$11:$G$138,2,FALSE),\"\")","v":"CLUB JUGADOR 9"},{"$f":"IFERROR(VLOOKUP(C19,Participants!$C$11:$G$138,3,FALSE),\"\")","v":9},{"$f":"IFERROR(VLOOKUP(C19,Participants!$C$11:$G$138,4,FALSE),\"\")","v":"Definitiu"},{"$f":"IFERROR(VLOOKUP(C19,Participants!$C$11:$G$138,5,FALSE),\"\")","v":992}]
[null,10,{"$f":"IFERROR(VLOOKUP(10,Participants!$B$11:$G$138,2,FALSE),\"\")","v":"JUGADOR 10"},{"$f":"IFERROR(VLOOKUP(C20,Participants!$C$11:$G$138,2,FALSE),\"\")","v":"CLUB JUGADOR 10"},{"$f":"IFERROR(VLOOKUP(C20,Participants!$C$11:$G$138,3,FALSE),\"\")","v":10},{"$f":"IFERROR(VLOOKUP(C20,Participants!$C$11:$G$138,4,FALSE),\"\")","v":"Definitiu"},{"$f":"IFERROR(VLOOKUP(C20,Participants!$C$11:$G$138,5,FALSE),\"\")","v":991}]
[null,11,{"$f":"IFERROR(VLOOKUP(11,Participants!$B$11:$G$138,2,FALSE),\"\")","v":"JUGADOR 11"},{"$f":"IFERROR(VLOOKUP(C21,Participants!$C$11:$G$138,2,FALSE),\"\")","v":"CLUB JUGADOR 11"},{"$f":"IFERROR(VLOOKUP(C21,Participants!$C$11:$G$138,3,FALSE),\"\")","v":11},{"$f":"IFERROR(VLOOKUP(C21,Participants!$C$11:$G$138,4,FALSE),\"\")","v":"Definitiu"},{"$f":"IFERROR(VLOOKUP(C21,Participants!$C$11:$G$138,5,FALSE),\"\")","v":990}]
[null,12,{"$f":"IFERROR(VLOOKUP(12,Participants!$B$11:$G$138,2,FALSE),\"\")","v":"JUGADOR 12"},{"$f":"IFERROR(VLOOKUP(C22,Participants!$C$11:$G$138,2,FALSE),\"\")","v":"CLUB JUGADOR 12"},{"$f":"IFERROR(VLOOKUP(C22,Participants!$C$11:$G$138,3,FALSE),\"\")","v":12},{"$f":"IFERROR(VLOOKUP(C22,Participants!$C$11:$G$138,4,FALSE),\"\")","v":"Definitiu"},{"$f":"IFERROR(VLOOKUP(C22,Participants!$C$11:$G$138,5,FALSE),\"\")","v":989}]
[null,13,{"$f":"IFERROR(VLOOKUP(13,Participants!$B$11:$G$138,2,FALSE),\"\")","v":"JUGADOR 13"},{"$f":"IFERROR(VLOOKUP(C23,Participants!$C$11:$G$138,2,FALSE),\"\")","v":"CLUB JUGADOR 13"},{"$f":"IFERROR(VLOOKUP(C23,Participants!$C$11:$G$138,3,FALSE),\"\")","v":13},{"$f":"IFERROR(VLOOKUP(C23,Participants!$C$11:$G$138,4,FALSE),\"\")","v":"Definitiu"},{"$f":"IFERROR(VLOOKUP(C23,Participants!$C$11:$G$138,5,FALSE),\"\")","v":988}]
[null,14,{"$f":"IFERROR(VLOOKUP(14,Participants!$B$11:$G$138,2,FALSE),\"\")","v":"JUGADOR 14"},{"$f":"IFERROR(VLOOKUP(C24,Participants!$C$11:$G$138,2,FALSE),\"\")","v":"CLUB JUGADOR 14"},{"$f":"IFERROR(VLOOKUP(C24,Participants!$C$11:$G$138,3,FALSE),\"\")","v":14},{"$f":"IFERROR(VLOOKUP(C24,Participants!$C$11:$G$138,4,FALSE),\"\")","v":"Definitiu"},{"$f":"IFERROR(VLOOKUP(C24,Participants!$C$11:$G$138,5,FALSE),\"\")","v":987}]
[null,15,{"$f":"IFERROR(VLOOKUP(15,Participants!$B$11:$G$138,2,FALSE),\"\")","v":"JUGADOR 15"},{"$f":"IFERROR(VLOOKUP(C25,Participants!$C$11:$G$138,2,FALSE),\"\")","v":"CLUB JUGADOR 15"},{"$f":"IFERROR(VLOOKUP(C25,Participants!$C$11:$G$138,3,FALSE),\"\")","v":15},{"$f":"IFERROR(VLOOKUP(C25,Participants!$C$11:$G$138,4,FALSE),\"\")","v":"Definitiu"},{"$f":"IFERROR(VLOOKUP(C25,Participants!$C$11:$G$138,5,FALSE),\"\")","v":986}]
[null,16,{"$f":"IFERROR(VLOOKUP(16,Participants!$B$11:$G$138,2,FALSE),\"\")","v":"JUGADOR 16"},{"$f":"IFERROR(VLOOKUP(C26,Participants!$C$11:$G$138,2,FALSE),\"\")","v":"CLUB JUGADOR 16"},{"$f":"IFERROR(VLOOKUP(C26,Participants!$C$11:$G$138,3,FALSE),\"\")","v":16},{"$f":"IFERROR(VLOOKUP(C26,Participants!$C$11:$G$138,4,FALSE),\"\")","v":"Definitiu"},{"$f":"IFERROR(VLOOKUP(C26,Participants!$C$11:$G$138,5,FALSE),\"\")","v":985}]
[null,17,{"$f":"IFERROR(VLOOKUP(17,Participants!$B$11:$G$138,2,FALSE),\"\")","v":"JUGADOR 17"},{"$f":"IFERROR(VLOOKUP(C27,Participants!$C$11:$G$138,2,FALSE),\"\")","v":"CLUB JUGADOR 17"},{"$f":"IFERROR(VLOOKUP(C27,Participants!$C$11:$G$138,3,FALSE),\"\")","v":17},{"$f":"IFERROR(VLOOKUP(C27,Participants!$C$11:$G$138,4,FALSE),\"\")","v":"Definitiu"},{"$f":"IFERROR(VLOOKUP(C27,Participants!$C$11:$G$138,5,FALSE),\"\")","v":984}]
[null,18,{"$f":"IFERROR(VLOOKUP(18,Participants!$B$11:$G$138,2,FALSE),\"\")","v":"JUGADOR 18"},{"$f":"IFERROR(VLOOKUP(C28,Participants!$C$11:$G$138,2,FALSE),\"\")","v":"CLUB JUGADOR 18"},{"$f":"IFERROR(VLOOKUP(C28,Participants!$C$11:$G$138,3,FALSE),\"\")","v":18},{"$f":"IFERROR(VLOOKUP(C28,Participants!$C$11:$G$138,4,FALSE),\"\")","v":"Definitiu"},{"$f":"IFERROR(VLOOKUP(C28,Participants!$C$11:$G$138,5,FALSE),\"\")","v":983}]
[null,19,{"$f":"IFERROR(VLOOKUP(19,Participants!$B$11:$G$138,2,FALSE),\"\")","v":"JUGADOR 19"},{"$f":"IFERROR(VLOOKUP(C29,Participants!$C$11:$G$138,2,FALSE),\"\")","v":"CLUB JUGADOR 19"},{"$f":"IFERROR(VLOOKUP(C29,Participants!$C$11:$G$138,3,FALSE),\"\")","v":19},{"$f":"IFERROR(VLOOKUP(C29,Participants!$C$11:$G$138,4,FALSE),\"\")","v":"Definitiu"},{"$f":"IFERROR(VLOOKUP(C29,Participants!$C$11:$G$138,5,FALSE),\"\")","v":982}]
[null,20,{"$f":"IFERROR(VLOOKUP(20,Participants!$B$11:$G$138,2,FALSE),\"\")","v":"JUGADOR 20"},{"$f":"IFERROR(VLOOKUP(C30,Participants!$C$11:$G$138,2,FALSE),\"\")","v":"CLUB JUGADOR 20"},{"$f":"IFERROR(VLOOKUP(C30,Participants!$C$11:$G$138,3,FALSE),\"\")","v":20},{"$f":"IFERROR(VLOOKUP(C30,Participants!$C$11:$G$138,4,FALSE),\"\")","v":"Definitiu"},{"$f":"IFERROR(VLOOKUP(C30,Participants!$C$11:$G$138,5,FALSE),\"\")","v":981}]
[null,21,{"$f":"IFERROR(VLOOKUP(21,Participants!$B$11:$G$138,2,FALSE),\"\")","v":"JUGADOR 21"},{"$f":"IFERROR(VLOOKUP(C31,Participants!$C$11:$G$138,2,FALSE),\"\")","v":"CLUB JUGADOR 21"},{"$f":"IFERROR(VLOOKUP(C31,Participants!$C$11:$G$138,3,FALSE),\"\")","v":21},{"$f":"IFERROR(VLOOKUP(C31,Participants!$C$11:$G$138,4,FALSE),\"\")","v":"Definitiu"},{"$f":"IFERROR(VLOOKUP(C31,Participants!$C$11:$G$138,5,FALSE),\"\")","v":980}]
[null,22,{"$f":"IFERROR(VLOOKUP(22,Participants!$B$11:$G$138,2,FALSE),\"\")","v":"JUGADOR 22"},{"$f":"IFERROR(VLOOKUP(C32,Participants!$C$11:$G$138,2,FALSE),\"\")","v":"CLUB JUGADOR 22"},{"$f":"IFERROR(VLOOKUP(C32,Participants!$C$11:$G$138,3,FALSE),\"\")","v":22},{"$f":"IFERROR(VLOOKUP(C32,Participants!$C$11:$G$138,4,FALSE),\"\")","v":"Definitiu"},{"$f":"IFERROR(VLOOKUP(C32,Participants!$C$11:$G$138,5,FALSE),\"\")","v":979}]
[null,23,{"$f":"IFERROR(VLOOKUP(23,Participants!$B$11:$G$138,2,FALSE),\"\")","v":"JUGADOR 23"},{"$f":"IFERROR(VLOOKUP(C33,Participants!$C$11:$G$138,2,FALSE),\"\")","v":"CLUB JUGADOR 23"},{"$f":"IFERROR(VLOOKUP(C33,Participants!$C$11:$G$138,3,FALSE),\"\")","v":23},{"$f":"IFERROR(VLOOKUP(C33,Participants!$C$11:$G$138,4,FALSE),\"\")","v":"Definitiu"},{"$f":"IFERROR(VLOOKUP(C33,Participants!$C$11:$G$138,5,FALSE),\"\")","v":978}]
[null,24,{"$f":"IFERROR(VLOOKUP(24,Participants!$B$11:$G$138,2,FALSE),\"\")","v":"JUGADOR 24"},{"$f":"IFERROR(VLOOKUP(C34,Participants!$C$11:$G$138,2,FALSE),\"\")","v":"CLUB JUGADOR 24"},{"$f":"IFERROR(VLOOKUP(C34,Participants!$C$11:$G$138,3,FALSE),\"\")","v":24},{"$f":"IFERROR(VLOOKUP(C34,Participants!$C$11:$G$138,4,FALSE),\"\")","v":"Definitiu"},{"$f":"IFERROR(VLOOKUP(C34,Participants!$C$11:$G$138,5,FALSE),\"\")","v":977}]
[null,25,{"$f":"IFERROR(VLOOKUP(25,Participants!$B$11:$G$138,2,FALSE),\"\")","v":"JUGADOR 25"},{"$f":"IFERROR(VLOOKUP(C35,Participants!$C$11:$G$138,2,FALSE),\"\")","v":"CLUB JUGADOR 25"},{"$f":"IFERROR(VLOOKUP(C35,Participants!$C$11:$G$138,3,FALSE),\"\")","v":25},{"$f":"IFERROR(VLOOKUP(C35,Participants!$C$11:$G$138,4,FALSE),\"\")","v":"Definitiu"},{"$f":"IFERROR(VLOOKUP(C35,Participants!$C$11:$G$138,5,FALSE),\"\")","v":976}]
[null,26,{"$f":"IFERROR(VLOOKUP(26,Participants!$B$11:$G$138,2,FALSE),\"\")","v":"JUGADOR 26"},{"$f":"IFERROR(VLOOKUP(C36,Participants!$C$11:$G$138,2,FALSE),\"\")","v":"CLUB JUGADOR 26"},{"$f":"IFERROR(VLOOKUP(C36,Participants!$C$11:$G$138,3,FALSE),\"\")","v":26},{"$f":"IFERROR(VLOOKUP(C36,Participants!$C$11:$G$138,4,FALSE),\"\")","v":"Definitiu"},{"$f":"IFERROR(VLOOKUP(C36,Participants!$C$11:$G$138,5,FALSE),\"\")","v":975}]
[null,27,{"$f":"IFERROR(VLOOKUP(27,Participants!$B$11:$G$138,2,FALSE),\"\")","v":"JUGADOR 27"},{"$f":"IFERROR(VLOOKUP(C37,Participants!$C$11:$G$138,2,FALSE),\"\")","v":"CLUB JUGADOR 27"},{"$f":"IFERROR(VLOOKUP(C37,Participants!$C$11:$G$138,3,FALSE),\"\")","v":27},{"$f":"IFERROR(VLOOKUP(C37,Participants!$C$11:$G$138,4,FALSE),\"\")","v":"Definitiu"},{"$f":"IFERROR(VLOOKUP(C37,Participants!$C$11:$G$138,5,FALSE),\"\")","v":974}]
[null,28,{"$f":"IFERROR(VLOOKUP(28,Participants!$B$11:$G$138,2,FALSE),\"\")","v":"JUGADOR 28"},{"$f":"IFERROR(VLOOKUP(C38,Participants!$C$11:$G$138,2,FALSE),\"\")","v":"CLUB JUGADOR 28"},{"$f":"IFERROR(VLOOKUP(C38,Participants!$C$11:$G$138,3,FALSE),\"\")","v":28},{"$f":"IFERROR(VLOOKUP(C38,Participants!$C$11:$G$138,4,FALSE),\"\")","v":"Definitiu"},{"$f":"IFERROR(VLOOKUP(C38,Participants!$C$11:$G$138,5,FALSE),\"\")","v":973}]
[null,29,{"$f":"IFERROR(VLOOKUP(29,Participants!$B$11:$G$138,2,FALSE),\"\")","v":"JUGADOR 29"},{"$f":"IFERROR(VLOOKUP(C39,Participants!$C$11:$G$138,2,FALSE),\"\")","v":"CLUB JUGADOR 29"},{"$f":"IFERROR(VLOOKUP(C39,Participants!$C$11:$G$138,3,FALSE),\"\")","v":29},{"$f":"IFERROR(VLOOKUP(C39,Participants!$C$11:$G$138,4,FALSE),\"\")","v":"Definitiu"},{"$f":"IFERROR(VLOOKUP(C39,Participants!$C$11:$G$138,5,FALSE),\"\")","v":972}]
[null,30,{"$f":"IFERROR(VLOOKUP(30,Participants!$B$11:$G$138,2,FALSE),\"\")","v":"JUGADOR 30"},{"$f":"IFERROR(VLOOKUP(C40,Participants!$C$11:$G$138,2,FALSE),\"\")","v":"CLUB JUGADOR 30"},{"$f":"IFERROR(VLOOKUP(C40,Participants!$C$11:$G$138,3,FALSE),\"\")","v":30},{"$f":"IFERROR(VLOOKUP(C40,Participants!$C$11:$G$138,4,FALSE),\"\")","v":"Definitiu"},{"$f":"IFERROR(VLOOKUP(C40,Participants!$C$11:$G$138,5,FALSE),\"\")","v":971}]
[null,31,{"$f":"IFERROR(VLOOKUP(31,Participants!$B$11:$G$138,2,FALSE),\"\")","v":"JUGADOR 31"},{"$f":"IFERROR(VLOOKUP(C41,Participants!$C$11:$G$138,2,FALSE),\"\")","v":"CLUB JUGADOR 31"},{"$f":"IFERROR(VLOOKUP(C41,Participants!$C$11:$G$138,3,FALSE),\"\")","v":31},{"$f":"IFERROR(VLOOKUP(C41,Participants!$C$11:$G$138,4,FALSE),\"\")","v":"Definitiu"},{"$f":"IFERROR(VLOOKUP(C41,Participants!$C$11:$G$138,5,FALSE),\"\")","v":970}]
[null,32,{"$f":"IFERROR(VLOOKUP(32,Participants!$B$11:$G$138,2,FALSE),\"\")","v":"JUGADOR 32"},{"$f":"IFERROR(VLOOKUP(C42,Participants!$C$11:$G$138,2,FALSE),\"\")","v":"CLUB JUGADOR 32"},{"$f":"IFERROR(VLOOKUP(C42,Participants!$C$11:$G$138,3,FALSE),\"\")","v":32},{"$f":"IFERROR(VLOOKUP(C42,Participants!$C$11:$G$138,4,FALSE),\"\")","v":"Definitiu"},{"$f":"IFERROR(VLOOKUP(C42,Participants!$C$11:$G$138,5,FALSE),\"\")","v":969}]
[null,33,{"$f":"IFERROR(VLOOKUP(33,Participants!$B$11:$G$138,2,FALSE),\"\")","v":"JUGADOR 33"},{"$f":"IFERROR(VLOOKUP(C43,Participants!$C$11:$G$138,2,FALSE),\"\")","v":"CLUB JUGADOR 33"},{"$f":"IFERROR(VLOOKUP(C43,Participants!$C$11:$G$138,3,FALSE),\"\")","v":33},{"$f":"IFERROR(VLOOKUP(C43,Participants!$C$11:$G$138,4,FALSE),\"\")","v":"Definitiu"},{"$f":"IFERROR(VLOOKUP(C43,Participants!$C$11:$G$138,5,FALSE),\"\")","v":968}]
[null,34,{"$f":"IFERROR(VLOOKUP(34,Participants!$B$11:$G$138,2,FALSE),\"\")","v":"JUGADOR 34"},{"$f":"IFERROR(VLOOKUP(C44,Participants!$C$11:$G$138,2,FALSE),\"\")","v":"CLUB JUGADOR 34"},{"$f":"IFERROR(VLOOKUP(C44,Participants!$C$11:$G$138,3,FALSE),\"\")","v":34},{"$f":"IFERROR(VLOOKUP(C44,Participants!$C$11:$G$138,4,FALSE),\"\")","v":"Definitiu"},{"$f":"IFERROR(VLOOKUP(C44,Participants!$C$11:$G$138,5,FALSE),\"\")","v":967}]
[null,35,{"$f":"IFERROR(VLOOKUP(35,Participants!$B$11:$G$138,2,FALSE),\"\")","v":"JUGADOR 35"},{"$f":"IFERROR(VLOOKUP(C45,Participants!$C$11:$G$138,2,FALSE),\"\")","v":"CLUB JUGADOR 35"},{"$f":"IFERROR(VLOOKUP(C45,Participants!$C$11:$G$138,3,FALSE),\"\")","v":35},{"$f":"IFERROR(VLOOKUP(C45,Participants!$C$11:$G$138,4,FALSE),\"\")","v":"Definitiu"},{"$f":"IFERROR(VLOOKUP(C45,Participants!$C$11:$G$138,5,FALSE),\"\")","v":966}]
[null,36,{"$f":"IFERROR(VLOOKUP(36,Participants!$B$11:$G$138,2,FALSE),\"\")","v":"JUGADOR 36"},{"$f":"IFERROR(VLOOKUP(C46,Participants!$C$11:$G$138,2,FALSE),\"\")","v":"CLUB JUGADOR 36"},{"$f":"IFERROR(VLOOKUP(C46,Participants!$C$11:$G$138,3,FALSE),\"\")","v":36},{"$f":"IFERROR(VLOOKUP(C46,Participants!$C$11:$G$138,4,FALSE),\"\")","v":"Definitiu"},{"$f":"IFERROR(VLOOKUP(C46,Participants!$C$11:$G$138,5,FALSE),\"\")","v":965}]
[null,37,{"$f":"IFERROR(VLOOKUP(37,Participants!$B$11:$G$138,2,FALSE),\"\")","v":"JUGADOR 37"},{"$f":"IFERROR(VLOOKUP(C47,Participants!$C$11:$G$138,2,FALSE),\"\")","v":"CLUB JUGADOR 37"},{"$f":"IFERROR(VLOOKUP(C47,Participants!$C$11:$G$138,3,FALSE),\"\")","v":37},{"$f":"IFERROR(VLOOKUP(C47,Participants!$C$11:$G$138,4,FALSE),\"\")","v":"Definitiu"},{"$f":"IFERROR(VLOOKUP(C47,Participants!$C$11:$G$138,5,FALSE),\"\")","v":964}]
[null,38,{"$f":"IFERROR(VLOOKUP(38,Participants!$B$11:$G$138,2,FALSE),\"\")","v":"JUGADOR 38"},{"$f":"IFERROR(VLOOKUP(C48,Participants!$C$11:$G$138,2,FALSE),\"\")","v":"CLUB JUGADOR 38"},{"$f":"IFERROR(VLOOKUP(C48,Participants!$C$11:$G$138,3,FALSE),\"\")","v":38},{"$f":"IFERROR(VLOOKUP(C48,Participants!$C$11:$G$138,4,FALSE),\"\")","v":"Definitiu"},{"$f":"IFERROR(VLOOKUP(C48,Participants!$C$11:$G$138,5,FALSE),\"\")","v":963}]
[null,39,{"$f":"IFERROR(VLOOKUP(39,Participants!$B$11:$G$138,2,FALSE),\"\")","v":"JUGADOR 39"},{"$f":"IFERROR(VLOOKUP(C49,Participants!$C$11:$G$138,2,FALSE),\"\")","v":"CLUB JUGADOR 39"},{"$f":"IFERROR(VLOOKUP(C49,Participants!$C$11:$G$138,3,FALSE),\"\")","v":39},{"$f":"IFERROR(VLOOKUP(C49,Participants!$C$11:$G$138,4,FALSE),\"\")","v":"Definitiu"},{"$f":"IFERROR(VLOOKUP(C49,Participants!$C$11:$G$138,5,FALSE),\"\")","v":962}]
[null,40,{"$f":"IFERROR(VLOOKUP(40,Participants!$B$11:$G$138,2,FALSE),\"\")","v":"JUGADOR 40"},{"$f":"IFERROR(VLOOKUP(C50,Participants!$C$11:$G$138,2,FALSE),\"\")","v":"CLUB JUGADOR 40"},{"$f":"IFERROR(VLOOKUP(C50,Participants!$C$11:$G$138,3,FALSE),\"\")","v":40},{"$f":"IFERROR(VLOOKUP(C50,Participants!$C$11:$G$138,4,FALSE),\"\")","v":"Definitiu"},{"$f":"IFERROR(VLOOKUP(C50,Participants!$C$11:$G$138,5,FALSE),\"\")","v":961}]
[null,41,{"$f":"IFERROR(VLOOKUP(41,Participants!$B$11:$G$138,2,FALSE),\"\")","v":"JUGADOR 41"},{"$f":"IFERROR(VLOOKUP(C51,Participants!$C$11:$G$138,2,FALSE),\"\")","v":"CLUB JUGADOR 41"},{"$f":"IFERROR(VLOOKUP(C51,Participants!$C$11:$G$138,3,FALSE),\"\")","v":41},{"$f":"IFERROR(VLOOKUP(C51,Participants!$C$11:$G$138,4,FALSE),\"\")","v":"Definitiu"},{"$f":"IFERROR(VLOOKUP(C51,Participants!$C$11:$G$138,5,FALSE),\"\")","v":960}]
[null,42,{"$f":"IFERROR(VLOOKUP(42,Participants!$B$11:$G$138,2,FALSE),\"\")","v":"JUGADOR 42"},{"$f":"IFERROR(VLOOKUP(C52,Participants!$C$11:$G$138,2,FALSE),\"\")","v":"CLUB JUGADOR 42"},{"$f":"IFERROR(VLOOKUP(C52,Participants!$C$11:$G$138,3,FALSE),\"\")","v":42},{"$f":"IFERROR(VLOOKUP(C52,Participants!$C$11:$G$138,4,FALSE),\"\")","v":"Definitiu"},{"$f":"IFERROR(VLOOKUP(C52,Participants!$C$11:$G$138,5,FALSE),\"\")","v":959}]
[null,"",{"$f":"IFERROR(VLOOKUP(43,Participants!$B$11:$G$138,2,FALSE),\"\")","v":""},{"$f":"IFERROR(VLOOKUP(C53,Participants!$C$11:$G$138,2,FALSE),\"\")","v":""},{"$f":"IFERROR(VLOOKUP(C53,Participants!$C$11:$G$138,3,FALSE),\"\")","v":""},{"$f":"IFERROR(VLOOKUP(C53,Participants!$C$11:$G$138,4,FALSE),\"\")","v":""},{"$f":"IFERROR(VLOOKUP(C53,Participants!$C$11:$G$138,5,FALSE),\"\")","v":""}]
[null,"",{"$f":"IFERROR(VLOOKUP(44,Participants!$B$11:$G$138,2,FALSE),\"\")","v":""},{"$f":"IFERROR(VLOOKUP(C54,Participants!$C$11:$G$138,2,FALSE),\"\")","v":""},{"$f":"IFERROR(VLOOKUP(C54,Participants!$C$11:$G$138,3,FALSE),\"\")","v":""},{"$f":"IFERROR(VLOOKUP(C54,Participants!$C$11:$G$138,4,FALSE),\"\")","v":""},{"$f":"IFERROR(VLOOKUP(C54,Participants!$C$11:$G$138,5,FALSE),\"\")","v":""}]
[null,"",{"$f":"IFERROR(VLOOKUP(45,Participants!$B$11:$G$138,2,FALSE),\"\")","v":""},{"$f":"IFERROR(VLOOKUP(C55,Participants!$C$11:$G$138,2,FALSE),\"\")","v":""},{"$f":"IFERROR(VLOOKUP(C55,Participants!$C$11:$G$138,3,FALSE),\"\")","v":""},{"$f":"IFERROR(VLOOKUP(C55,Participants!$C$11:$G$138,4,FALSE),\"\")","v":""},{"$f":"IFERROR(VLOOKUP(C55,Participants!$C$11:$G$138,5,FALSE),\"\")","v":""}]
[null,"",{"$f":"IFERROR(VLOOKUP(46,Participants!$B$11:$G$138,2,FALSE),\"\")","v":""},{"$f":"IFERROR(VLOOKUP(C56,Participants!$C$11:$G$138,2,FALSE),\"\")","v":""},{"$f":"IFERROR(VLOOKUP(C56,Participants!$C$11:$G$138,3,FALSE),\"\")","v":""},{"$f":"IFERROR(VLOOKUP(C56,Participants!$C$11:$G$138,4,FALSE),\"\")","v":""},{"$f":"IFERROR(VLOOKUP(C56,Participants!$C$11:$G$138,5,FALSE),\"\")","v":""}]
[null,"",{"$f":"IFERROR(VLOOKUP(47,Participants!$B$11:$G$138,2,FALSE),\"\")","v":""},{"$f":"IFERROR(VLOOKUP(C57,Participants!$C$11:$G$138,2,FALSE),\"\")","v":""},{"$f":"IFERROR(VLOOKUP(C57,Participants!$C$11:$G$138,3,FALSE),\"\")","v":""},{"$f":"IFERROR(VLOOKUP(C57,Participants!$C$11:$G$138,4,FALSE),\"\")","v":""},{"$f":"IFERROR(VLOOKUP(C57,Participants!$C$11:$G$138,5,FALSE),\"\")","v":""}]
[null,"",{"$f":"IFERROR(VLOOKUP(48,Participants!$B$11:$G$138,2,FALSE),\"\")","v":""},{"$f":"IFERROR(VLOOKUP(C58,Participants!$C$11:$G$138,2,FALSE),\"\")","v":""},{"$f":"IFERROR(VLOOKUP(C58,Participants!$C$11:$G$138,3,FALSE),\"\")","v":""},{"$f":"IFERROR(VLOOKUP(C58,Participants!$C$11:$G$138,4,FALSE),\"\")","v":""},{"$f":"IFERROR(VLOOKUP(C58,Participants!$C$11:$G$138,5,FALSE),\"\")","v":""}]
[null,"",{"$f":"IFERROR(VLOOKUP(49,Participants!$B$11:$G$138,2,FALSE),\"\")","v":""},{"$f":"IFERROR(VLOOKUP(C59,Participants!$C$11:$G$138,2,FALSE),\"\")","v":""},{"$f":"IFERROR(VLOOKUP(C59,Participants!$C$11:$G$138,3,FALSE),\"\")","v":""},{"$f":"IFERROR(VLOOKUP(C59,Participants!$C$11:$G$138,4,FALSE),\"\")","v":""},{"$f":"IFERROR(VLOOKUP(C59,Participants!$C$11:$G$138,5,FALSE),\"\")","v":""}]
[null,"",{"$f":"IFERROR(VLOOKUP(50,Participants!$B$11:$G$138,2,FALSE),\"\")","v":""},{"$f":"IFERROR(VLOOKUP(C60,Participants!$C$11:$G$138,2,FALSE),\"\")","v":""},{"$f":"IFERROR(VLOOKUP(C60,Participants!$C$11:$G$138,3,FALSE),\"\")","v":""},{"$f":"IFERROR(VLOOKUP(C60,Participants!$C$11:$G$138,4,FALSE),\"\")","v":""},{"$f":"IFERROR(VLOOKUP(C60,Participants!$C$11:$G$138,5,FALSE),\"\")","v":""}]
[null,"",{"$f":"IFERROR(VLOOKUP(51,Participants!$B$11:$G$138,2,FALSE),\"\")","v":""},{"$f":"IFERROR(VLOOKUP(C61,Participants!$C$11:$G$138,2,FALSE),\"\")","v":""},{"$f":"IFERROR(VLOOKUP(C61,Participants!$C$11:$G$138,3,FALSE),\"\")","v":""},{"$f":"IFERROR(VLOOKUP(C61,Participants!$C$11:$G$138,4,FALSE),\"\")","v":""},{"$f":"IFERROR(VLOOKUP(C61,Participants!$C$11:$G$138,5,FALSE),\"\")","v":""}]
[null,"",{"$f":"IFERROR(VLOOKUP(52,Participants!$B$11:$G$138,2,FALSE),\"\")","v":""},{"$f":"IFERROR(VLOOKUP(C62,Participants!$C$11:$G$138,2,FALSE),\"\")","v":""},{"$f":"IFERROR(VLOOKUP(C62,Participants!$C$11:$G$138,3,FALSE),\"\")","v":""},{"$f":"IFERROR(VLOOKUP(C62,Participants!$C$11:$G$138,4,FALSE),\"\")","v":""},{"$f":"IFERROR(VLOOKUP(C62,Participants!$C$11:$G$138,5,FALSE),\"\")","v":""}]
[null,"",{"$f":"IFERROR(VLOOKUP(53,Participants!$B$11:$G$138,2,FALSE),\"\")","v":""},{"$f":"IFERROR(VLOOKUP(C63,Participants!$C$11:$G$138,2,FALSE),\"\")","v":""},{"$f":"IFERROR(VLOOKUP(C63,Participants!$C$11:$G$138,3,FALSE),\"\")","v":""},{"$f":"IFERROR(VLOOKUP(C63,Participants!$C$11:$G$138,4,FALSE),\"\")","v":""},{"$f":"IFERROR(VLOOKUP(C63,Participants!$C$11:$G$138,5,FALSE),\"\")","v":""}]
[null,"",{"$f":"IFERROR(VLOOKUP(54,Participants!$B$11:$G$138,2,FALSE),\"\")","v":""},{"$f":"IFERROR(VLOOKUP(C64,Participants!$C$11:$G$138,2,FALSE),\"\")","v":""},{"$f":"IFERROR(VLOOKUP(C64,Participants!$C$11:$G$138,3,FALSE),\"\")","v":""},{"$f":"IFERROR(VLOOKUP(C64,Participants!$C$11:$G$138,4,FALSE),\"\")","v":""},{"$f":"IFERROR(VLOOKUP(C64,Participants!$C$11:$G$138,5,FALSE),\"\")","v":""}]
[null,"",{"$f":"IFERROR(VLOOKUP(55,Participants!$B$11:$G$138,2,FALSE),\"\")","v":""},{"$f":"IFERROR(VLOOKUP(C65,Participants!$C$11:$G$138,2,FALSE),\"\")","v":""},{"$f":"IFERROR(VLOOKUP(C65,Participants!$C$11:$G$138,3,FALSE),\"\")","v":""},{"$f":"IFERROR(VLOOKUP(C65,Participants!$C$11:$G$138,4,FALSE),\"\")","v":""},{"$f":"IFERROR(VLOOKUP(C65,Participants!$C$11:$G$138,5,FALSE),\"\")","v":""}]
[null,"",{"$f":"IFERROR(VLOOKUP(56,Participants!$B$11:$G$138,2,FALSE),\"\")","v":""},{"$f":"IFERROR(VLOOKUP(C66,Participants!$C$11:$G$138,2,FALSE),\"\")","v":""},{"$f":"IFERROR(VLOOKUP(C66,Participants!$C$11:$G$138,3,FALSE),\"\")","v":""},{"$f":"IFERROR(VLOOKUP(C66,Participants!$C$11:$G$138,4,FALSE),\"\")","v":""},{"$f":"IFERROR(VLOOKUP(C66,Participants!$C$11:$G$138,5,FALSE),\"\")","v":""}]
[null,"",{"$f":"IFERROR(VLOOKUP(57,Participants!$B$11:$G$138,2,FALSE),\"\")","v":""},{"$f":"IFERROR(VLOOKUP(C67,Participants!$C$11:$G$138,2,FALSE),\"\")","v":""},{"$f":"IFERROR(VLOOKUP(C67,Participants!$C$11:$G$138,3,FALSE),\"\")","v":""},{"$f":"IFERROR(VLOOKUP(C67,Participants!$C$11:$G$138,4,FALSE),\"\")","v":""},{"$f":"IFERROR(VLOOKUP(C67,Participants!$C$11:$G$138,5,FALSE),\"\")","v":""}]
[null,"",{"$f":"IFERROR(VLOOKUP(58,Participants!$B$11:$G$138,2,FALSE),\"\")","v":""},{"$f":"IFERROR(VLOOKUP(C68,Participants!$C$11:$G$138,2,FALSE),\"\")","v":""},{"$f":"IFERROR(VLOOKUP(C68,Participants!$C$11:$G$138,3,FALSE),\"\")","v":""},{"$f":"IFERROR(VLOOKUP(C68,Participants!$C$11:$G$138,4,FALSE),\"\")","v":""},{"$f":"IFERROR(VLOOKUP(C68,Participants!$C$11:$G$138,5,FALSE),\"\")","v":""}]
[null,"",{"$f":"IFERROR(VLOOKUP(59,Participants!$B$11:$G$138,2,FALSE),\"\")","v":""},{"$f":"IFERROR(VLOOKUP(C69,Participants!$C$11:$G$138,2,FALSE),\"\")","v":""},{"$f":"IFERROR(VLOOKUP(C69,Participants!$C$11:$G$138,3,FALSE),\"\")","v":""},{"$f":"IFERROR(VLOOKUP(C69,Participants!$C$11:$G$138,4,FALSE),\"\")","v":""},{"$f":"IFERROR(VLOOKUP(C69,Participants!$C$11:$G$138,5,FALSE),\"\")","v":""}]
[null,"",{"$f":"IFERROR(VLOOKUP(60,Participants!$B$11:$G$138,2,FALSE),\"\")","v":""},{"$f":"IFERROR(VLOOKUP(C70,Participants!$C$11:$G$138,2,FALSE),\"\")","v":""},{"$f":"IFERROR(VLOOKUP(C70,Participants!$C$11:$G$138,3,FALSE),\"\")","v":""},{"$f":"IFERROR(VLOOKUP(C70,Participants!$C$11:$G$138,4,FALSE),\"\")","v":""},{"$f":"IFERROR(VLOOKUP(C70,Participants!$C$11:$G$138,5,FALSE),\"\")","v":""}]
[null,"",{"$f":"IFERROR(VLOOKUP(61,Participants!$B$11:$G$138,2,FALSE),\"\")","v":""},{"$f":"IFERROR(VLOOKUP(C71,Participants!$C$11:$G$138,2,FALSE),\"\")","v":""},{"$f":"IFERROR(VLOOKUP(C71,Participants!$C$11:$G$138,3,FALSE),\"\")","v":""},{"$f":"IFERROR(VLOOKUP(C71,Participants!$C$11:$G$138,4,FALSE),\"\")","v":""},{"$f":"IFERROR(VLOOKUP(C71,Participants!$C$11:$G$138,5,FALSE),\"\")","v":""}]
[null,"",{"$f":"IFERROR(VLOOKUP(62,Participants!$B$11:$G$138,2,FALSE),\"\")","v":""},{"$f":"IFERROR(VLOOKUP(C72,Participants!$C$11:$G$138,2,FALSE),\"\")","v":""},{"$f":"IFERROR(VLOOKUP(C72,Participants!$C$11:$G$138,3,FALSE),\"\")","v":""},{"$f":"IFERROR(VLOOKUP(C72,Participants!$C$11:$G$138,4,FALSE),\"\")","v":""},{"$f":"IFERROR(VLOOKUP(C72,Participants!$C$11:$G$138,5,FALSE),\"\")","v":""}]
[null,"",{"$f":"IFERROR(VLOOKUP(63,Participants!$B$11:$G$138,2,FALSE),\"\")","v":""},{"$f":"IFERROR(VLOOKUP(C73,Participants!$C$11:$G$138,2,FALSE),\"\")","v":""},{"$f":"IFERROR(VLOOKUP(C73,Participants!$C$11:$G$138,3,FALSE),\"\")","v":""},{"$f":"IFERROR(VLOOKUP(C73,Participants!$C$11:$G$138,4,FALSE),\"\")","v":""},{"$f":"IFERROR(VLOOKUP(C73,Participants!$C$11:$G$138,5,FALSE),\"\")","v":""}]
[null,"",{"$f":"IFERROR(VLOOKUP(64,Participants!$B$11:$G$138,2,FALSE),\"\")","v":""},{"$f":"IFERROR(VLOOKUP(C74,Participants!$C$11:$G$138,2,FALSE),\"\")","v":""},{"$f":"IFERROR(VLOOKUP(C74,Participants!$C$11:$G$138,3,FALSE),\"\")","v":""},{"$f":"IFERROR(VLOOKUP(C74,Participants!$C$11:$G$138,4,FALSE),\"\")","v":""},{"$f":"IFERROR(VLOOKUP(C74,Participants!$C$11:$G$138,5,FALSE),\"\")","v":""}]
[null,"",{"$f":"IFERROR(VLOOKUP(65,Participants!$B$11:$G$138,2,FALSE),\"\")","v":""},{"$f":"IFERROR(VLOOKUP(C75,Participants!$C$11:$G$138,2,FALSE),\"\")","v":""},{"$f":"IFERROR(VLOOKUP(C75,Participants!$C$11:$G$138,3,FALSE),\"\")","v":""},{"$f":"IFERROR(VLOOKUP(C75,Participants!$C$11:$G$138,4,FALSE),\"\")","v":""},{"$f":"IFERROR(VLOOKUP(C75,Participants!$C$11:$G$138,5,FALSE),\"\")","v":""}]
[null,"",{"$f":"IFERROR(VLOOKUP(66,Participants!$B$11:$G$138,2,FALSE),\"\")","v":""},{"$f":"IFERROR(VLOOKUP(C76,Participants!$C$11:$G$138,2,FALSE),\"\")","v":""},{"$f":"IFERROR(VLOOKUP(C76,Participants!$C$11:$G$138,3,FALSE),\"\")","v":""},{"$f":"IFERROR(VLOOKUP(C76,Participants!$C$11:$G$138,4,FALSE),\"\")","v":""},{"$f":"IFERROR(VLOOKUP(C76,Participants!$C$11:$G$138,5,FALSE),\"\")","v":""}]
[null,"",{"$f":"IFERROR(VLOOKUP(67,Participants!$B$11:$G$138,2,FALSE),\"\")","v":""},{"$f":"IFERROR(VLOOKUP(C77,Participants!$C$11:$G$138,2,FALSE),\"\")","v":""},{"$f":"IFERROR(VLOOKUP(C77,Participants!$C$11:$G$138,3,FALSE),\"\")","v":""},{"$f":"IFERROR(VLOOKUP(C77,Participants!$C$11:$G$138,4,FALSE),\"\")","v":""},{"$f":"IFERROR(VLOOKUP(C77,Participants!$C$11:$G$138,5,FALSE),\"\")","v":""}]
[null,{"$f":"IF(C78=\"\",\"\",B77+1)","v":""},{"$f":"IFERROR(VLOOKUP(68,Participants!$B$11:$G$138,2,FALSE),\"\")","v":""},{"$f":"IFERROR(VLOOKUP(C78,Participants!$C$11:$G$138,2,FALSE),\"\")","v":""},{"$f":"IFERROR(VLOOKUP(C78,Participants!$C$11:$G$138,3,FALSE),\"\")","v":""},{"$f":"IFERROR(VLOOKUP(C78,Participants!$C$11:$G$138,4,FALSE),\"\")","v":""},{"$f":"IFERROR(VLOOKUP(C78,Participants!$C$11:$G$138,5,FALSE),\"\")","v":""}]
[null,"",{"$f":"IFERROR(VLOOKUP(69,Participants!$B$11:$G$138,2,FALSE),\"\")","v":""},{"$f":"IFERROR(VLOOKUP(C79,Participants!$C$11:$G$138,2,FALSE),\"\")","v":""},{"$f":"IFERROR(VLOOKUP(C79,Participants!$C$11:$G$138,3,FALSE),\"\")","v":""},{"$f":"IFERROR(VLOOKUP(C79,Participants!$C$11:$G$138,4,FALSE),\"\")","v":""},{"$f":"IFERROR(VLOOKUP(C79,Participants!$C$11:$G$138,5,FALSE),\"\")","v":""}]
[null,"",{"$f":"IFERROR(VLOOKUP(70,Participants!$B$11:$G$138,2,FALSE),\"\")","v":""},{"$f":"IFERROR(VLOOKUP(C80,Participants!$C$11:$G$138,2,FALSE),\"\")","v":""},{"$f":"IFERROR(VLOOKUP(C80,Participants!$C$11:$G$138,3,FALSE),\"\")","v":""},{"$f":"IFERROR(VLOOKUP(C80,Participants!$C$11:$G$138,4,FALSE),\"\")","v":""},{"$f":"IFERROR(VLOOKUP(C80,Participants!$C$11:$G$138,5,FALSE),\"\")","v":""}]
[null,"",{"$f":"IFERROR(VLOOKUP(71,Participants!$B$11:$G$138,2,FALSE),\"\")","v":""},{"$f":"IFERROR(VLOOKUP(C81,Participants!$C$11:$G$138,2,FALSE),\"\")","v":""},{"$f":"IFERROR(VLOOKUP(C81,Participants!$C$11:$G$138,3,FALSE),\"\")","v":""},{"$f":"IFERROR(VLOOKUP(C81,Participants!$C$11:$G$138,4,FALSE),\"\")","v":""},{"$f":"IFERROR(VLOOKUP(C81,Participants!$C$11:$G$138,5,FALSE),\"\")","v":""}]
[null,"",{"$f":"IFERROR(VLOOKUP(72,Participants!$B$11:$G$138,2,FALSE),\"\")","v":""},{"$f":"IFERROR(VLOOKUP(C82,Participants!$C$11:$G$138,2,FALSE),\"\")","v":""},{"$f":"IFERROR(VLOOKUP(C82,Participants!$C$11:$G$138,3,FALSE),\"\")","v":""},{"$f":"IFERROR(VLOOKUP(C82,Participants!$C$11:$G$138,4,FALSE),\"\")","v":""},{"$f":"IFERROR(VLOOKUP(C82,Participants!$C$11:$G$138,5,FALSE),\"\")","v":""}]
[null,"",{"$f":"IFERROR(VLOOKUP(73,Participants!$B$11:$G$138,2,FALSE),\"\")","v":""},{"$f":"IFERROR(VLOOKUP(C83,Participants!$C$11:$G$138,2,FALSE),\"\")","v":""},{"$f":"IFERROR(VLOOKUP(C83,Participants!$C$11:$G$138,3,FALSE),\"\")","v":""},{"$f":"IFERROR(VLOOKUP(C83,Participants!$C$11:$G$138,4,FALSE),\"\")","v":""},{"$f":"IFERROR(VLOOKUP(C83,Participants!$C$11:$G$138,5,FALSE),\"\")","v":""}]
[null,"",{"$f":"IFERROR(VLOOKUP(74,Participants!$B$11:$G$138,2,FALSE),\"\")","v":""},{"$f":"IFERROR(VLOOKUP(C84,Participants!$C$11:$G$138,2,FALSE),\"\")","v":""},{"$f":"IFERROR(VLOOKUP(C84,Participants!$C$11:$G$138,3,FALSE),\"\")","v":""},{"$f":"IFERROR(VLOOKUP(C84,Participants!$C$11:$G$138,4,FALSE),\"\")","v":""},{"$f":"IFERROR(VLOOKUP(C84,Participants!$C$11:$G$138,5,FALSE),\"\")","v":""}]
[null,"",{"$f":"IFERROR(VLOOKUP(75,Participants!$B$11:$G$138,2,FALSE),\"\")","v":""},{"$f":"IFERROR(VLOOKUP(C85,Participants!$C$11:$G$138,2,FALSE),\"\")","v":""},{"$f":"IFERROR(VLOOKUP(C85,Participants!$C$11:$G$138,3,FALSE),\"\")","v":""},{"$f":"IFERROR(VLOOKUP(C85,Participants!$C$11:$G$138,4,FALSE),\"\")","v":""},{"$f":"IFERROR(VLOOKUP(C85,Participants!$C$11:$G$138,5,FALSE),\"\")","v":""}]
[null,"",{"$f":"IFERROR(VLOOKUP(76,Participants!$B$11:$G$138,2,FALSE),\"\")","v":""},{"$f":"IFERROR(VLOOKUP(C86,Participants!$C$11:$G$138,2,FALSE),\"\")","v":""},{"$f":"IFERROR(VLOOKUP(C86,Participants!$C$11:$G$138,3,FALSE),\"\")","v":""},{"$f":"IFERROR(VLOOKUP(C86,Participants!$C$11:$G$138,4,FALSE),\"\")","v":""},{"$f":"IFERROR(VLOOKUP(C86,Participants!$C$11:$G$138,5,FALSE),\"\")","v":""}]
[null,"",{"$f":"IFERROR(VLOOKUP(77,Participants!$B$11:$G$138,2,FALSE),\"\")","v":""},{"$f":"IFERROR(VLOOKUP(C87,Participants!$C$11:$G$138,2,FALSE),\"\")","v":""},{"$f":"IFERROR(VLOOKUP(C87,Participants!$C$11:$G$138,3,FALSE),\"\")","v":""},{"$f":"IFERROR(VLOOKUP(C87,Participants!$C$11:$G$138,4,FALSE),\"\")","v":""},{"$f":"IFERROR(VLOOKUP(C87,Participants!$C$11:$G$138,5,FALSE),\"\")","v":""}]
[null,"",{"$f":"IFERROR(VLOOKUP(78,Participants!$B$11:$G$138,2,FALSE),\"\")","v":""},{"$f":"IFERROR(VLOOKUP(C88,Participants!$C$11:$G$138,2,FALSE),\"\")","v":""},{"$f":"IFERROR(VLOOKUP(C88,Participants!$C$11:$G$138,3,FALSE),\"\")","v":""},{"$f":"IFERROR(VLOOKUP(C88,Participants!$C$11:$G$138,4,FALSE),\"\")","v":""},{"$f":"IFERROR(VLOOKUP(C88,Participants!$C$11:$G$138,5,FALSE),\"\")","v":""}]
[null,"",{"$f":"IFERROR(VLOOKUP(79,Participants!$B$11:$G$138,2,FALSE),\"\")","v":""},{"$f":"IFERROR(VLOOKUP(C89,Participants!$C$11:$G$138,2,FALSE),\"\")","v":""},{"$f":"IFERROR(VLOOKUP(C89,Participants!$C$11:$G$138,3,FALSE),\"\")","v":""},{"$f":"IFERROR(VLOOKUP(C89,Participants!$C$11:$G$138,4,FALSE),\"\")","v":""},{"$f":"IFERROR(VLOOKUP(C89,Participants!$C$11:$G$138,5,FALSE),\"\")","v":""}]
[null,"",{"$f":"IFERROR(VLOOKUP(80,Participants!$B$11:$G$138,2,FALSE),\"\")","v":""},{"$f":"IFERROR(VLOOKUP(C90,Participants!$C$11:$G$138,2,FALSE),\"\")","v":""},{"$f":"IFERROR(VLOOKUP(C90,Participants!$C$11:$G$138,3,FALSE),\"\")","v":""},{"$f":"IFERROR(VLOOKUP(C90,Participants!$C$11:$G$138,4,FALSE),\"\")","v":""},{"$f":"IFERROR(VLOOKUP(C90,Participants!$C$11:$G$138,5,FALSE),\"\")","v":""}]
[null,"",{"$f":"IFERROR(VLOOKUP(81,Participants!$B$11:$G$138,2,FALSE),\"\")","v":""},{"$f":"IFERROR(VLOOKUP(C91,Participants!$C$11:$G$138,2,FALSE),\"\")","v":""},{"$f":"IFERROR(VLOOKUP(C91,Participants!$C$11:$G$138,3,FALSE),\"\")","v":""},{"$f":"IFERROR(VLOOKUP(C91,Participants!$C$11:$G$138,4,FALSE),\"\")","v":""},{"$f":"IFERROR(VLOOKUP(C91,Participants!$C$11:$G$138,5,FALSE),\"\")","v":""}]
[null,"",{"$f":"IFERROR(VLOOKUP(82,Participants!$B$11:$G$138,2,FALSE),\"\")","v":""},{"$f":"IFERROR(VLOOKUP(C92,Participants!$C$11:$G$138,2,FALSE),\"\")","v":""},{"$f":"IFERROR(VLOOKUP(C92,Participants!$C$11:$G$138,3,FALSE),\"\")","v":""},{"$f":"IFERROR(VLOOKUP(C92,Participants!$C$11:$G$138,4,FALSE),\"\")","v":""},{"$f":"IFERROR(VLOOKUP(C92,Participants!$C$11:$G$138,5,FALSE),\"\")","v":""}]
[null,"",{"$f":"IFERROR(VLOOKUP(83,Participants!$B$11:$G$138,2,FALSE),\"\")","v":""},{"$f":"IFERROR(VLOOKUP(C93,Participants!$C$11:$G$138,2,FALSE),\"\")","v":""},{"$f":"IFERROR(VLOOKUP(C93,Participants!$C$11:$G$138,3,FALSE),\"\")","v":""},{"$f":"IFERROR(VLOOKUP(C93,Participants!$C$11:$G$138,4,FALSE),\"\")","v":""},{"$f":"IFERROR(VLOOKUP(C93,Participants!$C$11:$G$138,5,FALSE),\"\")","v":""}]
[null,"",{"$f":"IFERROR(VLOOKUP(84,Participants!$B$11:$G$138,2,FALSE),\"\")","v":""},{"$f":"IFERROR(VLOOKUP(C94,Participants!$C$11:$G$138,2,FALSE),\"\")","v":""},{"$f":"IFERROR(VLOOKUP(C94,Participants!$C$11:$G$138,3,FALSE),\"\")","v":""},{"$f":"IFERROR(VLOOKUP(C94,Participants!$C$11:$G$138,4,FALSE),\"\")","v":""},{"$f":"IFERROR(VLOOKUP(C94,Participants!$C$11:$G$138,5,FALSE),\"\")","v":""}]
[null,"",{"$f":"IFERROR(VLOOKUP(85,Participants!$B$11:$G$138,2,FALSE),\"\")","v":""},{"$f":"IFERROR(VLOOKUP(C95,Participants!$C$11:$G$138,2,FALSE),\"\")","v":""},{"$f":"IFERROR(VLOOKUP(C95,Participants!$C$11:$G$138,3,FALSE),\"\")","v":""},{"$f":"IFERROR(VLOOKUP(C95,Participants!$C$11:$G$138,4,FALSE),\"\")","v":""},{"$f":"IFERROR(VLOOKUP(C95,Participants!$C$11:$G$138,5,FALSE),\"\")","v":""}]
[null,"",{"$f":"IFERROR(VLOOKUP(86,Participants!$B$11:$G$138,2,FALSE),\"\")","v":""},{"$f":"IFERROR(VLOOKUP(C96,Participants!$C$11:$G$138,2,FALSE),\"\")","v":""},{"$f":"IFERROR(VLOOKUP(C96,Participants!$C$11:$G$138,3,FALSE),\"\")","v":""},{"$f":"IFERROR(VLOOKUP(C96,Participants!$C$11:$G$138,4,FALSE),\"\")","v":""},{"$f":"IFERROR(VLOOKUP(C96,Participants!$C$11:$G$138,5,FALSE),\"\")","v":""}]
[null,"",{"$f":"IFERROR(VLOOKUP(87,Participants!$B$11:$G$138,2,FALSE),\"\")","v":""},{"$f":"IFERROR(VLOOKUP(C97,Participants!$C$11:$G$138,2,FALSE),\"\")","v":""},{"$f":"IFERROR(VLOOKUP(C97,Participants!$C$11:$G$138,3,FALSE),\"\")","v":""},{"$f":"IFERROR(VLOOKUP(C97,Participants!$C$11:$G$138,4,FALSE),\"\")","v":""},{"$f":"IFERROR(VLOOKUP(C97,Participants!$C$11:$G$138,5,FALSE),\"\")","v":""}]
[null,"",{"$f":"IFERROR(VLOOKUP(88,Participants!$B$11:$G$138,2,FALSE),\"\")","v":""},{"$f":"IFERROR(VLOOKUP(C98,Participants!$C$11:$G$138,2,FALSE),\"\")","v":""},{"$f":"IFERROR(VLOOKUP(C98,Participants!$C$11:$G$138,3,FALSE),\"\")","v":""},{"$f":"IFERROR(VLOOKUP(C98,Participants!$C$11:$G$138,4,FALSE),\"\")","v":""},{"$f":"IFERROR(VLOOKUP(C98,Participants!$C$11:$G$138,5,FALSE),\"\")","v":""}]
[null,"",{"$f":"IFERROR(VLOOKUP(89,Participants!$B$11:$G$138,2,FALSE),\"\")","v":""},{"$f":"IFERROR(VLOOKUP(C99,Participants!$C$11:$G$138,2,FALSE),\"\")","v":""},{"$f":"IFERROR(VLOOKUP(C99,Participants!$C$11:$G$138,3,FALSE),\"\")","v":""},{"$f":"IFERROR(VLOOKUP(C99,Participants!$C$11:$G$138,4,FALSE),\"\")","v":""},{"$f":"IFERROR(VLOOKUP(C99,Participants!$C$11:$G$138,5,FALSE),\"\")","v":""}]
[null,"",{"$f":"IFERROR(VLOOKUP(90,Participants!$B$11:$G$138,2,FALSE),\"\")","v":""},{"$f":"IFERROR(VLOOKUP(C100,Participants!$C$11:$G$138,2,FALSE),\"\")","v":""},{"$f":"IFERROR(VLOOKUP(C100,Participants!$C$11:$G$138,3,FALSE),\"\")","v":""},{"$f":"IFERROR(VLOOKUP(C100,Participants!$C$11:$G$138,4,FALSE),\"\")","v":""},{"$f":"IFERROR(VLOOKUP(C100,Participants!$C$11:$G$138,5,FALSE),\"\")","v":""}]
[null,"",{"$f":"IFERROR(VLOOKUP(91,Participants!$B$11:$G$138,2,FALSE),\"\")","v":""},{"$f":"IFERROR(VLOOKUP(C101,Participants!$C$11:$G$138,2,FALSE),\"\")","v":""},{"$f":"IFERROR(VLOOKUP(C101,Participants!$C$11:$G$138,3,FALSE),\"\")","v":""},{"$f":"IFERROR(VLOOKUP(C101,Participants!$C$11:$G$138,4,FALSE),\"\")","v":""},{"$f":"IFERROR(VLOOKUP(C101,Participants!$C$11:$G$138,5,FALSE),\"\")","v":""}]
[null,"",{"$f":"IFERROR(VLOOKUP(92,Participants!$B$11:$G$138,2,FALSE),\"\")","v":""},{"$f":"IFERROR(VLOOKUP(C102,Participants!$C$11:$G$138,2,FALSE),\"\")","v":""},{"$f":"IFERROR(VLOOKUP(C102,Participants!$C$11:$G$138,3,FALSE),\"\")","v":""},{"$f":"IFERROR(VLOOKUP(C102,Participants!$C$11:$G$138,4,FALSE),\"\")","v":""},{"$f":"IFERROR(VLOOKUP(C102,Participants!$C$11:$G$138,5,FALSE),\"\")","v":""}]
[null,"",{"$f":"IFERROR(VLOOKUP(93,Participants!$B$11:$G$138,2,FALSE),\"\")","v":""},{"$f":"IFERROR(VLOOKUP(C103,Participants!$C$11:$G$138,2,FALSE),\"\")","v":""},{"$f":"IFERROR(VLOOKUP(C103,Participants!$C$11:$G$138,3,FALSE),\"\")","v":""},{"$f":"IFERROR(VLOOKUP(C103,Participants!$C$11:$G$138,4,FALSE),\"\")","v":""},{"$f":"IFERROR(VLOOKUP(C103,Participants!$C$11:$G$138,5,FALSE),\"\")","v":""}]
[null,"",{"$f":"IFERROR(VLOOKUP(94,Participants!$B$11:$G$138,2,FALSE),\"\")","v":""},{"$f":"IFERROR(VLOOKUP(C104,Participants!$C$11:$G$138,2,FALSE),\"\")","v":""},{"$f":"IFERROR(VLOOKUP(C104,Participants!$C$11:$G$138,3,FALSE),\"\")","v":""},{"$f":"IFERROR(VLOOKUP(C104,Participants!$C$11:$G$138,4,FALSE),\"\")","v":""},{"$f":"IFERROR(VLOOKUP(C104,Participants!$C$11:$G$138,5,FALSE),\"\")","v":""}]
[null,"",{"$f":"IFERROR(VLOOKUP(95,Participants!$B$11:$G$138,2,FALSE),\"\")","v":""},{"$f":"IFERROR(VLOOKUP(C105,Participants!$C$11:$G$138,2,FALSE),\"\")","v":""},{"$f":"IFERROR(VLOOKUP(C105,Participants!$C$11:$G$138,3,FALSE),\"\")","v":""},{"$f":"IFERROR(VLOOKUP(C105,Participants!$C$11:$G$138,4,FALSE),\"\")","v":""},{"$f":"IFERROR(VLOOKUP(C105,Participants!$C$11:$G$138,5,FALSE),\"\")","v":""}]
[null,"",{"$f":"IFERROR(VLOOKUP(96,Participants!$B$11:$G$138,2,FALSE),\"\")","v":""},{"$f":"IFERROR(VLOOKUP(C106,Participants!$C$11:$G$138,2,FALSE),\"\")","v":""},{"$f":"IFERROR(VLOOKUP(C106,Participants!$C$11:$G$138,3,FALSE),\"\")","v":""},{"$f":"IFERROR(VLOOKUP(C106,Participants!$C$11:$G$138,4,FALSE),\"\")","v":""},{"$f":"IFERROR(VLOOKUP(C106,Participants!$C$11:$G$138,5,FALSE),\"\")","v":""}]
[null,"",{"$f":"IFERROR(VLOOKUP(97,Participants!$B$11:$G$138,2,FALSE),\"\")","v":""},{"$f":"IFERROR(VLOOKUP(C107,Participants!$C$11:$G$138,2,FALSE),\"\")","v":""},{"$f":"IFERROR(VLOOKUP(C107,Participants!$C$11:$G$138,3,FALSE),\"\")","v":""},{"$f":"IFERROR(VLOOKUP(C107,Participants!$C$11:$G$138,4,FALSE),\"\")","v":""},{"$f":"IFERROR(VLOOKUP(C107,Participants!$C$11:$G$138,5,FALSE),\"\")","v":""}]
[null,"",{"$f":"IFERROR(VLOOKUP(98,Participants!$B$11:$G$138,2,FALSE),\"\")","v":""},{"$f":"IFERROR(VLOOKUP(C108,Participants!$C$11:$G$138,2,FALSE),\"\")","v":""},{"$f":"IFERROR(VLOOKUP(C108,Participants!$C$11:$G$138,3,FALSE),\"\")","v":""},{"$f":"IFERROR(VLOOKUP(C108,Participants!$C$11:$G$138,4,FALSE),\"\")","v":""},{"$f":"IFERROR(VLOOKUP(C108,Participants!$C$11:$G$138,5,FALSE),\"\")","v":""}]
[null,"",{"$f":"IFERROR(VLOOKUP(99,Participants!$B$11:$G$138,2,FALSE),\"\")","v":""},{"$f":"IFERROR(VLOOKUP(C109,Participants!$C$11:$G$138,2,FALSE),\"\")","v":""},{"$f":"IFERROR(VLOOKUP(C109,Participants!$C$11:$G$138,3,FALSE),\"\")","v":""},{"$f":"IFERROR(VLOOKUP(C109,Participants!$C$11:$G$138,4,FALSE),\"\")","v":""},{"$f":"IFERROR(VLOOKUP(C109,Participants!$C$11:$G$138,5,FALSE),\"\")","v":""}]
[null,"",{"$f":"IFERROR(VLOOKUP(100,Participants!$B$11:$G$138,2,FALSE),\"\")","v":""},{"$f":"IFERROR(VLOOKUP(C110,Participants!$C$11:$G$138,2,FALSE),\"\")","v":""},{"$f":"IFERROR(VLOOKUP(C110,Participants!$C$11:$G$138,3,FALSE),\"\")","v":""},{"$f":"IFERROR(VLOOKUP(C110,Participants!$C$11:$G$138,4,FALSE),\"\")","v":""},{"$f":"IFERROR(VLOOKUP(C110,Participants!$C$11:$G$138,5,FALSE),\"\")","v":""}]
[null,"",{"$f":"IFERROR(VLOOKUP(101,Participants!$B$11:$G$138,2,FALSE),\"\")","v":""},{"$f":"IFERROR(VLOOKUP(C111,Participants!$C$11:$G$138,2,FALSE),\"\")","v":""},{"$f":"IFERROR(VLOOKUP(C111,Participants!$C$11:$G$138,3,FALSE),\"\")","v":""},{"$f":"IFERROR(VLOOKUP(C111,Participants!$C$11:$G$138,4,FALSE),\"\")","v":""},{"$f":"IFERROR(VLOOKUP(C111,Participants!$C$11:$G$138,5,FALSE),\"\")","v":""}]
[null,"",{"$f":"IFERROR(VLOOKUP(102,Participants!$B$11:$G$138,2,FALSE),\"\")","v":""},{"$f":"IFERROR(VLOOKUP(C112,Participants!$C$11:$G$138,2,FALSE),\"\")","v":""},{"$f":"IFERROR(VLOOKUP(C112,Participants!$C$11:$G$138,3,FALSE),\"\")","v":""},{"$f":"IFERROR(VLOOKUP(C112,Participants!$C$11:$G$138,4,FALSE),\"\")","v":""},{"$f":"IFERROR(VLOOKUP(C112,Participants!$C$11:$G$138,5,FALSE),\"\")","v":""}]
[null,"",{"$f":"IFERROR(VLOOKUP(103,Participants!$B$11:$G$138,2,FALSE),\"\")","v":""},{"$f":"IFERROR(VLOOKUP(C113,Participants!$C$11:$G$138,2,FALSE),\"\")","v":""},{"$f":"IFERROR(VLOOKUP(C113,Participants!$C$11:$G$138,3,FALSE),\"\")","v":""},{"$f":"IFERROR(VLOOKUP(C113,Participants!$C$11:$G$138,4,FALSE),\"\")","v":""},{"$f":"IFERROR(VLOOKUP(C113,Participants!$C$11:$G$138,5,FALSE),\"\")","v":""}]
[null,"",{"$f":"IFERROR(VLOOKUP(104,Participants!$B$11:$G$138,2,FALSE),\"\")","v":""},{"$f":"IFERROR(VLOOKUP(C114,Participants!$C$11:$G$138,2,FALSE),\"\")","v":""},{"$f":"IFERROR(VLOOKUP(C114,Participants!$C$11:$G$138,3,FALSE),\"\")","v":""},{"$f":"IFERROR(VLOOKUP(C114,Participants!$C$11:$G$138,4,FALSE),\"\")","v":""},{"$f":"IFERROR(VLOOKUP(C114,Participants!$C$11:$G$138,5,FALSE),\"\")","v":""}]
[null,"",{"$f":"IFERROR(VLOOKUP(105,Participants!$B$11:$G$138,2,FALSE),\"\")","v":""},{"$f":"IFERROR(VLOOKUP(C115,Participants!$C$11:$G$138,2,FALSE),\"\")","v":""},{"$f":"IFERROR(VLOOKUP(C115,Participants!$C$11:$G$138,3,FALSE),\"\")","v":""},{"$f":"IFERROR(VLOOKUP(C115,Participants!$C$11:$G$138,4,FALSE),\"\")","v":""},{"$f":"IFERROR(VLOOKUP(C115,Participants!$C$11:$G$138,5,FALSE),\"\")","v":""}]
[null,"",{"$f":"IFERROR(VLOOKUP(106,Participants!$B$11:$G$138,2,FALSE),\"\")","v":""},{"$f":"IFERROR(VLOOKUP(C116,Participants!$C$11:$G$138,2,FALSE),\"\")","v":""},{"$f":"IFERROR(VLOOKUP(C116,Participants!$C$11:$G$138,3,FALSE),\"\")","v":""},{"$f":"IFERROR(VLOOKUP(C116,Participants!$C$11:$G$138,4,FALSE),\"\")","v":""},{"$f":"IFERROR(VLOOKUP(C116,Participants!$C$11:$G$138,5,FALSE),\"\")","v":""}]
[null,"",{"$f":"IFERROR(VLOOKUP(107,Participants!$B$11:$G$138,2,FALSE),\"\")","v":""},{"$f":"IFERROR(VLOOKUP(C117,Participants!$C$11:$G$138,2,FALSE),\"\")","v":""},{"$f":"IFERROR(VLOOKUP(C117,Participants!$C$11:$G$138,3,FALSE),\"\")","v":""},{"$f":"IFERROR(VLOOKUP(C117,Participants!$C$11:$G$138,4,FALSE),\"\")","v":""},{"$f":"IFERROR(VLOOKUP(C117,Participants!$C$11:$G$138,5,FALSE),\"\")","v":""}]
[null,"",{"$f":"IFERROR(VLOOKUP(108,Participants!$B$11:$G$138,2,FALSE),\"\")","v":""},{"$f":"IFERROR(VLOOKUP(C118,Participants!$C$11:$G$138,2,FALSE),\"\")","v":""},{"$f":"IFERROR(VLOOKUP(C118,Participants!$C$11:$G$138,3,FALSE),\"\")","v":""},{"$f":"IFERROR(VLOOKUP(C118,Participants!$C$11:$G$138,4,FALSE),\"\")","v":""},{"$f":"IFERROR(VLOOKUP(C118,Participants!$C$11:$G$138,5,FALSE),\"\")","v":""}]
[null,"",{"$f":"IFERROR(VLOOKUP(109,Participants!$B$11:$G$138,2,FALSE),\"\")","v":""},{"$f":"IFERROR(VLOOKUP(C119,Participants!$C$11:$G$138,2,FALSE),\"\")","v":""},{"$f":"IFERROR(VLOOKUP(C119,Participants!$C$11:$G$138,3,FALSE),\"\")","v":""},{"$f":"IFERROR(VLOOKUP(C119,Participants!$C$11:$G$138,4,FALSE),\"\")","v":""},{"$f":"IFERROR(VLOOKUP(C119,Participants!$C$11:$G$138,5,FALSE),\"\")","v":""}]
[null,"",{"$f":"IFERROR(VLOOKUP(110,Participants!$B$11:$G$138,2,FALSE),\"\")","v":""},{"$f":"IFERROR(VLOOKUP(C120,Participants!$C$11:$G$138,2,FALSE),\"\")","v":""},{"$f":"IFERROR(VLOOKUP(C120,Participants!$C$11:$G$138,3,FALSE),\"\")","v":""},{"$f":"IFERROR(VLOOKUP(C120,Participants!$C$11:$G$138,4,FALSE),\"\")","v":""},{"$f":"IFERROR(VLOOKUP(C120,Participants!$C$11:$G$138,5,FALSE),\"\")","v":""}]
[null,"",{"$f":"IFERROR(VLOOKUP(111,Participants!$B$11:$G$138,2,FALSE),\"\")","v":""},{"$f":"IFERROR(VLOOKUP(C121,Participants!$C$11:$G$138,2,FALSE),\"\")","v":""},{"$f":"IFERROR(VLOOKUP(C121,Participants!$C$11:$G$138,3,FALSE),\"\")","v":""},{"$f":"IFERROR(VLOOKUP(C121,Participants!$C$11:$G$138,4,FALSE),\"\")","v":""},{"$f":"IFERROR(VLOOKUP(C121,Participants!$C$11:$G$138,5,FALSE),\"\")","v":""}]
[null,"",{"$f":"IFERROR(VLOOKUP(112,Participants!$B$11:$G$138,2,FALSE),\"\")","v":""},{"$f":"IFERROR(VLOOKUP(C122,Participants!$C$11:$G$138,2,FALSE),\"\")","v":""},{"$f":"IFERROR(VLOOKUP(C122,Participants!$C$11:$G$138,3,FALSE),\"\")","v":""},{"$f":"IFERROR(VLOOKUP(C122,Participants!$C$11:$G$138,4,FALSE),\"\")","v":""},{"$f":"IFERROR(VLOOKUP(C122,Participants!$C$11:$G$138,5,FALSE),\"\")","v":""}]
[null,"",{"$f":"IFERROR(VLOOKUP(113,Participants!$B$11:$G$138,2,FALSE),\"\")","v":""},{"$f":"IFERROR(VLOOKUP(C123,Participants!$C$11:$G$138,2,FALSE),\"\")","v":""},{"$f":"IFERROR(VLOOKUP(C123,Participants!$C$11:$G$138,3,FALSE),\"\")","v":""},{"$f":"IFERROR(VLOOKUP(C123,Participants!$C$11:$G$138,4,FALSE),\"\")","v":""},{"$f":"IFERROR(VLOOKUP(C123,Participants!$C$11:$G$138,5,FALSE),\"\")","v":""}]
[null,"",{"$f":"IFERROR(VLOOKUP(114,Participants!$B$11:$G$138,2,FALSE),\"\")","v":""},{"$f":"IFERROR(VLOOKUP(C124,Participants!$C$11:$G$138,2,FALSE),\"\")","v":""},{"$f":"IFERROR(VLOOKUP(C124,Participants!$C$11:$G$138,3,FALSE),\"\")","v":""},{"$f":"IFERROR(VLOOKUP(C124,Participants!$C$11:$G$138,4,FALSE),\"\")","v":""},{"$f":"IFERROR(VLOOKUP(C124,Participants!$C$11:$G$138,5,FALSE),\"\")","v":""}]
[null,"",{"$f":"IFERROR(VLOOKUP(115,Participants!$B$11:$G$138,2,FALSE),\"\")","v":""},{"$f":"IFERROR(VLOOKUP(C125,Participants!$C$11:$G$138,2,FALSE),\"\")","v":""},{"$f":"IFERROR(VLOOKUP(C125,Participants!$C$11:$G$138,3,FALSE),\"\")","v":""},{"$f":"IFERROR(VLOOKUP(C125,Participants!$C$11:$G$138,4,FALSE),\"\")","v":""},{"$f":"IFERROR(VLOOKUP(C125,Participants!$C$11:$G$138,5,FALSE),\"\")","v":""}]
[null,"",{"$f":"IFERROR(VLOOKUP(116,Participants!$B$11:$G$138,2,FALSE),\"\")","v":""},{"$f":"IFERROR(VLOOKUP(C126,Participants!$C$11:$G$138,2,FALSE),\"\")","v":""},{"$f":"IFERROR(VLOOKUP(C126,Participants!$C$11:$G$138,3,FALSE),\"\")","v":""},{"$f":"IFERROR(VLOOKUP(C126,Participants!$C$11:$G$138,4,FALSE),\"\")","v":""},{"$f":"IFERROR(VLOOKUP(C126,Participants!$C$11:$G$138,5,FALSE),\"\")","v":""}]
[null,"",{"$f":"IFERROR(VLOOKUP(117,Participants!$B$11:$G$138,2,FALSE),\"\")","v":""},{"$f":"IFERROR(VLOOKUP(C127,Participants!$C$11:$G$138,2,FALSE),\"\")","v":""},{"$f":"IFERROR(VLOOKUP(C127,Participants!$C$11:$G$138,3,FALSE),\"\")","v":""},{"$f":"IFERROR(VLOOKUP(C127,Participants!$C$11:$G$138,4,FALSE),\"\")","v":""},{"$f":"IFERROR(VLOOKUP(C127,Participants!$C$11:$G$138,5,FALSE),\"\")","v":""}]
[null,"",{"$f":"IFERROR(VLOOKUP(118,Participants!$B$11:$G$138,2,FALSE),\"\")","v":""},{"$f":"IFERROR(VLOOKUP(C128,Participants!$C$11:$G$138,2,FALSE),\"\")","v":""},{"$f":"IFERROR(VLOOKUP(C128,Participants!$C$11:$G$138,3,FALSE),\"\")","v":""},{"$f":"IFERROR(VLOOKUP(C128,Participants!$C$11:$G$138,4,FALSE),\"\")","v":""},{"$f":"IFERROR(VLOOKUP(C128,Participants!$C$11:$G$138,5,FALSE),\"\")","v":""}]
[null,"",{"$f":"IFERROR(VLOOKUP(119,Participants!$B$11:$G$138,2,FALSE),\"\")","v":""},{"$f":"IFERROR(VLOOKUP(C129,Participants!$C$11:$G$138,2,FALSE),\"\")","v":""},{"$f":"IFERROR(VLOOKUP(C129,Participants!$C$11:$G$138,3,FALSE),\"\")","v":""},{"$f":"IFERROR(VLOOKUP(C129,Participants!$C$11:$G$138,4,FALSE),\"\")","v":""},{"$f":"IFERROR(VLOOKUP(C129,Participants!$C$11:$G$138,5,FALSE),\"\")","v":""}]
[null,"",{"$f":"IFERROR(VLOOKUP(120,Participants!$B$11:$G$138,2,FALSE),\"\")","v":""},{"$f":"IFERROR(VLOOKUP(C130,Participants!$C$11:$G$138,2,FALSE),\"\")","v":""},{"$f":"IFERROR(VLOOKUP(C130,Participants!$C$11:$G$138,3,FALSE),\"\")","v":""},{"$f":"IFERROR(VLOOKUP(C130,Participants!$C$11:$G$138,4,FALSE),\"\")","v":""},{"$f":"IFERROR(VLOOKUP(C130,Participants!$C$11:$G$138,5,FALSE),\"\")","v":""}]
[null,"",{"$f":"IFERROR(VLOOKUP(121,Participants!$B$11:$G$138,2,FALSE),\"\")","v":""},{"$f":"IFERROR(VLOOKUP(C131,Participants!$C$11:$G$138,2,FALSE),\"\")","v":""},{"$f":"IFERROR(VLOOKUP(C131,Participants!$C$11:$G$138,3,FALSE),\"\")","v":""},{"$f":"IFERROR(VLOOKUP(C131,Participants!$C$11:$G$138,4,FALSE),\"\")","v":""},{"$f":"IFERROR(VLOOKUP(C131,Participants!$C$11:$G$138,5,FALSE),\"\")","v":""}]
[null,"",{"$f":"IFERROR(VLOOKUP(122,Participants!$B$11:$G$138,2,FALSE),\"\")","v":""},{"$f":"IFERROR(VLOOKUP(C132,Participants!$C$11:$G$138,2,FALSE),\"\")","v":""},{"$f":"IFERROR(VLOOKUP(C132,Participants!$C$11:$G$138,3,FALSE),\"\")","v":""},{"$f":"IFERROR(VLOOKUP(C132,Participants!$C$11:$G$138,4,FALSE),\"\")","v":""},{"$f":"IFERROR(VLOOKUP(C132,Participants!$C$11:$G$138,5,FALSE),\"\")","v":""}]
[null,"",{"$f":"IFERROR(VLOOKUP(123,Participants!$B$11:$G$138,2,FALSE),\"\")","v":""},{"$f":"IFERROR(VLOOKUP(C133,Participants!$C$11:$G$138,2,FALSE),\"\")","v":""},{"$f":"IFERROR(VLOOKUP(C133,Participants!$C$11:$G$138,3,FALSE),\"\")","v":""},{"$f":"IFERROR(VLOOKUP(C133,Participants!$C$11:$G$138,4,FALSE),\"\")","v":""},{"$f":"IFERROR(VLOOKUP(C133,Participants!$C$11:$G$138,5,FALSE),\"\")","v":""}]
[null,"",{"$f":"IFERROR(VLOOKUP(124,Participants!$B$11:$G$138,2,FALSE),\"\")","v":""},{"$f":"IFERROR(VLOOKUP(C134,Participants!$C$11:$G$138,2,FALSE),\"\")","v":""},{"$f":"IFERROR(VLOOKUP(C134,Participants!$C$11:$G$138,3,FALSE),\"\")","v":""},{"$f":"IFERROR(VLOOKUP(C134,Participants!$C$11:$G$138,4,FALSE),\"\")","v":""},{"$f":"IFERROR(VLOOKUP(C134,Participants!$C$11:$G$138,5,FALSE),\"\")","v":""}]
[null,"",{"$f":"IFERROR(VLOOKUP(125,Participants!$B$11:$G$138,2,FALSE),\"\")","v":""},{"$f":"IFERROR(VLOOKUP(C135,Participants!$C$11:$G$138,2,FALSE),\"\")","v":""},{"$f":"IFERROR(VLOOKUP(C135,Participants!$C$11:$G$138,3,FALSE),\"\")","v":""},{"$f":"IFERROR(VLOOKUP(C135,Participants!$C$11:$G$138,4,FALSE),\"\")","v":""},{"$f":"IFERROR(VLOOKUP(C135,Participants!$C$11:$G$138,5,FALSE),\"\")","v":""}]
[null,"",{"$f":"IFERROR(VLOOKUP(126,Participants!$B$11:$G$138,2,FALSE),\"\")","v":""},{"$f":"IFERROR(VLOOKUP(C136,Participants!$C$11:$G$138,2,FALSE),\"\")","v":""},{"$f":"IFERROR(VLOOKUP(C136,Participants!$C$11:$G$138,3,FALSE),\"\")","v":""},{"$f":"IFERROR(VLOOKUP(C136,Participants!$C$11:$G$138,4,FALSE),\"\")","v":""},{"$f":"IFERROR(VLOOKUP(C136,Participants!$C$11:$G$138,5,FALSE),\"\")","v":""}]
[null,"",{"$f":"IFERROR(VLOOKUP(127,Participants!$B$11:$G$138,2,FALSE),\"\")","v":""},{"$f":"IFERROR(VLOOKUP(C137,Participants!$C$11:$G$138,2,FALSE),\"\")","v":""},{"$f":"IFERROR(VLOOKUP(C137,Participants!$C$11:$G$138,3,FALSE),\"\")","v":""},{"$f":"IFERROR(VLOOKUP(C137,Participants!$C$11:$G$138,4,FALSE),\"\")","v":""},{"$f":"IFERROR(VLOOKUP(C137,Participants!$C$11:$G$138,5,FALSE),\"\")","v":""}]
[null,"",{"$f":"IFERROR(VLOOKUP(128,Participants!$B$11:$G$138,2,FALSE),\"\")","v":""},{"$f":"IFERROR(VLOOKUP(C138,Participants!$C$11:$G$138,2,FALSE),\"\")","v":""},{"$f":"IFERROR(VLOOKUP(C138,Participants!$C$11:$G$138,3,FALSE),\"\")","v":""},{"$f":"IFERROR(VLOOKUP(C138,Participants!$C$11:$G$138,4,FALSE),\"\")","v":""},{"$f":"IFERROR(VLOOKUP(C138,Participants!$C$11:$G$138,5,FALSE),\"\")","v":""}]
[]
[]
[null,null,"Total jugadors",{"$f":"128-(COUNTBLANK(C11:C138))","v":42}]
[null,null,"Reservats per a la fase final",{"$f":"VLOOKUP($D$141,Taules!$A$2:$J$129,2,FALSE)","v":18}]
[null,null,"Classificats per a la fase final",{"$f":"VLOOKUP($D$141,Taules!$A$2:$J$129,4,FALSE)","v":14}]
[null,null,"Juguen la prèvia",{"$f":"VLOOKUP($D$141,Taules!$A$2:$J$129,3,FALSE)","v":24}]
[null,null,"Reservats per a la prèvia",{"$f":"VLOOKUP($D$141,Taules!$A$2:$J$129,5,FALSE)","v":0}]
[null,null,"Classificats per a la prèvia",{"$f":"VLOOKUP($D$141,Taules!$A$2:$J$129,7,FALSE)","v":0}]
[null,null,"Juguen la pre-prèvia",{"$f":"VLOOKUP($D$141,Taules!$A$2:$J$129,6,FALSE)","v":0}]
[null,null,"Reservats per a la pre-prèvia",{"$f":"VLOOKUP($D$141,Taules!$A$2:$J$129,8,FALSE)","v":0}]
[null,null,"Classificats per a la pre-prèvia",{"$f":"VLOOKUP(D141,Taules!$A$2:$J$129,10,FALSE)","v":0}]
[null,null,"Juguen la pre-pre prèvia",{"$f":"VLOOKUP(D141,Taules!$A$2:$J$129,9,FALSE)","v":0}]

{"sheet":"Organigrama","index":5,"n_rows":43,"n_cols":24,"rows_kept":43,"cut":false,"hidden":false,"merged":[[1,22,1,23],[12,1,12,16],[15,11,20,16],[1,14,5,16],[1,1,1,13],[2,7,5,13],[7,1,7,16],[9,1,9,16],[10,1,10,16]]}
[]
[null,{"$f":"IF(Inici!B2=\"INTRODUIR EN MAIÚSCULES EL NOM DE L'OPEN\",\"Introduiu el nom de l'Open a la pantalla d'Inici!!!\",Inici!B2)","v":"Introduiu el nom de l'Open a la pantalla d'Inici!!!"},null,null,null,null,null,null,null,null,null,null,null,null,null,null,null,null,"ANAR A PÀGINA","P-P-PRÈVIA","P-PRÈVIA","PRÈVIA","FASE FINAL"]
[null,null,null,null,null,null,null,null,null,null,null,null,null,null,null,null,null,null,"Rànquing Inicial","Grups PPP","Grups PP","Grups P","Setzens","Vuitens"]
[null,null,null,null,null,null,null,null,null,null,null,null,null,null,null,null,null,null,"Organigrama","Result PPP","Result PP","Result P","Class SF","Quarts/SF/F"]
[null,null,null,null,null,null,null,null,null,null,null,null,null,null,null,null,null,null,"Horaris","Classif PPP","Classif PP","Classif P"]
[]
[]
[null,"ORGANIGRAMA DE LA COMPETICIÓ",null,null,null,null,null,null,null,null,null,null,null,null,null,null,null,null,"Inici","Participants"]
[]
[null,{"$f":"CONCATENATE(\"Organització: \",Inici!D6,\" - \",Inici!D8)","v":"Organització:  - "}]
[null,{"$f":"CONCATENATE(\"Tf: \",Inici!D10,\" - \",\"E-mail: \",Inici!D12)","v":"Tf:  - E-mail: "}]
[]
[null,"VESTIMENTA: Polo amb escut del club, pantaló, cinturó, mitjons i calçat negres"]
[]
[null,"Quarts de Final (Q)",null,null,null,null,"Semifinal (SF)",null,null,"FINAL"]
[null,"1-V","2-V","3-V","4-V",null,"1-Q","2-Q",null,"1-SF",null,"Fase final (K.O.)\n40 caramboles / 50 entrades\n\nFases prèvies:\n30 caramboles / 50 entrades"]
[null,"8-V","7-V","6-V","5-V",null,"4-Q","3-Q",null,"2-SF"]
[]
[null,"Vuitens de Final (V)"]
[null,"1-S","2-S","3-S","4-S","5-S","6-S","7-S","8-S"]
[null,"16-S","15-S","14-S","13-S","12-S","11-S","10-S","9-S"]
[]
[null,"Setzens de final (S)"]
[null,1,2,3,4,5,6,7,8,9,10,11,12,13,14,15,16]
[null,{"$f":"IF($K$27>0,CONCATENATE($K$27,\"-P\"),IF(B24=\"\",\"\",32))","v":"14-P"},{"$f":"IF($K$27>1,CONCATENATE($K$27-1,\"-P\"),IF(C24=\"\",\"\",31))","v":"13-P"},{"$f":"IF($K$27>2,CONCATENATE($K$27-2,\"-P\"),IF(D24=\"\",\"\",30))","v":"12-P"},{"$f":"IF($K$27>3,CONCATENATE($K$27-3,\"-P\"),IF(E24=\"\",\"\",29))","v":"11-P"},{"$f":"IF($K$27>4,CONCATENATE($K$27-4,\"-P\"),IF(F24=\"\",\"\",28))","v":"10-P"},{"$f":"IF($K$27>5,CONCATENATE($K$27-5,\"-P\"),IF(G24=\"\",\"\",27))","v":"9-P"},{"$f":"IF($K$27>6,CONCATENATE($K$27-6,\"-P\"),IF(H24=\"\",\"\",26))","v":"8-P"},{"$f":"IF($K$27>7,CONCATENATE($K$27-7,\"-P\"),IF(I24=\"\",\"\",25))","v":"7-P"},{"$f":"IF($K$27>8,CONCATENATE($K$27-8,\"-P\"),IF(J24=\"\",\"\",24))","v":"6-P"},{"$f":"IF($K$27>9,CONCATENATE($K$27-9,\"-P\"),IF(K24=\"\",\"\",23))","v":"5-P"},{"$f":"IF($K$27>10,CONCATENATE($K$27-10,\"-P\"),IF(L24=\"\",\"\",22))","v":"4-P"},{"$f":"IF($K$27>11,CONCATENATE($K$27-11,\"-P\"),IF(M24=\"\",\"\",21))","v":"3-P"},{"$f":"IF($K$27>12,CONCATENATE($K$27-12,\"-P\"),IF(N24=\"\",\"\",20))","v":"2-P"},{"$f":"IF($K$27>13,CONCATENATE($K$27-13,\"-P\"),IF(O24=\"\",\"\",19))","v":"1-P"},{"$f":"IF($K$27>14,CONCATENATE($K$27-14,\"-P\"),IF(P24=\"\",\"\",18))","v":18},{"$f":"IF($K$27>15,CONCATENATE($K$27-15,\"-P\"),IF(Q24=\"\",\"\",17))","v":17}]
[]
[null,"PRÈVIA (P)",null,null,null,"Nº jugadors:",{"$f":"'Rànquing Inicial'!D144","v":24},null,null,"Nº classificats:",{"$f":"'Rànquing Inicial'!D143","v":14},null,null,null,"Reservats setzens de final:",{"$f":"'Rànquing Inicial'!D142","v":18}]
[null,{"$f":"IF('Rànquing Inicial'!$D$141<33,\"\",\"A\")","v":"A"},{"$f":"IF('Rànquing Inicial'!$D$141<33,\"\",\"B\")","v":"B"},{"$f":"IF('Rànquing Inicial'!$D$141<33,\"\",\"C\")","v":"C"},{"$f":"IF('Rànquing Inicial'!$D$141<33,\"\",\"D\")","v":"D"},{"$f":"IF('Rànquing Inicial'!$D$144>12,\"E\",\"\")","v":"E"},{"$f":"IF('Rànquing Inicial'!$D$144>15,\"F\",\"\")","v":"F"},{"$f":"IF('Rànquing Inicial'!$D$144>18,\"G\",\"\")","v":"G"},{"$f":"IF('Rànquing Inicial'!$D$144>21,\"H\",\"\")","v":"H"},{"$f":"IF('Rànquing Inicial'!$D$144>24,\"I\",\"\")","v":""},{"$f":"IF('Rànquing Inicial'!$D$144>27,\"J\",\"\")","v":""},{"$f":"IF('Rànquing Inicial'!$D$144>30,\"K\",\"\")","v":""},{"$f":"IF('Rànquing Inicial'!$D$144>33,\"L\",\"\")","v":""},{"$f":"IF('Rànquing Inicial'!$D$144>36,\"M\",\"\")","v":""},{"$f":"IF('Rànquing Inicial'!$D$144>39,\"N\",\"\")","v":""},{"$f":"IF('Rànquing Inicial'!$D$144>42,\"O\",\"\")","v":""},{"$f":"IF('Rànquing Inicial'!$D$144>45,\"P\",\"\")","v":""}]
[null,{"$f":"IF('Rànquing Inicial'!D141<33,\"\",$P$27+1)","v":19},{"$f":"IF('Rànquing Inicial'!D141<33,\"\",$P$27+2)","v":20},{"$f":"IF('Rànquing Inicial'!D141<33,\"\",$P$27+3)","v":21},{"$f":"IF('Rànquing Inicial'!D141<33,\"\",$P$27+4)","v":22},{"$f":"IF($G$27<15,\"\",$P$27+5)","v":23},{"$f":"IF($G$27<18,\"\",$P$27+6)","v":24},{"$f":"IF($G$27<21,\"\",$P$27+7)","v":25},{"$f":"IF($G$27<24,\"\",$P$27+8)","v":26},{"$f":"IF($G$27<27,\"\",$P$27+9)","v":""},{"$f":"IF($G$27<30,\"\",$P$27+10)","v":""},{"$f":"IF($G$27<33,\"\",$P$27+11)","v":""},{"$f":"IF($G$27<36,\"\",$P$27+12)","v":""},{"$f":"IF($G$27<39,\"\",$P$27+13)","v":""},{"$f":"IF($G$27<42,\"\",$P$27+14)","v":""},{"$f":"IF($G$27<45,\"\",$P$27+15)","v":""},{"$f":"IF($G$27<48,\"\",$P$27+16)","v":""}]
[null,{"$f":"IF('Rànquing Inicial'!D141<33,\"\",C30+1)","v":34},{"$f":"IF('Rànquing Inicial'!D141<33,\"\",D30+1)","v":33},{"$f":"IF('Rànquing Inicial'!D141<33,\"\",E30+1)","v":32},{"$f":"IF('Rànquing Inicial'!D141<33,\"\",IF($G$27=12,$P$27+5,F30+1))","v":31},{"$f":"IF($G$27<15,\"\",IF($G$27=15,$P$27+6,G30+1))","v":30},{"$f":"IF($G$27<18,\"\",IF($G$27=18,$P$27+7,H30+1))","v":29},{"$f":"IF($G$27<21,\"\",IF($G$27=21,$P$27+8,I30+1))","v":28},{"$f":"IF($G$27<24,\"\",IF($G$27=24,$P$27+9,J30+1))","v":27},{"$f":"IF($G$27<27,\"\",IF($G$27=27,$P$27+10,K30+1))","v":""},{"$f":"IF($G$27<30,\"\",IF($G$27=30,$P$27+11,L30+1))","v":""},{"$f":"IF($G$27<33,\"\",IF($G$27=33,$P$27+12,M30+1))","v":""},{"$f":"IF($G$27<36,\"\",IF($G$27=36,$P$27+13,N30+1))","v":""},{"$f":"IF($G$27<39,\"\",IF($G$27=39,$P$27+14,O30+1))","v":""},{"$f":"IF($G$27<42,\"\",IF($G$27=42,$P$27+15,P30+1))","v":""},{"$f":"IF($G$27<45,\"\",IF($G$27=45,$P$27+16,Q30+1))","v":""},{"$f":"IF($G$27<48,\"\",$P$27+17)","v":""}]
[null,{"$f":"IF($K$33>0,CONCATENATE($K$33,\"-PP\"),IF(B30=\"\",\"\",B30+($G$27/3)))","v":42},{"$f":"IF($K$33>1,CONCATENATE($K$33-1,\"-PP\"),IF(C30=\"\",\"\",C30+($G$27/3)))","v":41},{"$f":"IF($K$33>2,CONCATENATE($K$33-2,\"-PP\"),IF(D30=\"\",\"\",D30+($G$27/3)))","v":40},{"$f":"IF($K$33>3,CONCATENATE($K$33-3,\"-PP\"),IF(E30=\"\",\"\",E30+($G$27/3)))","v":39},{"$f":"IF($K$33>4,CONCATENATE($K$33-4,\"-PP\"),IF(F30=\"\",\"\",F30+($G$27/3)))","v":38},{"$f":"IF($K$33>5,CONCATENATE($K$33-5,\"-PP\"),IF(G30=\"\",\"\",G30+($G$27/3)))","v":37},{"$f":"IF($K$33>6,CONCATENATE($K$33-6,\"-PP\"),IF(H30=\"\",\"\",H30+($G$27/3)))","v":36},{"$f":"IF($K$33>7,CONCATENATE($K$33-7,\"-PP\"),IF(I30=\"\",\"\",I30+($G$27/3)))","v":35},{"$f":"IF($K$33>8,CONCATENATE($K$33-8,\"-PP\"),IF(J30=\"\",\"\",J30+($G$27/3)))","v":""},{"$f":"IF($K$33>9,CONCATENATE($K$33-9,\"-PP\"),IF(K30=\"\",\"\",K30+($G$27/3)))","v":""},{"$f":"IF($K$33>10,CONCATENATE($K$33-10,\"-PP\"),IF(L30=\"\",\"\",L30+($G$27/3)))","v":""},{"$f":"IF($K$33>11,CONCATENATE($K$33-11,\"-PP\"),IF(M30=\"\",\"\",M30+($G$27/3)))","v":""},{"$f":"IF($K$33>12,CONCATENATE($K$33-12,\"-PP\"),IF(N30=\"\",\"\",N30+($G$27/3)))","v":""},{"$f":"IF($K$33>13,CONCATENATE($K$33-13,\"-PP\"),IF(O30=\"\",\"\",O30+($G$27/3)))","v":""},{"$f":"IF($K$33>14,CONCATENATE($K$33-14,\"-PP\"),IF(P30=\"\",\"\",P30+($G$27/3)))","v":""},{"$f":"IF($K$33>15,CONCATENATE($K$33-15,\"-PP\"),IF(Q30=\"\",\"\",Q30+($G$27/3)))","v":""}]
[]
[null,"PRE-PRÈVIA (PP)",null,null,null,"Nº jugadors:",{"$f":"'Rànquing Inicial'!D147","v":0},null,null,"Nº classificats:",{"$f":"'Rànquing Inicial'!D146","v":0},null,null,null,"Reservats fase Prèvia:",{"$f":"'Rànquing Inicial'!D145","v":0}]
[null,{"$f":"IF('Rànquing Inicial'!$D$141<65,\"\",\"Q\")","v":""},{"$f":"IF('Rànquing Inicial'!$D$141<65,\"\",\"R\")","v":""},{"$f":"IF('Rànquing Inicial'!$D$141<65,\"\",\"S\")","v":""},{"$f":"IF('Rànquing Inicial'!$D$141<65,\"\",\"T\")","v":""},{"$f":"IF('Rànquing Inicial'!$D$147>12,\"U\",\"\")","v":""},{"$f":"IF('Rànquing Inicial'!$D$147>15,\"V\",\"\")","v":""},{"$f":"IF('Rànquing Inicial'!$D$147>18,\"W\",\"\")","v":""},{"$f":"IF('Rànquing Inicial'!$D$147>21,\"X\",\"\")","v":""},{"$f":"IF('Rànquing Inicial'!$D$147>24,\"Y\",\"\")","v":""},{"$f":"IF('Rànquing Inicial'!$D$147>27,\"Z\",\"\")","v":""},{"$f":"IF('Rànquing Inicial'!$D$147>30,\"AA\",\"\")","v":""},{"$f":"IF('Rànquing Inicial'!$D$147>33,\"AB\",\"\")","v":""},{"$f":"IF('Rànquing Inicial'!$D$147>36,\"AC\",\"\")","v":""},{"$f":"IF('Rànquing Inicial'!$D$147>39,\"AD\",\"\")","v":""},{"$f":"IF('Rànquing Inicial'!$D$147>42,\"AE\",\"\")","v":""},{"$f":"IF('Rànquing Inicial'!$D$147>45,\"AF\",\"\")","v":""}]
[null,{"$f":"IF('Rànquing Inicial'!D141<65,\"\",$P$27+$P$33+1)","v":""},{"$f":"IF('Rànquing Inicial'!D141<65,\"\",$P$27+$P$33+2)","v":""},{"$f":"IF('Rànquing Inicial'!D141<65,\"\",$P$27+$P$33+3)","v":""},{"$f":"IF('Rànquing Inicial'!D141<65,\"\",$P$27+$P$33+4)","v":""},{"$f":"IF($G$33<15,\"\",$P$27+$P$33+5)","v":""},{"$f":"IF($G$33<18,\"\",$P$27+$P$33+6)","v":""},{"$f":"IF($G$33<21,\"\",$P$27+$P$33+7)","v":""},{"$f":"IF($G$33<24,\"\",$P$27+$P$33+8)","v":""},{"$f":"IF($G$33<27,\"\",$P$27+$P$33+9)","v":""},{"$f":"IF($G$33<30,\"\",$P$27+$P$33+10)","v":""},{"$f":"IF($G$33<33,\"\",$P$27+$P$33+11)","v":""},{"$f":"IF($G$33<36,\"\",$P$27+$P$33+12)","v":""},{"$f":"IF($G$33<39,\"\",$P$27+$P$33+13)","v":""},{"$f":"IF($G$33<42,\"\",$P$27+$P$33+14)","v":""},{"$f":"IF($G$33<45,\"\",$P$27+$P$33+15)","v":""},{"$f":"IF($G$33<48,\"\",$P$27+$P$33+16)","v":""}]
[null,{"$f":"IF('Rànquing Inicial'!D141<65,\"\",C36+1)","v":""},{"$f":"IF('Rànquing Inicial'!D141<65,\"\",D36+1)","v":""},{"$f":"IF('Rànquing Inicial'!D141<65,\"\",E36+1)","v":""},{"$f":"IF('Rànquing Inicial'!D141<65,\"\",IF($G$33=12,$P$27+P33+5,F36+1))","v":""},{"$f":"IF($G$33<15,\"\",IF($G$33=15,$P$27+$P$33+6,G36+1))","v":""},{"$f":"IF($G$33<18,\"\",IF($G$33=18,$P$27+$P$33+7,H36+1))","v":""},{"$f":"IF($G$33<21,\"\",IF($G$33=21,$P$27+$P$33+8,I36+1))","v":""},{"$f":"IF($G$33<24,\"\",IF($G$33=24,$P$27+$P$33+9,J36+1))","v":""},{"$f":"IF($G$33<27,\"\",IF($G$33=27,$P$27+$P$33+10,K36+1))","v":""},{"$f":"IF($G$33<30,\"\",IF($G$33=30,$P$27+$P$33+11,L36+1))","v":""},{"$f":"IF($G$33<33,\"\",IF($G$33=33,$P$27+$P$33+12,M36+1))","v":""},{"$f":"IF($G$33<36,\"\",IF($G$33=36,$P$27+$P$33+13,N36+1))","v":""},{"$f":"IF($G$33<39,\"\",IF($G$33=39,$P$27+$P$33+14,O36+1))","v":""},{"$f":"IF($G$33<42,\"\",IF($G$33=42,$P$27+$P$33+15,P36+1))","v":""},{"$f":"IF($G$33<45,\"\",IF($G$33=45,$P$27+$P$33+16,Q36+1))","v":""},{"$f":"IF($G$33<48,\"\",$P$27+$P$33+17)","v":""}]
[null,{"$f":"IF($K$39>0,CONCATENATE($K$39,\"-PPP\"),IF(B36=\"\",\"\",B36+($G$33/3)))","v":""},{"$f":"IF($K$39>1,CONCATENATE($K$39-1,\"-PPP\"),IF(C36=\"\",\"\",C36+($G$33/3)))","v":""},{"$f":"IF($K$39>2,CONCATENATE($K$39-2,\"-PPP\"),IF(D36=\"\",\"\",D36+($G$33/3)))","v":""},{"$f":"IF($K$39>3,CONCATENATE($K$39-3,\"-PPP\"),IF(E36=\"\",\"\",E36+($G$33/3)))","v":""},{"$f":"IF($K$39>4,CONCATENATE($K$39-4,\"-PPP\"),IF(F36=\"\",\"\",F36+($G$33/3)))","v":""},{"$f":"IF($K$39>5,CONCATENATE($K$39-5,\"-PPP\"),IF(G36=\"\",\"\",G36+($G$33/3)))","v":""},{"$f":"IF($K$39>6,CONCATENATE($K$39-6,\"-PPP\"),IF(H36=\"\",\"\",H36+($G$33/3)))","v":""},{"$f":"IF($K$39>7,CONCATENATE($K$39-7,\"-PPP\"),IF(I36=\"\",\"\",I36+($G$33/3)))","v":""},{"$f":"IF($K$39>8,CONCATENATE($K$39-8,\"-PPP\"),IF(J36=\"\",\"\",J36+($G$33/3)))","v":""},{"$f":"IF($K$39>9,CONCATENATE($K$39-9,\"-PPP\"),IF(K36=\"\",\"\",K36+($G$33/3)))","v":""},{"$f":"IF($K$39>10,CONCATENATE($K$39-10,\"-PPP\"),IF(L36=\"\",\"\",L36+($G$33/3)))","v":""},{"$f":"IF($K$39>11,CONCATENATE($K$39-11,\"-PPP\"),IF(M36=\"\",\"\",M36+($G$33/3)))","v":""},{"$f":"IF($K$39>12,CONCATENATE($K$39-12,\"-PPP\"),IF(N36=\"\",\"\",N36+($G$33/3)))","v":""},{"$f":"IF($K$39>13,CONCATENATE($K$39-13,\"-PPP\"),IF(O36=\"\",\"\",O36+($G$33/3)))","v":""},{"$f":"IF($K$39>14,CONCATENATE($K$39-14,\"-PPP\"),IF(P36=\"\",\"\",P36+($G$33/3)))","v":""},{"$f":"IF($K$39>15,CONCATENATE($K$39-15,\"-PPP\"),IF(Q36=\"\",\"\",Q36+($G$33/3)))","v":""}]
[]
[null,"PRE-PRE-PRÈVIA (PPP)",null,null,null,"Nº jugadors:",{"$f":"'Rànquing Inicial'!D150","v":0},null,null,"Nº classificats:",{"$f":"'Rànquing Inicial'!D149","v":0},null,null,null,"Reservats fase Pre-Prèvia:",{"$f":"'Rànquing Inicial'!D148","v":0}]
[null,{"$f":"IF('Rànquing Inicial'!$D$141<97,\"\",\"AG\")","v":""},{"$f":"IF('Rànquing Inicial'!$D$141<97,\"\",\"AH\")","v":""},{"$f":"IF('Rànquing Inicial'!$D$141<97,\"\",\"AI\")","v":""},{"$f":"IF('Rànquing Inicial'!$D$141<97,\"\",\"AJ\")","v":""},{"$f":"IF('Rànquing Inicial'!$D$150>12,\"AK\",\"\")","v":""},{"$f":"IF('Rànquing Inicial'!$D$150>15,\"AL\",\"\")","v":""},{"$f":"IF('Rànquing Inicial'!$D$150>18,\"AM\",\"\")","v":""},{"$f":"IF('Rànquing Inicial'!$D$150>21,\"AN\",\"\")","v":""},{"$f":"IF('Rànquing Inicial'!$D$150>24,\"AO\",\"\")","v":""},{"$f":"IF('Rànquing Inicial'!$D$150>27,\"AP\",\"\")","v":""},{"$f":"IF('Rànquing Inicial'!$D$150>30,\"AQ\",\"\")","v":""},{"$f":"IF('Rànquing Inicial'!$D$150>33,\"AR\",\"\")","v":""},{"$f":"IF('Rànquing Inicial'!$D$150>36,\"AS\",\"\")","v":""},{"$f":"IF('Rànquing Inicial'!$D$150>39,\"AT\",\"\")","v":""},{"$f":"IF('Rànquing Inicial'!$D$150>42,\"AU\",\"\")","v":""},{"$f":"IF('Rànquing Inicial'!$D$150>45,\"AV\",\"\")","v":""}]
[null,{"$f":"IF('Rànquing Inicial'!D141<97,\"\",$P$27+$P$33+$P$39+1)","v":""},{"$f":"IF('Rànquing Inicial'!D141<97,\"\",$P$27+$P$33+$P$39+2)","v":""},{"$f":"IF('Rànquing Inicial'!D141<97,\"\",$P$27+$P$33+$P$39+3)","v":""},{"$f":"IF('Rànquing Inicial'!D141<97,\"\",$P$27+$P$33+$P$39+4)","v":""},{"$f":"IF($G$39<15,\"\",$P$27+$P$33+$P$39+5)","v":""},{"$f":"IF($G$39<18,\"\",$P$27+$P$33+$P$39+6)","v":""},{"$f":"IF($G$39<21,\"\",$P$27+$P$33+$P$39+7)","v":""},{"$f":"IF($G$39<24,\"\",$P$27+$P$33+$P$39+8)","v":""},{"$f":"IF($G$39<27,\"\",$P$27+$P$33+$P$39+9)","v":""},{"$f":"IF($G$39<30,\"\",$P$27+$P$33+$P$39+10)","v":""},{"$f":"IF($G$39<33,\"\",$P$27+$P$33+$P$39+11)","v":""},{"$f":"IF($G$39<36,\"\",$P$27+$P$33+$P$39+12)","v":""},{"$f":"IF($G$39<39,\"\",$P$27+$P$33+$P$39+13)","v":""},{"$f":"IF($G$39<42,\"\",$P$27+$P$33+$P$39+14)","v":""},{"$f":"IF($G$39<45,\"\",$P$27+$P$33+$P$39+15)","v":""},{"$f":"IF($G$39<48,\"\",$P$27+$P$33+$P$39+16)","v":""}]
[null,{"$f":"IF('Rànquing Inicial'!D141<97,\"\",C42+1)","v":""},{"$f":"IF('Rànquing Inicial'!D141<97,\"\",D42+1)","v":""},{"$f":"IF('Rànquing Inicial'!D141<97,\"\",E42+1)","v":""},{"$f":"IF('Rànquing Inicial'!D141<97,\"\",IF($G$39=12,$P$27+$P$33+$P$39+5,F42+1))","v":""},{"$f":"IF($G$39<15,\"\",IF($G$39=15,$P$27+$P$33+$P$39+6,G42+1))","v":""},{"$f":"IF($G$39<18,\"\",IF($G$39=18,$P$27+$P$33+$P$39+7,H42+1))","v":""},{"$f":"IF($G$39<21,\"\",IF($G$39=21,$P$27+$P$33+$P$39+8,I42+1))","v":""},{"$f":"IF($G$39<24,\"\",IF($G$39=24,$P$27+$P$33+$P$39+9,J42+1))","v":""},{"$f":"IF($G$39<27,\"\",IF($G$39=27,$P$27+$P$33+$P$39+10,K42+1))","v":""},{"$f":"IF($G$39<30,\"\",IF($G$39=30,$P$27+$P$33+$P$39+11,L42+1))","v":""},{"$f":"IF($G$39<33,\"\",IF($G$39=33,$P$27+$P$33+$P$39+12,M42+1))","v":""},{"$f":"IF($G$39<36,\"\",IF($G$39=36,$P$27+$P$33+$P$39+13,N42+1))","v":""},{"$f":"IF($G$39<39,\"\",IF($G$39=39,$P$27+$P$33+$P$39+14,O42+1))","v":""},{"$f":"IF($G$39<42,\"\",IF($G$39=42,$P$27+$P$33+$P$39+15,P42+1))","v":""},{"$f":"IF($G$39<45,\"\",IF($G$39=45,$P$27+$P$33+$P$39+16,Q42+1))","v":""},{"$f":"IF($G$39<48,\"\",$P$27+$P$33+$P$39+17)","v":""}]
[null,{"$f":"IF(B42=\"\",\"\",B42+($G$39/3))","v":""},"","","","","","","","","","","","","","",""]

{"sheet":"Horaris","index":6,"n_rows":91,"n_cols":22,"rows_kept":91,"cut":false,"hidden":false,"merged":[[1,20,1,21],[1,1,1,10],[1,11,5,14],[80,3,88,3],[80,5,81,5],[80,6,81,6],[80,7,80,10],[80,12,88,12],[82,5,88,5],[70,3,78,3],[70,5,71,5],[70,6,71,6],[70,7,70,10],[70,12,78,12],[72,5,78,5],[30,5,36,5],[2,7,5,10],[7,1,7,14],[17,7,17,10],[17,6,18,6],[9,12,15,12],[17,12,25,12],[9,5,10,5],[9,6,10,6],[9,7,9,10],[9,3,15,3],[17,3,25,3],[17,5,18,5],[19,5,20,5],[22,5,25,5],[50,3,58,3],[50,5,51,5],[50,6,51,6],[50,7,50,10],[52,5,58,5],[60,3,68,3],[60,5,61,5],[60,6,61,6],[60,7,60,10],[62,5,68,5],[26,3,26,14],[48,1,48,14],[90,1,90,14],[28,12,36,12],[38,12,46,12],[38,3,46,3],[38,5,39,5],[38,6,39,6],[38,7,38,10],[40,5,46,5],[28,3,36,3],[28,5,29,5],[28,6,29,6],[28,7,28,10],[50,12,58,12],[60,12,68,12]]}
[]
[null,{"$f":"IF(Inici!B2=\"INTRODUIR EN MAIÚSCULES EL NOM DE L'OPEN\",\"Introduiu el nom de l'Open a la pantalla d'Inici!!!\",Inici!B2)","v":"Introduiu el nom de l'Open a la pantalla d'Inici!!!"},null,null,null,null,null,null,null,null,null,null,null,null,null,null,"ANAR A PÀGINA","P-P-PRÈVIA","P-PRÈVIA","PRÈVIA","FASE FINAL"]
[null,null,null,null,null,null,null,null,null,null,null,null,null,null,null,null,"Rànquing Inicial","Grups PPP","Grups PP","Grups P","Setzens","Vuitens"]
[null,null,null,null,null,null,null,null,null,null,null,null,null,null,null,null,"Organigrama","Result PPP","Result PP","Result P","Class SF","Quarts/SF/F"]
[null,null,null,null,null,null,null,null,null,null,null,null,null,null,null,null,"Horaris","Classif PPP","Classif PP","Classif P"]
[]
[]
[null,"HORARIS",null,null,null,null,null,null,null,null,null,null,null,null,null,null,"Inici","Participants"]
[]
[null,null,null,"DIUMENGE",null,{"$f":"IF(Inici!D14=\"\",\"\",Inici!D14)","v":""},"HORA","BILLAR*",null,null,null,null,{"$f":"D10","v":"DIUMENGE"}]
[null,null,null,null,null,null,null,1,2,3,4]
[null,null,null,null,null,"FINAL","16:00:00","1 - 2"]
[]
[null,null,null,null,null,"SEMIFINAL","12:00:00","2 - 3","1 - 4"]
[]
[null,null,null,null,null,"QUARTS DE FINAL","10:00:00","3 - 6","4 - 5","1 - 8","2 - 7"]
[]
[null,null,null,"DISSABTE",null,{"$f":"IFERROR(F10-1,\"\")","v":""},"HORA","BILLAR*",null,null,null,null,{"$f":"D18","v":"DISSABTE"}]
[null,null,null,null,null,null,null,1,2,3,4]
[null,null,null,null,null,"VUITENS DE FINAL","20:00:00","4 - 13","3 - 14","2 - 5","1 - 16"]
[null,null,null,null,null,null,"18:00:00","8 - 9","7 - 10","6 - 11","5 - 12"]
[]
[null,null,null,null,null,"SETZENS DE FINAL","15:30:00","1 - 32","2 - 31","3 - 30","4 - 29"]
[null,null,null,null,null,null,"13:30:00","5 - 28","6 - 27","7 - 26","8 - 25"]
[null,null,null,null,null,null,"11:30:00","9 - 24","10 - 23","11 - 22","12 - 21"]
[null,null,null,null,null,null,"09:30:00","13 - 20","14 - 19","15 - 18","16 - 17"]
[null,null,null,"* Les taules 1 i 2 seran aquelles a les quals es jugaran les semifinals i la taula 1 serà a quella a la qual es jugui la final. El club organitzador haurà d'apatar les rondes de joc de la fase final a aquesta circumstància"]
[]
[null,null,null,"DIUMENGE",null,{"$f":"IFERROR(F10-7,\"\")","v":""},"HORA","BILLAR",null,null,null,null,{"$f":"IF(D29=\"\",\"\",D29)","v":"DIUMENGE"}]
[null,null,null,null,null,null,null,1,2,3,4]
[null,null,null,null,null,"PRÈVIA","18:00:00",{"$f":"IF(Organigrama!$G$27=0,\"\",\"A (1-G)\")","v":"A (1-G)"},{"$f":"IF(Organigrama!$G$27=0,\"\",\"B (1-G)\")","v":"B (1-G)"},{"$f":"IF(Organigrama!$G$27=0,\"\",\"C (1-G)\")","v":"C (1-G)"},{"$f":"IF(Organigrama!$G$27=0,\"\",\"D (1-G)\")","v":"D (1-G)"}]
[null,null,null,null,null,null,"16:30:00",{"$f":"IF(Organigrama!$G$27=0,\"\",\"A (1-P)\")","v":"A (1-P)"},{"$f":"IF(Organigrama!$G$27=0,\"\",\"B (1-P)\")","v":"B (1-P)"},{"$f":"IF(Organigrama!$G$27=0,\"\",\"C (1-P)\")","v":"C (1-P)"},{"$f":"IF(Organigrama!$G$27=0,\"\",\"D (1-P)\")","v":"D (1-P)"}]
[null,null,null,null,null,null,"15:00:00",{"$f":"IF(Organigrama!$G$27=0,\"\",\"A (2-3)\")","v":"A (2-3)"},{"$f":"IF(Organigrama!$G$27=0,\"\",\"B (2-3)\")","v":"B (2-3)"},{"$f":"IF(Organigrama!$G$27=0,\"\",\"C (2-3)\")","v":"C (2-3)"},{"$f":"IF(Organigrama!$G$27=0,\"\",\"D (2-3)\")","v":"D (2-3)"}]
[]
[null,null,null,null,null,null,"13:00:00",{"$f":"IF(Organigrama!$G$27<13,\"\",\"E (1-G)\")","v":"E (1-G)"},{"$f":"IF(Organigrama!$G$27<16,\"\",\"F (1-G)\")","v":"F (1-G)"},{"$f":"IF(Organigrama!$G$27<19,\"\",\"G (1-G)\")","v":"G (1-G)"},{"$f":"IF(Organigrama!$G$27<22,\"\",\"H (1-G)\")","v":"H (1-G)"}]
[null,null,null,null,null,null,"11:30:00",{"$f":"IF(Organigrama!$G$27<13,\"\",\"E (1-P)\")","v":"E (1-P)"},{"$f":"IF(Organigrama!$G$27<16,\"\",\"F (1-P\")","v":"F (1-P"},{"$f":"IF(Organigrama!$G$27<19,\"\",\"G (1-P)\")","v":"G (1-P)"},{"$f":"IF(Organigrama!$G$27<22,\"\",\"H (1-P)\")","v":"H (1-P)"}]
[null,null,null,null,null,null,"10:00:00",{"$f":"IF(Organigrama!$G$27<13,\"\",\"E (2-3)\")","v":"E (2-3)"},{"$f":"IF(Organigrama!$G$27<16,\"\",\"F (2-3)\")","v":"F (2-3)"},{"$f":"IF(Organigrama!$G$27<19,\"\",\"G (2-3)\")","v":"G (2-3)"},{"$f":"IF(Organigrama!$G$27<22,\"\",\"H (2-3)\")","v":"H (2-3)"}]
[]
[null,null,null,"DISSABTE",null,{"$f":"IFERROR(F29-1,\"\")","v":""},"HORA","BILLAR",null,null,null,null,{"$f":"IF(D39=\"\",\"\",D39)","v":"DISSABTE"}]
[null,null,null,null,null,null,null,1,2,3,4]
[null,null,null,null,null,"PRÈVIA","18:00:00",{"$f":"IF(Organigrama!$G$27<25,\"\",\"I (1-G)\")","v":""},{"$f":"IF(Organigrama!$G$27<28,\"\",\"J (1-G)\")","v":""},{"$f":"IF(Organigrama!$G$27<31,\"\",\"K (1-G)\")","v":""},{"$f":"IF(Organigrama!$G$27<34,\"\",\"L (1-G)\")","v":""}]
[null,null,null,null,null,null,"16:30:00",{"$f":"IF(Organigrama!$G$27<25,\"\",\"I (1-P)\")","v":""},{"$f":"IF(Organigrama!$G$27<28,\"\",\"J (1-P)\")","v":""},{"$f":"IF(Organigrama!$G$27<31,\"\",\"K (1-P)\")","v":""},{"$f":"IF(Organigrama!$G$27<34,\"\",\"L (1-P)\")","v":""}]
[null,null,null,null,null,null,"15:00:00",{"$f":"IF(Organigrama!$G$27<25,\"\",\"I (2-3)\")","v":""},{"$f":"IF(Organigrama!$G$27<28,\"\",\"J (2-3)\")","v":""},{"$f":"IF(Organigrama!$G$27<31,\"\",\"K (2-3)\")","v":""},{"$f":"IF(Organigrama!$G$27<34,\"\",\"L (2-3)\")","v":""}]
[]
[null,null,null,null,null,null,"13:00:00",{"$f":"IF(Organigrama!$G$27<37,\"\",\"M (1-G)\")","v":""},{"$f":"IF(Organigrama!$G$27<40,\"\",\"N (1-G)\")","v":""},{"$f":"IF(Organigrama!$G$27<43,\"\",\"O (1-G)\")","v":""},{"$f":"IF(Organigrama!$G$27<46,\"\",\"P (1-G)\")","v":""}]
[null,null,null,null,null,null,"11:30:00",{"$f":"IF(Organigrama!$G$27<37,\"\",\"M (1-P)\")","v":""},{"$f":"IF(Organigrama!$G$27<40,\"\",\"N (1-P)\")","v":""},{"$f":"IF(Organigrama!$G$27<43,\"\",\"O (1-P)\")","v":""},{"$f":"IF(Organigrama!$G$27<46,\"\",\"P (1-P)\")","v":""}]
[null,null,null,null,null,null,"10:00:00",{"$f":"IF(Organigrama!$G$27<37,\"\",\"M (2-3)\")","v":""},{"$f":"IF(Organigrama!$G$27<40,\"\",\"N (2-3)\")","v":""},{"$f":"IF(Organigrama!$G$27<43,\"\",\"O (2-3)\")","v":""},{"$f":"IF(Organigrama!$G$27<46,\"\",\"P (2-3)\")","v":""}]
[]
[null,"Es recorda que l’hora oficial de presentació dels jugadors a la sala degudament uniformats és un quart d’hora abans de l’hora de començament del partit per poder tenir dret a l’entrenament de 5 minuts. El jugador que no arribi a l’hora de començament del partit i no doni una raó plausible al director esportiu de la prova, perdrà els punts del partit."]
[]
[null,null,null,"DIUMENGE",null,{"$f":"IFERROR(IF(F29=\"\",\"\",F29-7),\"\")","v":""},"HORA","BILLAR",null,null,null,null,{"$f":"IF(D51=\"\",\"\",D51)","v":"DIUMENGE"}]
[null,null,null,null,null,null,null,1,2,3,4]
[null,null,null,null,null,"PRE-PRÈVIA","18:00:00",{"$f":"IF(Organigrama!$G$33=0,\"\",\"Q (1-G)\")","v":""},{"$f":"IF(Organigrama!$G$33=0,\"\",\"R (1-G)\")","v":""},{"$f":"IF(Organigrama!$G$33=0,\"\",\"S (1-G)\")","v":""},{"$f":"IF(Organigrama!$G$33=0,\"\",\"T (1-G)\")","v":""}]
[null,null,null,null,null,null,"16:30:00",{"$f":"IF(Organigrama!$G$33=0,\"\",\"Q (1-P)\")","v":""},{"$f":"IF(Organigrama!$G$33=0,\"\",\"R (1-P)\")","v":""},{"$f":"IF(Organigrama!$G$33=0,\"\",\"S (1-P)\")","v":""},{"$f":"IF(Organigrama!$G$33=0,\"\",\"T (1-P)\")","v":""}]
[null,null,null,null,null,null,"15:00:00",{"$f":"IF(Organigrama!$G$33=0,\"\",\"Q (2-3)\")","v":""},{"$f":"IF(Organigrama!$G$33=0,\"\",\"R (2-3)\")","v":""},{"$f":"IF(Organigrama!$G$33=0,\"\",\"S (2-3)\")","v":""},{"$f":"IF(Organigrama!$G$33=0,\"\",\"T (2-3)\")","v":""}]
[]
[null,null,null,null,null,null,"13:00:00",{"$f":"IF(Organigrama!$G$33<13,\"\",\"U (1-G)\")","v":""},{"$f":"IF(Organigrama!$G$33<16,\"\",\"V (1-G)\")","v":""},{"$f":"IF(Organigrama!$G$33<19,\"\",\"W (1-G)\")","v":""},{"$f":"IF(Organigrama!$G$33<22,\"\",\"X (1-G)\")","v":""}]
[null,null,null,null,null,null,"11:30:00",{"$f":"IF(Organigrama!$G$33<13,\"\",\"U (1-P)\")","v":""},{"$f":"IF(Organigrama!$G$33<16,\"\",\"V (1-P)\")","v":""},{"$f":"IF(Organigrama!$G$33<19,\"\",\"W (1-P)\")","v":""},{"$f":"IF(Organigrama!$G$33<22,\"\",\"X (1-P)\")","v":""}]
[null,null,null,null,null,null,"10:00:00",{"$f":"IF(Organigrama!$G$33<13,\"\",\"U (2-3)\")","v":""},{"$f":"IF(Organigrama!$G$33<16,\"\",\"V (2-3)\")","v":""},{"$f":"IF(Organigrama!$G$33<19,\"\",\"W (2-3)\")","v":""},{"$f":"IF(Organigrama!$G$33<22,\"\",\"X (2-3)\")","v":""}]
[]
[null,null,null,"DISSABTE",null,{"$f":"IFERROR(IF(F51=\"\",\"\",F51-1),\"\")","v":""},"HORA","BILLAR",null,null,null,null,{"$f":"IF(D61=\"\",\"\",D61)","v":"DISSABTE"}]
[null,null,null,null,null,null,null,1,2,3,4]
[null,null,null,null,null,"PRE-PRÈVIA","18:00:00",{"$f":"IF(Organigrama!$G$33<25,\"\",\"Y (1-G)\")","v":""},{"$f":"IF(Organigrama!$G$33<28,\"\",\"Z (1-G)\")","v":""},{"$f":"IF(Organigrama!$G$33<31,\"\",\"AA (1-G)\")","v":""},{"$f":"IF(Organigrama!$G$33<34,\"\",\"AB (1-G)\")","v":""}]
[null,null,null,null,null,null,"16:30:00",{"$f":"IF(Organigrama!$G$33<25,\"\",\"Y (1-P)\")","v":""},{"$f":"IF(Organigrama!$G$33<28,\"\",\"Z (1-P)\")","v":""},{"$f":"IF(Organigrama!$G$33<31,\"\",\"AA (1-P)\")","v":""},{"$f":"IF(Organigrama!$G$33<34,\"\",\"AB (1-P)\")","v":""}]
[null,null,null,null,null,null,"15:00:00",{"$f":"IF(Organigrama!$G$33<25,\"\",\"Y (2-3)\")","v":""},{"$f":"IF(Organigrama!$G$33<28,\"\",\"Z (2-3)\")","v":""},{"$f":"IF(Organigrama!$G$33<31,\"\",\"AA (2-3)\")","v":""},{"$f":"IF(Organigrama!$G$33<34,\"\",\"AB (2-3)\")","v":""}]
[]
[null,null,null,null,null,null,"13:00:00",{"$f":"IF(Organigrama!$G$33<37,\"\",\"AC (1-G)\")","v":""},{"$f":"IF(Organigrama!$G$33<40,\"\",\"AD (1-G)\")","v":""},{"$f":"IF(Organigrama!$G$33<43,\"\",\"AE (1-G)\")","v":""},{"$f":"IF(Organigrama!$G$33<46,\"\",\"AF (1-G)\")","v":""}]
[null,null,null,null,null,null,"11:30:00",{"$f":"IF(Organigrama!$G$33<37,\"\",\"AC (1-P)\")","v":""},{"$f":"IF(Organigrama!$G$33<40,\"\",\"AD (1-P)\")","v":""},{"$f":"IF(Organigrama!$G$33<43,\"\",\"AE (1-P)\")","v":""},{"$f":"IF(Organigrama!$G$33<46,\"\",\"AF (1-P)\")","v":""}]
[null,null,null,null,null,null,"10:00:00",{"$f":"IF(Organigrama!$G$33<37,\"\",\"AC (2-3)\")","v":""},{"$f":"IF(Organigrama!$G$33<40,\"\",\"AD (2-3)\")","v":""},{"$f":"IF(Organigrama!$G$33<43,\"\",\"AE (2-3)\")","v":""},{"$f":"IF(Organigrama!$G$33<46,\"\",\"AF (2-3)\")","v":""}]
[]
[null,null,null,"DIUMENGE",null,{"$f":"IFERROR(IF(F51=\"\",\"\",F51-7),\"\")","v":""},"HORA","BILLAR",null,null,null,null,{"$f":"IF(D71=\"\",\"\",D71)","v":"DIUMENGE"}]
[null,null,null,null,null,null,null,1,2,3,4]
[null,null,null,null,null,"PRE-PRE-PRÈVIA","18:00:00",{"$f":"IF(Organigrama!$G$39=0,\"\",\"AG (1-G)\")","v":""},{"$f":"IF(Organigrama!$G$39=0,\"\",\"AH (1-G)\")","v":""},{"$f":"IF(Organigrama!$G$39=0,\"\",\"AI (1-G)\")","v":""},{"$f":"IF(Organigrama!$G$39=0,\"\",\"AJ (1-G)\")","v":""}]
[null,null,null,null,null,null,"16:30:00",{"$f":"IF(Organigrama!$G$39=0,\"\",\"AG (1-P)\")","v":""},{"$f":"IF(Organigrama!$G$39=0,\"\",\"AH (1-P)\")","v":""},{"$f":"IF(Organigrama!$G$39=0,\"\",\"AI (1-P)\")","v":""},{"$f":"IF(Organigrama!$G$39=0,\"\",\"AJ (1-P)\")","v":""}]
[null,null,null,null,null,null,"15:00:00",{"$f":"IF(Organigrama!$G$39=0,\"\",\"AG (2-3)\")","v":""},{"$f":"IF(Organigrama!$G$39=0,\"\",\"AH(2-3)\")","v":""},{"$f":"IF(Organigrama!$G$39=0,\"\",\"AI (2-3)\")","v":""},{"$f":"IF(Organigrama!$G$39=0,\"\",\"AJ (2-3)\")","v":""}]
[]
[null,null,null,null,null,null,"13:00:00",{"$f":"IF(Organigrama!$G$39<13,\"\",\"AK (1-G)\")","v":""},{"$f":"IF(Organigrama!$G$39<16,\"\",\"AL (1-G)\")","v":""},{"$f":"IF(Organigrama!$G$39<19,\"\",\"AM (1-G)\")","v":""},{"$f":"IF(Organigrama!$G$39<22,\"\",\"AN (1-G)\")","v":""}]
[null,null,null,null,null,null,"11:30:00",{"$f":"IF(Organigrama!$G$39<13,\"\",\"AK (1-P)\")","v":""},{"$f":"IF(Organigrama!$G$39<16,\"\",\"AL (1-P)\")","v":""},{"$f":"IF(Organigrama!$G$39<19,\"\",\"AM (1-P)\")","v":""},{"$f":"IF(Organigrama!$G$39<22,\"\",\"AN (1-P)\")","v":""}]
[null,null,null,null,null,null,"10:00:00",{"$f":"IF(Organigrama!$G$39<13,\"\",\"AK (2-3)\")","v":""},{"$f":"IF(Organigrama!$G$39<16,\"\",\"AL (2-3)\")","v":""},{"$f":"IF(Organigrama!$G$39<19,\"\",\"AM (2-3)\")","v":""},{"$f":"IF(Organigrama!$G$39<22,\"\",\"AN (2-3)\")","v":""}]
[]
[null,null,null,"DISSABTE",null,{"$f":"IFERROR(IF(F71=\"\",\"\",F71-1),\"\")","v":""},"HORA","BILLAR",null,null,null,null,{"$f":"IF(D81=\"\",\"\",D81)","v":"DISSABTE"}]
[null,null,null,null,null,null,null,1,2,3,4]
[null,null,null,null,null,"PRE-PRE-PRÈVIA","18:00:00",{"$f":"IF(Organigrama!$G$39<25,\"\",\"AO (1-G)\")","v":""},{"$f":"IF(Organigrama!$G$39<28,\"\",\"AP (1-G)\")","v":""},{"$f":"IF(Organigrama!$G$39<31,\"\",\"AQ (1-G)\")","v":""},{"$f":"IF(Organigrama!$G$39<34,\"\",\"AR (1-G)\")","v":""}]
[null,null,null,null,null,null,"16:30:00",{"$f":"IF(Organigrama!$G$39<25,\"\",\"AO (1-P)\")","v":""},{"$f":"IF(Organigrama!$G$39<28,\"\",\"AP (1-P)\")","v":""},{"$f":"IF(Organigrama!$G$39<31,\"\",\"AQ (1-P)\")","v":""},{"$f":"IF(Organigrama!$G$39<34,\"\",\"AR (1-P)\")","v":""}]
[null,null,null,null,null,null,"15:00:00",{"$f":"IF(Organigrama!$G$39<25,\"\",\"AO (2-3)\")","v":""},{"$f":"IF(Organigrama!$G$39<28,\"\",\"AP (2-3)\")","v":""},{"$f":"IF(Organigrama!$G$39<31,\"\",\"AQ (2-3)\")","v":""},{"$f":"IF(Organigrama!$G$39<34,\"\",\"AR (2-3)\")","v":""}]
[]
[null,null,null,null,null,null,"13:00:00",{"$f":"IF(Organigrama!$G$39<37,\"\",\"AS (1-G)\")","v":""},{"$f":"IF(Organigrama!$G$39<40,\"\",\"AT (1-G)\")","v":""},{"$f":"IF(Organigrama!$G$39<43,\"\",\"AU (1-G)\")","v":""},{"$f":"IF(Organigrama!$G$39<46,\"\",\"AV (1-G)\")","v":""}]
[null,null,null,null,null,null,"11:30:00",{"$f":"IF(Organigrama!$G$39<37,\"\",\"AS (1-P)\")","v":""},{"$f":"IF(Organigrama!$G$39<40,\"\",\"AT (1-P)\")","v":""},{"$f":"IF(Organigrama!$G$39<43,\"\",\"AU (1-P)\")","v":""},{"$f":"IF(Organigrama!$G$39<46,\"\",\"AV (1-P)\")","v":""}]
[null,null,null,null,null,null,"10:00:00",{"$f":"IF(Organigrama!$G$39<37,\"\",\"AS (2-3)\")","v":""},{"$f":"IF(Organigrama!$G$39<40,\"\",\"AT (2-3)\")","v":""},{"$f":"IF(Organigrama!$G$39<43,\"\",\"AU (2-3)\")","v":""},{"$f":"IF(Organigrama!$G$39<46,\"\",\"AV (2-3)\")","v":""}]
[]
[null,"Es recorda que l’hora oficial de presentació dels jugadors a la sala degudament uniformats és un quart d’hora abans de l’hora de començament del partit per poder tenir dret a l’entrenament de 5 minuts. El jugador que no arribi a l’hora de començament del partit i no doni una raó plausible al director esportiu de la prova, perdrà els punts del partit."]

{"sheet":"Grups PPP","index":7,"n_rows":40,"n_cols":18,"rows_kept":40,"cut":false,"hidden":false,"merged":[[1,16,1,17],[1,9,5,9],[2,5,5,8],[7,1,7,9],[1,1,1,8],[25,6,27,6],[9,2,11,2],[33,2,35,2],[37,2,39,2],[9,6,11,6],[13,6,15,6],[13,2,15,2],[17,2,19,2],[21,2,23,2],[25,2,27,2],[29,2,31,2],[29,6,31,6],[33,6,35,6],[37,6,39,6],[17,6,19,6],[21,6,23,6]]}
[]
[null,{"$f":"IF(Inici!B2=\"INTRODUIR EN MAIÚSCULES EL NOM DE L'OPEN\",\"Introduiu el nom de l'Open a la pantalla d'Inici!!!\",Inici!B2)","v":"Introduiu el nom de l'Open a la pantalla d'Inici!!!"},null,null,null,null,null,null,null,null,null,null,"ANAR A PÀGINA","P-P-PRÈVIA","P-PRÈVIA","PRÈVIA","FASE FINAL"]
[null,null,null,null,null,null,null,null,null,null,null,null,"Rànquing Inicial","Grups PPP","Grups PP","Grups P","Setzens","Vuitens"]
[null,null,null,null,null,null,null,null,null,null,null,null,"Organigrama","Result PPP","Result PP","Result P","Class SF","Quarts/SF/F"]
[null,null,null,null,null,null,null,null,null,null,null,null,"Horaris","Classif PPP","Classif PP","Classif P"]
[]
[]
[null,{"$f":"IF('Rànquing Inicial'!$D$141<97,\"NO HI HA PRE-PRE-PRÈVIA\",\"GRUPS PRE-PRE-PRÈVIA (PPP)\")","v":"NO HI HA PRE-PRE-PRÈVIA"},null,null,null,null,null,null,null,null,null,null,"Inici","Participants"]
[]
[null,null,{"$f":"IF('Rànquing Inicial'!$D$141<97,\"\",\"Grup AG\")","v":""},{"$f":"Organigrama!B41","v":""},{"$f":"IF(D10=\"\",\"\",VLOOKUP(D10,'Rànquing Inicial'!$B:$D,2,FALSE))","v":""},null,{"$f":"IF('Rànquing Inicial'!$D$150<27,\"\",\"Grup AO\")","v":""},{"$f":"Organigrama!J41","v":""},{"$f":"IF(H10=\"\",\"\",VLOOKUP(H10,'Rànquing Inicial'!$B:$D,2,FALSE))","v":""}]
[null,null,null,{"$f":"Organigrama!B42","v":""},{"$f":"IF(D11=\"\",\"\",VLOOKUP(D11,'Rànquing Inicial'!$B:$D,2,FALSE))","v":""},null,null,{"$f":"Organigrama!J42","v":""},{"$f":"IF(H11=\"\",\"\",VLOOKUP(H11,'Rànquing Inicial'!$B:$D,2,FALSE))","v":""}]
[null,null,null,{"$f":"Organigrama!B43","v":""},{"$f":"IF(D12=\"\",\"\",VLOOKUP(D12,'Rànquing Inicial'!$B:$D,2,FALSE))","v":""},null,null,{"$f":"Organigrama!J43","v":""},{"$f":"IF(H12=\"\",\"\",VLOOKUP(H12,'Rànquing Inicial'!$B:$D,2,FALSE))","v":""}]
[]
[null,null,{"$f":"IF('Rànquing Inicial'!$D$141<97,\"\",\"Grup AH\")","v":""},{"$f":"Organigrama!C41","v":""},{"$f":"IF(D14=\"\",\"\",VLOOKUP(D14,'Rànquing Inicial'!$B:$D,2,FALSE))","v":""},null,{"$f":"IF('Rànquing Inicial'!$D$150<30,\"\",\"Grup AP\")","v":""},{"$f":"Organigrama!K41","v":""},{"$f":"IF(H14=\"\",\"\",VLOOKUP(H14,'Rànquing Inicial'!$B:$D,2,FALSE))","v":""}]
[null,null,null,{"$f":"Organigrama!C42","v":""},{"$f":"IF(D15=\"\",\"\",VLOOKUP(D15,'Rànquing Inicial'!$B:$D,2,FALSE))","v":""},null,null,{"$f":"Organigrama!K42","v":""},{"$f":"IF(H15=\"\",\"\",VLOOKUP(H15,'Rànquing Inicial'!$B:$D,2,FALSE))","v":""}]
[null,null,null,{"$f":"Organigrama!C43","v":""},{"$f":"IF(D16=\"\",\"\",VLOOKUP(D16,'Rànquing Inicial'!$B:$D,2,FALSE))","v":""},null,null,{"$f":"Organigrama!K43","v":""},{"$f":"IF(H16=\"\",\"\",VLOOKUP(H16,'Rànquing Inicial'!$B:$D,2,FALSE))","v":""}]
[]
[null,null,{"$f":"IF('Rànquing Inicial'!$D$141<97,\"\",\"Grup AI\")","v":""},{"$f":"Organigrama!D41","v":""},{"$f":"IF(D18=\"\",\"\",VLOOKUP(D18,'Rànquing Inicial'!$B:$D,2,FALSE))","v":""},null,{"$f":"IF('Rànquing Inicial'!$D$150<33,\"\",\"Grup AQ\")","v":""},{"$f":"Organigrama!L41","v":""},{"$f":"IF(H18=\"\",\"\",VLOOKUP(H18,'Rànquing Inicial'!$B:$D,2,FALSE))","v":""}]
[null,null,null,{"$f":"Organigrama!D42","v":""},{"$f":"IF(D19=\"\",\"\",VLOOKUP(D19,'Rànquing Inicial'!$B:$D,2,FALSE))","v":""},null,null,{"$f":"Organigrama!L42","v":""},{"$f":"IF(H19=\"\",\"\",VLOOKUP(H19,'Rànquing Inicial'!$B:$D,2,FALSE))","v":""}]
[null,null,null,{"$f":"Organigrama!D43","v":""},{"$f":"IF(D20=\"\",\"\",VLOOKUP(D20,'Rànquing Inicial'!$B:$D,2,FALSE))","v":""},null,null,{"$f":"Organigrama!L43","v":""},{"$f":"IF(H20=\"\",\"\",VLOOKUP(H20,'Rànquing Inicial'!$B:$D,2,FALSE))","v":""}]
[]
[null,null,{"$f":"IF('Rànquing Inicial'!$D$141<97,\"\",\"Grup AJ\")","v":""},{"$f":"Organigrama!E41","v":""},{"$f":"IF(D22=\"\",\"\",VLOOKUP(D22,'Rànquing Inicial'!$B:$D,2,FALSE))","v":""},null,{"$f":"IF('Rànquing Inicial'!$D$150<36,\"\",\"Grup AR\")","v":""},{"$f":"Organigrama!M41","v":""},{"$f":"IF(H22=\"\",\"\",VLOOKUP(H22,'Rànquing Inicial'!$B:$D,2,FALSE))","v":""}]
[null,null,null,{"$f":"Organigrama!E42","v":""},{"$f":"IF(D23=\"\",\"\",VLOOKUP(D23,'Rànquing Inicial'!$B:$D,2,FALSE))","v":""},null,null,{"$f":"Organigrama!M42","v":""},{"$f":"IF(H23=\"\",\"\",VLOOKUP(H23,'Rànquing Inicial'!$B:$D,2,FALSE))","v":""}]
[null,null,null,{"$f":"Organigrama!E43","v":""},{"$f":"IF(D24=\"\",\"\",VLOOKUP(D24,'Rànquing Inicial'!$B:$D,2,FALSE))","v":""},null,null,{"$f":"Organigrama!M43","v":""},{"$f":"IF(H24=\"\",\"\",VLOOKUP(H24,'Rànquing Inicial'!$B:$D,2,FALSE))","v":""}]
[]
[null,null,{"$f":"IF('Rànquing Inicial'!$D$150<15,\"\",\"Grup AK\")","v":""},{"$f":"Organigrama!F41","v":""},{"$f":"IF(D26=\"\",\"\",VLOOKUP(D26,'Rànquing Inicial'!$B:$D,2,FALSE))","v":""},null,{"$f":"IF('Rànquing Inicial'!$D$150<39,\"\",\"Grup AS\")","v":""},{"$f":"Organigrama!N41","v":""},{"$f":"IF(H26=\"\",\"\",VLOOKUP(H26,'Rànquing Inicial'!$B:$D,2,FALSE))","v":""}]
[null,null,null,{"$f":"Organigrama!F42","v":""},{"$f":"IF(D27=\"\",\"\",VLOOKUP(D27,'Rànquing Inicial'!$B:$D,2,FALSE))","v":""},null,null,{"$f":"Organigrama!N42","v":""},{"$f":"IF(H27=\"\",\"\",VLOOKUP(H27,'Rànquing Inicial'!$B:$D,2,FALSE))","v":""}]
[null,null,null,{"$f":"Organigrama!F43","v":""},{"$f":"IF(D28=\"\",\"\",VLOOKUP(D28,'Rànquing Inicial'!$B:$D,2,FALSE))","v":""},null,null,{"$f":"Organigrama!N43","v":""},{"$f":"IF(H28=\"\",\"\",VLOOKUP(H28,'Rànquing Inicial'!$B:$D,2,FALSE))","v":""}]
[]
[null,null,{"$f":"IF('Rànquing Inicial'!$D$150<18,\"\",\"Grup AL\")","v":""},{"$f":"Organigrama!G41","v":""},{"$f":"IF(D30=\"\",\"\",VLOOKUP(D30,'Rànquing Inicial'!$B:$D,2,FALSE))","v":""},null,{"$f":"IF('Rànquing Inicial'!$D$150<42,\"\",\"Grup AT\")","v":""},{"$f":"Organigrama!O41","v":""},{"$f":"IF(H30=\"\",\"\",VLOOKUP(H30,'Rànquing Inicial'!$B:$D,2,FALSE))","v":""}]
[null,null,null,{"$f":"Organigrama!G42","v":""},{"$f":"IF(D31=\"\",\"\",VLOOKUP(D31,'Rànquing Inicial'!$B:$D,2,FALSE))","v":""},null,null,{"$f":"Organigrama!O42","v":""},{"$f":"IF(H31=\"\",\"\",VLOOKUP(H31,'Rànquing Inicial'!$B:$D,2,FALSE))","v":""}]
[null,null,null,{"$f":"Organigrama!G43","v":""},{"$f":"IF(D32=\"\",\"\",VLOOKUP(D32,'Rànquing Inicial'!$B:$D,2,FALSE))","v":""},null,null,{"$f":"Organigrama!O43","v":""},{"$f":"IF(H32=\"\",\"\",VLOOKUP(H32,'Rànquing Inicial'!$B:$D,2,FALSE))","v":""}]
[]
[null,null,{"$f":"IF('Rànquing Inicial'!$D$150<21,\"\",\"Grup AM\")","v":""},{"$f":"Organigrama!H41","v":""},{"$f":"IF(D34=\"\",\"\",VLOOKUP(D34,'Rànquing Inicial'!$B:$D,2,FALSE))","v":""},null,{"$f":"IF('Rànquing Inicial'!$D$150<45,\"\",\"Grup AU\")","v":""},{"$f":"Organigrama!P41","v":""},{"$f":"IF(H34=\"\",\"\",VLOOKUP(H34,'Rànquing Inicial'!$B:$D,2,FALSE))","v":""}]
[null,null,null,{"$f":"Organigrama!H42","v":""},{"$f":"IF(D35=\"\",\"\",VLOOKUP(D35,'Rànquing Inicial'!$B:$D,2,FALSE))","v":""},null,null,{"$f":"Organigrama!P42","v":""},{"$f":"IF(H35=\"\",\"\",VLOOKUP(H35,'Rànquing Inicial'!$B:$D,2,FALSE))","v":""}]
[null,null,null,{"$f":"Organigrama!H43","v":""},{"$f":"IF(D36=\"\",\"\",VLOOKUP(D36,'Rànquing Inicial'!$B:$D,2,FALSE))","v":""},null,null,{"$f":"Organigrama!P43","v":""},{"$f":"IF(H36=\"\",\"\",VLOOKUP(H36,'Rànquing Inicial'!$B:$D,2,FALSE))","v":""}]
[]
[null,null,{"$f":"IF('Rànquing Inicial'!$D$150<24,\"\",\"Grup AN\")","v":""},{"$f":"Organigrama!I41","v":""},{"$f":"IF(D38=\"\",\"\",VLOOKUP(D38,'Rànquing Inicial'!$B:$D,2,FALSE))","v":""},null,{"$f":"IF('Rànquing Inicial'!$D$150<48,\"\",\"Grup AV\")","v":""},{"$f":"Organigrama!Q41","v":""},{"$f":"IF(H38=\"\",\"\",VLOOKUP(H38,'Rànquing Inicial'!$B:$D,2,FALSE))","v":""}]
[null,null,null,{"$f":"Organigrama!I42","v":""},{"$f":"IF(D39=\"\",\"\",VLOOKUP(D39,'Rànquing Inicial'!$B:$D,2,FALSE))","v":""},null,null,{"$f":"Organigrama!Q42","v":""},{"$f":"IF(H39=\"\",\"\",VLOOKUP(H39,'Rànquing Inicial'!$B:$D,2,FALSE))","v":""}]
[null,null,null,{"$f":"Organigrama!I43","v":""},{"$f":"IF(D40=\"\",\"\",VLOOKUP(D40,'Rànquing Inicial'!$B:$D,2,FALSE))","v":""},null,null,{"$f":"Organigrama!Q43","v":""},{"$f":"IF(H40=\"\",\"\",VLOOKUP(H40,'Rànquing Inicial'!$B:$D,2,FALSE))","v":""}]

{"sheet":"Resultats PPP","index":8,"n_rows":247,"n_cols":26,"rows_kept":247,"cut":false,"hidden":false,"merged":[[0,17,0,18],[0,10,4,11],[6,1,6,11],[9,1,16,3],[69,1,76,3],[0,1,0,9],[84,1,91,3],[24,1,31,3],[39,1,46,3],[54,1,61,3],[1,5,4,9],[234,1,241,3],[99,1,106,3],[114,1,121,3],[129,1,136,3],[144,1,151,3],[159,1,166,3],[189,1,196,3],[204,1,211,3],[219,1,226,3],[174,1,181,3]]}
[null,{"$f":"IF(Inici!B2=\"INTRODUIR EN MAIÚSCULES EL NOM DE L'OPEN\",\"Introduiu el nom de l'Open a la pantalla d'Inici!!!\",Inici!B2)","v":"Introduiu el nom de l'Open a la pantalla d'Inici!!!"},null,null,null,null,null,null,null,null,null,null,null,"ANAR A PÀGINA","P-P-PRÈVIA","P-PRÈVIA","PRÈVIA","FASE FINAL"]
[null,null,null,null,null,null,null,null,null,null,null,null,null,"Rànquing Inicial","Grups PPP","Grups PP","Grups P","Setzens","Vuitens"]
[null,null,null,null,null,null,null,null,null,null,null,null,null,"Organigrama","Result PPP","Result PP","Result P","Class SF","Quarts/SF/F"]
[null,null,null,null,null,null,null,null,null,null,null,null,null,"Horaris","Classif PPP","Classif PP","Classif P"]
[]
[]
[null,{"$f":"IF('Rànquing Inicial'!$D$141<97,\"NO HI HA PRE-PRE-PRÈVIA\",\"RESULTATS PRE-PRE-PRÈVIA (PPP)\")","v":"NO HI HA PRE-PRE-PRÈVIA"}]
[]
[null,null,null,null,null,"Boles","Ent","Mitj","SM1","SM2","Punts"]
[null,{"$f":"IF('Rànquing Inicial'!$D$141<97,\"\",\"Grup AG\")","v":""},null,null,{"$f":"IF(D19>1,\"\",IF(OR(B21=TRUE,B22=TRUE),E20,E21))","v":""},null,null,{"$f":"IF(G10=\"\",\"\",ROUND(F10/G10,3))","v":""},null,null,{"$f":"IF(H10=\"\",\"\",IF(F10>F11,2,IF(F10<F11,0,1)))","v":""}]
[null,null,null,null,{"$f":"IF(D19>1,\"\",IF(B22=TRUE,E21,E22))","v":""},null,{"$f":"IF(G10=\"\",\"\",G10)","v":""},{"$f":"IF(G11=\"\",\"\",ROUND(F11/G11,3))","v":""},null,null,{"$f":"IF(H11=\"\",\"\",IF(F11>F10,2,IF(F11<F10,0,1)))","v":""}]
[]
[null,null,null,null,{"$f":"IF(D19>1,\"\",IF(B20=TRUE,E21,E20))","v":""},null,null,{"$f":"IF(G13=\"\",\"\",ROUND(F13/G13,3))","v":""},null,null,{"$f":"IF(H13=\"\",\"\",IF(F13>F14,2,IF(F13<F14,0,1)))","v":""}]
[null,null,null,null,{"$f":"IF(D19>1,\"\",IF(B22=TRUE,E21,E22))","v":""},null,{"$f":"IF(G13=\"\",\"\",G13)","v":""},{"$f":"IF(G14=\"\",\"\",ROUND(F14/G14,3))","v":""},null,null,{"$f":"IF(H14=\"\",\"\",IF(F14>F13,2,IF(F14<F13,0,1)))","v":""}]
[]
[null,null,null,null,{"$f":"IF(D19>1,\"\",IF(OR(B20=TRUE,B21=TRUE,B22=TRUE),\"\",E20))","v":""},null,null,{"$f":"IF(G16=\"\",\"\",ROUND(F16/G16,3))","v":""},null,null,{"$f":"IF(H16=\"\",\"\",IF(F16>F17,2,IF(F16<F17,0,1)))","v":""}]
[null,null,null,null,{"$f":"IF(OR(B20=TRUE,B21=TRUE,B22=TRUE),\"\",E21)","v":""},null,{"$f":"IF(G16=\"\",\"\",G16)","v":""},{"$f":"IF(G17=\"\",\"\",ROUND(F17/G17,3))","v":""},null,null,{"$f":"IF(H17=\"\",\"\",IF(F17>F16,2,IF(F17<F16,0,1)))","v":""}]
[]
[null,"W.O.",null,{"$f":"COUNTIF(B20:B22,\"VERDADERO\")","v":0},"Jugador","Boles","Ent","Mitj","SM1","SM2","P",{"$f":"B10","v":""}]
[null,false,{"$f":"L20","v":0},{"$f":"'Grups PPP'!D10","v":""},{"$f":"'Grups PPP'!E10","v":""},{"$f":"SUMIF(E10:E17,E20,F10:F17)","v":0},{"$f":"SUMIF(E10:E17,E20,G10:G17)","v":0},{"$f":"IF(B20=TRUE,0,IF(G20=0,0,ROUND(F20/G20,3)))","v":0},{"$f":"MAX(O20:Z20)","v":0},{"$f":"LARGE((O20:Z20),2)","v":0},{"$f":"SUMIF(E10:E17,E20,K10:K17)","v":0},{"$f":"IF(B20=TRUE,\"WO\",IF(AND(B21=TRUE,B22=TRUE),1,IF(N20=0,0,RANK(N20,N20:N22,0))))","v":0},{"$f":"IF(B10=\"\",0,IF(B20=TRUE,0+N20,3-L20+N20))","v":0},{"$f":"IF(OR(B20=TRUE,AND(B21=TRUE,B22=TRUE)),0.000000000048,K20*0.1+H20*0.01+I20*0.00000001+J20*0.00000000001)","v":0},{"$f":"IF(E10=E20,I10,0)","v":0},{"$f":"IF(E10=E20,J10,0)","v":0},{"$f":"IF(E11=E20,I11,0)","v":0},{"$f":"IF(E11=E20,J11,0)","v":0},{"$f":"IF(E13=E20,I13,0)","v":0},{"$f":"IF(E13=E20,J13,0)","v":0},{"$f":"IF(E14=E20,I14,0)","v":0},{"$f":"IF(E14=E20,J14,0)","v":0},{"$f":"IF(E16=E20,I16,0)","v":0},{"$f":"IF(E16=E20,J16,0)","v":0},{"$f":"IF(E17=E20,I17,0)","v":0},{"$f":"IF(E17=E20,J17,0)","v":0}]
[null,false,{"$f":"L21","v":0},{"$f":"'Grups PPP'!D11","v":""},{"$f":"'Grups PPP'!E11","v":""},{"$f":"SUMIF(E10:E17,E21,F10:F17)","v":0},{"$f":"SUMIF(E10:E17,E21,G10:G17)","v":0},{"$f":"IF(B21=TRUE,0,IF(G21=0,0,ROUND(F21/G21,3)))","v":0},{"$f":"MAX(O21:Z21)","v":0},{"$f":"LARGE((O21:Z21),2)","v":0},{"$f":"SUMIF(E10:E17,E21,K10:K17)","v":0},{"$f":"IF(B21=TRUE,\"WO\",IF(AND(B20=TRUE,B22=TRUE),1,IF(N21=0,0,RANK(N21,N20:N22,0))))","v":0},{"$f":"IF(B10=\"\",0,IF(B21=TRUE,0+N21,3-L21+N21))","v":0},{"$f":"IF(OR(B21=TRUE,AND(B20=TRUE,B22=TRUE)),0.000000000017,K21*0.1+H21*0.01+I21*0.00000001+J21*0.00000000001)","v":0},{"$f":"IF(E10=E21,I10,0)","v":0},{"$f":"IF(E10=E21,J10,0)","v":0},{"$f":"IF(E11=E21,I11,0)","v":0},{"$f":"IF(E11=E21,J11,0)","v":0},{"$f":"IF(E13=E21,I13,0)","v":0},{"$f":"IF(E13=E21,J13,0)","v":0},{"$f":"IF(E14=E21,I14,0)","v":0},{"$f":"IF(E14=E21,J14,0)","v":0},{"$f":"IF(E16=E21,I16,0)","v":0},{"$f":"IF(E16=E21,J16,0)","v":0},{"$f":"IF(E17=E21,I17,0)","v":0},{"$f":"IF(E17=E21,J17,0)","v":0}]
[null,false,{"$f":"L22","v":0},{"$f":"'Grups PPP'!D12","v":""},{"$f":"'Grups PPP'!E12","v":""},{"$f":"SUMIF(E10:E17,E22,F10:F17)","v":0},{"$f":"SUMIF(E10:E17,E22,G10:G17)","v":0},{"$f":"IF(B22=TRUE,0,IF(G22=0,0,ROUND(F22/G22,3)))","v":0},{"$f":"MAX(O22:Z22)","v":0},{"$f":"LARGE((O22:Z22),2)","v":0},{"$f":"SUMIF(E10:E17,E22,K10:K17)","v":0},{"$f":"IF(B22=TRUE,\"WO\",IF(AND(B20=TRUE,B21=TRUE),1,IF(N22=0,0,RANK(N22,N20:N22,0))))","v":0},{"$f":"IF(B10=\"\",0,IF(B22=TRUE,0+N22,3-L22+N22))","v":0},{"$f":"IF(OR(B22=TRUE,AND(B20=TRUE,B21=TRUE)),0.000000000001,K22*0.1+H22*0.01+I22*0.00000001+J22*0.00000000001)","v":0},{"$f":"IF(E10=E22,I10,0)","v":0},{"$f":"IF(E10=E22,J10,0)","v":0},{"$f":"IF(E11=E22,I11,0)","v":0},{"$f":"IF(E11=E22,J11,0)","v":0},{"$f":"IF(E13=E22,I13,0)","v":0},{"$f":"IF(E13=E22,J13,0)","v":0},{"$f":"IF(E14=E22,I14,0)","v":0},{"$f":"IF(E14=E22,J14,0)","v":0},{"$f":"IF(E16=E22,I16,0)","v":0},{"$f":"IF(E16=E22,J16,0)","v":0},{"$f":"IF(E17=E22,I17,0)","v":0},{"$f":"IF(E17=E22,J17,0)","v":0}]
[]
[null,null,null,null,null,"Boles","Ent","Mitj","SM1","SM2","Punts"]
[null,{"$f":"IF('Rànquing Inicial'!$D$141<97,\"\",\"Grup AH\")","v":""},null,null,{"$f":"IF(D34>1,\"\",IF(OR(B36=TRUE,B37=TRUE),E35,E36))","v":""},null,null,{"$f":"IF(G25=\"\",\"\",ROUND(F25/G25,3))","v":""},null,null,{"$f":"IF(H25=\"\",\"\",IF(F25>F26,2,IF(F25<F26,0,1)))","v":""}]
[null,null,null,null,{"$f":"IF(D34>1,\"\",IF(B37=TRUE,E36,E37))","v":""},null,{"$f":"IF(G25=\"\",\"\",G25)","v":""},{"$f":"IF(G26=\"\",\"\",ROUND(F26/G26,3))","v":""},null,null,{"$f":"IF(H26=\"\",\"\",IF(F26>F25,2,IF(F26<F25,0,1)))","v":""}]
[]
[null,null,null,null,{"$f":"IF(D34>1,\"\",IF(B35=TRUE,E36,E35))","v":""},null,null,{"$f":"IF(G28=\"\",\"\",ROUND(F28/G28,3))","v":""},null,null,{"$f":"IF(H28=\"\",\"\",IF(F28>F29,2,IF(F28<F29,0,1)))","v":""}]
[null,null,null,null,{"$f":"IF(D34>1,\"\",IF(B37=TRUE,E36,E37))","v":""},null,{"$f":"IF(G28=\"\",\"\",G28)","v":""},{"$f":"IF(G29=\"\",\"\",ROUND(F29/G29,3))","v":""},null,null,{"$f":"IF(H29=\"\",\"\",IF(F29>F28,2,IF(F29<F28,0,1)))","v":""}]
[]
[null,null,null,null,{"$f":"IF(D34>1,\"\",IF(OR(B35=TRUE,B36=TRUE,B37=TRUE),\"\",E35))","v":""},null,null,{"$f":"IF(G31=\"\",\"\",ROUND(F31/G31,3))","v":""},null,null,{"$f":"IF(H31=\"\",\"\",IF(F31>F32,2,IF(F31<F32,0,1)))","v":""}]
[null,null,null,null,{"$f":"IF(OR(B35=TRUE,B36=TRUE,B37=TRUE),\"\",E36)","v":""},null,{"$f":"IF(G31=\"\",\"\",G31)","v":""},{"$f":"IF(G32=\"\",\"\",ROUND(F32/G32,3))","v":""},null,null,{"$f":"IF(H32=\"\",\"\",IF(F32>F31,2,IF(F32<F31,0,1)))","v":""}]
[]
[null,"¿WO?",null,{"$f":"COUNTIF(B35:B37,\"VERDADERO\")","v":0},"Jugador","Boles","Ent","Mitj","SM1","SM2","P",{"$f":"B25","v":""}]
[null,false,{"$f":"L35","v":0},{"$f":"'Grups PPP'!D14","v":""},{"$f":"'Grups PPP'!E14","v":""},{"$f":"SUMIF(E25:E32,E35,F25:F32)","v":0},{"$f":"SUMIF(E25:E32,E35,G25:G32)","v":0},{"$f":"IF(B35=TRUE,0,IF(G35=0,0,ROUND(F35/G35,3)))","v":0},{"$f":"MAX(O35:Z35)","v":0},{"$f":"LARGE((O35:Z35),2)","v":0},{"$f":"SUMIF(E25:E32,E35,K25:K32)","v":0},{"$f":"IF(B35=TRUE,\"WO\",IF(AND(B36=TRUE,B37=TRUE),1,IF(N35=0,0,RANK(N35,N35:N37,0))))","v":0},{"$f":"IF(B25=\"\",0,IF(B35=TRUE,0+N35,3-L35+N35))","v":0},{"$f":"IF(OR(B35=TRUE,AND(B36=TRUE,B37=TRUE)),0.000000000047,K35*0.1+H35*0.01+I35*0.00000001+J35*0.00000000001)","v":0},{"$f":"IF(E25=E35,I25,0)","v":0},{"$f":"IF(E25=E35,J25,0)","v":0},{"$f":"IF(E26=E35,I26,0)","v":0},{"$f":"IF(E26=E35,J26,0)","v":0},{"$f":"IF(E28=E35,I28,0)","v":0},{"$f":"IF(E28=E35,J28,0)","v":0},{"$f":"IF(E29=E35,I29,0)","v":0},{"$f":"IF(E29=E35,J29,0)","v":0},{"$f":"IF(E31=E35,I31,0)","v":0},{"$f":"IF(E31=E35,J31,0)","v":0},{"$f":"IF(E32=E35,I32,0)","v":0},{"$f":"IF(E32=E35,J32,0)","v":0}]
[null,false,{"$f":"L36","v":0},{"$f":"'Grups PPP'!D15","v":""},{"$f":"'Grups PPP'!E15","v":""},{"$f":"SUMIF(E25:E32,E36,F25:F32)","v":0},{"$f":"SUMIF(E25:E32,E36,G25:G32)","v":0},{"$f":"IF(B36=TRUE,0,IF(G36=0,0,ROUND(F36/G36,3)))","v":0},{"$f":"MAX(O36:Z36)","v":0},{"$f":"LARGE((O36:Z36),2)","v":0},{"$f":"SUMIF(E25:E32,E36,K25:K32)","v":0},{"$f":"IF(B36=TRUE,\"WO\",IF(AND(B35=TRUE,B37=TRUE),1,IF(N36=0,0,RANK(N36,N35:N37,0))))","v":0},{"$f":"IF(B25=\"\",0,IF(B36=TRUE,0+N36,3-L36+N36))","v":0},{"$f":"IF(OR(B36=TRUE,AND(B35=TRUE,B37=TRUE)),0.000000000018,K36*0.1+H36*0.01+I36*0.00000001+J36*0.00000000001)","v":0},{"$f":"IF(E25=E36,I25,0)","v":0},{"$f":"IF(E25=E36,J25,0)","v":0},{"$f":"IF(E26=E36,I26,0)","v":0},{"$f":"IF(E26=E36,J26,0)","v":0},{"$f":"IF(E28=E36,I28,0)","v":0},{"$f":"IF(E28=E36,J28,0)","v":0},{"$f":"IF(E29=E36,I29,0)","v":0},{"$f":"IF(E29=E36,J29,0)","v":0},{"$f":"IF(E31=E36,I31,0)","v":0},{"$f":"IF(E31=E36,J31,0)","v":0},{"$f":"IF(E32=E36,I32,0)","v":0},{"$f":"IF(E32=E36,J32,0)","v":0}]
[null,false,{"$f":"L37","v":0},{"$f":"'Grups PPP'!D16","v":""},{"$f":"'Grups PPP'!E16","v":""},{"$f":"SUMIF(E25:E32,E37,F25:F32)","v":0},{"$f":"SUMIF(E25:E32,E37,G25:G32)","v":0},{"$f":"IF(B37=TRUE,0,IF(G37=0,0,ROUND(F37/G37,3)))","v":0},{"$f":"MAX(O37:Z37)","v":0},{"$f":"LARGE((O37:Z37),2)","v":0},{"$f":"SUMIF(E25:E32,E37,K25:K32)","v":0},{"$f":"IF(B37=TRUE,\"WO\",IF(AND(B35=TRUE,B36=TRUE),1,IF(N37=0,0,RANK(N37,N35:N37,0))))","v":0},{"$f":"IF(B25=\"\",0,IF(B37=TRUE,0+N37,3-L37+N37))","v":0},{"$f":"IF(OR(B37=TRUE,AND(B35=TRUE,B36=TRUE)),0.000000000002,K37*0.1+H37*0.01+I37*0.00000001+J37*0.00000000001)","v":0},{"$f":"IF(E25=E37,I25,0)","v":0},{"$f":"IF(E25=E37,J25,0)","v":0},{"$f":"IF(E26=E37,I26,0)","v":0},{"$f":"IF(E26=E37,J26,0)","v":0},{"$f":"IF(E28=E37,I28,0)","v":0},{"$f":"IF(E28=E37,J28,0)","v":0},{"$f":"IF(E29=E37,I29,0)","v":0},{"$f":"IF(E29=E37,J29,0)","v":0},{"$f":"IF(E31=E37,I31,0)","v":0},{"$f":"IF(E31=E37,J31,0)","v":0},{"$f":"IF(E32=E37,I32,0)","v":0},{"$f":"IF(E32=E37,J32,0)","v":0}]
[]
[null,null,null,null,null,"Boles","Ent","Mitj","SM1","SM2","Punts"]
[null,{"$f":"IF('Rànquing Inicial'!$D$141<97,\"\",\"Grup AI\")","v":""},null,null,{"$f":"IF(D49>1,\"\",IF(OR(B51=TRUE,B52=TRUE),E50,E51))","v":""},null,null,{"$f":"IF(G40=\"\",\"\",ROUND(F40/G40,3))","v":""},null,null,{"$f":"IF(H40=\"\",\"\",IF(F40>F41,2,IF(F40<F41,0,1)))","v":""}]
[null,null,null,null,{"$f":"IF(D49>1,\"\",IF(B52=TRUE,E51,E52))","v":""},null,{"$f":"IF(G40=\"\",\"\",G40)","v":""},{"$f":"IF(G41=\"\",\"\",ROUND(F41/G41,3))","v":""},null,null,{"$f":"IF(H41=\"\",\"\",IF(F41>F40,2,IF(F41<F40,0,1)))","v":""}]
[]
[null,null,null,null,{"$f":"IF(D49>1,\"\",IF(B50=TRUE,E51,E50))","v":""},null,null,{"$f":"IF(G43=\"\",\"\",ROUND(F43/G43,3))","v":""},null,null,{"$f":"IF(H43=\"\",\"\",IF(F43>F44,2,IF(F43<F44,0,1)))","v":""}]
[null,null,null,null,{"$f":"IF(D49>1,\"\",IF(B52=TRUE,E51,E52))","v":""},null,{"$f":"IF(G43=\"\",\"\",G43)","v":""},{"$f":"IF(G44=\"\",\"\",ROUND(F44/G44,3))","v":""},null,null,{"$f":"IF(H44=\"\",\"\",IF(F44>F43,2,IF(F44<F43,0,1)))","v":""}]
[]
[null,null,null,null,{"$f":"IF(D49>1,\"\",IF(OR(B50=TRUE,B51=TRUE,B52=TRUE),\"\",E50))","v":""},null,null,{"$f":"IF(G46=\"\",\"\",ROUND(F46/G46,3))","v":""},null,null,{"$f":"IF(H46=\"\",\"\",IF(F46>F47,2,IF(F46<F47,0,1)))","v":""}]
[null,null,null,null,{"$f":"IF(OR(B50=TRUE,B51=TRUE,B52=TRUE),\"\",E51)","v":""},null,{"$f":"IF(G46=\"\",\"\",G46)","v":""},{"$f":"IF(G47=\"\",\"\",ROUND(F47/G47,3))","v":""},null,null,{"$f":"IF(H47=\"\",\"\",IF(F47>F46,2,IF(F47<F46,0,1)))","v":""}]
[]
[null,"¿WO?",null,{"$f":"COUNTIF(B50:B52,\"VERDADERO\")","v":0},"Jugador","Boles","Ent","Mitj","SM1","SM2","P",{"$f":"B40","v":""}]
[null,false,{"$f":"L50","v":0},{"$f":"'Grups PPP'!D18","v":""},{"$f":"'Grups PPP'!E18","v":""},{"$f":"SUMIF(E40:E47,E50,F40:F47)","v":0},{"$f":"SUMIF(E40:E47,E50,G40:G47)","v":0},{"$f":"IF(B50=TRUE,0,IF(G50=0,0,ROUND(F50/G50,3)))","v":0},{"$f":"MAX(O50:Z50)","v":0},{"$f":"LARGE((O50:Z50),2)","v":0},{"$f":"SUMIF(E40:E47,E50,K40:K47)","v":0},{"$f":"IF(B50=TRUE,\"WO\",IF(AND(B51=TRUE,B52=TRUE),1,IF(N50=0,0,RANK(N50,N50:N52,0))))","v":0},{"$f":"IF(B40=\"\",0,IF(B50=TRUE,0+N50,3-L50+N50))","v":0},{"$f":"IF(OR(B50=TRUE,AND(B51=TRUE,B52=TRUE)),0.000000000046,K50*0.1+H50*0.01+I50*0.00000001+J50*0.00000000001)","v":0},{"$f":"IF(E40=E50,I40,0)","v":0},{"$f":"IF(E40=E50,J40,0)","v":0},{"$f":"IF(E41=E50,I41,0)","v":0},{"$f":"IF(E41=E50,J41,0)","v":0},{"$f":"IF(E43=E50,I43,0)","v":0},{"$f":"IF(E43=E50,J43,0)","v":0},{"$f":"IF(E44=E50,I44,0)","v":0},{"$f":"IF(E44=E50,J44,0)","v":0},{"$f":"IF(E46=E50,I46,0)","v":0},{"$f":"IF(E46=E50,J46,0)","v":0},{"$f":"IF(E47=E50,I47,0)","v":0},{"$f":"IF(E47=E50,J47,0)","v":0}]
[null,false,{"$f":"L51","v":0},{"$f":"'Grups PPP'!D19","v":""},{"$f":"'Grups PPP'!E19","v":""},{"$f":"SUMIF(E40:E47,E51,F40:F47)","v":0},{"$f":"SUMIF(E40:E47,E51,G40:G47)","v":0},{"$f":"IF(B51=TRUE,0,IF(G51=0,0,ROUND(F51/G51,3)))","v":0},{"$f":"MAX(O51:Z51)","v":0},{"$f":"LARGE((O51:Z51),2)","v":0},{"$f":"SUMIF(E40:E47,E51,K40:K47)","v":0},{"$f":"IF(B51=TRUE,\"WO\",IF(AND(B50=TRUE,B52=TRUE),1,IF(N51=0,0,RANK(N51,N50:N52,0))))","v":0},{"$f":"IF(B40=\"\",0,IF(B51=TRUE,0+N51,3-L51+N51))","v":0},{"$f":"IF(OR(B51=TRUE,AND(B50=TRUE,B52=TRUE)),0.000000000019,K51*0.1+H51*0.01+I51*0.00000001+J51*0.00000000001)","v":0},{"$f":"IF(E40=E51,I40,0)","v":0},{"$f":"IF(E40=E51,J40,0)","v":0},{"$f":"IF(E41=E51,I41,0)","v":0},{"$f":"IF(E41=E51,J41,0)","v":0},{"$f":"IF(E43=E51,I43,0)","v":0},{"$f":"IF(E43=E51,J43,0)","v":0},{"$f":"IF(E44=E51,I44,0)","v":0},{"$f":"IF(E44=E51,J44,0)","v":0},{"$f":"IF(E46=E51,I46,0)","v":0},{"$f":"IF(E46=E51,J46,0)","v":0},{"$f":"IF(E47=E51,I47,0)","v":0},{"$f":"IF(E47=E51,J47,0)","v":0}]
[null,false,{"$f":"L52","v":0},{"$f":"'Grups PPP'!D20","v":""},{"$f":"'Grups PPP'!E20","v":""},{"$f":"SUMIF(E40:E47,E52,F40:F47)","v":0},{"$f":"SUMIF(E40:E47,E52,G40:G47)","v":0},{"$f":"IF(B52=TRUE,0,IF(G52=0,0,ROUND(F52/G52,3)))","v":0},{"$f":"MAX(O52:Z52)","v":0},{"$f":"LARGE((O52:Z52),2)","v":0},{"$f":"SUMIF(E40:E47,E52,K40:K47)","v":0},{"$f":"IF(B52=TRUE,\"WO\",IF(AND(B50=TRUE,B51=TRUE),1,IF(N52=0,0,RANK(N52,N50:N52,0))))","v":0},{"$f":"IF(B40=\"\",0,IF(B52=TRUE,0+N52,3-L52+N52))","v":0},{"$f":"IF(OR(B52=TRUE,AND(B50=TRUE,B51=TRUE)),0.000000000003,K52*0.1+H52*0.01+I52*0.00000001+J52*0.00000000001)","v":0},{"$f":"IF(E40=E52,I40,0)","v":0},{"$f":"IF(E40=E52,J40,0)","v":0},{"$f":"IF(E41=E52,I41,0)","v":0},{"$f":"IF(E41=E52,J41,0)","v":0},{"$f":"IF(E43=E52,I43,0)","v":0},{"$f":"IF(E43=E52,J43,0)","v":0},{"$f":"IF(E44=E52,I44,0)","v":0},{"$f":"IF(E44=E52,J44,0)","v":0},{"$f":"IF(E46=E52,I46,0)","v":0},{"$f":"IF(E46=E52,J46,0)","v":0},{"$f":"IF(E47=E52,I47,0)","v":0},{"$f":"IF(E47=E52,J47,0)","v":0}]
[]
[null,null,null,null,null,"Boles","Ent","Mitj","SM1","SM2","Punts"]
[null,{"$f":"IF('Rànquing Inicial'!$D$141<97,\"\",\"Grup AJ\")","v":""},null,null,{"$f":"IF(D64>1,\"\",IF(OR(B66=TRUE,B67=TRUE),E65,E66))","v":""},null,null,{"$f":"IF(G55=\"\",\"\",ROUND(F55/G55,3))","v":""},null,null,{"$f":"IF(H55=\"\",\"\",IF(F55>F56,2,IF(F55<F56,0,1)))","v":""}]
[null,null,null,null,{"$f":"IF(D64>1,\"\",IF(B67=TRUE,E66,E67))","v":""},null,{"$f":"IF(G55=\"\",\"\",G55)","v":""},{"$f":"IF(G56=\"\",\"\",ROUND(F56/G56,3))","v":""},null,null,{"$f":"IF(H56=\"\",\"\",IF(F56>F55,2,IF(F56<F55,0,1)))","v":""}]
[]
[null,null,null,null,{"$f":"IF(D64>1,\"\",IF(B65=TRUE,E66,E65))","v":""},null,null,{"$f":"IF(G58=\"\",\"\",ROUND(F58/G58,3))","v":""},null,null,{"$f":"IF(H58=\"\",\"\",IF(F58>F59,2,IF(F58<F59,0,1)))","v":""}]
[null,null,null,null,{"$f":"IF(D64>1,\"\",IF(B67=TRUE,E66,E67))","v":""},null,{"$f":"IF(G58=\"\",\"\",G58)","v":""},{"$f":"IF(G59=\"\",\"\",ROUND(F59/G59,3))","v":""},null,null,{"$f":"IF(H59=\"\",\"\",IF(F59>F58,2,IF(F59<F58,0,1)))","v":""}]
[]
[null,null,null,null,{"$f":"IF(D64>1,\"\",IF(OR(B65=TRUE,B66=TRUE,B67=TRUE),\"\",E65))","v":""},null,null,{"$f":"IF(G61=\"\",\"\",ROUND(F61/G61,3))","v":""},null,null,{"$f":"IF(H61=\"\",\"\",IF(F61>F62,2,IF(F61<F62,0,1)))","v":""}]
[null,null,null,null,{"$f":"IF(OR(B65=TRUE,B66=TRUE,B67=TRUE),\"\",E66)","v":""},null,{"$f":"IF(G61=\"\",\"\",G61)","v":""},{"$f":"IF(G62=\"\",\"\",ROUND(F62/G62,3))","v":""},null,null,{"$f":"IF(H62=\"\",\"\",IF(F62>F61,2,IF(F62<F61,0,1)))","v":""}]
[]
[null,"¿WO?",null,{"$f":"COUNTIF(B65:B67,\"VERDADERO\")","v":0},"Jugador","Boles","Ent","Mitj","SM1","SM2","P",{"$f":"B55","v":""}]
[null,false,{"$f":"L65","v":0},{"$f":"'Grups PPP'!D22","v":""},{"$f":"'Grups PPP'!E22","v":""},{"$f":"SUMIF(E55:E62,E65,F55:F62)","v":0},{"$f":"SUMIF(E55:E62,E65,G55:G62)","v":0},{"$f":"IF(B65=TRUE,0,IF(G65=0,0,ROUND(F65/G65,3)))","v":0},{"$f":"MAX(O65:Z65)","v":0},{"$f":"LARGE((O65:Z65),2)","v":0},{"$f":"SUMIF(E55:E62,E65,K55:K62)","v":0},{"$f":"IF(B65=TRUE,\"WO\",IF(AND(B66=TRUE,B67=TRUE),1,IF(N65=0,0,RANK(N65,N65:N67,0))))","v":0},{"$f":"IF(B55=\"\",0,IF(B65=TRUE,0+N65,3-L65+N65))","v":0},{"$f":"IF(OR(B65=TRUE,AND(B66=TRUE,B67=TRUE)),0.000000000045,K65*0.1+H65*0.01+I65*0.00000001+J65*0.00000000001)","v":0},{"$f":"IF(E55=E65,I55,0)","v":0},{"$f":"IF(E55=E65,J55,0)","v":0},{"$f":"IF(E56=E65,I56,0)","v":0},{"$f":"IF(E56=E65,J56,0)","v":0},{"$f":"IF(E58=E65,I58,0)","v":0},{"$f":"IF(E58=E65,J58,0)","v":0},{"$f":"IF(E59=E65,I59,0)","v":0},{"$f":"IF(E59=E65,J59,0)","v":0},{"$f":"IF(E61=E65,I61,0)","v":0},{"$f":"IF(E61=E65,J61,0)","v":0},{"$f":"IF(E62=E65,I62,0)","v":0},{"$f":"IF(E62=E65,J62,0)","v":0}]
[null,false,{"$f":"L66","v":0},{"$f":"'Grups PPP'!D23","v":""},{"$f":"'Grups PPP'!E23","v":""},{"$f":"SUMIF(E55:E62,E66,F55:F62)","v":0},{"$f":"SUMIF(E55:E62,E66,G55:G62)","v":0},{"$f":"IF(B66=TRUE,0,IF(G66=0,0,ROUND(F66/G66,3)))","v":0},{"$f":"MAX(O66:Z66)","v":0},{"$f":"LARGE((O66:Z66),2)","v":0},{"$f":"SUMIF(E55:E62,E66,K55:K62)","v":0},{"$f":"IF(B66=TRUE,\"WO\",IF(AND(B65=TRUE,B67=TRUE),1,IF(N66=0,0,RANK(N66,N65:N67,0))))","v":0},{"$f":"IF(B55=\"\",0,IF(B66=TRUE,0+N66,3-L66+N66))","v":0},{"$f":"IF(OR(B66=TRUE,AND(B65=TRUE,B67=TRUE)),0.00000000002,K66*0.1+H66*0.01+I66*0.00000001+J66*0.00000000001)","v":0},{"$f":"IF(E55=E66,I55,0)","v":0},{"$f":"IF(E55=E66,J55,0)","v":0},{"$f":"IF(E56=E66,I56,0)","v":0},{"$f":"IF(E56=E66,J56,0)","v":0},{"$f":"IF(E58=E66,I58,0)","v":0},{"$f":"IF(E58=E66,J58,0)","v":0},{"$f":"IF(E59=E66,I59,0)","v":0},{"$f":"IF(E59=E66,J59,0)","v":0},{"$f":"IF(E61=E66,I61,0)","v":0},{"$f":"IF(E61=E66,J61,0)","v":0},{"$f":"IF(E62=E66,I62,0)","v":0},{"$f":"IF(E62=E66,J62,0)","v":0}]
[null,false,{"$f":"L67","v":0},{"$f":"'Grups PPP'!D24","v":""},{"$f":"'Grups PPP'!E24","v":""},{"$f":"SUMIF(E55:E62,E67,F55:F62)","v":0},{"$f":"SUMIF(E55:E62,E67,G55:G62)","v":0},{"$f":"IF(B67=TRUE,0,IF(G67=0,0,ROUND(F67/G67,3)))","v":0},{"$f":"MAX(O67:Z67)","v":0},{"$f":"LARGE((O67:Z67),2)","v":0},{"$f":"SUMIF(E55:E62,E67,K55:K62)","v":0},{"$f":"IF(B67=TRUE,\"WO\",IF(AND(B65=TRUE,B66=TRUE),1,IF(N67=0,0,RANK(N67,N65:N67,0))))","v":0},{"$f":"IF(B55=\"\",0,IF(B67=TRUE,0+N67,3-L67+N67))","v":0},{"$f":"IF(OR(B67=TRUE,AND(B65=TRUE,B66=TRUE)),0.000000000004,K67*0.1+H67*0.01+I67*0.00000001+J67*0.00000000001)","v":0},{"$f":"IF(E55=E67,I55,0)","v":0},{"$f":"IF(E55=E67,J55,0)","v":0},{"$f":"IF(E56=E67,I56,0)","v":0},{"$f":"IF(E56=E67,J56,0)","v":0},{"$f":"IF(E58=E67,I58,0)","v":0},{"$f":"IF(E58=E67,J58,0)","v":0},{"$f":"IF(E59=E67,I59,0)","v":0},{"$f":"IF(E59=E67,J59,0)","v":0},{"$f":"IF(E61=E67,I61,0)","v":0},{"$f":"IF(E61=E67,J61,0)","v":0},{"$f":"IF(E62=E67,I62,0)","v":0},{"$f":"IF(E62=E67,J62,0)","v":0}]
[]
[null,null,null,null,null,"Boles","Ent","Mitj","SM1","SM2","Punts"]
[null,{"$f":"IF('Rànquing Inicial'!$D$150>12,\"Grup AK\",\"\")","v":""},null,null,{"$f":"IF(D79>1,\"\",IF(OR(B81=TRUE,B82=TRUE),E80,E81))","v":""},null,null,{"$f":"IF(G70=\"\",\"\",ROUND(F70/G70,3))","v":""},null,null,{"$f":"IF(H70=\"\",\"\",IF(F70>F71,2,IF(F70<F71,0,1)))","v":""}]
[null,null,null,null,{"$f":"IF(D79>1,\"\",IF(B82=TRUE,E81,E82))","v":""},null,{"$f":"IF(G70=\"\",\"\",G70)","v":""},{"$f":"IF(G71=\"\",\"\",ROUND(F71/G71,3))","v":""},null,null,{"$f":"IF(H71=\"\",\"\",IF(F71>F70,2,IF(F71<F70,0,1)))","v":""}]
[]
[null,null,null,null,{"$f":"IF(D79>1,\"\",IF(B80=TRUE,E81,E80))","v":""},null,null,{"$f":"IF(G73=\"\",\"\",ROUND(F73/G73,3))","v":""},null,null,{"$f":"IF(H73=\"\",\"\",IF(F73>F74,2,IF(F73<F74,0,1)))","v":""}]
[null,null,null,null,{"$f":"IF(D79>1,\"\",IF(B82=TRUE,E81,E82))","v":""},null,{"$f":"IF(G73=\"\",\"\",G73)","v":""},{"$f":"IF(G74=\"\",\"\",ROUND(F74/G74,3))","v":""},null,null,{"$f":"IF(H74=\"\",\"\",IF(F74>F73,2,IF(F74<F73,0,1)))","v":""}]
[]
[null,null,null,null,{"$f":"IF(D79>1,\"\",IF(OR(B80=TRUE,B81=TRUE,B82=TRUE),\"\",E80))","v":""},null,null,{"$f":"IF(G76=\"\",\"\",ROUND(F76/G76,3))","v":""},null,null,{"$f":"IF(H76=\"\",\"\",IF(F76>F77,2,IF(F76<F77,0,1)))","v":""}]
[null,null,null,null,{"$f":"IF(OR(B80=TRUE,B81=TRUE,B82=TRUE),\"\",E81)","v":""},null,{"$f":"IF(G76=\"\",\"\",G76)","v":""},{"$f":"IF(G77=\"\",\"\",ROUND(F77/G77,3))","v":""},null,null,{"$f":"IF(H77=\"\",\"\",IF(F77>F76,2,IF(F77<F76,0,1)))","v":""}]
[]
[null,"¿WO?",null,{"$f":"COUNTIF(B80:B82,\"VERDADERO\")","v":0},"Jugador","Boles","Ent","Mitj","SM1","SM2","P",{"$f":"B70","v":""}]
[null,false,{"$f":"L80","v":0},{"$f":"'Grups PPP'!D26","v":""},{"$f":"'Grups PPP'!E26","v":""},{"$f":"SUMIF(E70:E77,E80,F70:F77)","v":0},{"$f":"SUMIF(E70:E77,E80,G70:G77)","v":0},{"$f":"IF(B80=TRUE,0,IF(G80=0,0,ROUND(F80/G80,3)))","v":0},{"$f":"MAX(O80:Z80)","v":0},{"$f":"LARGE((O80:Z80),2)","v":0},{"$f":"SUMIF(E70:E77,E80,K70:K77)","v":0},{"$f":"IF(B80=TRUE,\"WO\",IF(AND(B81=TRUE,B82=TRUE),1,IF(N80=0,0,RANK(N80,N80:N82,0))))","v":0},{"$f":"IF(B70=\"\",0,IF(B80=TRUE,0+N80,3-L80+N80))","v":0},{"$f":"IF(OR(B80=TRUE,AND(B81=TRUE,B82=TRUE)),0.000000000044,K80*0.1+H80*0.01+I80*0.00000001+J80*0.00000000001)","v":0},{"$f":"IF(E70=E80,I70,0)","v":0},{"$f":"IF(E70=E80,J70,0)","v":0},{"$f":"IF(E71=E80,I71,0)","v":0},{"$f":"IF(E71=E80,J71,0)","v":0},{"$f":"IF(E73=E80,I73,0)","v":0},{"$f":"IF(E73=E80,J73,0)","v":0},{"$f":"IF(E74=E80,I74,0)","v":0},{"$f":"IF(E74=E80,J74,0)","v":0},{"$f":"IF(E76=E80,I76,0)","v":0},{"$f":"IF(E76=E80,J76,0)","v":0},{"$f":"IF(E77=E80,I77,0)","v":0},{"$f":"IF(E77=E80,J77,0)","v":0}]
[null,false,{"$f":"L81","v":0},{"$f":"'Grups PPP'!D27","v":""},{"$f":"'Grups PPP'!E27","v":""},{"$f":"SUMIF(E70:E77,E81,F70:F77)","v":0},{"$f":"SUMIF(E70:E77,E81,G70:G77)","v":0},{"$f":"IF(B81=TRUE,0,IF(G81=0,0,ROUND(F81/G81,3)))","v":0},{"$f":"MAX(O81:Z81)","v":0},{"$f":"LARGE((O81:Z81),2)","v":0},{"$f":"SUMIF(E70:E77,E81,K70:K77)","v":0},{"$f":"IF(B81=TRUE,\"WO\",IF(AND(B80=TRUE,B82=TRUE),1,IF(N81=0,0,RANK(N81,N80:N82,0))))","v":0},{"$f":"IF(B70=\"\",0,IF(B81=TRUE,0+N81,3-L81+N81))","v":0},{"$f":"IF(OR(B81=TRUE,AND(B80=TRUE,B82=TRUE)),0.000000000021,K81*0.1+H81*0.01+I81*0.00000001+J81*0.00000000001)","v":0},{"$f":"IF(E70=E81,I70,0)","v":0},{"$f":"IF(E70=E81,J70,0)","v":0},{"$f":"IF(E71=E81,I71,0)","v":0},{"$f":"IF(E71=E81,J71,0)","v":0},{"$f":"IF(E73=E81,I73,0)","v":0},{"$f":"IF(E73=E81,J73,0)","v":0},{"$f":"IF(E74=E81,I74,0)","v":0},{"$f":"IF(E74=E81,J74,0)","v":0},{"$f":"IF(E76=E81,I76,0)","v":0},{"$f":"IF(E76=E81,J76,0)","v":0},{"$f":"IF(E77=E81,I77,0)","v":0},{"$f":"IF(E77=E81,J77,0)","v":0}]
[null,false,{"$f":"L82","v":0},{"$f":"'Grups PPP'!D28","v":""},{"$f":"'Grups PPP'!E28","v":""},{"$f":"SUMIF(E70:E77,E82,F70:F77)","v":0},{"$f":"SUMIF(E70:E77,E82,G70:G77)","v":0},{"$f":"IF(B82=TRUE,0,IF(G82=0,0,ROUND(F82/G82,3)))","v":0},{"$f":"MAX(O82:Z82)","v":0},{"$f":"LARGE((O82:Z82),2)","v":0},{"$f":"SUMIF(E70:E77,E82,K70:K77)","v":0},{"$f":"IF(B82=TRUE,\"WO\",IF(AND(B80=TRUE,B81=TRUE),1,IF(N82=0,0,RANK(N82,N80:N82,0))))","v":0},{"$f":"IF(B70=\"\",0,IF(B82=TRUE,0+N82,3-L82+N82))","v":0},{"$f":"IF(OR(B82=TRUE,AND(B80=TRUE,B81=TRUE)),0.000000000005,K82*0.1+H82*0.01+I82*0.00000001+J82*0.00000000001)","v":0},{"$f":"IF(E70=E82,I70,0)","v":0},{"$f":"IF(E70=E82,J70,0)","v":0},{"$f":"IF(E71=E82,I71,0)","v":0},{"$f":"IF(E71=E82,J71,0)","v":0},{"$f":"IF(E73=E82,I73,0)","v":0},{"$f":"IF(E73=E82,J73,0)","v":0},{"$f":"IF(E74=E82,I74,0)","v":0},{"$f":"IF(E74=E82,J74,0)","v":0},{"$f":"IF(E76=E82,I76,0)","v":0},{"$f":"IF(E76=E82,J76,0)","v":0},{"$f":"IF(E77=E82,I77,0)","v":0},{"$f":"IF(E77=E82,J77,0)","v":0}]
[]
[null,null,null,null,null,"Boles","Ent","Mitj","SM1","SM2","Punts"]
[null,{"$f":"IF('Rànquing Inicial'!$D$150>15,\"Grup AL\",\"\")","v":""},null,null,{"$f":"IF(D94>1,\"\",IF(OR(B96=TRUE,B97=TRUE),E95,E96))","v":""},null,null,{"$f":"IF(G85=\"\",\"\",ROUND(F85/G85,3))","v":""},null,null,{"$f":"IF(H85=\"\",\"\",IF(F85>F86,2,IF(F85<F86,0,1)))","v":""}]
[null,null,null,null,{"$f":"IF(D94>1,\"\",IF(B97=TRUE,E96,E97))","v":""},null,{"$f":"IF(G85=\"\",\"\",G85)","v":""},{"$f":"IF(G86=\"\",\"\",ROUND(F86/G86,3))","v":""},null,null,{"$f":"IF(H86=\"\",\"\",IF(F86>F85,2,IF(F86<F85,0,1)))","v":""}]
[]
[null,null,null,null,{"$f":"IF(D94>1,\"\",IF(B95=TRUE,E96,E95))","v":""},null,null,{"$f":"IF(G88=\"\",\"\",ROUND(F88/G88,3))","v":""},null,null,{"$f":"IF(H88=\"\",\"\",IF(F88>F89,2,IF(F88<F89,0,1)))","v":""}]
[null,null,null,null,{"$f":"IF(D94>1,\"\",IF(B97=TRUE,E96,E97))","v":""},null,{"$f":"IF(G88=\"\",\"\",G88)","v":""},{"$f":"IF(G89=\"\",\"\",ROUND(F89/G89,3))","v":""},null,null,{"$f":"IF(H89=\"\",\"\",IF(F89>F88,2,IF(F89<F88,0,1)))","v":""}]
[]
[null,null,null,null,{"$f":"IF(D94>1,\"\",IF(OR(B95=TRUE,B96=TRUE,B97=TRUE),\"\",E95))","v":""},null,null,{"$f":"IF(G91=\"\",\"\",ROUND(F91/G91,3))","v":""},null,null,{"$f":"IF(H91=\"\",\"\",IF(F91>F92,2,IF(F91<F92,0,1)))","v":""}]
[null,null,null,null,{"$f":"IF(OR(B95=TRUE,B96=TRUE,B97=TRUE),\"\",E96)","v":""},null,{"$f":"IF(G91=\"\",\"\",G91)","v":""},{"$f":"IF(G92=\"\",\"\",ROUND(F92/G92,3))","v":""},null,null,{"$f":"IF(H92=\"\",\"\",IF(F92>F91,2,IF(F92<F91,0,1)))","v":""}]
[]
[null,"¿WO?",null,{"$f":"COUNTIF(B95:B97,\"VERDADERO\")","v":0},"Jugador","Boles","Ent","Mitj","SM1","SM2","P",{"$f":"B85","v":""}]
[null,false,{"$f":"L95","v":0},{"$f":"'Grups PPP'!D30","v":""},{"$f":"'Grups PPP'!E30","v":""},{"$f":"SUMIF(E85:E92,E95,F85:F92)","v":0},{"$f":"SUMIF(E85:E92,E95,G85:G92)","v":0},{"$f":"IF(B95=TRUE,0,IF(G95=0,0,ROUND(F95/G95,3)))","v":0},{"$f":"MAX(O95:Z95)","v":0},{"$f":"LARGE((O95:Z95),2)","v":0},{"$f":"SUMIF(E85:E92,E95,K85:K92)","v":0},{"$f":"IF(B95=TRUE,\"WO\",IF(AND(B96=TRUE,B97=TRUE),1,IF(N95=0,0,RANK(N95,N95:N97,0))))","v":0},{"$f":"IF(B85=\"\",0,IF(B95=TRUE,0+N95,3-L95+N95))","v":0},{"$f":"IF(OR(B95=TRUE,AND(B96=TRUE,B97=TRUE)),0.000000000043,K95*0.1+H95*0.01+I95*0.00000001+J95*0.00000000001)","v":0},{"$f":"IF(E85=E95,I85,0)","v":0},{"$f":"IF(E85=E95,J85,0)","v":0},{"$f":"IF(E86=E95,I86,0)","v":0},{"$f":"IF(E86=E95,J86,0)","v":0},{"$f":"IF(E88=E95,I88,0)","v":0},{"$f":"IF(E88=E95,J88,0)","v":0},{"$f":"IF(E89=E95,I89,0)","v":0},{"$f":"IF(E89=E95,J89,0)","v":0},{"$f":"IF(E91=E95,I91,0)","v":0},{"$f":"IF(E91=E95,J91,0)","v":0},{"$f":"IF(E92=E95,I92,0)","v":0},{"$f":"IF(E92=E95,J92,0)","v":0}]
[null,false,{"$f":"L96","v":0},{"$f":"'Grups PPP'!D31","v":""},{"$f":"'Grups PPP'!E31","v":""},{"$f":"SUMIF(E85:E92,E96,F85:F92)","v":0},{"$f":"SUMIF(E85:E92,E96,G85:G92)","v":0},{"$f":"IF(B96=TRUE,0,IF(G96=0,0,ROUND(F96/G96,3)))","v":0},{"$f":"MAX(O96:Z96)","v":0},{"$f":"LARGE((O96:Z96),2)","v":0},{"$f":"SUMIF(E85:E92,E96,K85:K92)","v":0},{"$f":"IF(B96=TRUE,\"WO\",IF(AND(B95=TRUE,B97=TRUE),1,IF(N96=0,0,RANK(N96,N95:N97,0))))","v":0},{"$f":"IF(B85=\"\",0,IF(B96=TRUE,0+N96,3-L96+N96))","v":0},{"$f":"IF(OR(B96=TRUE,AND(B95=TRUE,B97=TRUE)),0.000000000022,K96*0.1+H96*0.01+I96*0.00000001+J96*0.00000000001)","v":0},{"$f":"IF(E85=E96,I85,0)","v":0},{"$f":"IF(E85=E96,J85,0)","v":0},{"$f":"IF(E86=E96,I86,0)","v":0},{"$f":"IF(E86=E96,J86,0)","v":0},{"$f":"IF(E88=E96,I88,0)","v":0},{"$f":"IF(E88=E96,J88,0)","v":0},{"$f":"IF(E89=E96,I89,0)","v":0},{"$f":"IF(E89=E96,J89,0)","v":0},{"$f":"IF(E91=E96,I91,0)","v":0},{"$f":"IF(E91=E96,J91,0)","v":0},{"$f":"IF(E92=E96,I92,0)","v":0},{"$f":"IF(E92=E96,J92,0)","v":0}]
[null,false,{"$f":"L97","v":0},{"$f":"'Grups PPP'!D32","v":""},{"$f":"'Grups PPP'!E32","v":""},{"$f":"SUMIF(E85:E92,E97,F85:F92)","v":0},{"$f":"SUMIF(E85:E92,E97,G85:G92)","v":0},{"$f":"IF(B97=TRUE,0,IF(G97=0,0,ROUND(F97/G97,3)))","v":0},{"$f":"MAX(O97:Z97)","v":0},{"$f":"LARGE((O97:Z97),2)","v":0},{"$f":"SUMIF(E85:E92,E97,K85:K92)","v":0},{"$f":"IF(B97=TRUE,\"WO\",IF(AND(B95=TRUE,B96=TRUE),1,IF(N97=0,0,RANK(N97,N95:N97,0))))","v":0},{"$f":"IF(B85=\"\",0,IF(B97=TRUE,0+N97,3-L97+N97))","v":0},{"$f":"IF(OR(B97=TRUE,AND(B95=TRUE,B96=TRUE)),0.000000000006,K97*0.1+H97*0.01+I97*0.00000001+J97*0.00000000001)","v":0},{"$f":"IF(E85=E97,I85,0)","v":0},{"$f":"IF(E85=E97,J85,0)","v":0},{"$f":"IF(E86=E97,I86,0)","v":0},{"$f":"IF(E86=E97,J86,0)","v":0},{"$f":"IF(E88=E97,I88,0)","v":0},{"$f":"IF(E88=E97,J88,0)","v":0},{"$f":"IF(E89=E97,I89,0)","v":0},{"$f":"IF(E89=E97,J89,0)","v":0},{"$f":"IF(E91=E97,I91,0)","v":0},{"$f":"IF(E91=E97,J91,0)","v":0},{"$f":"IF(E92=E97,I92,0)","v":0},{"$f":"IF(E92=E97,J92,0)","v":0}]
[]
[null,null,null,null,null,"Boles","Ent","Mitj","SM1","SM2","Punts"]
[null,{"$f":"IF('Rànquing Inicial'!$D$150>18,\"Grup AM\",\"\")","v":""},null,null,{"$f":"IF(D109>1,\"\",IF(OR(B111=TRUE,B112=TRUE),E110,E111))","v":""},null,null,{"$f":"IF(G100=\"\",\"\",ROUND(F100/G100,3))","v":""},null,null,{"$f":"IF(H100=\"\",\"\",IF(F100>F101,2,IF(F100<F101,0,1)))","v":""}]
[null,null,null,null,{"$f":"IF(D109>1,\"\",IF(B112=TRUE,E111,E112))","v":""},null,{"$f":"IF(G100=\"\",\"\",G100)","v":""},{"$f":"IF(G101=\"\",\"\",ROUND(F101/G101,3))","v":""},null,null,{"$f":"IF(H101=\"\",\"\",IF(F101>F100,2,IF(F101<F100,0,1)))","v":""}]
[]
[null,null,null,null,{"$f":"IF(D109>1,\"\",IF(B110=TRUE,E111,E110))","v":""},null,null,{"$f":"IF(G103=\"\",\"\",ROUND(F103/G103,3))","v":""},null,null,{"$f":"IF(H103=\"\",\"\",IF(F103>F104,2,IF(F103<F104,0,1)))","v":""}]
[null,null,null,null,{"$f":"IF(D109>1,\"\",IF(B112=TRUE,E111,E112))","v":""},null,{"$f":"IF(G103=\"\",\"\",G103)","v":""},{"$f":"IF(G104=\"\",\"\",ROUND(F104/G104,3))","v":""},null,null,{"$f":"IF(H104=\"\",\"\",IF(F104>F103,2,IF(F104<F103,0,1)))","v":""}]
[]
[null,null,null,null,{"$f":"IF(D109>1,\"\",IF(OR(B110=TRUE,B111=TRUE,B112=TRUE),\"\",E110))","v":""},null,null,{"$f":"IF(G106=\"\",\"\",ROUND(F106/G106,3))","v":""},null,null,{"$f":"IF(H106=\"\",\"\",IF(F106>F107,2,IF(F106<F107,0,1)))","v":""}]
[null,null,null,null,{"$f":"IF(OR(B110=TRUE,B111=TRUE,B112=TRUE),\"\",E111)","v":""},null,{"$f":"IF(G106=\"\",\"\",G106)","v":""},{"$f":"IF(G107=\"\",\"\",ROUND(F107/G107,3))","v":""},null,null,{"$f":"IF(H107=\"\",\"\",IF(F107>F106,2,IF(F107<F106,0,1)))","v":""}]
[]
[null,"¿WO?",null,{"$f":"COUNTIF(B110:B112,\"VERDADERO\")","v":0},"Jugador","Boles","Ent","Mitj","SM1","SM2","P",{"$f":"B100","v":""}]
[null,false,{"$f":"L110","v":0},{"$f":"'Grups PPP'!D34","v":""},{"$f":"'Grups PPP'!E34","v":""},{"$f":"SUMIF(E100:E107,E110,F100:F107)","v":0},{"$f":"SUMIF(E100:E107,E110,G100:G107)","v":0},{"$f":"IF(B110=TRUE,0,IF(G110=0,0,ROUND(F110/G110,3)))","v":0},{"$f":"MAX(O110:Z110)","v":0},{"$f":"LARGE((O110:Z110),2)","v":0},{"$f":"SUMIF(E100:E107,E110,K100:K107)","v":0},{"$f":"IF(B110=TRUE,\"WO\",IF(AND(B111=TRUE,B112=TRUE),1,IF(N110=0,0,RANK(N110,N110:N112,0))))","v":0},{"$f":"IF(B100=\"\",0,IF(B110=TRUE,0+N110,3-L110+N110))","v":0},{"$f":"IF(OR(B110=TRUE,AND(B111=TRUE,B112=TRUE)),0.000000000042,K110*0.1+H110*0.01+I110*0.00000001+J110*0.00000000001)","v":0},{"$f":"IF(E100=E110,I100,0)","v":0},{"$f":"IF(E100=E110,J100,0)","v":0},{"$f":"IF(E101=E110,I101,0)","v":0},{"$f":"IF(E101=E110,J101,0)","v":0},{"$f":"IF(E103=E110,I103,0)","v":0},{"$f":"IF(E103=E110,J103,0)","v":0},{"$f":"IF(E104=E110,I104,0)","v":0},{"$f":"IF(E104=E110,J104,0)","v":0},{"$f":"IF(E106=E110,I106,0)","v":0},{"$f":"IF(E106=E110,J106,0)","v":0},{"$f":"IF(E107=E110,I107,0)","v":0},{"$f":"IF(E107=E110,J107,0)","v":0}]
[null,false,{"$f":"L111","v":0},{"$f":"'Grups PPP'!D35","v":""},{"$f":"'Grups PPP'!E35","v":""},{"$f":"SUMIF(E100:E107,E111,F100:F107)","v":0},{"$f":"SUMIF(E100:E107,E111,G100:G107)","v":0},{"$f":"IF(B111=TRUE,0,IF(G111=0,0,ROUND(F111/G111,3)))","v":0},{"$f":"MAX(O111:Z111)","v":0},{"$f":"LARGE((O111:Z111),2)","v":0},{"$f":"SUMIF(E100:E107,E111,K100:K107)","v":0},{"$f":"IF(B111=TRUE,\"WO\",IF(AND(B110=TRUE,B112=TRUE),1,IF(N111=0,0,RANK(N111,N110:N112,0))))","v":0},{"$f":"IF(B100=\"\",0,IF(B111=TRUE,0+N111,3-L111+N111))","v":0},{"$f":"IF(OR(B111=TRUE,AND(B110=TRUE,B112=TRUE)),0.000000000023,K111*0.1+H111*0.01+I111*0.00000001+J111*0.00000000001)","v":0},{"$f":"IF(E100=E111,I100,0)","v":0},{"$f":"IF(E100=E111,J100,0)","v":0},{"$f":"IF(E101=E111,I101,0)","v":0},{"$f":"IF(E101=E111,J101,0)","v":0},{"$f":"IF(E103=E111,I103,0)","v":0},{"$f":"IF(E103=E111,J103,0)","v":0},{"$f":"IF(E104=E111,I104,0)","v":0},{"$f":"IF(E104=E111,J104,0)","v":0},{"$f":"IF(E106=E111,I106,0)","v":0},{"$f":"IF(E106=E111,J106,0)","v":0},{"$f":"IF(E107=E111,I107,0)","v":0},{"$f":"IF(E107=E111,J107,0)","v":0}]
[null,false,{"$f":"L112","v":0},{"$f":"'Grups PPP'!D36","v":""},{"$f":"'Grups PPP'!E36","v":""},{"$f":"SUMIF(E100:E107,E112,F100:F107)","v":0},{"$f":"SUMIF(E100:E107,E112,G100:G107)","v":0},{"$f":"IF(B112=TRUE,0,IF(G112=0,0,ROUND(F112/G112,3)))","v":0},{"$f":"MAX(O112:Z112)","v":0},{"$f":"LARGE((O112:Z112),2)","v":0},{"$f":"SUMIF(E100:E107,E112,K100:K107)","v":0},{"$f":"IF(B112=TRUE,\"WO\",IF(AND(B110=TRUE,B111=TRUE),1,IF(N112=0,0,RANK(N112,N110:N112,0))))","v":0},{"$f":"IF(B100=\"\",0,IF(B112=TRUE,0+N112,3-L112+N112))","v":0},{"$f":"IF(OR(B112=TRUE,AND(B110=TRUE,B111=TRUE)),0.000000000007,K112*0.1+H112*0.01+I112*0.00000001+J112*0.00000000001)","v":0},{"$f":"IF(E100=E112,I100,0)","v":0},{"$f":"IF(E100=E112,J100,0)","v":0},{"$f":"IF(E101=E112,I101,0)","v":0},{"$f":"IF(E101=E112,J101,0)","v":0},{"$f":"IF(E103=E112,I103,0)","v":0},{"$f":"IF(E103=E112,J103,0)","v":0},{"$f":"IF(E104=E112,I104,0)","v":0},{"$f":"IF(E104=E112,J104,0)","v":0},{"$f":"IF(E106=E112,I106,0)","v":0},{"$f":"IF(E106=E112,J106,0)","v":0},{"$f":"IF(E107=E112,I107,0)","v":0},{"$f":"IF(E107=E112,J107,0)","v":0}]
[]
[null,null,null,null,null,"Boles","Ent","Mitj","SM1","SM2","Punts"]
[null,{"$f":"IF('Rànquing Inicial'!$D$150>21,\"Grup AN\",\"\")","v":""},null,null,{"$f":"IF(D124>1,\"\",IF(OR(B126=TRUE,B127=TRUE),E125,E126))","v":""},null,null,{"$f":"IF(G115=\"\",\"\",ROUND(F115/G115,3))","v":""},null,null,{"$f":"IF(H115=\"\",\"\",IF(F115>F116,2,IF(F115<F116,0,1)))","v":""}]
[null,null,null,null,{"$f":"IF(D124>1,\"\",IF(B127=TRUE,E126,E127))","v":""},null,{"$f":"IF(G115=\"\",\"\",G115)","v":""},{"$f":"IF(G116=\"\",\"\",ROUND(F116/G116,3))","v":""},null,null,{"$f":"IF(H116=\"\",\"\",IF(F116>F115,2,IF(F116<F115,0,1)))","v":""}]
[]
[null,null,null,null,{"$f":"IF(D124>1,\"\",IF(B125=TRUE,E126,E125))","v":""},null,null,{"$f":"IF(G118=\"\",\"\",ROUND(F118/G118,3))","v":""},null,null,{"$f":"IF(H118=\"\",\"\",IF(F118>F119,2,IF(F118<F119,0,1)))","v":""}]
[null,null,null,null,{"$f":"IF(D124>1,\"\",IF(B127=TRUE,E126,E127))","v":""},null,{"$f":"IF(G118=\"\",\"\",G118)","v":""},{"$f":"IF(G119=\"\",\"\",ROUND(F119/G119,3))","v":""},null,null,{"$f":"IF(H119=\"\",\"\",IF(F119>F118,2,IF(F119<F118,0,1)))","v":""}]
[]
[null,null,null,null,{"$f":"IF(D124>1,\"\",IF(OR(B125=TRUE,B126=TRUE,B127=TRUE),\"\",E125))","v":""},null,null,{"$f":"IF(G121=\"\",\"\",ROUND(F121/G121,3))","v":""},null,null,{"$f":"IF(H121=\"\",\"\",IF(F121>F122,2,IF(F121<F122,0,1)))","v":""}]
[null,null,null,null,{"$f":"IF(OR(B125=TRUE,B126=TRUE,B127=TRUE),\"\",E126)","v":""},null,{"$f":"IF(G121=\"\",\"\",G121)","v":""},{"$f":"IF(G122=\"\",\"\",ROUND(F122/G122,3))","v":""},null,null,{"$f":"IF(H122=\"\",\"\",IF(F122>F121,2,IF(F122<F121,0,1)))","v":""}]
[]
[null,"¿WO?",null,{"$f":"COUNTIF(B125:B127,\"VERDADERO\")","v":0},"Jugador","Boles","Ent","Mitj","SM1","SM2","P",{"$f":"B115","v":""}]
[null,false,{"$f":"L125","v":0},{"$f":"'Grups PPP'!D38","v":""},{"$f":"'Grups PPP'!E38","v":""},{"$f":"SUMIF(E115:E122,E125,F115:F122)","v":0},{"$f":"SUMIF(E115:E122,E125,G115:G122)","v":0},{"$f":"IF(B125=TRUE,0,IF(G125=0,0,ROUND(F125/G125,3)))","v":0},{"$f":"MAX(O125:Z125)","v":0},{"$f":"LARGE((O125:Z125),2)","v":0},{"$f":"SUMIF(E115:E122,E125,K115:K122)","v":0},{"$f":"IF(B125=TRUE,\"WO\",IF(AND(B126=TRUE,B127=TRUE),1,IF(N125=0,0,RANK(N125,N125:N127,0))))","v":0},{"$f":"IF(B115=\"\",0,IF(B125=TRUE,0+N125,3-L125+N125))","v":0},{"$f":"IF(OR(B125=TRUE,AND(B126=TRUE,B127=TRUE)),0.000000000041,K125*0.1+H125*0.01+I125*0.00000001+J125*0.00000000001)","v":0},{"$f":"IF(E115=E125,I115,0)","v":0},{"$f":"IF(E115=E125,J115,0)","v":0},{"$f":"IF(E116=E125,I116,0)","v":0},{"$f":"IF(E116=E125,J116,0)","v":0},{"$f":"IF(E118=E125,I118,0)","v":0},{"$f":"IF(E118=E125,J118,0)","v":0},{"$f":"IF(E119=E125,I119,0)","v":0},{"$f":"IF(E119=E125,J119,0)","v":0},{"$f":"IF(E121=E125,I121,0)","v":0},{"$f":"IF(E121=E125,J121,0)","v":0},{"$f":"IF(E122=E125,I122,0)","v":0},{"$f":"IF(E122=E125,J122,0)","v":0}]
[null,false,{"$f":"L126","v":0},{"$f":"'Grups PPP'!D39","v":""},{"$f":"'Grups PPP'!E39","v":""},{"$f":"SUMIF(E115:E122,E126,F115:F122)","v":0},{"$f":"SUMIF(E115:E122,E126,G115:G122)","v":0},{"$f":"IF(B126=TRUE,0,IF(G126=0,0,ROUND(F126/G126,3)))","v":0},{"$f":"MAX(O126:Z126)","v":0},{"$f":"LARGE((O126:Z126),2)","v":0},{"$f":"SUMIF(E115:E122,E126,K115:K122)","v":0},{"$f":"IF(B126=TRUE,\"WO\",IF(AND(B125=TRUE,B127=TRUE),1,IF(N126=0,0,RANK(N126,N125:N127,0))))","v":0},{"$f":"IF(B115=\"\",0,IF(B126=TRUE,0+N126,3-L126+N126))","v":0},{"$f":"IF(OR(B126=TRUE,AND(B125=TRUE,B127=TRUE)),0.000000000024,K126*0.1+H126*0.01+I126*0.00000001+J126*0.00000000001)","v":0},{"$f":"IF(E115=E126,I115,0)","v":0},{"$f":"IF(E115=E126,J115,0)","v":0},{"$f":"IF(E116=E126,I116,0)","v":0},{"$f":"IF(E116=E126,J116,0)","v":0},{"$f":"IF(E118=E126,I118,0)","v":0},{"$f":"IF(E118=E126,J118,0)","v":0},{"$f":"IF(E119=E126,I119,0)","v":0},{"$f":"IF(E119=E126,J119,0)","v":0},{"$f":"IF(E121=E126,I121,0)","v":0},{"$f":"IF(E121=E126,J121,0)","v":0},{"$f":"IF(E122=E126,I122,0)","v":0},{"$f":"IF(E122=E126,J122,0)","v":0}]
[null,false,{"$f":"L127","v":0},{"$f":"'Grups PPP'!D40","v":""},{"$f":"'Grups PPP'!E40","v":""},{"$f":"SUMIF(E115:E122,E127,F115:F122)","v":0},{"$f":"SUMIF(E115:E122,E127,G115:G122)","v":0},{"$f":"IF(B127=TRUE,0,IF(G127=0,0,ROUND(F127/G127,3)))","v":0},{"$f":"MAX(O127:Z127)","v":0},{"$f":"LARGE((O127:Z127),2)","v":0},{"$f":"SUMIF(E115:E122,E127,K115:K122)","v":0},{"$f":"IF(B127=TRUE,\"WO\",IF(AND(B125=TRUE,B126=TRUE),1,IF(N127=0,0,RANK(N127,N125:N127,0))))","v":0},{"$f":"IF(B115=\"\",0,IF(B127=TRUE,0+N127,3-L127+N127))","v":0},{"$f":"IF(OR(B127=TRUE,AND(B125=TRUE,B126=TRUE)),0.000000000008,K127*0.1+H127*0.01+I127*0.00000001+J127*0.00000000001)","v":0},{"$f":"IF(E115=E127,I115,0)","v":0},{"$f":"IF(E115=E127,J115,0)","v":0},{"$f":"IF(E116=E127,I116,0)","v":0},{"$f":"IF(E116=E127,J116,0)","v":0},{"$f":"IF(E118=E127,I118,0)","v":0},{"$f":"IF(E118=E127,J118,0)","v":0},{"$f":"IF(E119=E127,I119,0)","v":0},{"$f":"IF(E119=E127,J119,0)","v":0},{"$f":"IF(E121=E127,I121,0)","v":0},{"$f":"IF(E121=E127,J121,0)","v":0},{"$f":"IF(E122=E127,I122,0)","v":0},{"$f":"IF(E122=E127,J122,0)","v":0}]
[]
[null,null,null,null,null,"Boles","Ent","Mitj","SM1","SM2","Punts"]
[null,{"$f":"IF('Rànquing Inicial'!$D$150>24,\"Grup AO\",\"\")","v":""},null,null,{"$f":"IF(D139>1,\"\",IF(OR(B141=TRUE,B142=TRUE),E140,E141))","v":""},null,null,{"$f":"IF(G130=\"\",\"\",ROUND(F130/G130,3))","v":""},null,null,{"$f":"IF(H130=\"\",\"\",IF(F130>F131,2,IF(F130<F131,0,1)))","v":""}]
[null,null,null,null,{"$f":"IF(D139>1,\"\",IF(B142=TRUE,E141,E142))","v":""},null,{"$f":"IF(G130=\"\",\"\",G130)","v":""},{"$f":"IF(G131=\"\",\"\",ROUND(F131/G131,3))","v":""},null,null,{"$f":"IF(H131=\"\",\"\",IF(F131>F130,2,IF(F131<F130,0,1)))","v":""}]
[]
[null,null,null,null,{"$f":"IF(D139>1,\"\",IF(B140=TRUE,E141,E140))","v":""},null,null,{"$f":"IF(G133=\"\",\"\",ROUND(F133/G133,3))","v":""},null,null,{"$f":"IF(H133=\"\",\"\",IF(F133>F134,2,IF(F133<F134,0,1)))","v":""}]
[null,null,null,null,{"$f":"IF(D139>1,\"\",IF(B142=TRUE,E141,E142))","v":""},null,{"$f":"IF(G133=\"\",\"\",G133)","v":""},{"$f":"IF(G134=\"\",\"\",ROUND(F134/G134,3))","v":""},null,null,{"$f":"IF(H134=\"\",\"\",IF(F134>F133,2,IF(F134<F133,0,1)))","v":""}]
[]
[null,null,null,null,{"$f":"IF(D139>1,\"\",IF(OR(B140=TRUE,B141=TRUE,B142=TRUE),\"\",E140))","v":""},null,null,{"$f":"IF(G136=\"\",\"\",ROUND(F136/G136,3))","v":""},null,null,{"$f":"IF(H136=\"\",\"\",IF(F136>F137,2,IF(F136<F137,0,1)))","v":""}]
[null,null,null,null,{"$f":"IF(OR(B140=TRUE,B141=TRUE,B142=TRUE),\"\",E141)","v":""},null,{"$f":"IF(G136=\"\",\"\",G136)","v":""},{"$f":"IF(G137=\"\",\"\",ROUND(F137/G137,3))","v":""},null,null,{"$f":"IF(H137=\"\",\"\",IF(F137>F136,2,IF(F137<F136,0,1)))","v":""}]
[]
[null,"¿WO?",null,{"$f":"COUNTIF(B140:B142,\"VERDADERO\")","v":0},"Jugador","Boles","Ent","Mitj","SM1","SM2","P",{"$f":"B130","v":""}]
[null,false,{"$f":"L140","v":0},{"$f":"'Grups PPP'!H10","v":""},{"$f":"'Grups PPP'!I10","v":""},{"$f":"SUMIF(E130:E137,E140,F130:F137)","v":0},{"$f":"SUMIF(E130:E137,E140,G130:G137)","v":0},{"$f":"IF(B140=TRUE,0,IF(G140=0,0,ROUND(F140/G140,3)))","v":0},{"$f":"MAX(O140:Z140)","v":0},{"$f":"LARGE((O140:Z140),2)","v":0},{"$f":"SUMIF(E130:E137,E140,K130:K137)","v":0},{"$f":"IF(B140=TRUE,\"WO\",IF(AND(B141=TRUE,B142=TRUE),1,IF(N140=0,0,RANK(N140,N140:N142,0))))","v":0},{"$f":"IF(B130=\"\",0,IF(B140=TRUE,0+N140,3-L140+N140))","v":0},{"$f":"IF(OR(B140=TRUE,AND(B141=TRUE,B142=TRUE)),0.00000000004,K140*0.1+H140*0.01+I140*0.00000001+J140*0.00000000001)","v":0},{"$f":"IF(E130=E140,I130,0)","v":0},{"$f":"IF(E130=E140,J130,0)","v":0},{"$f":"IF(E131=E140,I131,0)","v":0},{"$f":"IF(E131=E140,J131,0)","v":0},{"$f":"IF(E133=E140,I133,0)","v":0},{"$f":"IF(E133=E140,J133,0)","v":0},{"$f":"IF(E134=E140,I134,0)","v":0},{"$f":"IF(E134=E140,J134,0)","v":0},{"$f":"IF(E136=E140,I136,0)","v":0},{"$f":"IF(E136=E140,J136,0)","v":0},{"$f":"IF(E137=E140,I137,0)","v":0},{"$f":"IF(E137=E140,J137,0)","v":0}]
[null,false,{"$f":"L141","v":0},{"$f":"'Grups PPP'!H11","v":""},{"$f":"'Grups PPP'!I11","v":""},{"$f":"SUMIF(E130:E137,E141,F130:F137)","v":0},{"$f":"SUMIF(E130:E137,E141,G130:G137)","v":0},{"$f":"IF(B141=TRUE,0,IF(G141=0,0,ROUND(F141/G141,3)))","v":0},{"$f":"MAX(O141:Z141)","v":0},{"$f":"LARGE((O141:Z141),2)","v":0},{"$f":"SUMIF(E130:E137,E141,K130:K137)","v":0},{"$f":"IF(B141=TRUE,\"WO\",IF(AND(B140=TRUE,B142=TRUE),1,IF(N141=0,0,RANK(N141,N140:N142,0))))","v":0},{"$f":"IF(B130=\"\",0,IF(B141=TRUE,0+N141,3-L141+N141))","v":0},{"$f":"IF(OR(B141=TRUE,AND(B140=TRUE,B142=TRUE)),0.000000000025,K141*0.1+H141*0.01+I141*0.00000001+J141*0.00000000001)","v":0},{"$f":"IF(E130=E141,I130,0)","v":0},{"$f":"IF(E130=E141,J130,0)","v":0},{"$f":"IF(E131=E141,I131,0)","v":0},{"$f":"IF(E131=E141,J131,0)","v":0},{"$f":"IF(E133=E141,I133,0)","v":0},{"$f":"IF(E133=E141,J133,0)","v":0},{"$f":"IF(E134=E141,I134,0)","v":0},{"$f":"IF(E134=E141,J134,0)","v":0},{"$f":"IF(E136=E141,I136,0)","v":0},{"$f":"IF(E136=E141,J136,0)","v":0},{"$f":"IF(E137=E141,I137,0)","v":0},{"$f":"IF(E137=E141,J137,0)","v":0}]
[null,false,{"$f":"L142","v":0},{"$f":"'Grups PPP'!H12","v":""},{"$f":"'Grups PPP'!I12","v":""},{"$f":"SUMIF(E130:E137,E142,F130:F137)","v":0},{"$f":"SUMIF(E130:E137,E142,G130:G137)","v":0},{"$f":"IF(B142=TRUE,0,IF(G142=0,0,ROUND(F142/G142,3)))","v":0},{"$f":"MAX(O142:Z142)","v":0},{"$f":"LARGE((O142:Z142),2)","v":0},{"$f":"SUMIF(E130:E137,E142,K130:K137)","v":0},{"$f":"IF(B142=TRUE,\"WO\",IF(AND(B140=TRUE,B141=TRUE),1,IF(N142=0,0,RANK(N142,N140:N142,0))))","v":0},{"$f":"IF(B130=\"\",0,IF(B142=TRUE,0+N142,3-L142+N142))","v":0},{"$f":"IF(OR(B142=TRUE,AND(B140=TRUE,B141=TRUE)),0.000000000009,K142*0.1+H142*0.01+I142*0.00000001+J142*0.00000000001)","v":0},{"$f":"IF(E130=E142,I130,0)","v":0},{"$f":"IF(E130=E142,J130,0)","v":0},{"$f":"IF(E131=E142,I131,0)","v":0},{"$f":"IF(E131=E142,J131,0)","v":0},{"$f":"IF(E133=E142,I133,0)","v":0},{"$f":"IF(E133=E142,J133,0)","v":0},{"$f":"IF(E134=E142,I134,0)","v":0},{"$f":"IF(E134=E142,J134,0)","v":0},{"$f":"IF(E136=E142,I136,0)","v":0},{"$f":"IF(E136=E142,J136,0)","v":0},{"$f":"IF(E137=E142,I137,0)","v":0},{"$f":"IF(E137=E142,J137,0)","v":0}]
[]
[null,null,null,null,null,"Boles","Ent","Mitj","SM1","SM2","Punts"]
[null,{"$f":"IF('Rànquing Inicial'!$D$150>27,\"Grup AP\",\"\")","v":""},null,null,{"$f":"IF(D154>1,\"\",IF(OR(B156=TRUE,B157=TRUE),E155,E156))","v":""},null,null,{"$f":"IF(G145=\"\",\"\",ROUND(F145/G145,3))","v":""},null,null,{"$f":"IF(H145=\"\",\"\",IF(F145>F146,2,IF(F145<F146,0,1)))","v":""}]
[null,null,null,null,{"$f":"IF(D154>1,\"\",IF(B157=TRUE,E156,E157))","v":""},null,{"$f":"IF(G145=\"\",\"\",G145)","v":""},{"$f":"IF(G146=\"\",\"\",ROUND(F146/G146,3))","v":""},null,null,{"$f":"IF(H146=\"\",\"\",IF(F146>F145,2,IF(F146<F145,0,1)))","v":""}]
[]
[null,null,null,null,{"$f":"IF(D154>1,\"\",IF(B155=TRUE,E156,E155))","v":""},null,null,{"$f":"IF(G148=\"\",\"\",ROUND(F148/G148,3))","v":""},null,null,{"$f":"IF(H148=\"\",\"\",IF(F148>F149,2,IF(F148<F149,0,1)))","v":""}]
[null,null,null,null,{"$f":"IF(D154>1,\"\",IF(B157=TRUE,E156,E157))","v":""},null,{"$f":"IF(G148=\"\",\"\",G148)","v":""},{"$f":"IF(G149=\"\",\"\",ROUND(F149/G149,3))","v":""},null,null,{"$f":"IF(H149=\"\",\"\",IF(F149>F148,2,IF(F149<F148,0,1)))","v":""}]
[]
[null,null,null,null,{"$f":"IF(D154>1,\"\",IF(OR(B155=TRUE,B156=TRUE,B157=TRUE),\"\",E155))","v":""},null,null,{"$f":"IF(G151=\"\",\"\",ROUND(F151/G151,3))","v":""},null,null,{"$f":"IF(H151=\"\",\"\",IF(F151>F152,2,IF(F151<F152,0,1)))","v":""}]
[null,null,null,null,{"$f":"IF(OR(B155=TRUE,B156=TRUE,B157=TRUE),\"\",E156)","v":""},null,{"$f":"IF(G151=\"\",\"\",G151)","v":""},{"$f":"IF(G152=\"\",\"\",ROUND(F152/G152,3))","v":""},null,null,{"$f":"IF(H152=\"\",\"\",IF(F152>F151,2,IF(F152<F151,0,1)))","v":""}]
[]
[null,"¿WO?",null,{"$f":"COUNTIF(B155:B157,\"VERDADERO\")","v":0},"Jugador","Boles","Ent","Mitj","SM1","SM2","P",{"$f":"B145","v":""}]
[null,false,{"$f":"L155","v":0},{"$f":"'Grups PPP'!H14","v":""},{"$f":"'Grups PPP'!I14","v":""},{"$f":"SUMIF(E145:E152,E155,F145:F152)","v":0},{"$f":"SUMIF(E145:E152,E155,G145:G152)","v":0},{"$f":"IF(B155=TRUE,0,IF(G155=0,0,ROUND(F155/G155,3)))","v":0},{"$f":"MAX(O155:Z155)","v":0},{"$f":"LARGE((O155:Z155),2)","v":0},{"$f":"SUMIF(E145:E152,E155,K145:K152)","v":0},{"$f":"IF(B155=TRUE,\"WO\",IF(AND(B156=TRUE,B157=TRUE),1,IF(N155=0,0,RANK(N155,N155:N157,0))))","v":0},{"$f":"IF(B145=\"\",0,IF(B155=TRUE,0+N155,3-L155+N155))","v":0},{"$f":"IF(OR(B155=TRUE,AND(B156=TRUE,B157=TRUE)),0.000000000039,K155*0.1+H155*0.01+I155*0.00000001+J155*0.00000000001)","v":0},{"$f":"IF(E145=E155,I145,0)","v":0},{"$f":"IF(E145=E155,J145,0)","v":0},{"$f":"IF(E146=E155,I146,0)","v":0},{"$f":"IF(E146=E155,J146,0)","v":0},{"$f":"IF(E148=E155,I148,0)","v":0},{"$f":"IF(E148=E155,J148,0)","v":0},{"$f":"IF(E149=E155,I149,0)","v":0},{"$f":"IF(E149=E155,J149,0)","v":0},{"$f":"IF(E151=E155,I151,0)","v":0},{"$f":"IF(E151=E155,J151,0)","v":0},{"$f":"IF(E152=E155,I152,0)","v":0},{"$f":"IF(E152=E155,J152,0)","v":0}]
[null,false,{"$f":"L156","v":0},{"$f":"'Grups PPP'!H15","v":""},{"$f":"'Grups PPP'!I15","v":""},{"$f":"SUMIF(E145:E152,E156,F145:F152)","v":0},{"$f":"SUMIF(E145:E152,E156,G145:G152)","v":0},{"$f":"IF(B156=TRUE,0,IF(G156=0,0,ROUND(F156/G156,3)))","v":0},{"$f":"MAX(O156:Z156)","v":0},{"$f":"LARGE((O156:Z156),2)","v":0},{"$f":"SUMIF(E145:E152,E156,K145:K152)","v":0},{"$f":"IF(B156=TRUE,\"WO\",IF(AND(B155=TRUE,B157=TRUE),1,IF(N156=0,0,RANK(N156,N155:N157,0))))","v":0},{"$f":"IF(B145=\"\",0,IF(B156=TRUE,0+N156,3-L156+N156))","v":0},{"$f":"IF(OR(B156=TRUE,AND(B155=TRUE,B157=TRUE)),0.000000000026,K156*0.1+H156*0.01+I156*0.00000001+J156*0.00000000001)","v":0},{"$f":"IF(E145=E156,I145,0)","v":0},{"$f":"IF(E145=E156,J145,0)","v":0},{"$f":"IF(E146=E156,I146,0)","v":0},{"$f":"IF(E146=E156,J146,0)","v":0},{"$f":"IF(E148=E156,I148,0)","v":0},{"$f":"IF(E148=E156,J148,0)","v":0},{"$f":"IF(E149=E156,I149,0)","v":0},{"$f":"IF(E149=E156,J149,0)","v":0},{"$f":"IF(E151=E156,I151,0)","v":0},{"$f":"IF(E151=E156,J151,0)","v":0},{"$f":"IF(E152=E156,I152,0)","v":0},{"$f":"IF(E152=E156,J152,0)","v":0}]
[null,false,{"$f":"L157","v":0},{"$f":"'Grups PPP'!H16","v":""},{"$f":"'Grups PPP'!I16","v":""},{"$f":"SUMIF(E145:E152,E157,F145:F152)","v":0},{"$f":"SUMIF(E145:E152,E157,G145:G152)","v":0},{"$f":"IF(B157=TRUE,0,IF(G157=0,0,ROUND(F157/G157,3)))","v":0},{"$f":"MAX(O157:Z157)","v":0},{"$f":"LARGE((O157:Z157),2)","v":0},{"$f":"SUMIF(E145:E152,E157,K145:K152)","v":0},{"$f":"IF(B157=TRUE,\"WO\",IF(AND(B155=TRUE,B156=TRUE),1,IF(N157=0,0,RANK(N157,N155:N157,0))))","v":0},{"$f":"IF(B145=\"\",0,IF(B157=TRUE,0+N157,3-L157+N157))","v":0},{"$f":"IF(OR(B157=TRUE,AND(B155=TRUE,B156=TRUE)),0.00000000001,K157*0.1+H157*0.01+I157*0.00000001+J157*0.00000000001)","v":0},{"$f":"IF(E145=E157,I145,0)","v":0},{"$f":"IF(E145=E157,J145,0)","v":0},{"$f":"IF(E146=E157,I146,0)","v":0},{"$f":"IF(E146=E157,J146,0)","v":0},{"$f":"IF(E148=E157,I148,0)","v":0},{"$f":"IF(E148=E157,J148,0)","v":0},{"$f":"IF(E149=E157,I149,0)","v":0},{"$f":"IF(E149=E157,J149,0)","v":0},{"$f":"IF(E151=E157,I151,0)","v":0},{"$f":"IF(E151=E157,J151,0)","v":0},{"$f":"IF(E152=E157,I152,0)","v":0},{"$f":"IF(E152=E157,J152,0)","v":0}]
[]
[null,null,null,null,null,"Boles","Ent","Mitj","SM1","SM2","Punts"]
[null,{"$f":"IF('Rànquing Inicial'!$D$150>30,\"Grup AQ\",\"\")","v":""},null,null,{"$f":"IF(D169>1,\"\",IF(OR(B171=TRUE,B172=TRUE),E170,E171))","v":""},null,null,{"$f":"IF(G160=\"\",\"\",ROUND(F160/G160,3))","v":""},null,null,{"$f":"IF(H160=\"\",\"\",IF(F160>F161,2,IF(F160<F161,0,1)))","v":""}]
[null,null,null,null,{"$f":"IF(D169>1,\"\",IF(B172=TRUE,E171,E172))","v":""},null,{"$f":"IF(G160=\"\",\"\",G160)","v":""},{"$f":"IF(G161=\"\",\"\",ROUND(F161/G161,3))","v":""},null,null,{"$f":"IF(H161=\"\",\"\",IF(F161>F160,2,IF(F161<F160,0,1)))","v":""}]
[]
[null,null,null,null,{"$f":"IF(D169>1,\"\",IF(B170=TRUE,E171,E170))","v":""},null,null,{"$f":"IF(G163=\"\",\"\",ROUND(F163/G163,3))","v":""},null,null,{"$f":"IF(H163=\"\",\"\",IF(F163>F164,2,IF(F163<F164,0,1)))","v":""}]
[null,null,null,null,{"$f":"IF(D169>1,\"\",IF(B172=TRUE,E171,E172))","v":""},null,{"$f":"IF(G163=\"\",\"\",G163)","v":""},{"$f":"IF(G164=\"\",\"\",ROUND(F164/G164,3))","v":""},null,null,{"$f":"IF(H164=\"\",\"\",IF(F164>F163,2,IF(F164<F163,0,1)))","v":""}]
[]
[null,null,null,null,{"$f":"IF(D169>1,\"\",IF(OR(B170=TRUE,B171=TRUE,B172=TRUE),\"\",E170))","v":""},null,null,{"$f":"IF(G166=\"\",\"\",ROUND(F166/G166,3))","v":""},null,null,{"$f":"IF(H166=\"\",\"\",IF(F166>F167,2,IF(F166<F167,0,1)))","v":""}]
[null,null,null,null,{"$f":"IF(OR(B170=TRUE,B171=TRUE,B172=TRUE),\"\",E171)","v":""},null,{"$f":"IF(G166=\"\",\"\",G166)","v":""},{"$f":"IF(G167=\"\",\"\",ROUND(F167/G167,3))","v":""},null,null,{"$f":"IF(H167=\"\",\"\",IF(F167>F166,2,IF(F167<F166,0,1)))","v":""}]
[]
[null,"¿WO?",null,{"$f":"COUNTIF(B170:B172,\"VERDADERO\")","v":0},"Jugador","Boles","Ent","Mitj","SM1","SM2","P",{"$f":"B160","v":""}]
[null,false,{"$f":"L170","v":0},{"$f":"'Grups PPP'!H18","v":""},{"$f":"'Grups PPP'!I18","v":""},{"$f":"SUMIF(E160:E167,E170,F160:F167)","v":0},{"$f":"SUMIF(E160:E167,E170,G160:G167)","v":0},{"$f":"IF(B170=TRUE,0,IF(G170=0,0,ROUND(F170/G170,3)))","v":0},{"$f":"MAX(O170:Z170)","v":0},{"$f":"LARGE((O170:Z170),2)","v":0},{"$f":"SUMIF(E160:E167,E170,K160:K167)","v":0},{"$f":"IF(B170=TRUE,\"WO\",IF(AND(B171=TRUE,B172=TRUE),1,IF(N170=0,0,RANK(N170,N170:N172,0))))","v":0},{"$f":"IF(B160=\"\",0,IF(B170=TRUE,0+N170,3-L170+N170))","v":0},{"$f":"IF(OR(B170=TRUE,AND(B171=TRUE,B172=TRUE)),0.000000000038,K170*0.1+H170*0.01+I170*0.00000001+J170*0.00000000001)","v":0},{"$f":"IF(E160=E170,I160,0)","v":0},{"$f":"IF(E160=E170,J160,0)","v":0},{"$f":"IF(E161=E170,I161,0)","v":0},{"$f":"IF(E161=E170,J161,0)","v":0},{"$f":"IF(E163=E170,I163,0)","v":0},{"$f":"IF(E163=E170,J163,0)","v":0},{"$f":"IF(E164=E170,I164,0)","v":0},{"$f":"IF(E164=E170,J164,0)","v":0},{"$f":"IF(E166=E170,I166,0)","v":0},{"$f":"IF(E166=E170,J166,0)","v":0},{"$f":"IF(E167=E170,I167,0)","v":0},{"$f":"IF(E167=E170,J167,0)","v":0}]
[null,false,{"$f":"L171","v":0},{"$f":"'Grups PPP'!H19","v":""},{"$f":"'Grups PPP'!I19","v":""},{"$f":"SUMIF(E160:E167,E171,F160:F167)","v":0},{"$f":"SUMIF(E160:E167,E171,G160:G167)","v":0},{"$f":"IF(B171=TRUE,0,IF(G171=0,0,ROUND(F171/G171,3)))","v":0},{"$f":"MAX(O171:Z171)","v":0},{"$f":"LARGE((O171:Z171),2)","v":0},{"$f":"SUMIF(E160:E167,E171,K160:K167)","v":0},{"$f":"IF(B171=TRUE,\"WO\",IF(AND(B170=TRUE,B172=TRUE),1,IF(N171=0,0,RANK(N171,N170:N172,0))))","v":0},{"$f":"IF(B160=\"\",0,IF(B171=TRUE,0+N171,3-L171+N171))","v":0},{"$f":"IF(OR(B171=TRUE,AND(B170=TRUE,B172=TRUE)),0.000000000027,K171*0.1+H171*0.01+I171*0.00000001+J171*0.00000000001)","v":0},{"$f":"IF(E160=E171,I160,0)","v":0},{"$f":"IF(E160=E171,J160,0)","v":0},{"$f":"IF(E161=E171,I161,0)","v":0},{"$f":"IF(E161=E171,J161,0)","v":0},{"$f":"IF(E163=E171,I163,0)","v":0},{"$f":"IF(E163=E171,J163,0)","v":0},{"$f":"IF(E164=E171,I164,0)","v":0},{"$f":"IF(E164=E171,J164,0)","v":0},{"$f":"IF(E166=E171,I166,0)","v":0},{"$f":"IF(E166=E171,J166,0)","v":0},{"$f":"IF(E167=E171,I167,0)","v":0},{"$f":"IF(E167=E171,J167,0)","v":0}]
[null,false,{"$f":"L172","v":0},{"$f":"'Grups PPP'!H20","v":""},{"$f":"'Grups PPP'!I20","v":""},{"$f":"SUMIF(E160:E167,E172,F160:F167)","v":0},{"$f":"SUMIF(E160:E167,E172,G160:G167)","v":0},{"$f":"IF(B172=TRUE,0,IF(G172=0,0,ROUND(F172/G172,3)))","v":0},{"$f":"MAX(O172:Z172)","v":0},{"$f":"LARGE((O172:Z172),2)","v":0},{"$f":"SUMIF(E160:E167,E172,K160:K167)","v":0},{"$f":"IF(B172=TRUE,\"WO\",IF(AND(B170=TRUE,B171=TRUE),1,IF(N172=0,0,RANK(N172,N170:N172,0))))","v":0},{"$f":"IF(B160=\"\",0,IF(B172=TRUE,0+N172,3-L172+N172))","v":0},{"$f":"IF(OR(B172=TRUE,AND(B170=TRUE,B171=TRUE)),0.000000000011,K172*0.1+H172*0.01+I172*0.00000001+J172*0.00000000001)","v":0},{"$f":"IF(E160=E172,I160,0)","v":0},{"$f":"IF(E160=E172,J160,0)","v":0},{"$f":"IF(E161=E172,I161,0)","v":0},{"$f":"IF(E161=E172,J161,0)","v":0},{"$f":"IF(E163=E172,I163,0)","v":0},{"$f":"IF(E163=E172,J163,0)","v":0},{"$f":"IF(E164=E172,I164,0)","v":0},{"$f":"IF(E164=E172,J164,0)","v":0},{"$f":"IF(E166=E172,I166,0)","v":0},{"$f":"IF(E166=E172,J166,0)","v":0},{"$f":"IF(E167=E172,I167,0)","v":0},{"$f":"IF(E167=E172,J167,0)","v":0}]
[]
[null,null,null,null,null,"Boles","Ent","Mitj","SM1","SM2","Punts"]
[null,{"$f":"IF('Rànquing Inicial'!$D$150>33,\"Grup AR\",\"\")","v":""},null,null,{"$f":"IF(D184>1,\"\",IF(OR(B186=TRUE,B187=TRUE),E185,E186))","v":""},null,null,{"$f":"IF(G175=\"\",\"\",ROUND(F175/G175,3))","v":""},null,null,{"$f":"IF(H175=\"\",\"\",IF(F175>F176,2,IF(F175<F176,0,1)))","v":""}]
[null,null,null,null,{"$f":"IF(D184>1,\"\",IF(B187=TRUE,E186,E187))","v":""},null,{"$f":"IF(G175=\"\",\"\",G175)","v":""},{"$f":"IF(G176=\"\",\"\",ROUND(F176/G176,3))","v":""},null,null,{"$f":"IF(H176=\"\",\"\",IF(F176>F175,2,IF(F176<F175,0,1)))","v":""}]
[]
[null,null,null,null,{"$f":"IF(D184>1,\"\",IF(B185=TRUE,E186,E185))","v":""},null,null,{"$f":"IF(G178=\"\",\"\",ROUND(F178/G178,3))","v":""},null,null,{"$f":"IF(H178=\"\",\"\",IF(F178>F179,2,IF(F178<F179,0,1)))","v":""}]
[null,null,null,null,{"$f":"IF(D184>1,\"\",IF(B187=TRUE,E186,E187))","v":""},null,{"$f":"IF(G178=\"\",\"\",G178)","v":""},{"$f":"IF(G179=\"\",\"\",ROUND(F179/G179,3))","v":""},null,null,{"$f":"IF(H179=\"\",\"\",IF(F179>F178,2,IF(F179<F178,0,1)))","v":""}]
[]
[null,null,null,null,{"$f":"IF(D184>1,\"\",IF(OR(B185=TRUE,B186=TRUE,B187=TRUE),\"\",E185))","v":""},null,null,{"$f":"IF(G181=\"\",\"\",ROUND(F181/G181,3))","v":""},null,null,{"$f":"IF(H181=\"\",\"\",IF(F181>F182,2,IF(F181<F182,0,1)))","v":""}]
[null,null,null,null,{"$f":"IF(OR(B185=TRUE,B186=TRUE,B187=TRUE),\"\",E186)","v":""},null,{"$f":"IF(G181=\"\",\"\",G181)","v":""},{"$f":"IF(G182=\"\",\"\",ROUND(F182/G182,3))","v":""},null,null,{"$f":"IF(H182=\"\",\"\",IF(F182>F181,2,IF(F182<F181,0,1)))","v":""}]
[]
[null,"¿WO?",null,{"$f":"COUNTIF(B185:B187,\"VERDADERO\")","v":0},"Jugador","Boles","Ent","Mitj","SM1","SM2","P",{"$f":"B175","v":""}]
[null,false,{"$f":"L185","v":0},{"$f":"'Grups PPP'!H22","v":""},{"$f":"'Grups PPP'!I22","v":""},{"$f":"SUMIF(E175:E182,E185,F175:F182)","v":0},{"$f":"SUMIF(E175:E182,E185,G175:G182)","v":0},{"$f":"IF(B185=TRUE,0,IF(G185=0,0,ROUND(F185/G185,3)))","v":0},{"$f":"MAX(O185:Z185)","v":0},{"$f":"LARGE((O185:Z185),2)","v":0},{"$f":"SUMIF(E175:E182,E185,K175:K182)","v":0},{"$f":"IF(B185=TRUE,\"WO\",IF(AND(B186=TRUE,B187=TRUE),1,IF(N185=0,0,RANK(N185,N185:N187,0))))","v":0},{"$f":"IF(B175=\"\",0,IF(B185=TRUE,0+N185,3-L185+N185))","v":0},{"$f":"IF(OR(B185=TRUE,AND(B186=TRUE,B187=TRUE)),0.000000000037,K185*0.1+H185*0.01+I185*0.00000001+J185*0.00000000001)","v":0},{"$f":"IF(E175=E185,I175,0)","v":0},{"$f":"IF(E175=E185,J175,0)","v":0},{"$f":"IF(E176=E185,I176,0)","v":0},{"$f":"IF(E176=E185,J176,0)","v":0},{"$f":"IF(E178=E185,I178,0)","v":0},{"$f":"IF(E178=E185,J178,0)","v":0},{"$f":"IF(E179=E185,I179,0)","v":0},{"$f":"IF(E179=E185,J179,0)","v":0},{"$f":"IF(E181=E185,I181,0)","v":0},{"$f":"IF(E181=E185,J181,0)","v":0},{"$f":"IF(E182=E185,I182,0)","v":0},{"$f":"IF(E182=E185,J182,0)","v":0}]
[null,false,{"$f":"L186","v":0},{"$f":"'Grups PPP'!H23","v":""},{"$f":"'Grups PPP'!I23","v":""},{"$f":"SUMIF(E175:E182,E186,F175:F182)","v":0},{"$f":"SUMIF(E175:E182,E186,G175:G182)","v":0},{"$f":"IF(B186=TRUE,0,IF(G186=0,0,ROUND(F186/G186,3)))","v":0},{"$f":"MAX(O186:Z186)","v":0},{"$f":"LARGE((O186:Z186),2)","v":0},{"$f":"SUMIF(E175:E182,E186,K175:K182)","v":0},{"$f":"IF(B186=TRUE,\"WO\",IF(AND(B185=TRUE,B187=TRUE),1,IF(N186=0,0,RANK(N186,N185:N187,0))))","v":0},{"$f":"IF(B175=\"\",0,IF(B186=TRUE,0+N186,3-L186+N186))","v":0},{"$f":"IF(OR(B186=TRUE,AND(B185=TRUE,B187=TRUE)),0.000000000028,K186*0.1+H186*0.01+I186*0.00000001+J186*0.00000000001)","v":0},{"$f":"IF(E175=E186,I175,0)","v":0},{"$f":"IF(E175=E186,J175,0)","v":0},{"$f":"IF(E176=E186,I176,0)","v":0},{"$f":"IF(E176=E186,J176,0)","v":0},{"$f":"IF(E178=E186,I178,0)","v":0},{"$f":"IF(E178=E186,J178,0)","v":0},{"$f":"IF(E179=E186,I179,0)","v":0},{"$f":"IF(E179=E186,J179,0)","v":0},{"$f":"IF(E181=E186,I181,0)","v":0},{"$f":"IF(E181=E186,J181,0)","v":0},{"$f":"IF(E182=E186,I182,0)","v":0},{"$f":"IF(E182=E186,J182,0)","v":0}]
[null,false,{"$f":"L187","v":0},{"$f":"'Grups PPP'!H24","v":""},{"$f":"'Grups PPP'!I24","v":""},{"$f":"SUMIF(E175:E182,E187,F175:F182)","v":0},{"$f":"SUMIF(E175:E182,E187,G175:G182)","v":0},{"$f":"IF(B187=TRUE,0,IF(G187=0,0,ROUND(F187/G187,3)))","v":0},{"$f":"MAX(O187:Z187)","v":0},{"$f":"LARGE((O187:Z187),2)","v":0},{"$f":"SUMIF(E175:E182,E187,K175:K182)","v":0},{"$f":"IF(B187=TRUE,\"WO\",IF(AND(B185=TRUE,B186=TRUE),1,IF(N187=0,0,RANK(N187,N185:N187,0))))","v":0},{"$f":"IF(B175=\"\",0,IF(B187=TRUE,0+N187,3-L187+N187))","v":0},{"$f":"IF(OR(B187=TRUE,AND(B185=TRUE,B186=TRUE)),0.000000000012,K187*0.1+H187*0.01+I187*0.00000001+J187*0.00000000001)","v":0},{"$f":"IF(E175=E187,I175,0)","v":0},{"$f":"IF(E175=E187,J175,0)","v":0},{"$f":"IF(E176=E187,I176,0)","v":0},{"$f":"IF(E176=E187,J176,0)","v":0},{"$f":"IF(E178=E187,I178,0)","v":0},{"$f":"IF(E178=E187,J178,0)","v":0},{"$f":"IF(E179=E187,I179,0)","v":0},{"$f":"IF(E179=E187,J179,0)","v":0},{"$f":"IF(E181=E187,I181,0)","v":0},{"$f":"IF(E181=E187,J181,0)","v":0},{"$f":"IF(E182=E187,I182,0)","v":0},{"$f":"IF(E182=E187,J182,0)","v":0}]
[]
[null,null,null,null,null,"Boles","Ent","Mitj","SM1","SM2","Punts"]
[null,{"$f":"IF('Rànquing Inicial'!$D$150>36,\"Grup AS\",\"\")","v":""},null,null,{"$f":"IF(D199>1,\"\",IF(OR(B201=TRUE,B202=TRUE),E200,E201))","v":""},null,null,{"$f":"IF(G190=\"\",\"\",ROUND(F190/G190,3))","v":""},null,null,{"$f":"IF(H190=\"\",\"\",IF(F190>F191,2,IF(F190<F191,0,1)))","v":""}]
[null,null,null,null,{"$f":"IF(D199>1,\"\",IF(B202=TRUE,E201,E202))","v":""},null,{"$f":"IF(G190=\"\",\"\",G190)","v":""},{"$f":"IF(G191=\"\",\"\",ROUND(F191/G191,3))","v":""},null,null,{"$f":"IF(H191=\"\",\"\",IF(F191>F190,2,IF(F191<F190,0,1)))","v":""}]
[]
[null,null,null,null,{"$f":"IF(D199>1,\"\",IF(B200=TRUE,E201,E200))","v":""},null,null,{"$f":"IF(G193=\"\",\"\",ROUND(F193/G193,3))","v":""},null,null,{"$f":"IF(H193=\"\",\"\",IF(F193>F194,2,IF(F193<F194,0,1)))","v":""}]
[null,null,null,null,{"$f":"IF(D199>1,\"\",IF(B202=TRUE,E201,E202))","v":""},null,{"$f":"IF(G193=\"\",\"\",G193)","v":""},{"$f":"IF(G194=\"\",\"\",ROUND(F194/G194,3))","v":""},null,null,{"$f":"IF(H194=\"\",\"\",IF(F194>F193,2,IF(F194<F193,0,1)))","v":""}]
[]
[null,null,null,null,{"$f":"IF(D199>1,\"\",IF(OR(B200=TRUE,B201=TRUE,B202=TRUE),\"\",E200))","v":""},null,null,{"$f":"IF(G196=\"\",\"\",ROUND(F196/G196,3))","v":""},null,null,{"$f":"IF(H196=\"\",\"\",IF(F196>F197,2,IF(F196<F197,0,1)))","v":""}]
[null,null,null,null,{"$f":"IF(OR(B200=TRUE,B201=TRUE,B202=TRUE),\"\",E201)","v":""},null,{"$f":"IF(G196=\"\",\"\",G196)","v":""},{"$f":"IF(G197=\"\",\"\",ROUND(F197/G197,3))","v":""},null,null,{"$f":"IF(H197=\"\",\"\",IF(F197>F196,2,IF(F197<F196,0,1)))","v":""}]
[]
[null,"¿WO?",null,{"$f":"COUNTIF(B200:B202,\"VERDADERO\")","v":0},"Jugador","Boles","Ent","Mitj","SM1","SM2","P",{"$f":"B190","v":""}]
[null,false,{"$f":"L200","v":0},{"$f":"'Grups PPP'!H26","v":""},{"$f":"'Grups PPP'!I26","v":""},{"$f":"SUMIF(E190:E197,E200,F190:F197)","v":0},{"$f":"SUMIF(E190:E197,E200,G190:G197)","v":0},{"$f":"IF(B200=TRUE,0,IF(G200=0,0,ROUND(F200/G200,3)))","v":0},{"$f":"MAX(O200:Z200)","v":0},{"$f":"LARGE((O200:Z200),2)","v":0},{"$f":"SUMIF(E190:E197,E200,K190:K197)","v":0},{"$f":"IF(B200=TRUE,\"WO\",IF(AND(B201=TRUE,B202=TRUE),1,IF(N200=0,0,RANK(N200,N200:N202,0))))","v":0},{"$f":"IF(B190=\"\",0,IF(B200=TRUE,0+N200,3-L200+N200))","v":0},{"$f":"IF(OR(B200=TRUE,AND(B201=TRUE,B202=TRUE)),0.000000000036,K200*0.1+H200*0.01+I200*0.00000001+J200*0.00000000001)","v":0},{"$f":"IF(E190=E200,I190,0)","v":0},{"$f":"IF(E190=E200,J190,0)","v":0},{"$f":"IF(E191=E200,I191,0)","v":0},{"$f":"IF(E191=E200,J191,0)","v":0},{"$f":"IF(E193=E200,I193,0)","v":0},{"$f":"IF(E193=E200,J193,0)","v":0},{"$f":"IF(E194=E200,I194,0)","v":0},{"$f":"IF(E194=E200,J194,0)","v":0},{"$f":"IF(E196=E200,I196,0)","v":0},{"$f":"IF(E196=E200,J196,0)","v":0},{"$f":"IF(E197=E200,I197,0)","v":0},{"$f":"IF(E197=E200,J197,0)","v":0}]
[null,false,{"$f":"L201","v":0},{"$f":"'Grups PPP'!H27","v":""},{"$f":"'Grups PPP'!I27","v":""},{"$f":"SUMIF(E190:E197,E201,F190:F197)","v":0},{"$f":"SUMIF(E190:E197,E201,G190:G197)","v":0},{"$f":"IF(B201=TRUE,0,IF(G201=0,0,ROUND(F201/G201,3)))","v":0},{"$f":"MAX(O201:Z201)","v":0},{"$f":"LARGE((O201:Z201),2)","v":0},{"$f":"SUMIF(E190:E197,E201,K190:K197)","v":0},{"$f":"IF(B201=TRUE,\"WO\",IF(AND(B200=TRUE,B202=TRUE),1,IF(N201=0,0,RANK(N201,N200:N202,0))))","v":0},{"$f":"IF(B190=\"\",0,IF(B201=TRUE,0+N201,3-L201+N201))","v":0},{"$f":"IF(OR(B201=TRUE,AND(B200=TRUE,B202=TRUE)),0.000000000029,K201*0.1+H201*0.01+I201*0.00000001+J201*0.00000000001)","v":0},{"$f":"IF(E190=E201,I190,0)","v":0},{"$f":"IF(E190=E201,J190,0)","v":0},{"$f":"IF(E191=E201,I191,0)","v":0},{"$f":"IF(E191=E201,J191,0)","v":0},{"$f":"IF(E193=E201,I193,0)","v":0},{"$f":"IF(E193=E201,J193,0)","v":0},{"$f":"IF(E194=E201,I194,0)","v":0},{"$f":"IF(E194=E201,J194,0)","v":0},{"$f":"IF(E196=E201,I196,0)","v":0},{"$f":"IF(E196=E201,J196,0)","v":0},{"$f":"IF(E197=E201,I197,0)","v":0},{"$f":"IF(E197=E201,J197,0)","v":0}]
[null,false,{"$f":"L202","v":0},{"$f":"'Grups PPP'!H28","v":""},{"$f":"'Grups PPP'!I28","v":""},{"$f":"SUMIF(E190:E197,E202,F190:F197)","v":0},{"$f":"SUMIF(E190:E197,E202,G190:G197)","v":0},{"$f":"IF(B202=TRUE,0,IF(G202=0,0,ROUND(F202/G202,3)))","v":0},{"$f":"MAX(O202:Z202)","v":0},{"$f":"LARGE((O202:Z202),2)","v":0},{"$f":"SUMIF(E190:E197,E202,K190:K197)","v":0},{"$f":"IF(B202=TRUE,\"WO\",IF(AND(B200=TRUE,B201=TRUE),1,IF(N202=0,0,RANK(N202,N200:N202,0))))","v":0},{"$f":"IF(B190=\"\",0,IF(B202=TRUE,0+N202,3-L202+N202))","v":0},{"$f":"IF(OR(B202=TRUE,AND(B200=TRUE,B201=TRUE)),0.000000000013,K202*0.1+H202*0.01+I202*0.00000001+J202*0.00000000001)","v":0},{"$f":"IF(E190=E202,I190,0)","v":0},{"$f":"IF(E190=E202,J190,0)","v":0},{"$f":"IF(E191=E202,I191,0)","v":0},{"$f":"IF(E191=E202,J191,0)","v":0},{"$f":"IF(E193=E202,I193,0)","v":0},{"$f":"IF(E193=E202,J193,0)","v":0},{"$f":"IF(E194=E202,I194,0)","v":0},{"$f":"IF(E194=E202,J194,0)","v":0},{"$f":"IF(E196=E202,I196,0)","v":0},{"$f":"IF(E196=E202,J196,0)","v":0},{"$f":"IF(E197=E202,I197,0)","v":0},{"$f":"IF(E197=E202,J197,0)","v":0}]
[]
[null,null,null,null,null,"Boles","Ent","Mitj","SM1","SM2","Punts"]
[null,{"$f":"IF('Rànquing Inicial'!$D$150>39,\"Grup AT\",\"\")","v":""},null,null,{"$f":"IF(D214>1,\"\",IF(OR(B216=TRUE,B217=TRUE),E215,E216))","v":""},null,null,{"$f":"IF(G205=\"\",\"\",ROUND(F205/G205,3))","v":""},null,null,{"$f":"IF(H205=\"\",\"\",IF(F205>F206,2,IF(F205<F206,0,1)))","v":""}]
[null,null,null,null,{"$f":"IF(D214>1,\"\",IF(B217=TRUE,E216,E217))","v":""},null,{"$f":"IF(G205=\"\",\"\",G205)","v":""},{"$f":"IF(G206=\"\",\"\",ROUND(F206/G206,3))","v":""},null,null,{"$f":"IF(H206=\"\",\"\",IF(F206>F205,2,IF(F206<F205,0,1)))","v":""}]
[]
[null,null,null,null,{"$f":"IF(D214>1,\"\",IF(B215=TRUE,E216,E215))","v":""},null,null,{"$f":"IF(G208=\"\",\"\",ROUND(F208/G208,3))","v":""},null,null,{"$f":"IF(H208=\"\",\"\",IF(F208>F209,2,IF(F208<F209,0,1)))","v":""}]
[null,null,null,null,{"$f":"IF(D214>1,\"\",IF(B217=TRUE,E216,E217))","v":""},null,{"$f":"IF(G208=\"\",\"\",G208)","v":""},{"$f":"IF(G209=\"\",\"\",ROUND(F209/G209,3))","v":""},null,null,{"$f":"IF(H209=\"\",\"\",IF(F209>F208,2,IF(F209<F208,0,1)))","v":""}]
[]
[null,null,null,null,{"$f":"IF(D214>1,\"\",IF(OR(B215=TRUE,B216=TRUE,B217=TRUE),\"\",E215))","v":""},null,null,{"$f":"IF(G211=\"\",\"\",ROUND(F211/G211,3))","v":""},null,null,{"$f":"IF(H211=\"\",\"\",IF(F211>F212,2,IF(F211<F212,0,1)))","v":""}]
[null,null,null,null,{"$f":"IF(OR(B215=TRUE,B216=TRUE,B217=TRUE),\"\",E216)","v":""},null,{"$f":"IF(G211=\"\",\"\",G211)","v":""},{"$f":"IF(G212=\"\",\"\",ROUND(F212/G212,3))","v":""},null,null,{"$f":"IF(H212=\"\",\"\",IF(F212>F211,2,IF(F212<F211,0,1)))","v":""}]
[]
[null,"¿WO?",null,{"$f":"COUNTIF(B215:B217,\"VERDADERO\")","v":0},"Jugador","Boles","Ent","Mitj","SM1","SM2","P",{"$f":"B205","v":""}]
[null,false,{"$f":"L215","v":0},{"$f":"'Grups PPP'!H30","v":""},{"$f":"'Grups PPP'!I30","v":""},{"$f":"SUMIF(E205:E212,E215,F205:F212)","v":0},{"$f":"SUMIF(E205:E212,E215,G205:G212)","v":0},{"$f":"IF(B215=TRUE,0,IF(G215=0,0,ROUND(F215/G215,3)))","v":0},{"$f":"MAX(O215:Z215)","v":0},{"$f":"LARGE((O215:Z215),2)","v":0},{"$f":"SUMIF(E205:E212,E215,K205:K212)","v":0},{"$f":"IF(B215=TRUE,\"WO\",IF(AND(B216=TRUE,B217=TRUE),1,IF(N215=0,0,RANK(N215,N215:N217,0))))","v":0},{"$f":"IF(B205=\"\",0,IF(B215=TRUE,0+N215,3-L215+N215))","v":0},{"$f":"IF(OR(B215=TRUE,AND(B216=TRUE,B217=TRUE)),0.000000000035,K215*0.1+H215*0.01+I215*0.00000001+J215*0.00000000001)","v":0},{"$f":"IF(E205=E215,I205,0)","v":0},{"$f":"IF(E205=E215,J205,0)","v":0},{"$f":"IF(E206=E215,I206,0)","v":0},{"$f":"IF(E206=E215,J206,0)","v":0},{"$f":"IF(E208=E215,I208,0)","v":0},{"$f":"IF(E208=E215,J208,0)","v":0},{"$f":"IF(E209=E215,I209,0)","v":0},{"$f":"IF(E209=E215,J209,0)","v":0},{"$f":"IF(E211=E215,I211,0)","v":0},{"$f":"IF(E211=E215,J211,0)","v":0},{"$f":"IF(E212=E215,I212,0)","v":0},{"$f":"IF(E212=E215,J212,0)","v":0}]
[null,false,{"$f":"L216","v":0},{"$f":"'Grups PPP'!H31","v":""},{"$f":"'Grups PPP'!I31","v":""},{"$f":"SUMIF(E205:E212,E216,F205:F212)","v":0},{"$f":"SUMIF(E205:E212,E216,G205:G212)","v":0},{"$f":"IF(B216=TRUE,0,IF(G216=0,0,ROUND(F216/G216,3)))","v":0},{"$f":"MAX(O216:Z216)","v":0},{"$f":"LARGE((O216:Z216),2)","v":0},{"$f":"SUMIF(E205:E212,E216,K205:K212)","v":0},{"$f":"IF(B216=TRUE,\"WO\",IF(AND(B215=TRUE,B217=TRUE),1,IF(N216=0,0,RANK(N216,N215:N217,0))))","v":0},{"$f":"IF(B205=\"\",0,IF(B216=TRUE,0+N216,3-L216+N216))","v":0},{"$f":"IF(OR(B216=TRUE,AND(B215=TRUE,B217=TRUE)),0.00000000003,K216*0.1+H216*0.01+I216*0.00000001+J216*0.00000000001)","v":0},{"$f":"IF(E205=E216,I205,0)","v":0},{"$f":"IF(E205=E216,J205,0)","v":0},{"$f":"IF(E206=E216,I206,0)","v":0},{"$f":"IF(E206=E216,J206,0)","v":0},{"$f":"IF(E208=E216,I208,0)","v":0},{"$f":"IF(E208=E216,J208,0)","v":0},{"$f":"IF(E209=E216,I209,0)","v":0},{"$f":"IF(E209=E216,J209,0)","v":0},{"$f":"IF(E211=E216,I211,0)","v":0},{"$f":"IF(E211=E216,J211,0)","v":0},{"$f":"IF(E212=E216,I212,0)","v":0},{"$f":"IF(E212=E216,J212,0)","v":0}]
[null,false,{"$f":"L217","v":0},{"$f":"'Grups PPP'!H32","v":""},{"$f":"'Grups PPP'!I32","v":""},{"$f":"SUMIF(E205:E212,E217,F205:F212)","v":0},{"$f":"SUMIF(E205:E212,E217,G205:G212)","v":0},{"$f":"IF(B217=TRUE,0,IF(G217=0,0,ROUND(F217/G217,3)))","v":0},{"$f":"MAX(O217:Z217)","v":0},{"$f":"LARGE((O217:Z217),2)","v":0},{"$f":"SUMIF(E205:E212,E217,K205:K212)","v":0},{"$f":"IF(B217=TRUE,\"WO\",IF(AND(B215=TRUE,B216=TRUE),1,IF(N217=0,0,RANK(N217,N215:N217,0))))","v":0},{"$f":"IF(B205=\"\",0,IF(B217=TRUE,0+N217,3-L217+N217))","v":0},{"$f":"IF(OR(B217=TRUE,AND(B215=TRUE,B216=TRUE)),0.000000000014,K217*0.1+H217*0.01+I217*0.00000001+J217*0.00000000001)","v":0},{"$f":"IF(E205=E217,I205,0)","v":0},{"$f":"IF(E205=E217,J205,0)","v":0},{"$f":"IF(E206=E217,I206,0)","v":0},{"$f":"IF(E206=E217,J206,0)","v":0},{"$f":"IF(E208=E217,I208,0)","v":0},{"$f":"IF(E208=E217,J208,0)","v":0},{"$f":"IF(E209=E217,I209,0)","v":0},{"$f":"IF(E209=E217,J209,0)","v":0},{"$f":"IF(E211=E217,I211,0)","v":0},{"$f":"IF(E211=E217,J211,0)","v":0},{"$f":"IF(E212=E217,I212,0)","v":0},{"$f":"IF(E212=E217,J212,0)","v":0}]
[]
[null,null,null,null,null,"Boles","Ent","Mitj","SM1","SM2","Punts"]
[null,{"$f":"IF('Rànquing Inicial'!$D$150>42,\"Grup AU\",\"\")","v":""},null,null,{"$f":"IF(D229>1,\"\",IF(OR(B231=TRUE,B232=TRUE),E230,E231))","v":""},null,null,{"$f":"IF(G220=\"\",\"\",ROUND(F220/G220,3))","v":""},null,null,{"$f":"IF(H220=\"\",\"\",IF(F220>F221,2,IF(F220<F221,0,1)))","v":""}]
[null,null,null,null,{"$f":"IF(D229>1,\"\",IF(B232=TRUE,E231,E232))","v":""},null,{"$f":"IF(G220=\"\",\"\",G220)","v":""},{"$f":"IF(G221=\"\",\"\",ROUND(F221/G221,3))","v":""},null,null,{"$f":"IF(H221=\"\",\"\",IF(F221>F220,2,IF(F221<F220,0,1)))","v":""}]
[]
[null,null,null,null,{"$f":"IF(D229>1,\"\",IF(B230=TRUE,E231,E230))","v":""},null,null,{"$f":"IF(G223=\"\",\"\",ROUND(F223/G223,3))","v":""},null,null,{"$f":"IF(H223=\"\",\"\",IF(F223>F224,2,IF(F223<F224,0,1)))","v":""}]
[null,null,null,null,{"$f":"IF(D229>1,\"\",IF(B232=TRUE,E231,E232))","v":""},null,{"$f":"IF(G223=\"\",\"\",G223)","v":""},{"$f":"IF(G224=\"\",\"\",ROUND(F224/G224,3))","v":""},null,null,{"$f":"IF(H224=\"\",\"\",IF(F224>F223,2,IF(F224<F223,0,1)))","v":""}]
[]
[null,null,null,null,{"$f":"IF(D229>1,\"\",IF(OR(B230=TRUE,B231=TRUE,B232=TRUE),\"\",E230))","v":""},null,null,{"$f":"IF(G226=\"\",\"\",ROUND(F226/G226,3))","v":""},null,null,{"$f":"IF(H226=\"\",\"\",IF(F226>F227,2,IF(F226<F227,0,1)))","v":""}]
[null,null,null,null,{"$f":"IF(OR(B230=TRUE,B231=TRUE,B232=TRUE),\"\",E231)","v":""},null,{"$f":"IF(G226=\"\",\"\",G226)","v":""},{"$f":"IF(G227=\"\",\"\",ROUND(F227/G227,3))","v":""},null,null,{"$f":"IF(H227=\"\",\"\",IF(F227>F226,2,IF(F227<F226,0,1)))","v":""}]
[]
[null,"¿WO?",null,{"$f":"COUNTIF(B230:B232,\"VERDADERO\")","v":0},"Jugador","Boles","Ent","Mitj","SM1","SM2","P",{"$f":"B220","v":""}]
[null,false,{"$f":"L230","v":0},{"$f":"'Grups PPP'!H34","v":""},{"$f":"'Grups PPP'!I34","v":""},{"$f":"SUMIF(E220:E227,E230,F220:F227)","v":0},{"$f":"SUMIF(E220:E227,E230,G220:G227)","v":0},{"$f":"IF(B230=TRUE,0,IF(G230=0,0,ROUND(F230/G230,3)))","v":0},{"$f":"MAX(O230:Z230)","v":0},{"$f":"LARGE((O230:Z230),2)","v":0},{"$f":"SUMIF(E220:E227,E230,K220:K227)","v":0},{"$f":"IF(B230=TRUE,\"WO\",IF(AND(B231=TRUE,B232=TRUE),1,IF(N230=0,0,RANK(N230,N230:N232,0))))","v":0},{"$f":"IF(B220=\"\",0,IF(B230=TRUE,0+N230,3-L230+N230))","v":0},{"$f":"IF(OR(B230=TRUE,AND(B231=TRUE,B232=TRUE)),0.000000000034,K230*0.1+H230*0.01+I230*0.00000001+J230*0.00000000001)","v":0},{"$f":"IF(E220=E230,I220,0)","v":0},{"$f":"IF(E220=E230,J220,0)","v":0},{"$f":"IF(E221=E230,I221,0)","v":0},{"$f":"IF(E221=E230,J221,0)","v":0},{"$f":"IF(E223=E230,I223,0)","v":0},{"$f":"IF(E223=E230,J223,0)","v":0},{"$f":"IF(E224=E230,I224,0)","v":0},{"$f":"IF(E224=E230,J224,0)","v":0},{"$f":"IF(E226=E230,I226,0)","v":0},{"$f":"IF(E226=E230,J226,0)","v":0},{"$f":"IF(E227=E230,I227,0)","v":0},{"$f":"IF(E227=E230,J227,0)","v":0}]
[null,false,{"$f":"L231","v":0},{"$f":"'Grups PPP'!H35","v":""},{"$f":"'Grups PPP'!I35","v":""},{"$f":"SUMIF(E220:E227,E231,F220:F227)","v":0},{"$f":"SUMIF(E220:E227,E231,G220:G227)","v":0},{"$f":"IF(B231=TRUE,0,IF(G231=0,0,ROUND(F231/G231,3)))","v":0},{"$f":"MAX(O231:Z231)","v":0},{"$f":"LARGE((O231:Z231),2)","v":0},{"$f":"SUMIF(E220:E227,E231,K220:K227)","v":0},{"$f":"IF(B231=TRUE,\"WO\",IF(AND(B230=TRUE,B232=TRUE),1,IF(N231=0,0,RANK(N231,N230:N232,0))))","v":0},{"$f":"IF(B220=\"\",0,IF(B231=TRUE,0+N231,3-L231+N231))","v":0},{"$f":"IF(OR(B231=TRUE,AND(B230=TRUE,B232=TRUE)),0.000000000031,K231*0.1+H231*0.01+I231*0.00000001+J231*0.00000000001)","v":0},{"$f":"IF(E220=E231,I220,0)","v":0},{"$f":"IF(E220=E231,J220,0)","v":0},{"$f":"IF(E221=E231,I221,0)","v":0},{"$f":"IF(E221=E231,J221,0)","v":0},{"$f":"IF(E223=E231,I223,0)","v":0},{"$f":"IF(E223=E231,J223,0)","v":0},{"$f":"IF(E224=E231,I224,0)","v":0},{"$f":"IF(E224=E231,J224,0)","v":0},{"$f":"IF(E226=E231,I226,0)","v":0},{"$f":"IF(E226=E231,J226,0)","v":0},{"$f":"IF(E227=E231,I227,0)","v":0},{"$f":"IF(E227=E231,J227,0)","v":0}]
[null,false,{"$f":"L232","v":0},{"$f":"'Grups PPP'!H36","v":""},{"$f":"'Grups PPP'!I36","v":""},{"$f":"SUMIF(E220:E227,E232,F220:F227)","v":0},{"$f":"SUMIF(E220:E227,E232,G220:G227)","v":0},{"$f":"IF(B232=TRUE,0,IF(G232=0,0,ROUND(F232/G232,3)))","v":0},{"$f":"MAX(O232:Z232)","v":0},{"$f":"LARGE((O232:Z232),2)","v":0},{"$f":"SUMIF(E220:E227,E232,K220:K227)","v":0},{"$f":"IF(B232=TRUE,\"WO\",IF(AND(B230=TRUE,B231=TRUE),1,IF(N232=0,0,RANK(N232,N230:N232,0))))","v":0},{"$f":"IF(B220=\"\",0,IF(B232=TRUE,0+N232,3-L232+N232))","v":0},{"$f":"IF(OR(B232=TRUE,AND(B230=TRUE,B231=TRUE)),0.000000000015,K232*0.1+H232*0.01+I232*0.00000001+J232*0.00000000001)","v":0},{"$f":"IF(E220=E232,I220,0)","v":0},{"$f":"IF(E220=E232,J220,0)","v":0},{"$f":"IF(E221=E232,I221,0)","v":0},{"$f":"IF(E221=E232,J221,0)","v":0},{"$f":"IF(E223=E232,I223,0)","v":0},{"$f":"IF(E223=E232,J223,0)","v":0},{"$f":"IF(E224=E232,I224,0)","v":0},{"$f":"IF(E224=E232,J224,0)","v":0},{"$f":"IF(E226=E232,I226,0)","v":0},{"$f":"IF(E226=E232,J226,0)","v":0},{"$f":"IF(E227=E232,I227,0)","v":0},{"$f":"IF(E227=E232,J227,0)","v":0}]
[]
[null,null,null,null,null,"Boles","Ent","Mitj","SM1","SM2","Punts"]
[null,{"$f":"IF('Rànquing Inicial'!$D$150>45,\"Grup AV\",\"\")","v":""},null,null,{"$f":"IF(D244>1,\"\",IF(OR(B246=TRUE,B247=TRUE),E245,E246))","v":""},null,null,{"$f":"IF(G235=\"\",\"\",ROUND(F235/G235,3))","v":""},null,null,{"$f":"IF(H235=\"\",\"\",IF(F235>F236,2,IF(F235<F236,0,1)))","v":""}]
[null,null,null,null,{"$f":"IF(D244>1,\"\",IF(B247=TRUE,E246,E247))","v":""},null,{"$f":"IF(G235=\"\",\"\",G235)","v":""},{"$f":"IF(G236=\"\",\"\",ROUND(F236/G236,3))","v":""},null,null,{"$f":"IF(H236=\"\",\"\",IF(F236>F235,2,IF(F236<F235,0,1)))","v":""}]
[]
[null,null,null,null,{"$f":"IF(D244>1,\"\",IF(B245=TRUE,E246,E245))","v":""},null,null,{"$f":"IF(G238=\"\",\"\",ROUND(F238/G238,3))","v":""},null,null,{"$f":"IF(H238=\"\",\"\",IF(F238>F239,2,IF(F238<F239,0,1)))","v":""}]
[null,null,null,null,{"$f":"IF(D244>1,\"\",IF(B247=TRUE,E246,E247))","v":""},null,{"$f":"IF(G238=\"\",\"\",G238)","v":""},{"$f":"IF(G239=\"\",\"\",ROUND(F239/G239,3))","v":""},null,null,{"$f":"IF(H239=\"\",\"\",IF(F239>F238,2,IF(F239<F238,0,1)))","v":""}]
[]
[null,null,null,null,{"$f":"IF(D244>1,\"\",IF(OR(B245=TRUE,B246=TRUE,B247=TRUE),\"\",E245))","v":""},null,null,{"$f":"IF(G241=\"\",\"\",ROUND(F241/G241,3))","v":""},null,null,{"$f":"IF(H241=\"\",\"\",IF(F241>F242,2,IF(F241<F242,0,1)))","v":""}]
[null,null,null,null,{"$f":"IF(OR(B245=TRUE,B246=TRUE,B247=TRUE),\"\",E246)","v":""},null,{"$f":"IF(G241=\"\",\"\",G241)","v":""},{"$f":"IF(G242=\"\",\"\",ROUND(F242/G242,3))","v":""},null,null,{"$f":"IF(H242=\"\",\"\",IF(F242>F241,2,IF(F242<F241,0,1)))","v":""}]
[]
[null,"¿WO?",null,{"$f":"COUNTIF(B245:B247,\"VERDADERO\")","v":0},"Jugador","Boles","Ent","Mitj","SM1","SM2","P",{"$f":"B235","v":""}]
[null,false,{"$f":"L245","v":0},{"$f":"'Grups PPP'!H38","v":""},{"$f":"'Grups PPP'!I38","v":""},{"$f":"SUMIF(E235:E242,E245,F235:F242)","v":0},{"$f":"SUMIF(E235:E242,E245,G235:G242)","v":0},{"$f":"IF(B245=TRUE,0,IF(G245=0,0,ROUND(F245/G245,3)))","v":0},{"$f":"MAX(O245:Z245)","v":0},{"$f":"LARGE((O245:Z245),2)","v":0},{"$f":"SUMIF(E235:E242,E245,K235:K242)","v":0},{"$f":"IF(B245=TRUE,\"WO\",IF(AND(B246=TRUE,B247=TRUE),1,IF(N245=0,0,RANK(N245,N245:N247,0))))","v":0},{"$f":"IF(B235=\"\",0,IF(B245=TRUE,0+N245,3-L245+N245))","v":0},{"$f":"IF(OR(B245=TRUE,AND(B246=TRUE,B247=TRUE)),0.000000000033,K245*0.1+H245*0.01+I245*0.00000001+J245*0.00000000001)","v":0},{"$f":"IF(E235=E245,I235,0)","v":0},{"$f":"IF(E235=E245,J235,0)","v":0},{"$f":"IF(E236=E245,I236,0)","v":0},{"$f":"IF(E236=E245,J236,0)","v":0},{"$f":"IF(E238=E245,I238,0)","v":0},{"$f":"IF(E238=E245,J238,0)","v":0},{"$f":"IF(E239=E245,I239,0)","v":0},{"$f":"IF(E239=E245,J239,0)","v":0},{"$f":"IF(E241=E245,I241,0)","v":0},{"$f":"IF(E241=E245,J241,0)","v":0},{"$f":"IF(E242=E245,I242,0)","v":0},{"$f":"IF(E242=E245,J242,0)","v":0}]
[null,false,{"$f":"L246","v":0},{"$f":"'Grups PPP'!H39","v":""},{"$f":"'Grups PPP'!I39","v":""},{"$f":"SUMIF(E235:E242,E246,F235:F242)","v":0},{"$f":"SUMIF(E235:E242,E246,G235:G242)","v":0},{"$f":"IF(B246=TRUE,0,IF(G246=0,0,ROUND(F246/G246,3)))","v":0},{"$f":"MAX(O246:Z246)","v":0},{"$f":"LARGE((O246:Z246),2)","v":0},{"$f":"SUMIF(E235:E242,E246,K235:K242)","v":0},{"$f":"IF(B246=TRUE,\"WO\",IF(AND(B245=TRUE,B247=TRUE),1,IF(N246=0,0,RANK(N246,N245:N247,0))))","v":0},{"$f":"IF(B235=\"\",0,IF(B246=TRUE,0+N246,3-L246+N246))","v":0},{"$f":"IF(OR(B246=TRUE,AND(B245=TRUE,B247=TRUE)),0.000000000032,K246*0.1+H246*0.01+I246*0.00000001+J246*0.00000000001)","v":0},{"$f":"IF(E235=E246,I235,0)","v":0},{"$f":"IF(E235=E246,J235,0)","v":0},{"$f":"IF(E236=E246,I236,0)","v":0},{"$f":"IF(E236=E246,J236,0)","v":0},{"$f":"IF(E238=E246,I238,0)","v":0},{"$f":"IF(E238=E246,J238,0)","v":0},{"$f":"IF(E239=E246,I239,0)","v":0},{"$f":"IF(E239=E246,J239,0)","v":0},{"$f":"IF(E241=E246,I241,0)","v":0},{"$f":"IF(E241=E246,J241,0)","v":0},{"$f":"IF(E242=E246,I242,0)","v":0},{"$f":"IF(E242=E246,J242,0)","v":0}]
[null,false,{"$f":"L247","v":0},{"$f":"'Grups PPP'!H40","v":""},{"$f":"'Grups PPP'!I40","v":""},{"$f":"SUMIF(E235:E242,E247,F235:F242)","v":0},{"$f":"SUMIF(E235:E242,E247,G235:G242)","v":0},{"$f":"IF(B247=TRUE,0,IF(G247=0,0,ROUND(F247/G247,3)))","v":0},{"$f":"MAX(O247:Z247)","v":0},{"$f":"LARGE((O247:Z247),2)","v":0},{"$f":"SUMIF(E235:E242,E247,K235:K242)","v":0},{"$f":"IF(B247=TRUE,\"WO\",IF(AND(B245=TRUE,B246=TRUE),1,IF(N247=0,0,RANK(N247,N245:N247,0))))","v":0},{"$f":"IF(B235=\"\",0,IF(B247=TRUE,0+N247,3-L247+N247))","v":0},{"$f":"IF(OR(B247=TRUE,AND(B245=TRUE,B246=TRUE)),0.000000000016,K247*0.1+H247*0.01+I247*0.00000001+J247*0.00000000001)","v":0},{"$f":"IF(E235=E247,I235,0)","v":0},{"$f":"IF(E235=E247,J235,0)","v":0},{"$f":"IF(E236=E247,I236,0)","v":0},{"$f":"IF(E236=E247,J236,0)","v":0},{"$f":"IF(E238=E247,I238,0)","v":0},{"$f":"IF(E238=E247,J238,0)","v":0},{"$f":"IF(E239=E247,I239,0)","v":0},{"$f":"IF(E239=E247,J239,0)","v":0},{"$f":"IF(E241=E247,I241,0)","v":0},{"$f":"IF(E241=E247,J241,0)","v":0},{"$f":"IF(E242=E247,I242,0)","v":0},{"$f":"IF(E242=E247,J242,0)","v":0}]

{"sheet":"PPP (C)","index":9,"n_rows":51,"n_cols":8,"rows_kept":51,"cut":false,"hidden":true,"merged":[[0,0,0,7]]}
["CLASSIFICACIÓ PRE-PRE-PRÈVIA (PPP)"]
[]
["Classificació","Posició","Jugador","Punts","Mitjana","SM (1)","SM (2)","Puntuació"]
[{"$f":"IF(H4=0,\"\",RANK(H4,$H$4:$H$51,))","v":""},{"$f":"'Resultats PPP'!L20","v":0},{"$f":"'Resultats PPP'!E20","v":""},{"$f":"'Resultats PPP'!K20","v":0},{"$f":"'Resultats PPP'!H20","v":0},{"$f":"'Resultats PPP'!I20","v":0},{"$f":"'Resultats PPP'!J20","v":0},{"$f":"IF('Resultats PPP'!M20=3,0,'Resultats PPP'!M20)","v":0}]
[{"$f":"IF(H5=0,\"\",RANK(H5,$H$4:$H$51,))","v":""},{"$f":"'Resultats PPP'!L21","v":0},{"$f":"'Resultats PPP'!E21","v":""},{"$f":"'Resultats PPP'!K21","v":0},{"$f":"'Resultats PPP'!H21","v":0},{"$f":"'Resultats PPP'!I21","v":0},{"$f":"'Resultats PPP'!J21","v":0},{"$f":"IF('Resultats PPP'!M21=3,0,'Resultats PPP'!M21)","v":0}]
["",{"$f":"'Resultats PPP'!L22","v":0},{"$f":"'Resultats PPP'!E22","v":""},{"$f":"'Resultats PPP'!K22","v":0},{"$f":"'Resultats PPP'!H22","v":0},{"$f":"'Resultats PPP'!I22","v":0},{"$f":"'Resultats PPP'!J22","v":0},{"$f":"IF('Resultats PPP'!M22=3,0,'Resultats PPP'!M22)","v":0}]
["",{"$f":"'Resultats PPP'!L35","v":0},{"$f":"'Resultats PPP'!E35","v":""},{"$f":"'Resultats PPP'!K35","v":0},{"$f":"'Resultats PPP'!H35","v":0},{"$f":"'Resultats PPP'!I35","v":0},{"$f":"'Resultats PPP'!J35","v":0},{"$f":"IF('Resultats PPP'!M35=3,0,'Resultats PPP'!M35)","v":0}]
["",{"$f":"'Resultats PPP'!L36","v":0},{"$f":"'Resultats PPP'!E36","v":""},{"$f":"'Resultats PPP'!K36","v":0},{"$f":"'Resultats PPP'!H36","v":0},{"$f":"'Resultats PPP'!I36","v":0},{"$f":"'Resultats PPP'!J36","v":0},{"$f":"IF('Resultats PPP'!M36=3,0,'Resultats PPP'!M36)","v":0}]
["",{"$f":"'Resultats PPP'!L37","v":0},{"$f":"'Resultats PPP'!E37","v":""},{"$f":"'Resultats PPP'!K37","v":0},{"$f":"'Resultats PPP'!H37","v":0},{"$f":"'Resultats PPP'!I37","v":0},{"$f":"'Resultats PPP'!J37","v":0},{"$f":"IF('Resultats PPP'!M37=3,0,'Resultats PPP'!M37)","v":0}]
["",{"$f":"'Resultats PPP'!L50","v":0},{"$f":"'Resultats PPP'!E50","v":""},{"$f":"'Resultats PPP'!K50","v":0},{"$f":"'Resultats PPP'!H50","v":0},{"$f":"'Resultats PPP'!I50","v":0},{"$f":"'Resultats PPP'!J50","v":0},{"$f":"IF('Resultats PPP'!M50=3,0,'Resultats PPP'!M50)","v":0}]
["",{"$f":"'Resultats PPP'!L51","v":0},{"$f":"'Resultats PPP'!E51","v":""},{"$f":"'Resultats PPP'!K51","v":0},{"$f":"'Resultats PPP'!H51","v":0},{"$f":"'Resultats PPP'!I51","v":0},{"$f":"'Resultats PPP'!J51","v":0},{"$f":"IF('Resultats PPP'!M51=3,0,'Resultats PPP'!M51)","v":0}]
["",{"$f":"'Resultats PPP'!L52","v":0},{"$f":"'Resultats PPP'!E52","v":""},{"$f":"'Resultats PPP'!K52","v":0},{"$f":"'Resultats PPP'!H52","v":0},{"$f":"'Resultats PPP'!I52","v":0},{"$f":"'Resultats PPP'!J52","v":0},{"$f":"IF('Resultats PPP'!M52=3,0,'Resultats PPP'!M52)","v":0}]
["",{"$f":"'Resultats PPP'!L65","v":0},{"$f":"'Resultats PPP'!E65","v":""},{"$f":"'Resultats PPP'!K65","v":0},{"$f":"'Resultats PPP'!H65","v":0},{"$f":"'Resultats PPP'!I65","v":0},{"$f":"'Resultats PPP'!J65","v":0},{"$f":"IF('Resultats PPP'!M65=3,0,'Resultats PPP'!M65)","v":0}]
["",{"$f":"'Resultats PPP'!L66","v":0},{"$f":"'Resultats PPP'!E66","v":""},{"$f":"'Resultats PPP'!K66","v":0},{"$f":"'Resultats PPP'!H66","v":0},{"$f":"'Resultats PPP'!I66","v":0},{"$f":"'Resultats PPP'!J66","v":0},{"$f":"IF('Resultats PPP'!M66=3,0,'Resultats PPP'!M66)","v":0}]
["",{"$f":"'Resultats PPP'!L67","v":0},{"$f":"'Resultats PPP'!E67","v":""},{"$f":"'Resultats PPP'!K67","v":0},{"$f":"'Resultats PPP'!H67","v":0},{"$f":"'Resultats PPP'!I67","v":0},{"$f":"'Resultats PPP'!J67","v":0},{"$f":"IF('Resultats PPP'!M67=3,0,'Resultats PPP'!M67)","v":0}]
["",{"$f":"'Resultats PPP'!L80","v":0},{"$f":"'Resultats PPP'!E80","v":""},{"$f":"'Resultats PPP'!K80","v":0},{"$f":"'Resultats PPP'!H80","v":0},{"$f":"'Resultats PPP'!I80","v":0},{"$f":"'Resultats PPP'!J80","v":0},{"$f":"IF('Resultats PPP'!M80=3,0,'Resultats PPP'!M80)","v":0}]
["",{"$f":"'Resultats PPP'!L81","v":0},{"$f":"'Resultats PPP'!E81","v":""},{"$f":"'Resultats PPP'!K81","v":0},{"$f":"'Resultats PPP'!H81","v":0},{"$f":"'Resultats PPP'!I81","v":0},{"$f":"'Resultats PPP'!J81","v":0},{"$f":"IF('Resultats PPP'!M81=3,0,'Resultats PPP'!M81)","v":0}]
["",{"$f":"'Resultats PPP'!L82","v":0},{"$f":"'Resultats PPP'!E82","v":""},{"$f":"'Resultats PPP'!K82","v":0},{"$f":"'Resultats PPP'!H82","v":0},{"$f":"'Resultats PPP'!I82","v":0},{"$f":"'Resultats PPP'!J82","v":0},{"$f":"IF('Resultats PPP'!M82=3,0,'Resultats PPP'!M82)","v":0}]
["",{"$f":"'Resultats PPP'!L95","v":0},{"$f":"'Resultats PPP'!E95","v":""},{"$f":"'Resultats PPP'!K95","v":0},{"$f":"'Resultats PPP'!H95","v":0},{"$f":"'Resultats PPP'!I95","v":0},{"$f":"'Resultats PPP'!J95","v":0},{"$f":"IF('Resultats PPP'!M95=3,0,'Resultats PPP'!M95)","v":0}]
["",{"$f":"'Resultats PPP'!L96","v":0},{"$f":"'Resultats PPP'!E96","v":""},{"$f":"'Resultats PPP'!K96","v":0},{"$f":"'Resultats PPP'!H96","v":0},{"$f":"'Resultats PPP'!I96","v":0},{"$f":"'Resultats PPP'!J96","v":0},{"$f":"IF('Resultats PPP'!M96=3,0,'Resultats PPP'!M96)","v":0}]
["",{"$f":"'Resultats PPP'!L97","v":0},{"$f":"'Resultats PPP'!E97","v":""},{"$f":"'Resultats PPP'!K97","v":0},{"$f":"'Resultats PPP'!H97","v":0},{"$f":"'Resultats PPP'!I97","v":0},{"$f":"'Resultats PPP'!J97","v":0},{"$f":"IF('Resultats PPP'!M97=3,0,'Resultats PPP'!M97)","v":0}]
["",{"$f":"'Resultats PPP'!L110","v":0},{"$f":"'Resultats PPP'!E110","v":""},{"$f":"'Resultats PPP'!K110","v":0},{"$f":"'Resultats PPP'!H110","v":0},{"$f":"'Resultats PPP'!I110","v":0},{"$f":"'Resultats PPP'!J110","v":0},{"$f":"IF('Resultats PPP'!M110=3,0,'Resultats PPP'!M110)","v":0}]
["",{"$f":"'Resultats PPP'!L111","v":0},{"$f":"'Resultats PPP'!E111","v":""},{"$f":"'Resultats PPP'!K111","v":0},{"$f":"'Resultats PPP'!H111","v":0},{"$f":"'Resultats PPP'!I111","v":0},{"$f":"'Resultats PPP'!J111","v":0},{"$f":"IF('Resultats PPP'!M111=3,0,'Resultats PPP'!M111)","v":0}]
["",{"$f":"'Resultats PPP'!L112","v":0},{"$f":"'Resultats PPP'!E112","v":""},{"$f":"'Resultats PPP'!K112","v":0},{"$f":"'Resultats PPP'!H112","v":0},{"$f":"'Resultats PPP'!I112","v":0},{"$f":"'Resultats PPP'!J112","v":0},{"$f":"IF('Resultats PPP'!M112=3,0,'Resultats PPP'!M112)","v":0}]
["",{"$f":"'Resultats PPP'!L125","v":0},{"$f":"'Resultats PPP'!E125","v":""},{"$f":"'Resultats PPP'!K125","v":0},{"$f":"'Resultats PPP'!H125","v":0},{"$f":"'Resultats PPP'!I125","v":0},{"$f":"'Resultats PPP'!J125","v":0},{"$f":"IF('Resultats PPP'!M125=3,0,'Resultats PPP'!M125)","v":0}]
["",{"$f":"'Resultats PPP'!L126","v":0},{"$f":"'Resultats PPP'!E126","v":""},{"$f":"'Resultats PPP'!K126","v":0},{"$f":"'Resultats PPP'!H126","v":0},{"$f":"'Resultats PPP'!I126","v":0},{"$f":"'Resultats PPP'!J126","v":0},{"$f":"IF('Resultats PPP'!M126=3,0,'Resultats PPP'!M126)","v":0}]
["",{"$f":"'Resultats PPP'!L127","v":0},{"$f":"'Resultats PPP'!E127","v":""},{"$f":"'Resultats PPP'!K127","v":0},{"$f":"'Resultats PPP'!H127","v":0},{"$f":"'Resultats PPP'!I127","v":0},{"$f":"'Resultats PPP'!J127","v":0},{"$f":"IF('Resultats PPP'!M127=3,0,'Resultats PPP'!M127)","v":0}]
["",{"$f":"'Resultats PPP'!L140","v":0},{"$f":"'Resultats PPP'!E140","v":""},{"$f":"'Resultats PPP'!K140","v":0},{"$f":"'Resultats PPP'!H140","v":0},{"$f":"'Resultats PPP'!I140","v":0},{"$f":"'Resultats PPP'!J140","v":0},{"$f":"IF('Resultats PPP'!M140=3,0,'Resultats PPP'!M140)","v":0}]
["",{"$f":"'Resultats PPP'!L141","v":0},{"$f":"'Resultats PPP'!E141","v":""},{"$f":"'Resultats PPP'!K141","v":0},{"$f":"'Resultats PPP'!H141","v":0},{"$f":"'Resultats PPP'!I141","v":0},{"$f":"'Resultats PPP'!J141","v":0},{"$f":"IF('Resultats PPP'!M141=3,0,'Resultats PPP'!M141)","v":0}]
["",{"$f":"'Resultats PPP'!L142","v":0},{"$f":"'Resultats PPP'!E142","v":""},{"$f":"'Resultats PPP'!K142","v":0},{"$f":"'Resultats PPP'!H142","v":0},{"$f":"'Resultats PPP'!I142","v":0},{"$f":"'Resultats PPP'!J142","v":0},{"$f":"IF('Resultats PPP'!M142=3,0,'Resultats PPP'!M142)","v":0}]
["",{"$f":"'Resultats PPP'!L155","v":0},{"$f":"'Resultats PPP'!E155","v":""},{"$f":"'Resultats PPP'!K155","v":0},{"$f":"'Resultats PPP'!H155","v":0},{"$f":"'Resultats PPP'!I155","v":0},{"$f":"'Resultats PPP'!J155","v":0},{"$f":"IF('Resultats PPP'!M155=3,0,'Resultats PPP'!M155)","v":0}]
["",{"$f":"'Resultats PPP'!L156","v":0},{"$f":"'Resultats PPP'!E156","v":""},{"$f":"'Resultats PPP'!K156","v":0},{"$f":"'Resultats PPP'!H156","v":0},{"$f":"'Resultats PPP'!I156","v":0},{"$f":"'Resultats PPP'!J156","v":0},{"$f":"IF('Resultats PPP'!M156=3,0,'Resultats PPP'!M156)","v":0}]
["",{"$f":"'Resultats PPP'!L157","v":0},{"$f":"'Resultats PPP'!E157","v":""},{"$f":"'Resultats PPP'!K157","v":0},{"$f":"'Resultats PPP'!H157","v":0},{"$f":"'Resultats PPP'!I157","v":0},{"$f":"'Resultats PPP'!J157","v":0},{"$f":"IF('Resultats PPP'!M157=3,0,'Resultats PPP'!M157)","v":0}]
["",{"$f":"'Resultats PPP'!L170","v":0},{"$f":"'Resultats PPP'!E170","v":""},{"$f":"'Resultats PPP'!K170","v":0},{"$f":"'Resultats PPP'!H170","v":0},{"$f":"'Resultats PPP'!I170","v":0},{"$f":"'Resultats PPP'!J170","v":0},{"$f":"IF('Resultats PPP'!M170=3,0,'Resultats PPP'!M170)","v":0}]
["",{"$f":"'Resultats PPP'!L171","v":0},{"$f":"'Resultats PPP'!E171","v":""},{"$f":"'Resultats PPP'!K171","v":0},{"$f":"'Resultats PPP'!H171","v":0},{"$f":"'Resultats PPP'!I171","v":0},{"$f":"'Resultats PPP'!J171","v":0},{"$f":"IF('Resultats PPP'!M171=3,0,'Resultats PPP'!M171)","v":0}]
["",{"$f":"'Resultats PPP'!L172","v":0},{"$f":"'Resultats PPP'!E172","v":""},{"$f":"'Resultats PPP'!K172","v":0},{"$f":"'Resultats PPP'!H172","v":0},{"$f":"'Resultats PPP'!I172","v":0},{"$f":"'Resultats PPP'!J172","v":0},{"$f":"IF('Resultats PPP'!M172=3,0,'Resultats PPP'!M172)","v":0}]
["",{"$f":"'Resultats PPP'!L185","v":0},{"$f":"'Resultats PPP'!E185","v":""},{"$f":"'Resultats PPP'!K185","v":0},{"$f":"'Resultats PPP'!H185","v":0},{"$f":"'Resultats PPP'!I185","v":0},{"$f":"'Resultats PPP'!J185","v":0},{"$f":"IF('Resultats PPP'!M185=3,0,'Resultats PPP'!M185)","v":0}]
["",{"$f":"'Resultats PPP'!L186","v":0},{"$f":"'Resultats PPP'!E186","v":""},{"$f":"'Resultats PPP'!K186","v":0},{"$f":"'Resultats PPP'!H186","v":0},{"$f":"'Resultats PPP'!I186","v":0},{"$f":"'Resultats PPP'!J186","v":0},{"$f":"IF('Resultats PPP'!M186=3,0,'Resultats PPP'!M186)","v":0}]
["",{"$f":"'Resultats PPP'!L187","v":0},{"$f":"'Resultats PPP'!E187","v":""},{"$f":"'Resultats PPP'!K187","v":0},{"$f":"'Resultats PPP'!H187","v":0},{"$f":"'Resultats PPP'!I187","v":0},{"$f":"'Resultats PPP'!J187","v":0},{"$f":"IF('Resultats PPP'!M187=3,0,'Resultats PPP'!M187)","v":0}]
["",{"$f":"'Resultats PPP'!L200","v":0},{"$f":"'Resultats PPP'!E200","v":""},{"$f":"'Resultats PPP'!K200","v":0},{"$f":"'Resultats PPP'!H200","v":0},{"$f":"'Resultats PPP'!I200","v":0},{"$f":"'Resultats PPP'!J200","v":0},{"$f":"IF('Resultats PPP'!M200=3,0,'Resultats PPP'!M200)","v":0}]
["",{"$f":"'Resultats PPP'!L201","v":0},{"$f":"'Resultats PPP'!E201","v":""},{"$f":"'Resultats PPP'!K201","v":0},{"$f":"'Resultats PPP'!H201","v":0},{"$f":"'Resultats PPP'!I201","v":0},{"$f":"'Resultats PPP'!J201","v":0},{"$f":"IF('Resultats PPP'!M201=3,0,'Resultats PPP'!M201)","v":0}]
["",{"$f":"'Resultats PPP'!L202","v":0},{"$f":"'Resultats PPP'!E202","v":""},{"$f":"'Resultats PPP'!K202","v":0},{"$f":"'Resultats PPP'!H202","v":0},{"$f":"'Resultats PPP'!I202","v":0},{"$f":"'Resultats PPP'!J202","v":0},{"$f":"IF('Resultats PPP'!M202=3,0,'Resultats PPP'!M202)","v":0}]
["",{"$f":"'Resultats PPP'!L215","v":0},{"$f":"'Resultats PPP'!E215","v":""},{"$f":"'Resultats PPP'!K215","v":0},{"$f":"'Resultats PPP'!H215","v":0},{"$f":"'Resultats PPP'!I215","v":0},{"$f":"'Resultats PPP'!J215","v":0},{"$f":"IF('Resultats PPP'!M215=3,0,'Resultats PPP'!M215)","v":0}]
["",{"$f":"'Resultats PPP'!L216","v":0},{"$f":"'Resultats PPP'!E216","v":""},{"$f":"'Resultats PPP'!K216","v":0},{"$f":"'Resultats PPP'!H216","v":0},{"$f":"'Resultats PPP'!I216","v":0},{"$f":"'Resultats PPP'!J216","v":0},{"$f":"IF('Resultats PPP'!M216=3,0,'Resultats PPP'!M216)","v":0}]
["",{"$f":"'Resultats PPP'!L217","v":0},{"$f":"'Resultats PPP'!E217","v":""},{"$f":"'Resultats PPP'!K217","v":0},{"$f":"'Resultats PPP'!H217","v":0},{"$f":"'Resultats PPP'!I217","v":0},{"$f":"'Resultats PPP'!J217","v":0},{"$f":"IF('Resultats PPP'!M217=3,0,'Resultats PPP'!M217)","v":0}]
["",{"$f":"'Resultats PPP'!L230","v":0},{"$f":"'Resultats PPP'!E230","v":""},{"$f":"'Resultats PPP'!K230","v":0},{"$f":"'Resultats PPP'!H230","v":0},{"$f":"'Resultats PPP'!I230","v":0},{"$f":"'Resultats PPP'!J230","v":0},{"$f":"IF('Resultats PPP'!M230=3,0,'Resultats PPP'!M230)","v":0}]
["",{"$f":"'Resultats PPP'!L231","v":0},{"$f":"'Resultats PPP'!E231","v":""},{"$f":"'Resultats PPP'!K231","v":0},{"$f":"'Resultats PPP'!H231","v":0},{"$f":"'Resultats PPP'!I231","v":0},{"$f":"'Resultats PPP'!J231","v":0},{"$f":"IF('Resultats PPP'!M231=3,0,'Resultats PPP'!M231)","v":0}]
["",{"$f":"'Resultats PPP'!L232","v":0},{"$f":"'Resultats PPP'!E232","v":""},{"$f":"'Resultats PPP'!K232","v":0},{"$f":"'Resultats PPP'!H232","v":0},{"$f":"'Resultats PPP'!I232","v":0},{"$f":"'Resultats PPP'!J232","v":0},{"$f":"IF('Resultats PPP'!M232=3,0,'Resultats PPP'!M232)","v":0}]
["",{"$f":"'Resultats PPP'!L245","v":0},{"$f":"'Resultats PPP'!E245","v":""},{"$f":"'Resultats PPP'!K245","v":0},{"$f":"'Resultats PPP'!H245","v":0},{"$f":"'Resultats PPP'!I245","v":0},{"$f":"'Resultats PPP'!J245","v":0},{"$f":"IF('Resultats PPP'!M245=3,0,'Resultats PPP'!M245)","v":0}]
["",{"$f":"'Resultats PPP'!L246","v":0},{"$f":"'Resultats PPP'!E246","v":""},{"$f":"'Resultats PPP'!K246","v":0},{"$f":"'Resultats PPP'!H246","v":0},{"$f":"'Resultats PPP'!I246","v":0},{"$f":"'Resultats PPP'!J246","v":0},{"$f":"IF('Resultats PPP'!M246=3,0,'Resultats PPP'!M246)","v":0}]
[{"$f":"IF(OR(H51=0,C51=\"(Jugador Virtual)\"),\"\",RANK(H51,$H$4:$H$51,))","v":""},{"$f":"'Resultats PPP'!L247","v":0},{"$f":"'Resultats PPP'!E247","v":""},{"$f":"'Resultats PPP'!K247","v":0},{"$f":"'Resultats PPP'!H247","v":0},{"$f":"'Resultats PPP'!I247","v":0},{"$f":"'Resultats PPP'!J247","v":0},{"$f":"IF('Resultats PPP'!M247=3,0,'Resultats PPP'!M247)","v":0}]

{"sheet":"Classificació PPP","index":10,"n_rows":60,"n_cols":16,"rows_kept":60,"cut":false,"hidden":false,"merged":[[1,14,1,15],[9,2,9,7],[7,1,7,8],[1,7,5,8],[2,4,5,6],[1,1,1,6]]}
[]
[null,{"$f":"IF(Inici!B2=\"INTRODUIR EN MAIÚSCULES EL NOM DE L'OPEN\",\"Introduiu el nom de l'Open a la pantalla d'Inici!!!\",Inici!B2)","v":"Introduiu el nom de l'Open a la pantalla d'Inici!!!"},null,null,null,null,null,null,null,null,"ANAR A PÀGINA","P-P-PRÈVIA","P-PRÈVIA","PRÈVIA","FASE FINAL"]
[null,null,null,null,null,null,null,null,null,null,"Rànquing Inicial","Grups PPP","Grups PP","Grups P","Setzens","Vuitens"]
[null,null,null,null,null,null,null,null,null,null,"Organigrama","Result PPP","Result PP","Result P","Class SF","Quarts/SF/F"]
[null,null,null,null,null,null,null,null,null,null,"Horaris","Classif PPP","Classif PP","Classif P"]
[]
[]
[null,"CLASSIFICACIÓ FINAL PRE-PRE-PRÈVIA (PPP)",null,null,null,null,null,null,null,null,"Inici","Participants"]
[]
[null,{"$f":"Organigrama!G39","v":0},{"$f":"CONCATENATE(\"Passen a la Pre-Prèvia (PP) \",I10,\" jugadors d'un total de \",B10)","v":"Passen a la Pre-Prèvia (PP) 0 jugadors d'un total de 0"},null,null,null,null,null,{"$f":"Organigrama!K39","v":0}]
[]
[null,"Posició",null,"Jugador","Posició al grup","Punts","Mitjana","SM (1)","SM (2)"]
[null,1,"1-PPP",{"$f":"IFERROR(VLOOKUP(B13,'PPP (C)'!$A$4:$H$51,3,FALSE),\"\")","v":""},{"$f":"IFERROR(IF(D13=\"\",\"\",VLOOKUP(B13,'PPP (C)'!$A$4:$H$51,2,FALSE)),\"\")","v":""},{"$f":"IFERROR(IF(D13=\"\",\"\",VLOOKUP(B13,'PPP (C)'!$A$4:$H$51,4,FALSE)),\"\")","v":""},{"$f":"IFERROR(IF(D13=\"\",\"\",VLOOKUP(B13,'PPP (C)'!$A$4:$H$51,5,FALSE)),\"\")","v":""},{"$f":"IFERROR(IF(D13=\"\",\"\",VLOOKUP(B13,'PPP (C)'!$A$4:$H$51,6,FALSE)),\"\")","v":""},{"$f":"IFERROR(IF(D13=\"\",\"\",VLOOKUP(B13,'PPP (C)'!$A$4:$H$51,7,FALSE)),\"\")","v":""}]
[null,2,"2-PPP",{"$f":"IFERROR(VLOOKUP(B14,'PPP (C)'!$A$4:$H$51,3,FALSE),\"\")","v":""},{"$f":"IFERROR(IF(D14=\"\",\"\",VLOOKUP(B14,'PPP (C)'!$A$4:$H$51,2,FALSE)),\"\")","v":""},{"$f":"IFERROR(IF(D14=\"\",\"\",VLOOKUP(B14,'PPP (C)'!$A$4:$H$51,4,FALSE)),\"\")","v":""},{"$f":"IFERROR(IF(D14=\"\",\"\",VLOOKUP(B14,'PPP (C)'!$A$4:$H$51,5,FALSE)),\"\")","v":""},{"$f":"IFERROR(IF(D14=\"\",\"\",VLOOKUP(B14,'PPP (C)'!$A$4:$H$51,6,FALSE)),\"\")","v":""},{"$f":"IFERROR(IF(D14=\"\",\"\",VLOOKUP(B14,'PPP (C)'!$A$4:$H$51,7,FALSE)),\"\")","v":""}]
[null,3,"3-PPP",{"$f":"IFERROR(VLOOKUP(B15,'PPP (C)'!$A$4:$H$51,3,FALSE),\"\")","v":""},{"$f":"IFERROR(IF(D15=\"\",\"\",VLOOKUP(B15,'PPP (C)'!$A$4:$H$51,2,FALSE)),\"\")","v":""},{"$f":"IFERROR(IF(D15=\"\",\"\",VLOOKUP(B15,'PPP (C)'!$A$4:$H$51,4,FALSE)),\"\")","v":""},{"$f":"IFERROR(IF(D15=\"\",\"\",VLOOKUP(B15,'PPP (C)'!$A$4:$H$51,5,FALSE)),\"\")","v":""},{"$f":"IFERROR(IF(D15=\"\",\"\",VLOOKUP(B15,'PPP (C)'!$A$4:$H$51,6,FALSE)),\"\")","v":""},{"$f":"IFERROR(IF(D15=\"\",\"\",VLOOKUP(B15,'PPP (C)'!$A$4:$H$51,7,FALSE)),\"\")","v":""}]
[null,4,"4-PPP",{"$f":"IFERROR(VLOOKUP(B16,'PPP (C)'!$A$4:$H$51,3,FALSE),\"\")","v":""},{"$f":"IFERROR(IF(D16=\"\",\"\",VLOOKUP(B16,'PPP (C)'!$A$4:$H$51,2,FALSE)),\"\")","v":""},{"$f":"IFERROR(IF(D16=\"\",\"\",VLOOKUP(B16,'PPP (C)'!$A$4:$H$51,4,FALSE)),\"\")","v":""},{"$f":"IFERROR(IF(D16=\"\",\"\",VLOOKUP(B16,'PPP (C)'!$A$4:$H$51,5,FALSE)),\"\")","v":""},{"$f":"IFERROR(IF(D16=\"\",\"\",VLOOKUP(B16,'PPP (C)'!$A$4:$H$51,6,FALSE)),\"\")","v":""},{"$f":"IFERROR(IF(D16=\"\",\"\",VLOOKUP(B16,'PPP (C)'!$A$4:$H$51,7,FALSE)),\"\")","v":""}]
[null,5,"5-PPP",{"$f":"IFERROR(VLOOKUP(B17,'PPP (C)'!$A$4:$H$51,3,FALSE),\"\")","v":""},{"$f":"IFERROR(IF(D17=\"\",\"\",VLOOKUP(B17,'PPP (C)'!$A$4:$H$51,2,FALSE)),\"\")","v":""},{"$f":"IFERROR(IF(D17=\"\",\"\",VLOOKUP(B17,'PPP (C)'!$A$4:$H$51,4,FALSE)),\"\")","v":""},{"$f":"IFERROR(IF(D17=\"\",\"\",VLOOKUP(B17,'PPP (C)'!$A$4:$H$51,5,FALSE)),\"\")","v":""},{"$f":"IFERROR(IF(D17=\"\",\"\",VLOOKUP(B17,'PPP (C)'!$A$4:$H$51,6,FALSE)),\"\")","v":""},{"$f":"IFERROR(IF(D17=\"\",\"\",VLOOKUP(B17,'PPP (C)'!$A$4:$H$51,7,FALSE)),\"\")","v":""}]
[null,6,"6-PPP",{"$f":"IFERROR(VLOOKUP(B18,'PPP (C)'!$A$4:$H$51,3,FALSE),\"\")","v":""},{"$f":"IFERROR(IF(D18=\"\",\"\",VLOOKUP(B18,'PPP (C)'!$A$4:$H$51,2,FALSE)),\"\")","v":""},{"$f":"IFERROR(IF(D18=\"\",\"\",VLOOKUP(B18,'PPP (C)'!$A$4:$H$51,4,FALSE)),\"\")","v":""},{"$f":"IFERROR(IF(D18=\"\",\"\",VLOOKUP(B18,'PPP (C)'!$A$4:$H$51,5,FALSE)),\"\")","v":""},{"$f":"IFERROR(IF(D18=\"\",\"\",VLOOKUP(B18,'PPP (C)'!$A$4:$H$51,6,FALSE)),\"\")","v":""},{"$f":"IFERROR(IF(D18=\"\",\"\",VLOOKUP(B18,'PPP (C)'!$A$4:$H$51,7,FALSE)),\"\")","v":""}]
[null,7,"7-PPP",{"$f":"IFERROR(VLOOKUP(B19,'PPP (C)'!$A$4:$H$51,3,FALSE),\"\")","v":""},{"$f":"IFERROR(IF(D19=\"\",\"\",VLOOKUP(B19,'PPP (C)'!$A$4:$H$51,2,FALSE)),\"\")","v":""},{"$f":"IFERROR(IF(D19=\"\",\"\",VLOOKUP(B19,'PPP (C)'!$A$4:$H$51,4,FALSE)),\"\")","v":""},{"$f":"IFERROR(IF(D19=\"\",\"\",VLOOKUP(B19,'PPP (C)'!$A$4:$H$51,5,FALSE)),\"\")","v":""},{"$f":"IFERROR(IF(D19=\"\",\"\",VLOOKUP(B19,'PPP (C)'!$A$4:$H$51,6,FALSE)),\"\")","v":""},{"$f":"IFERROR(IF(D19=\"\",\"\",VLOOKUP(B19,'PPP (C)'!$A$4:$H$51,7,FALSE)),\"\")","v":""}]
[null,8,"8-PPP",{"$f":"IFERROR(VLOOKUP(B20,'PPP (C)'!$A$4:$H$51,3,FALSE),\"\")","v":""},{"$f":"IFERROR(IF(D20=\"\",\"\",VLOOKUP(B20,'PPP (C)'!$A$4:$H$51,2,FALSE)),\"\")","v":""},{"$f":"IFERROR(IF(D20=\"\",\"\",VLOOKUP(B20,'PPP (C)'!$A$4:$H$51,4,FALSE)),\"\")","v":""},{"$f":"IFERROR(IF(D20=\"\",\"\",VLOOKUP(B20,'PPP (C)'!$A$4:$H$51,5,FALSE)),\"\")","v":""},{"$f":"IFERROR(IF(D20=\"\",\"\",VLOOKUP(B20,'PPP (C)'!$A$4:$H$51,6,FALSE)),\"\")","v":""},{"$f":"IFERROR(IF(D20=\"\",\"\",VLOOKUP(B20,'PPP (C)'!$A$4:$H$51,7,FALSE)),\"\")","v":""}]
[null,9,"9-PPP",{"$f":"IFERROR(VLOOKUP(B21,'PPP (C)'!$A$4:$H$51,3,FALSE),\"\")","v":""},{"$f":"IFERROR(IF(D21=\"\",\"\",VLOOKUP(B21,'PPP (C)'!$A$4:$H$51,2,FALSE)),\"\")","v":""},{"$f":"IFERROR(IF(D21=\"\",\"\",VLOOKUP(B21,'PPP (C)'!$A$4:$H$51,4,FALSE)),\"\")","v":""},{"$f":"IFERROR(IF(D21=\"\",\"\",VLOOKUP(B21,'PPP (C)'!$A$4:$H$51,5,FALSE)),\"\")","v":""},{"$f":"IFERROR(IF(D21=\"\",\"\",VLOOKUP(B21,'PPP (C)'!$A$4:$H$51,6,FALSE)),\"\")","v":""},{"$f":"IFERROR(IF(D21=\"\",\"\",VLOOKUP(B21,'PPP (C)'!$A$4:$H$51,7,FALSE)),\"\")","v":""}]
[null,10,"10-PPP",{"$f":"IFERROR(VLOOKUP(B22,'PPP (C)'!$A$4:$H$51,3,FALSE),\"\")","v":""},{"$f":"IFERROR(IF(D22=\"\",\"\",VLOOKUP(B22,'PPP (C)'!$A$4:$H$51,2,FALSE)),\"\")","v":""},{"$f":"IFERROR(IF(D22=\"\",\"\",VLOOKUP(B22,'PPP (C)'!$A$4:$H$51,4,FALSE)),\"\")","v":""},{"$f":"IFERROR(IF(D22=\"\",\"\",VLOOKUP(B22,'PPP (C)'!$A$4:$H$51,5,FALSE)),\"\")","v":""},{"$f":"IFERROR(IF(D22=\"\",\"\",VLOOKUP(B22,'PPP (C)'!$A$4:$H$51,6,FALSE)),\"\")","v":""},{"$f":"IFERROR(IF(D22=\"\",\"\",VLOOKUP(B22,'PPP (C)'!$A$4:$H$51,7,FALSE)),\"\")","v":""}]
[null,11,"11-PPP",{"$f":"IFERROR(VLOOKUP(B23,'PPP (C)'!$A$4:$H$51,3,FALSE),\"\")","v":""},{"$f":"IFERROR(IF(D23=\"\",\"\",VLOOKUP(B23,'PPP (C)'!$A$4:$H$51,2,FALSE)),\"\")","v":""},{"$f":"IFERROR(IF(D23=\"\",\"\",VLOOKUP(B23,'PPP (C)'!$A$4:$H$51,4,FALSE)),\"\")","v":""},{"$f":"IFERROR(IF(D23=\"\",\"\",VLOOKUP(B23,'PPP (C)'!$A$4:$H$51,5,FALSE)),\"\")","v":""},{"$f":"IFERROR(IF(D23=\"\",\"\",VLOOKUP(B23,'PPP (C)'!$A$4:$H$51,6,FALSE)),\"\")","v":""},{"$f":"IFERROR(IF(D23=\"\",\"\",VLOOKUP(B23,'PPP (C)'!$A$4:$H$51,7,FALSE)),\"\")","v":""}]
[null,12,"12-PPP",{"$f":"IFERROR(VLOOKUP(B24,'PPP (C)'!$A$4:$H$51,3,FALSE),\"\")","v":""},{"$f":"IFERROR(IF(D24=\"\",\"\",VLOOKUP(B24,'PPP (C)'!$A$4:$H$51,2,FALSE)),\"\")","v":""},{"$f":"IFERROR(IF(D24=\"\",\"\",VLOOKUP(B24,'PPP (C)'!$A$4:$H$51,4,FALSE)),\"\")","v":""},{"$f":"IFERROR(IF(D24=\"\",\"\",VLOOKUP(B24,'PPP (C)'!$A$4:$H$51,5,FALSE)),\"\")","v":""},{"$f":"IFERROR(IF(D24=\"\",\"\",VLOOKUP(B24,'PPP (C)'!$A$4:$H$51,6,FALSE)),\"\")","v":""},{"$f":"IFERROR(IF(D24=\"\",\"\",VLOOKUP(B24,'PPP (C)'!$A$4:$H$51,7,FALSE)),\"\")","v":""}]
[null,13,"13-PPP",{"$f":"IFERROR(VLOOKUP(B25,'PPP (C)'!$A$4:$H$51,3,FALSE),\"\")","v":""},{"$f":"IFERROR(IF(D25=\"\",\"\",VLOOKUP(B25,'PPP (C)'!$A$4:$H$51,2,FALSE)),\"\")","v":""},{"$f":"IFERROR(IF(D25=\"\",\"\",VLOOKUP(B25,'PPP (C)'!$A$4:$H$51,4,FALSE)),\"\")","v":""},{"$f":"IFERROR(IF(D25=\"\",\"\",VLOOKUP(B25,'PPP (C)'!$A$4:$H$51,5,FALSE)),\"\")","v":""},{"$f":"IFERROR(IF(D25=\"\",\"\",VLOOKUP(B25,'PPP (C)'!$A$4:$H$51,6,FALSE)),\"\")","v":""},{"$f":"IFERROR(IF(D25=\"\",\"\",VLOOKUP(B25,'PPP (C)'!$A$4:$H$51,7,FALSE)),\"\")","v":""}]
[null,14,"14-PPP",{"$f":"IFERROR(VLOOKUP(B26,'PPP (C)'!$A$4:$H$51,3,FALSE),\"\")","v":""},{"$f":"IFERROR(IF(D26=\"\",\"\",VLOOKUP(B26,'PPP (C)'!$A$4:$H$51,2,FALSE)),\"\")","v":""},{"$f":"IFERROR(IF(D26=\"\",\"\",VLOOKUP(B26,'PPP (C)'!$A$4:$H$51,4,FALSE)),\"\")","v":""},{"$f":"IFERROR(IF(D26=\"\",\"\",VLOOKUP(B26,'PPP (C)'!$A$4:$H$51,5,FALSE)),\"\")","v":""},{"$f":"IFERROR(IF(D26=\"\",\"\",VLOOKUP(B26,'PPP (C)'!$A$4:$H$51,6,FALSE)),\"\")","v":""},{"$f":"IFERROR(IF(D26=\"\",\"\",VLOOKUP(B26,'PPP (C)'!$A$4:$H$51,7,FALSE)),\"\")","v":""}]
[null,15,"15-PPP",{"$f":"IFERROR(VLOOKUP(B27,'PPP (C)'!$A$4:$H$51,3,FALSE),\"\")","v":""},{"$f":"IFERROR(IF(D27=\"\",\"\",VLOOKUP(B27,'PPP (C)'!$A$4:$H$51,2,FALSE)),\"\")","v":""},{"$f":"IFERROR(IF(D27=\"\",\"\",VLOOKUP(B27,'PPP (C)'!$A$4:$H$51,4,FALSE)),\"\")","v":""},{"$f":"IFERROR(IF(D27=\"\",\"\",VLOOKUP(B27,'PPP (C)'!$A$4:$H$51,5,FALSE)),\"\")","v":""},{"$f":"IFERROR(IF(D27=\"\",\"\",VLOOKUP(B27,'PPP (C)'!$A$4:$H$51,6,FALSE)),\"\")","v":""},{"$f":"IFERROR(IF(D27=\"\",\"\",VLOOKUP(B27,'PPP (C)'!$A$4:$H$51,7,FALSE)),\"\")","v":""}]
[null,16,"16-PPP",{"$f":"IFERROR(VLOOKUP(B28,'PPP (C)'!$A$4:$H$51,3,FALSE),\"\")","v":""},{"$f":"IFERROR(IF(D28=\"\",\"\",VLOOKUP(B28,'PPP (C)'!$A$4:$H$51,2,FALSE)),\"\")","v":""},{"$f":"IFERROR(IF(D28=\"\",\"\",VLOOKUP(B28,'PPP (C)'!$A$4:$H$51,4,FALSE)),\"\")","v":""},{"$f":"IFERROR(IF(D28=\"\",\"\",VLOOKUP(B28,'PPP (C)'!$A$4:$H$51,5,FALSE)),\"\")","v":""},{"$f":"IFERROR(IF(D28=\"\",\"\",VLOOKUP(B28,'PPP (C)'!$A$4:$H$51,6,FALSE)),\"\")","v":""},{"$f":"IFERROR(IF(D28=\"\",\"\",VLOOKUP(B28,'PPP (C)'!$A$4:$H$51,7,FALSE)),\"\")","v":""}]
[null,17,"17-PPP",{"$f":"IFERROR(VLOOKUP(B29,'PPP (C)'!$A$4:$H$51,3,FALSE),\"\")","v":""},{"$f":"IFERROR(IF(D29=\"\",\"\",VLOOKUP(B29,'PPP (C)'!$A$4:$H$51,2,FALSE)),\"\")","v":""},{"$f":"IFERROR(IF(D29=\"\",\"\",VLOOKUP(B29,'PPP (C)'!$A$4:$H$51,4,FALSE)),\"\")","v":""},{"$f":"IFERROR(IF(D29=\"\",\"\",VLOOKUP(B29,'PPP (C)'!$A$4:$H$51,5,FALSE)),\"\")","v":""},{"$f":"IFERROR(IF(D29=\"\",\"\",VLOOKUP(B29,'PPP (C)'!$A$4:$H$51,6,FALSE)),\"\")","v":""},{"$f":"IFERROR(IF(D29=\"\",\"\",VLOOKUP(B29,'PPP (C)'!$A$4:$H$51,7,FALSE)),\"\")","v":""}]
[null,18,"18-PPP",{"$f":"IFERROR(VLOOKUP(B30,'PPP (C)'!$A$4:$H$51,3,FALSE),\"\")","v":""},{"$f":"IFERROR(IF(D30=\"\",\"\",VLOOKUP(B30,'PPP (C)'!$A$4:$H$51,2,FALSE)),\"\")","v":""},{"$f":"IFERROR(IF(D30=\"\",\"\",VLOOKUP(B30,'PPP (C)'!$A$4:$H$51,4,FALSE)),\"\")","v":""},{"$f":"IFERROR(IF(D30=\"\",\"\",VLOOKUP(B30,'PPP (C)'!$A$4:$H$51,5,FALSE)),\"\")","v":""},{"$f":"IFERROR(IF(D30=\"\",\"\",VLOOKUP(B30,'PPP (C)'!$A$4:$H$51,6,FALSE)),\"\")","v":""},{"$f":"IFERROR(IF(D30=\"\",\"\",VLOOKUP(B30,'PPP (C)'!$A$4:$H$51,7,FALSE)),\"\")","v":""}]
[null,19,"19-PPP",{"$f":"IFERROR(VLOOKUP(B31,'PPP (C)'!$A$4:$H$51,3,FALSE),\"\")","v":""},{"$f":"IFERROR(IF(D31=\"\",\"\",VLOOKUP(B31,'PPP (C)'!$A$4:$H$51,2,FALSE)),\"\")","v":""},{"$f":"IFERROR(IF(D31=\"\",\"\",VLOOKUP(B31,'PPP (C)'!$A$4:$H$51,4,FALSE)),\"\")","v":""},{"$f":"IFERROR(IF(D31=\"\",\"\",VLOOKUP(B31,'PPP (C)'!$A$4:$H$51,5,FALSE)),\"\")","v":""},{"$f":"IFERROR(IF(D31=\"\",\"\",VLOOKUP(B31,'PPP (C)'!$A$4:$H$51,6,FALSE)),\"\")","v":""},{"$f":"IFERROR(IF(D31=\"\",\"\",VLOOKUP(B31,'PPP (C)'!$A$4:$H$51,7,FALSE)),\"\")","v":""}]
[null,20,"20-PPP",{"$f":"IFERROR(VLOOKUP(B32,'PPP (C)'!$A$4:$H$51,3,FALSE),\"\")","v":""},{"$f":"IFERROR(IF(D32=\"\",\"\",VLOOKUP(B32,'PPP (C)'!$A$4:$H$51,2,FALSE)),\"\")","v":""},{"$f":"IFERROR(IF(D32=\"\",\"\",VLOOKUP(B32,'PPP (C)'!$A$4:$H$51,4,FALSE)),\"\")","v":""},{"$f":"IFERROR(IF(D32=\"\",\"\",VLOOKUP(B32,'PPP (C)'!$A$4:$H$51,5,FALSE)),\"\")","v":""},{"$f":"IFERROR(IF(D32=\"\",\"\",VLOOKUP(B32,'PPP (C)'!$A$4:$H$51,6,FALSE)),\"\")","v":""},{"$f":"IFERROR(IF(D32=\"\",\"\",VLOOKUP(B32,'PPP (C)'!$A$4:$H$51,7,FALSE)),\"\")","v":""}]
[null,21,"21-PPP",{"$f":"IFERROR(VLOOKUP(B33,'PPP (C)'!$A$4:$H$51,3,FALSE),\"\")","v":""},{"$f":"IFERROR(IF(D33=\"\",\"\",VLOOKUP(B33,'PPP (C)'!$A$4:$H$51,2,FALSE)),\"\")","v":""},{"$f":"IFERROR(IF(D33=\"\",\"\",VLOOKUP(B33,'PPP (C)'!$A$4:$H$51,4,FALSE)),\"\")","v":""},{"$f":"IFERROR(IF(D33=\"\",\"\",VLOOKUP(B33,'PPP (C)'!$A$4:$H$51,5,FALSE)),\"\")","v":""},{"$f":"IFERROR(IF(D33=\"\",\"\",VLOOKUP(B33,'PPP (C)'!$A$4:$H$51,6,FALSE)),\"\")","v":""},{"$f":"IFERROR(IF(D33=\"\",\"\",VLOOKUP(B33,'PPP (C)'!$A$4:$H$51,7,FALSE)),\"\")","v":""}]
[null,22,"22-PPP",{"$f":"IFERROR(VLOOKUP(B34,'PPP (C)'!$A$4:$H$51,3,FALSE),\"\")","v":""},{"$f":"IFERROR(IF(D34=\"\",\"\",VLOOKUP(B34,'PPP (C)'!$A$4:$H$51,2,FALSE)),\"\")","v":""},{"$f":"IFERROR(IF(D34=\"\",\"\",VLOOKUP(B34,'PPP (C)'!$A$4:$H$51,4,FALSE)),\"\")","v":""},{"$f":"IFERROR(IF(D34=\"\",\"\",VLOOKUP(B34,'PPP (C)'!$A$4:$H$51,5,FALSE)),\"\")","v":""},{"$f":"IFERROR(IF(D34=\"\",\"\",VLOOKUP(B34,'PPP (C)'!$A$4:$H$51,6,FALSE)),\"\")","v":""},{"$f":"IFERROR(IF(D34=\"\",\"\",VLOOKUP(B34,'PPP (C)'!$A$4:$H$51,7,FALSE)),\"\")","v":""}]
[null,23,"23-PPP",{"$f":"IFERROR(VLOOKUP(B35,'PPP (C)'!$A$4:$H$51,3,FALSE),\"\")","v":""},{"$f":"IFERROR(IF(D35=\"\",\"\",VLOOKUP(B35,'PPP (C)'!$A$4:$H$51,2,FALSE)),\"\")","v":""},{"$f":"IFERROR(IF(D35=\"\",\"\",VLOOKUP(B35,'PPP (C)'!$A$4:$H$51,4,FALSE)),\"\")","v":""},{"$f":"IFERROR(IF(D35=\"\",\"\",VLOOKUP(B35,'PPP (C)'!$A$4:$H$51,5,FALSE)),\"\")","v":""},{"$f":"IFERROR(IF(D35=\"\",\"\",VLOOKUP(B35,'PPP (C)'!$A$4:$H$51,6,FALSE)),\"\")","v":""},{"$f":"IFERROR(IF(D35=\"\",\"\",VLOOKUP(B35,'PPP (C)'!$A$4:$H$51,7,FALSE)),\"\")","v":""}]
[null,24,"24-PPP",{"$f":"IFERROR(VLOOKUP(B36,'PPP (C)'!$A$4:$H$51,3,FALSE),\"\")","v":""},{"$f":"IFERROR(IF(D36=\"\",\"\",VLOOKUP(B36,'PPP (C)'!$A$4:$H$51,2,FALSE)),\"\")","v":""},{"$f":"IFERROR(IF(D36=\"\",\"\",VLOOKUP(B36,'PPP (C)'!$A$4:$H$51,4,FALSE)),\"\")","v":""},{"$f":"IFERROR(IF(D36=\"\",\"\",VLOOKUP(B36,'PPP (C)'!$A$4:$H$51,5,FALSE)),\"\")","v":""},{"$f":"IFERROR(IF(D36=\"\",\"\",VLOOKUP(B36,'PPP (C)'!$A$4:$H$51,6,FALSE)),\"\")","v":""},{"$f":"IFERROR(IF(D36=\"\",\"\",VLOOKUP(B36,'PPP (C)'!$A$4:$H$51,7,FALSE)),\"\")","v":""}]
[null,25,"25-PPP",{"$f":"IFERROR(VLOOKUP(B37,'PPP (C)'!$A$4:$H$51,3,FALSE),\"\")","v":""},{"$f":"IFERROR(IF(D37=\"\",\"\",VLOOKUP(B37,'PPP (C)'!$A$4:$H$51,2,FALSE)),\"\")","v":""},{"$f":"IFERROR(IF(D37=\"\",\"\",VLOOKUP(B37,'PPP (C)'!$A$4:$H$51,4,FALSE)),\"\")","v":""},{"$f":"IFERROR(IF(D37=\"\",\"\",VLOOKUP(B37,'PPP (C)'!$A$4:$H$51,5,FALSE)),\"\")","v":""},{"$f":"IFERROR(IF(D37=\"\",\"\",VLOOKUP(B37,'PPP (C)'!$A$4:$H$51,6,FALSE)),\"\")","v":""},{"$f":"IFERROR(IF(D37=\"\",\"\",VLOOKUP(B37,'PPP (C)'!$A$4:$H$51,7,FALSE)),\"\")","v":""}]
[null,26,"26-PPP",{"$f":"IFERROR(VLOOKUP(B38,'PPP (C)'!$A$4:$H$51,3,FALSE),\"\")","v":""},{"$f":"IFERROR(IF(D38=\"\",\"\",VLOOKUP(B38,'PPP (C)'!$A$4:$H$51,2,FALSE)),\"\")","v":""},{"$f":"IFERROR(IF(D38=\"\",\"\",VLOOKUP(B38,'PPP (C)'!$A$4:$H$51,4,FALSE)),\"\")","v":""},{"$f":"IFERROR(IF(D38=\"\",\"\",VLOOKUP(B38,'PPP (C)'!$A$4:$H$51,5,FALSE)),\"\")","v":""},{"$f":"IFERROR(IF(D38=\"\",\"\",VLOOKUP(B38,'PPP (C)'!$A$4:$H$51,6,FALSE)),\"\")","v":""},{"$f":"IFERROR(IF(D38=\"\",\"\",VLOOKUP(B38,'PPP (C)'!$A$4:$H$51,7,FALSE)),\"\")","v":""}]
[null,27,"27-PPP",{"$f":"IFERROR(VLOOKUP(B39,'PPP (C)'!$A$4:$H$51,3,FALSE),\"\")","v":""},{"$f":"IFERROR(IF(D39=\"\",\"\",VLOOKUP(B39,'PPP (C)'!$A$4:$H$51,2,FALSE)),\"\")","v":""},{"$f":"IFERROR(IF(D39=\"\",\"\",VLOOKUP(B39,'PPP (C)'!$A$4:$H$51,4,FALSE)),\"\")","v":""},{"$f":"IFERROR(IF(D39=\"\",\"\",VLOOKUP(B39,'PPP (C)'!$A$4:$H$51,5,FALSE)),\"\")","v":""},{"$f":"IFERROR(IF(D39=\"\",\"\",VLOOKUP(B39,'PPP (C)'!$A$4:$H$51,6,FALSE)),\"\")","v":""},{"$f":"IFERROR(IF(D39=\"\",\"\",VLOOKUP(B39,'PPP (C)'!$A$4:$H$51,7,FALSE)),\"\")","v":""}]
[null,28,"28-PPP",{"$f":"IFERROR(VLOOKUP(B40,'PPP (C)'!$A$4:$H$51,3,FALSE),\"\")","v":""},{"$f":"IFERROR(IF(D40=\"\",\"\",VLOOKUP(B40,'PPP (C)'!$A$4:$H$51,2,FALSE)),\"\")","v":""},{"$f":"IFERROR(IF(D40=\"\",\"\",VLOOKUP(B40,'PPP (C)'!$A$4:$H$51,4,FALSE)),\"\")","v":""},{"$f":"IFERROR(IF(D40=\"\",\"\",VLOOKUP(B40,'PPP (C)'!$A$4:$H$51,5,FALSE)),\"\")","v":""},{"$f":"IFERROR(IF(D40=\"\",\"\",VLOOKUP(B40,'PPP (C)'!$A$4:$H$51,6,FALSE)),\"\")","v":""},{"$f":"IFERROR(IF(D40=\"\",\"\",VLOOKUP(B40,'PPP (C)'!$A$4:$H$51,7,FALSE)),\"\")","v":""}]
[null,29,"29-PPP",{"$f":"IFERROR(VLOOKUP(B41,'PPP (C)'!$A$4:$H$51,3,FALSE),\"\")","v":""},{"$f":"IFERROR(IF(D41=\"\",\"\",VLOOKUP(B41,'PPP (C)'!$A$4:$H$51,2,FALSE)),\"\")","v":""},{"$f":"IFERROR(IF(D41=\"\",\"\",VLOOKUP(B41,'PPP (C)'!$A$4:$H$51,4,FALSE)),\"\")","v":""},{"$f":"IFERROR(IF(D41=\"\",\"\",VLOOKUP(B41,'PPP (C)'!$A$4:$H$51,5,FALSE)),\"\")","v":""},{"$f":"IFERROR(IF(D41=\"\",\"\",VLOOKUP(B41,'PPP (C)'!$A$4:$H$51,6,FALSE)),\"\")","v":""},{"$f":"IFERROR(IF(D41=\"\",\"\",VLOOKUP(B41,'PPP (C)'!$A$4:$H$51,7,FALSE)),\"\")","v":""}]
[null,30,"30-PPP",{"$f":"IFERROR(VLOOKUP(B42,'PPP (C)'!$A$4:$H$51,3,FALSE),\"\")","v":""},{"$f":"IFERROR(IF(D42=\"\",\"\",VLOOKUP(B42,'PPP (C)'!$A$4:$H$51,2,FALSE)),\"\")","v":""},{"$f":"IFERROR(IF(D42=\"\",\"\",VLOOKUP(B42,'PPP (C)'!$A$4:$H$51,4,FALSE)),\"\")","v":""},{"$f":"IFERROR(IF(D42=\"\",\"\",VLOOKUP(B42,'PPP (C)'!$A$4:$H$51,5,FALSE)),\"\")","v":""},{"$f":"IFERROR(IF(D42=\"\",\"\",VLOOKUP(B42,'PPP (C)'!$A$4:$H$51,6,FALSE)),\"\")","v":""},{"$f":"IFERROR(IF(D42=\"\",\"\",VLOOKUP(B42,'PPP (C)'!$A$4:$H$51,7,FALSE)),\"\")","v":""}]
[null,31,"31-PPP",{"$f":"IFERROR(VLOOKUP(B43,'PPP (C)'!$A$4:$H$51,3,FALSE),\"\")","v":""},{"$f":"IFERROR(IF(D43=\"\",\"\",VLOOKUP(B43,'PPP (C)'!$A$4:$H$51,2,FALSE)),\"\")","v":""},{"$f":"IFERROR(IF(D43=\"\",\"\",VLOOKUP(B43,'PPP (C)'!$A$4:$H$51,4,FALSE)),\"\")","v":""},{"$f":"IFERROR(IF(D43=\"\",\"\",VLOOKUP(B43,'PPP (C)'!$A$4:$H$51,5,FALSE)),\"\")","v":""},{"$f":"IFERROR(IF(D43=\"\",\"\",VLOOKUP(B43,'PPP (C)'!$A$4:$H$51,6,FALSE)),\"\")","v":""},{"$f":"IFERROR(IF(D43=\"\",\"\",VLOOKUP(B43,'PPP (C)'!$A$4:$H$51,7,FALSE)),\"\")","v":""}]
[null,32,"32-PPP",{"$f":"IFERROR(VLOOKUP(B44,'PPP (C)'!$A$4:$H$51,3,FALSE),\"\")","v":""},{"$f":"IFERROR(IF(D44=\"\",\"\",VLOOKUP(B44,'PPP (C)'!$A$4:$H$51,2,FALSE)),\"\")","v":""},{"$f":"IFERROR(IF(D44=\"\",\"\",VLOOKUP(B44,'PPP (C)'!$A$4:$H$51,4,FALSE)),\"\")","v":""},{"$f":"IFERROR(IF(D44=\"\",\"\",VLOOKUP(B44,'PPP (C)'!$A$4:$H$51,5,FALSE)),\"\")","v":""},{"$f":"IFERROR(IF(D44=\"\",\"\",VLOOKUP(B44,'PPP (C)'!$A$4:$H$51,6,FALSE)),\"\")","v":""},{"$f":"IFERROR(IF(D44=\"\",\"\",VLOOKUP(B44,'PPP (C)'!$A$4:$H$51,7,FALSE)),\"\")","v":""}]
[null,33,"33-PPP",{"$f":"IFERROR(VLOOKUP(B45,'PPP (C)'!$A$4:$H$51,3,FALSE),\"\")","v":""},{"$f":"IFERROR(IF(D45=\"\",\"\",VLOOKUP(B45,'PPP (C)'!$A$4:$H$51,2,FALSE)),\"\")","v":""},{"$f":"IFERROR(IF(D45=\"\",\"\",VLOOKUP(B45,'PPP (C)'!$A$4:$H$51,4,FALSE)),\"\")","v":""},{"$f":"IFERROR(IF(D45=\"\",\"\",VLOOKUP(B45,'PPP (C)'!$A$4:$H$51,5,FALSE)),\"\")","v":""},{"$f":"IFERROR(IF(D45=\"\",\"\",VLOOKUP(B45,'PPP (C)'!$A$4:$H$51,6,FALSE)),\"\")","v":""},{"$f":"IFERROR(IF(D45=\"\",\"\",VLOOKUP(B45,'PPP (C)'!$A$4:$H$51,7,FALSE)),\"\")","v":""}]
[null,34,"34-PPP",{"$f":"IFERROR(VLOOKUP(B46,'PPP (C)'!$A$4:$H$51,3,FALSE),\"\")","v":""},{"$f":"IFERROR(IF(D46=\"\",\"\",VLOOKUP(B46,'PPP (C)'!$A$4:$H$51,2,FALSE)),\"\")","v":""},{"$f":"IFERROR(IF(D46=\"\",\"\",VLOOKUP(B46,'PPP (C)'!$A$4:$H$51,4,FALSE)),\"\")","v":""},{"$f":"IFERROR(IF(D46=\"\",\"\",VLOOKUP(B46,'PPP (C)'!$A$4:$H$51,5,FALSE)),\"\")","v":""},{"$f":"IFERROR(IF(D46=\"\",\"\",VLOOKUP(B46,'PPP (C)'!$A$4:$H$51,6,FALSE)),\"\")","v":""},{"$f":"IFERROR(IF(D46=\"\",\"\",VLOOKUP(B46,'PPP (C)'!$A$4:$H$51,7,FALSE)),\"\")","v":""}]
[null,35,"35-PPP",{"$f":"IFERROR(VLOOKUP(B47,'PPP (C)'!$A$4:$H$51,3,FALSE),\"\")","v":""},{"$f":"IFERROR(IF(D47=\"\",\"\",VLOOKUP(B47,'PPP (C)'!$A$4:$H$51,2,FALSE)),\"\")","v":""},{"$f":"IFERROR(IF(D47=\"\",\"\",VLOOKUP(B47,'PPP (C)'!$A$4:$H$51,4,FALSE)),\"\")","v":""},{"$f":"IFERROR(IF(D47=\"\",\"\",VLOOKUP(B47,'PPP (C)'!$A$4:$H$51,5,FALSE)),\"\")","v":""},{"$f":"IFERROR(IF(D47=\"\",\"\",VLOOKUP(B47,'PPP (C)'!$A$4:$H$51,6,FALSE)),\"\")","v":""},{"$f":"IFERROR(IF(D47=\"\",\"\",VLOOKUP(B47,'PPP (C)'!$A$4:$H$51,7,FALSE)),\"\")","v":""}]
[null,36,"36-PPP",{"$f":"IFERROR(VLOOKUP(B48,'PPP (C)'!$A$4:$H$51,3,FALSE),\"\")","v":""},{"$f":"IFERROR(IF(D48=\"\",\"\",VLOOKUP(B48,'PPP (C)'!$A$4:$H$51,2,FALSE)),\"\")","v":""},{"$f":"IFERROR(IF(D48=\"\",\"\",VLOOKUP(B48,'PPP (C)'!$A$4:$H$51,4,FALSE)),\"\")","v":""},{"$f":"IFERROR(IF(D48=\"\",\"\",VLOOKUP(B48,'PPP (C)'!$A$4:$H$51,5,FALSE)),\"\")","v":""},{"$f":"IFERROR(IF(D48=\"\",\"\",VLOOKUP(B48,'PPP (C)'!$A$4:$H$51,6,FALSE)),\"\")","v":""},{"$f":"IFERROR(IF(D48=\"\",\"\",VLOOKUP(B48,'PPP (C)'!$A$4:$H$51,7,FALSE)),\"\")","v":""}]
[null,37,"37-PPP",{"$f":"IFERROR(VLOOKUP(B49,'PPP (C)'!$A$4:$H$51,3,FALSE),\"\")","v":""},{"$f":"IFERROR(IF(D49=\"\",\"\",VLOOKUP(B49,'PPP (C)'!$A$4:$H$51,2,FALSE)),\"\")","v":""},{"$f":"IFERROR(IF(D49=\"\",\"\",VLOOKUP(B49,'PPP (C)'!$A$4:$H$51,4,FALSE)),\"\")","v":""},{"$f":"IFERROR(IF(D49=\"\",\"\",VLOOKUP(B49,'PPP (C)'!$A$4:$H$51,5,FALSE)),\"\")","v":""},{"$f":"IFERROR(IF(D49=\"\",\"\",VLOOKUP(B49,'PPP (C)'!$A$4:$H$51,6,FALSE)),\"\")","v":""},{"$f":"IFERROR(IF(D49=\"\",\"\",VLOOKUP(B49,'PPP (C)'!$A$4:$H$51,7,FALSE)),\"\")","v":""}]
[null,38,"38-PPP",{"$f":"IFERROR(VLOOKUP(B50,'PPP (C)'!$A$4:$H$51,3,FALSE),\"\")","v":""},{"$f":"IFERROR(IF(D50=\"\",\"\",VLOOKUP(B50,'PPP (C)'!$A$4:$H$51,2,FALSE)),\"\")","v":""},{"$f":"IFERROR(IF(D50=\"\",\"\",VLOOKUP(B50,'PPP (C)'!$A$4:$H$51,4,FALSE)),\"\")","v":""},{"$f":"IFERROR(IF(D50=\"\",\"\",VLOOKUP(B50,'PPP (C)'!$A$4:$H$51,5,FALSE)),\"\")","v":""},{"$f":"IFERROR(IF(D50=\"\",\"\",VLOOKUP(B50,'PPP (C)'!$A$4:$H$51,6,FALSE)),\"\")","v":""},{"$f":"IFERROR(IF(D50=\"\",\"\",VLOOKUP(B50,'PPP (C)'!$A$4:$H$51,7,FALSE)),\"\")","v":""}]
[null,39,"39-PPP",{"$f":"IFERROR(VLOOKUP(B51,'PPP (C)'!$A$4:$H$51,3,FALSE),\"\")","v":""},{"$f":"IFERROR(IF(D51=\"\",\"\",VLOOKUP(B51,'PPP (C)'!$A$4:$H$51,2,FALSE)),\"\")","v":""},{"$f":"IFERROR(IF(D51=\"\",\"\",VLOOKUP(B51,'PPP (C)'!$A$4:$H$51,4,FALSE)),\"\")","v":""},{"$f":"IFERROR(IF(D51=\"\",\"\",VLOOKUP(B51,'PPP (C)'!$A$4:$H$51,5,FALSE)),\"\")","v":""},{"$f":"IFERROR(IF(D51=\"\",\"\",VLOOKUP(B51,'PPP (C)'!$A$4:$H$51,6,FALSE)),\"\")","v":""},{"$f":"IFERROR(IF(D51=\"\",\"\",VLOOKUP(B51,'PPP (C)'!$A$4:$H$51,7,FALSE)),\"\")","v":""}]
[null,40,"40-PPP",{"$f":"IFERROR(VLOOKUP(B52,'PPP (C)'!$A$4:$H$51,3,FALSE),\"\")","v":""},{"$f":"IFERROR(IF(D52=\"\",\"\",VLOOKUP(B52,'PPP (C)'!$A$4:$H$51,2,FALSE)),\"\")","v":""},{"$f":"IFERROR(IF(D52=\"\",\"\",VLOOKUP(B52,'PPP (C)'!$A$4:$H$51,4,FALSE)),\"\")","v":""},{"$f":"IFERROR(IF(D52=\"\",\"\",VLOOKUP(B52,'PPP (C)'!$A$4:$H$51,5,FALSE)),\"\")","v":""},{"$f":"IFERROR(IF(D52=\"\",\"\",VLOOKUP(B52,'PPP (C)'!$A$4:$H$51,6,FALSE)),\"\")","v":""},{"$f":"IFERROR(IF(D52=\"\",\"\",VLOOKUP(B52,'PPP (C)'!$A$4:$H$51,7,FALSE)),\"\")","v":""}]
[null,41,"41-PPP",{"$f":"IFERROR(VLOOKUP(B53,'PPP (C)'!$A$4:$H$51,3,FALSE),\"\")","v":""},{"$f":"IFERROR(IF(D53=\"\",\"\",VLOOKUP(B53,'PPP (C)'!$A$4:$H$51,2,FALSE)),\"\")","v":""},{"$f":"IFERROR(IF(D53=\"\",\"\",VLOOKUP(B53,'PPP (C)'!$A$4:$H$51,4,FALSE)),\"\")","v":""},{"$f":"IFERROR(IF(D53=\"\",\"\",VLOOKUP(B53,'PPP (C)'!$A$4:$H$51,5,FALSE)),\"\")","v":""},{"$f":"IFERROR(IF(D53=\"\",\"\",VLOOKUP(B53,'PPP (C)'!$A$4:$H$51,6,FALSE)),\"\")","v":""},{"$f":"IFERROR(IF(D53=\"\",\"\",VLOOKUP(B53,'PPP (C)'!$A$4:$H$51,7,FALSE)),\"\")","v":""}]
[null,42,"42-PPP",{"$f":"IFERROR(VLOOKUP(B54,'PPP (C)'!$A$4:$H$51,3,FALSE),\"\")","v":""},{"$f":"IFERROR(IF(D54=\"\",\"\",VLOOKUP(B54,'PPP (C)'!$A$4:$H$51,2,FALSE)),\"\")","v":""},{"$f":"IFERROR(IF(D54=\"\",\"\",VLOOKUP(B54,'PPP (C)'!$A$4:$H$51,4,FALSE)),\"\")","v":""},{"$f":"IFERROR(IF(D54=\"\",\"\",VLOOKUP(B54,'PPP (C)'!$A$4:$H$51,5,FALSE)),\"\")","v":""},{"$f":"IFERROR(IF(D54=\"\",\"\",VLOOKUP(B54,'PPP (C)'!$A$4:$H$51,6,FALSE)),\"\")","v":""},{"$f":"IFERROR(IF(D54=\"\",\"\",VLOOKUP(B54,'PPP (C)'!$A$4:$H$51,7,FALSE)),\"\")","v":""}]
[null,43,"43-PPP",{"$f":"IFERROR(VLOOKUP(B55,'PPP (C)'!$A$4:$H$51,3,FALSE),\"\")","v":""},{"$f":"IFERROR(IF(D55=\"\",\"\",VLOOKUP(B55,'PPP (C)'!$A$4:$H$51,2,FALSE)),\"\")","v":""},{"$f":"IFERROR(IF(D55=\"\",\"\",VLOOKUP(B55,'PPP (C)'!$A$4:$H$51,4,FALSE)),\"\")","v":""},{"$f":"IFERROR(IF(D55=\"\",\"\",VLOOKUP(B55,'PPP (C)'!$A$4:$H$51,5,FALSE)),\"\")","v":""},{"$f":"IFERROR(IF(D55=\"\",\"\",VLOOKUP(B55,'PPP (C)'!$A$4:$H$51,6,FALSE)),\"\")","v":""},{"$f":"IFERROR(IF(D55=\"\",\"\",VLOOKUP(B55,'PPP (C)'!$A$4:$H$51,7,FALSE)),\"\")","v":""}]
[null,44,"44-PPP",{"$f":"IFERROR(VLOOKUP(B56,'PPP (C)'!$A$4:$H$51,3,FALSE),\"\")","v":""},{"$f":"IFERROR(IF(D56=\"\",\"\",VLOOKUP(B56,'PPP (C)'!$A$4:$H$51,2,FALSE)),\"\")","v":""},{"$f":"IFERROR(IF(D56=\"\",\"\",VLOOKUP(B56,'PPP (C)'!$A$4:$H$51,4,FALSE)),\"\")","v":""},{"$f":"IFERROR(IF(D56=\"\",\"\",VLOOKUP(B56,'PPP (C)'!$A$4:$H$51,5,FALSE)),\"\")","v":""},{"$f":"IFERROR(IF(D56=\"\",\"\",VLOOKUP(B56,'PPP (C)'!$A$4:$H$51,6,FALSE)),\"\")","v":""},{"$f":"IFERROR(IF(D56=\"\",\"\",VLOOKUP(B56,'PPP (C)'!$A$4:$H$51,7,FALSE)),\"\")","v":""}]
[null,45,"45-PPP",{"$f":"IFERROR(VLOOKUP(B57,'PPP (C)'!$A$4:$H$51,3,FALSE),\"\")","v":""},{"$f":"IFERROR(IF(D57=\"\",\"\",VLOOKUP(B57,'PPP (C)'!$A$4:$H$51,2,FALSE)),\"\")","v":""},{"$f":"IFERROR(IF(D57=\"\",\"\",VLOOKUP(B57,'PPP (C)'!$A$4:$H$51,4,FALSE)),\"\")","v":""},{"$f":"IFERROR(IF(D57=\"\",\"\",VLOOKUP(B57,'PPP (C)'!$A$4:$H$51,5,FALSE)),\"\")","v":""},{"$f":"IFERROR(IF(D57=\"\",\"\",VLOOKUP(B57,'PPP (C)'!$A$4:$H$51,6,FALSE)),\"\")","v":""},{"$f":"IFERROR(IF(D57=\"\",\"\",VLOOKUP(B57,'PPP (C)'!$A$4:$H$51,7,FALSE)),\"\")","v":""}]
[null,46,"46-PPP",{"$f":"IFERROR(VLOOKUP(B58,'PPP (C)'!$A$4:$H$51,3,FALSE),\"\")","v":""},{"$f":"IFERROR(IF(D58=\"\",\"\",VLOOKUP(B58,'PPP (C)'!$A$4:$H$51,2,FALSE)),\"\")","v":""},{"$f":"IFERROR(IF(D58=\"\",\"\",VLOOKUP(B58,'PPP (C)'!$A$4:$H$51,4,FALSE)),\"\")","v":""},{"$f":"IFERROR(IF(D58=\"\",\"\",VLOOKUP(B58,'PPP (C)'!$A$4:$H$51,5,FALSE)),\"\")","v":""},{"$f":"IFERROR(IF(D58=\"\",\"\",VLOOKUP(B58,'PPP (C)'!$A$4:$H$51,6,FALSE)),\"\")","v":""},{"$f":"IFERROR(IF(D58=\"\",\"\",VLOOKUP(B58,'PPP (C)'!$A$4:$H$51,7,FALSE)),\"\")","v":""}]
[null,47,"47-PPP",{"$f":"IFERROR(VLOOKUP(B59,'PPP (C)'!$A$4:$H$51,3,FALSE),\"\")","v":""},{"$f":"IFERROR(IF(D59=\"\",\"\",VLOOKUP(B59,'PPP (C)'!$A$4:$H$51,2,FALSE)),\"\")","v":""},{"$f":"IFERROR(IF(D59=\"\",\"\",VLOOKUP(B59,'PPP (C)'!$A$4:$H$51,4,FALSE)),\"\")","v":""},{"$f":"IFERROR(IF(D59=\"\",\"\",VLOOKUP(B59,'PPP (C)'!$A$4:$H$51,5,FALSE)),\"\")","v":""},{"$f":"IFERROR(IF(D59=\"\",\"\",VLOOKUP(B59,'PPP (C)'!$A$4:$H$51,6,FALSE)),\"\")","v":""},{"$f":"IFERROR(IF(D59=\"\",\"\",VLOOKUP(B59,'PPP (C)'!$A$4:$H$51,7,FALSE)),\"\")","v":""}]
[null,48,"48-PPP",{"$f":"IFERROR(VLOOKUP(B60,'PPP (C)'!$A$4:$H$51,3,FALSE),\"\")","v":""},{"$f":"IFERROR(IF(D60=\"\",\"\",VLOOKUP(B60,'PPP (C)'!$A$4:$H$51,2,FALSE)),\"\")","v":""},{"$f":"IFERROR(IF(D60=\"\",\"\",VLOOKUP(B60,'PPP (C)'!$A$4:$H$51,4,FALSE)),\"\")","v":""},{"$f":"IFERROR(IF(D60=\"\",\"\",VLOOKUP(B60,'PPP (C)'!$A$4:$H$51,5,FALSE)),\"\")","v":""},{"$f":"IFERROR(IF(D60=\"\",\"\",VLOOKUP(B60,'PPP (C)'!$A$4:$H$51,6,FALSE)),\"\")","v":""},{"$f":"IFERROR(IF(D60=\"\",\"\",VLOOKUP(B60,'PPP (C)'!$A$4:$H$51,7,FALSE)),\"\")","v":""}]

{"sheet":"Grups PP","index":11,"n_rows":40,"n_cols":18,"rows_kept":40,"cut":false,"hidden":false,"merged":[[1,16,1,17],[29,6,31,6],[33,6,35,6],[37,6,39,6],[33,2,35,2],[37,2,39,2],[29,2,31,2],[7,1,7,9],[1,9,5,9],[2,5,5,8],[1,1,1,8],[25,6,27,6],[9,6,11,6],[13,6,15,6],[17,6,19,6],[21,6,23,6],[9,2,11,2],[13,2,15,2],[17,2,19,2],[21,2,23,2],[25,2,27,2]]}
[]
[null,{"$f":"IF(Inici!B2=\"INTRODUIR EN MAIÚSCULES EL NOM DE L'OPEN\",\"Introduiu el nom de l'Open a la pantalla d'Inici!!!\",Inici!B2)","v":"Introduiu el nom de l'Open a la pantalla d'Inici!!!"},null,null,null,null,null,null,null,null,null,null,"ANAR A PÀGINA","P-P-PRÈVIA","P-PRÈVIA","PRÈVIA","FASE FINAL"]
[null,null,null,null,null,null,null,null,null,null,null,null,"Rànquing Inicial","Grups PPP","Grups PP","Grups P","Setzens","Vuitens"]
[null,null,null,null,null,null,null,null,null,null,null,null,"Organigrama","Result PPP","Result PP","Result P","Class SF","Quarts/SF/F"]
[null,null,null,null,null,null,null,null,null,null,null,null,"Horaris","Classif PPP","Classif PP","Classif P"]
[]
[]
[null,{"$f":"IF('Rànquing Inicial'!$D$141<65,\"NO HI HA PRE-PRÈVIA\",\"PRE-PRÈVIA (PP)\")","v":"NO HI HA PRE-PRÈVIA"},null,null,null,null,null,null,null,null,null,null,"Inici","Participants"]
[]
[null,null,{"$f":"IF('Rànquing Inicial'!$D$141<65,\"\",\"Grup Q\")","v":""},{"$f":"Organigrama!B35","v":""},{"$f":"IF(D10=\"\",\"\",IF(AND(D10>0,D10<129),VLOOKUP(D10,'Rànquing Inicial'!$B$11:$G$138,2,FALSE),VLOOKUP(D10,'Classificació PPP'!$C$13:$I$60,2,FALSE)))","v":""},null,{"$f":"IF('Rànquing Inicial'!$D$147<27,\"\",\"Grup Y\")","v":""},{"$f":"Organigrama!J35","v":""},{"$f":"IF(H10=\"\",\"\",IF(AND(H10>0,H10<129),VLOOKUP(H10,'Rànquing Inicial'!$B$11:$G$138,2,FALSE),VLOOKUP(H10,'Classificació PPP'!$C$13:$I$60,2,FALSE)))","v":""}]
[null,null,null,{"$f":"Organigrama!B36","v":""},{"$f":"IF(D11=\"\",\"\",IF(AND(D11>0,D11<129),VLOOKUP(D11,'Rànquing Inicial'!$B$11:$G$138,2,FALSE),VLOOKUP(D11,'Classificació PPP'!$C$13:$I$60,2,FALSE)))","v":""},null,null,{"$f":"Organigrama!J36","v":""},{"$f":"IF(H11=\"\",\"\",IF(AND(H11>0,H11<129),VLOOKUP(H11,'Rànquing Inicial'!$B$11:$G$138,2,FALSE),VLOOKUP(H11,'Classificació PPP'!$C$13:$I$60,2,FALSE)))","v":""}]
[null,null,null,{"$f":"Organigrama!B37","v":""},{"$f":"IFERROR(IF(D12=\"\",\"\",IF(AND(D12>0,D12<129),VLOOKUP(D12,'Rànquing Inicial'!$B$11:$G$138,2,FALSE),VLOOKUP(D12,'Classificació PPP'!$C$13:$I$60,2,FALSE))),\"\")","v":""},null,null,{"$f":"Organigrama!J37","v":""},{"$f":"IFERROR(IF(H12=\"\",\"\",IF(AND(H12>0,H12<129),VLOOKUP(H12,'Rànquing Inicial'!$B$11:$G$138,2,FALSE),VLOOKUP(H12,'Classificació PPP'!$C$13:$I$60,2,FALSE))),\"\")","v":""}]
[]
[null,null,{"$f":"IF('Rànquing Inicial'!$D$141<65,\"\",\"Grup R\")","v":""},{"$f":"Organigrama!C35","v":""},{"$f":"IF(D14=\"\",\"\",IF(AND(D14>0,D14<129),VLOOKUP(D14,'Rànquing Inicial'!$B$11:$G$138,2,FALSE),VLOOKUP(D14,'Classificació PPP'!$C$13:$I$60,2,FALSE)))","v":""},null,{"$f":"IF('Rànquing Inicial'!$D$147<30,\"\",\"Grup Z\")","v":""},{"$f":"Organigrama!K35","v":""},{"$f":"IF(H14=\"\",\"\",IF(AND(H14>0,H14<129),VLOOKUP(H14,'Rànquing Inicial'!$B$11:$G$138,2,FALSE),VLOOKUP(H14,'Classificació PPP'!$C$13:$I$60,2,FALSE)))","v":""}]
[null,null,null,{"$f":"Organigrama!C36","v":""},{"$f":"IF(D15=\"\",\"\",IF(AND(D15>0,D15<129),VLOOKUP(D15,'Rànquing Inicial'!$B$11:$G$138,2,FALSE),VLOOKUP(D15,'Classificació PPP'!$C$13:$I$60,2,FALSE)))","v":""},null,null,{"$f":"Organigrama!K36","v":""},{"$f":"IF(H15=\"\",\"\",IF(AND(H15>0,H15<129),VLOOKUP(H15,'Rànquing Inicial'!$B$11:$G$138,2,FALSE),VLOOKUP(H15,'Classificació PPP'!$C$13:$I$60,2,FALSE)))","v":""}]
[null,null,null,{"$f":"Organigrama!C37","v":""},{"$f":"IFERROR(IF(D16=\"\",\"\",IF(AND(D16>0,D16<129),VLOOKUP(D16,'Rànquing Inicial'!$B$11:$G$138,2,FALSE),VLOOKUP(D16,'Classificació PPP'!$C$13:$I$60,2,FALSE))),\"\")","v":""},null,null,{"$f":"Organigrama!K37","v":""},{"$f":"IFERROR(IF(H16=\"\",\"\",IF(AND(H16>0,H16<129),VLOOKUP(H16,'Rànquing Inicial'!$B$11:$G$138,2,FALSE),VLOOKUP(H16,'Classificació PPP'!$C$13:$I$60,2,FALSE))),\"\")","v":""}]
[]
[null,null,{"$f":"IF('Rànquing Inicial'!$D$141<65,\"\",\"Grup S\")","v":""},{"$f":"Organigrama!D35","v":""},{"$f":"IF(D18=\"\",\"\",IF(AND(D18>0,D18<129),VLOOKUP(D18,'Rànquing Inicial'!$B$11:$G$138,2,FALSE),VLOOKUP(D18,'Classificació PPP'!$C$13:$I$60,2,FALSE)))","v":""},null,{"$f":"IF('Rànquing Inicial'!$D$147<33,\"\",\"Grup AA\")","v":""},{"$f":"Organigrama!L35","v":""},{"$f":"IF(H18=\"\",\"\",IF(AND(H18>0,H18<129),VLOOKUP(H18,'Rànquing Inicial'!$B$11:$G$138,2,FALSE),VLOOKUP(H18,'Classificació PPP'!$C$13:$I$60,2,FALSE)))","v":""}]
[null,null,null,{"$f":"Organigrama!D36","v":""},{"$f":"IF(D19=\"\",\"\",IF(AND(D19>0,D19<129),VLOOKUP(D19,'Rànquing Inicial'!$B$11:$G$138,2,FALSE),VLOOKUP(D19,'Classificació PPP'!$C$13:$I$60,2,FALSE)))","v":""},null,null,{"$f":"Organigrama!L36","v":""},{"$f":"IF(H19=\"\",\"\",IF(AND(H19>0,H19<129),VLOOKUP(H19,'Rànquing Inicial'!$B$11:$G$138,2,FALSE),VLOOKUP(H19,'Classificació PPP'!$C$13:$I$60,2,FALSE)))","v":""}]
[null,null,null,{"$f":"Organigrama!D37","v":""},{"$f":"IFERROR(IF(D20=\"\",\"\",IF(AND(D20>0,D20<129),VLOOKUP(D20,'Rànquing Inicial'!$B$11:$G$138,2,FALSE),VLOOKUP(D20,'Classificació PPP'!$C$13:$I$60,2,FALSE))),\"\")","v":""},null,null,{"$f":"Organigrama!L37","v":""},{"$f":"IFERROR(IF(H20=\"\",\"\",IF(AND(H20>0,H20<129),VLOOKUP(H20,'Rànquing Inicial'!$B$11:$G$138,2,FALSE),VLOOKUP(H20,'Classificació PPP'!$C$13:$I$60,2,FALSE))),\"\")","v":""}]
[]
[null,null,{"$f":"IF('Rànquing Inicial'!$D$141<65,\"\",\"Grup T\")","v":""},{"$f":"Organigrama!E35","v":""},{"$f":"IF(D22=\"\",\"\",IF(AND(D22>0,D22<129),VLOOKUP(D22,'Rànquing Inicial'!$B$11:$G$138,2,FALSE),VLOOKUP(D22,'Classificació PPP'!$C$13:$I$60,2,FALSE)))","v":""},null,{"$f":"IF('Rànquing Inicial'!$D$147<36,\"\",\"Grup AB\")","v":""},{"$f":"Organigrama!M35","v":""},{"$f":"IF(H22=\"\",\"\",IF(AND(H22>0,H22<129),VLOOKUP(H22,'Rànquing Inicial'!$B$11:$G$138,2,FALSE),VLOOKUP(H22,'Classificació PPP'!$C$13:$I$60,2,FALSE)))","v":""}]
[null,null,null,{"$f":"Organigrama!E36","v":""},{"$f":"IF(D23=\"\",\"\",IF(AND(D23>0,D23<129),VLOOKUP(D23,'Rànquing Inicial'!$B$11:$G$138,2,FALSE),VLOOKUP(D23,'Classificació PPP'!$C$13:$I$60,2,FALSE)))","v":""},null,null,{"$f":"Organigrama!M36","v":""},{"$f":"IF(H23=\"\",\"\",IF(AND(H23>0,H23<129),VLOOKUP(H23,'Rànquing Inicial'!$B$11:$G$138,2,FALSE),VLOOKUP(H23,'Classificació PPP'!$C$13:$I$60,2,FALSE)))","v":""}]
[null,null,null,{"$f":"Organigrama!E37","v":""},{"$f":"IFERROR(IF(D24=\"\",\"\",IF(AND(D24>0,D24<129),VLOOKUP(D24,'Rànquing Inicial'!$B$11:$G$138,2,FALSE),VLOOKUP(D24,'Classificació PPP'!$C$13:$I$60,2,FALSE))),\"\")","v":""},null,null,{"$f":"Organigrama!M37","v":""},{"$f":"IFERROR(IF(H24=\"\",\"\",IF(AND(H24>0,H24<129),VLOOKUP(H24,'Rànquing Inicial'!$B$11:$G$138,2,FALSE),VLOOKUP(H24,'Classificació PPP'!$C$13:$I$60,2,FALSE))),\"\")","v":""}]
[]
[null,null,{"$f":"IF('Rànquing Inicial'!$D$147<15,\"\",\"Grup U\")","v":""},{"$f":"Organigrama!F35","v":""},{"$f":"IF(D26=\"\",\"\",IF(AND(D26>0,D26<129),VLOOKUP(D26,'Rànquing Inicial'!$B$11:$G$138,2,FALSE),VLOOKUP(D26,'Classificació PPP'!$C$13:$I$60,2,FALSE)))","v":""},null,{"$f":"IF('Rànquing Inicial'!$D$147<39,\"\",\"Grup AC\")","v":""},{"$f":"Organigrama!N35","v":""},{"$f":"IF(H26=\"\",\"\",IF(AND(H26>0,H26<129),VLOOKUP(H26,'Rànquing Inicial'!$B$11:$G$138,2,FALSE),VLOOKUP(H26,'Classificació PPP'!$C$13:$I$60,2,FALSE)))","v":""}]
[null,null,null,{"$f":"Organigrama!F36","v":""},{"$f":"IF(D27=\"\",\"\",IF(AND(D27>0,D27<129),VLOOKUP(D27,'Rànquing Inicial'!$B$11:$G$138,2,FALSE),VLOOKUP(D27,'Classificació PPP'!$C$13:$I$60,2,FALSE)))","v":""},null,null,{"$f":"Organigrama!N36","v":""},{"$f":"IF(H27=\"\",\"\",IF(AND(H27>0,H27<129),VLOOKUP(H27,'Rànquing Inicial'!$B$11:$G$138,2,FALSE),VLOOKUP(H27,'Classificació PPP'!$C$13:$I$60,2,FALSE)))","v":""}]
[null,null,null,{"$f":"Organigrama!F37","v":""},{"$f":"IFERROR(IF(D28=\"\",\"\",IF(AND(D28>0,D28<129),VLOOKUP(D28,'Rànquing Inicial'!$B$11:$G$138,2,FALSE),VLOOKUP(D28,'Classificació PPP'!$C$13:$I$60,2,FALSE))),\"\")","v":""},null,null,{"$f":"Organigrama!N37","v":""},{"$f":"IFERROR(IF(H28=\"\",\"\",IF(AND(H28>0,H28<129),VLOOKUP(H28,'Rànquing Inicial'!$B$11:$G$138,2,FALSE),VLOOKUP(H28,'Classificació PPP'!$C$13:$I$60,2,FALSE))),\"\")","v":""}]
[]
[null,null,{"$f":"IF('Rànquing Inicial'!$D$147<18,\"\",\"Grup V\")","v":""},{"$f":"Organigrama!G35","v":""},{"$f":"IF(D30=\"\",\"\",IF(AND(D30>0,D30<129),VLOOKUP(D30,'Rànquing Inicial'!$B$11:$G$138,2,FALSE),VLOOKUP(D30,'Classificació PPP'!$C$13:$I$60,2,FALSE)))","v":""},null,{"$f":"IF('Rànquing Inicial'!$D$147<42,\"\",\"Grup AD\")","v":""},{"$f":"Organigrama!O35","v":""},{"$f":"IF(H30=\"\",\"\",IF(AND(H30>0,H30<129),VLOOKUP(H30,'Rànquing Inicial'!$B$11:$G$138,2,FALSE),VLOOKUP(H30,'Classificació PPP'!$C$13:$I$60,2,FALSE)))","v":""}]
[null,null,null,{"$f":"Organigrama!G36","v":""},{"$f":"IF(D31=\"\",\"\",IF(AND(D31>0,D31<129),VLOOKUP(D31,'Rànquing Inicial'!$B$11:$G$138,2,FALSE),VLOOKUP(D31,'Classificació PPP'!$C$13:$I$60,2,FALSE)))","v":""},null,null,{"$f":"Organigrama!O36","v":""},{"$f":"IF(H31=\"\",\"\",IF(AND(H31>0,H31<129),VLOOKUP(H31,'Rànquing Inicial'!$B$11:$G$138,2,FALSE),VLOOKUP(H31,'Classificació PPP'!$C$13:$I$60,2,FALSE)))","v":""}]
[null,null,null,{"$f":"Organigrama!G37","v":""},{"$f":"IFERROR(IF(D32=\"\",\"\",IF(AND(D32>0,D32<129),VLOOKUP(D32,'Rànquing Inicial'!$B$11:$G$138,2,FALSE),VLOOKUP(D32,'Classificació PPP'!$C$13:$I$60,2,FALSE))),\"\")","v":""},null,null,{"$f":"Organigrama!O37","v":""},{"$f":"IFERROR(IF(H32=\"\",\"\",IF(AND(H32>0,H32<129),VLOOKUP(H32,'Rànquing Inicial'!$B$11:$G$138,2,FALSE),VLOOKUP(H32,'Classificació PPP'!$C$13:$I$60,2,FALSE))),\"\")","v":""}]
[]
[null,null,{"$f":"IF('Rànquing Inicial'!$D$147<21,\"\",\"Grup W\")","v":""},{"$f":"Organigrama!H35","v":""},{"$f":"IF(D34=\"\",\"\",IF(AND(D34>0,D34<129),VLOOKUP(D34,'Rànquing Inicial'!$B$11:$G$138,2,FALSE),VLOOKUP(D34,'Classificació PPP'!$C$13:$I$60,2,FALSE)))","v":""},null,{"$f":"IF('Rànquing Inicial'!$D$147<45,\"\",\"Grup AE\")","v":""},{"$f":"Organigrama!P35","v":""},{"$f":"IF(H34=\"\",\"\",IF(AND(H34>0,H34<129),VLOOKUP(H34,'Rànquing Inicial'!$B$11:$G$138,2,FALSE),VLOOKUP(H34,'Classificació PPP'!$C$13:$I$60,2,FALSE)))","v":""}]
[null,null,null,{"$f":"Organigrama!H36","v":""},{"$f":"IF(D35=\"\",\"\",IF(AND(D35>0,D35<129),VLOOKUP(D35,'Rànquing Inicial'!$B$11:$G$138,2,FALSE),VLOOKUP(D35,'Classificació PPP'!$C$13:$I$60,2,FALSE)))","v":""},null,null,{"$f":"Organigrama!P36","v":""},{"$f":"IF(H35=\"\",\"\",IF(AND(H35>0,H35<129),VLOOKUP(H35,'Rànquing Inicial'!$B$11:$G$138,2,FALSE),VLOOKUP(H35,'Classificació PPP'!$C$13:$I$60,2,FALSE)))","v":""}]
[null,null,null,{"$f":"Organigrama!H37","v":""},{"$f":"IFERROR(IF(D36=\"\",\"\",IF(AND(D36>0,D36<129),VLOOKUP(D36,'Rànquing Inicial'!$B$11:$G$138,2,FALSE),VLOOKUP(D36,'Classificació PPP'!$C$13:$I$60,2,FALSE))),\"\")","v":""},null,null,{"$f":"Organigrama!P37","v":""},{"$f":"IFERROR(IF(H36=\"\",\"\",IF(AND(H36>0,H36<129),VLOOKUP(H36,'Rànquing Inicial'!$B$11:$G$138,2,FALSE),VLOOKUP(H36,'Classificació PPP'!$C$13:$I$60,2,FALSE))),\"\")","v":""}]
[]
[null,null,{"$f":"IF('Rànquing Inicial'!$D$147<24,\"\",\"Grup X\")","v":""},{"$f":"Organigrama!I35","v":""},{"$f":"IF(D38=\"\",\"\",IF(AND(D38>0,D38<129),VLOOKUP(D38,'Rànquing Inicial'!$B$11:$G$138,2,FALSE),VLOOKUP(D38,'Classificació PPP'!$C$13:$I$60,2,FALSE)))","v":""},null,{"$f":"IF('Rànquing Inicial'!$D$147<48,\"\",\"Grup AF\")","v":""},{"$f":"Organigrama!Q35","v":""},{"$f":"IF(H38=\"\",\"\",IF(AND(H38>0,H38<129),VLOOKUP(H38,'Rànquing Inicial'!$B$11:$G$138,2,FALSE),VLOOKUP(H38,'Classificació PPP'!$C$13:$I$60,2,FALSE)))","v":""}]
[null,null,null,{"$f":"Organigrama!I36","v":""},{"$f":"IF(D39=\"\",\"\",IF(AND(D39>0,D39<129),VLOOKUP(D39,'Rànquing Inicial'!$B$11:$G$138,2,FALSE),VLOOKUP(D39,'Classificació PPP'!$C$13:$I$60,2,FALSE)))","v":""},null,null,{"$f":"Organigrama!Q36","v":""},{"$f":"IF(H39=\"\",\"\",IF(AND(H39>0,H39<129),VLOOKUP(H39,'Rànquing Inicial'!$B$11:$G$138,2,FALSE),VLOOKUP(H39,'Classificació PPP'!$C$13:$I$60,2,FALSE)))","v":""}]
[null,null,null,{"$f":"Organigrama!I37","v":""},{"$f":"IFERROR(IF(D40=\"\",\"\",IF(AND(D40>0,D40<129),VLOOKUP(D40,'Rànquing Inicial'!$B$11:$G$138,2,FALSE),VLOOKUP(D40,'Classificació PPP'!$C$13:$I$60,2,FALSE))),\"\")","v":""},null,null,{"$f":"Organigrama!Q37","v":""},{"$f":"IFERROR(IF(H40=\"\",\"\",IF(AND(H40>0,H40<129),VLOOKUP(H40,'Rànquing Inicial'!$B$11:$G$138,2,FALSE),VLOOKUP(H40,'Classificació PPP'!$C$13:$I$60,2,FALSE))),\"\")","v":""}]

{"sheet":"Resultats PP","index":12,"n_rows":247,"n_cols":26,"rows_kept":247,"cut":false,"hidden":false,"merged":[[0,17,0,18],[189,1,196,3],[204,1,211,3],[219,1,226,3],[234,1,241,3],[159,1,166,3],[174,1,181,3],[114,1,121,3],[129,1,136,3],[144,1,151,3],[9,1,16,3],[24,1,31,3],[39,1,46,3],[54,1,61,3],[69,1,76,3],[84,1,91,3],[0,1,0,9],[0,10,4,11],[1,5,4,9],[6,1,6,11],[99,1,106,3]]}
[null,{"$f":"IF(Inici!B2=\"INTRODUIR EN MAIÚSCULES EL NOM DE L'OPEN\",\"Introduiu el nom de l'Open a la pantalla d'Inici!!!\",Inici!B2)","v":"Introduiu el nom de l'Open a la pantalla d'Inici!!!"},null,null,null,null,null,null,null,null,null,null,null,"ANAR A PÀGINA","P-P-PRÈVIA","P-PRÈVIA","PRÈVIA","FASE FINAL"]
[null,null,null,null,null,null,null,null,null,null,null,null,null,"Rànquing Inicial","Grups PPP","Grups PP","Grups P","Setzens","Vuitens"]
[null,null,null,null,null,null,null,null,null,null,null,null,null,"Organigrama","Result PPP","Result PP","Result P","Class SF","Quarts/SF/F"]
[null,null,null,null,null,null,null,null,null,null,null,null,null,"Horaris","Classif PPP","Classif PP","Classif P"]
[]
[]
[null,{"$f":"IF('Rànquing Inicial'!$D$141<65,\"NO HI HA PRE-PRÈVIA\",\"RESULTATS PRE-PRÈVIA (PP)\")","v":"NO HI HA PRE-PRÈVIA"}]
[]
[null,null,null,null,null,"Boles","Ent","Mitj","SM1","SM2","Punts"]
[null,{"$f":"IF('Rànquing Inicial'!$D$141<65,\"\",\"Grup Q\")","v":""},null,null,{"$f":"IF(D19>1,\"\",IF(OR(B21=TRUE,B22=TRUE),E20,E21))","v":""},null,null,{"$f":"IF(G10=\"\",\"\",ROUND(F10/G10,3))","v":""},null,null,{"$f":"IF(H10=\"\",\"\",IF(F10>F11,2,IF(F10<F11,0,1)))","v":""}]
[null,null,null,null,{"$f":"IF(D19>1,\"\",IF(B22=TRUE,E21,E22))","v":""},null,{"$f":"IF(G10=\"\",\"\",G10)","v":""},{"$f":"IF(G11=\"\",\"\",ROUND(F11/G11,3))","v":""},null,null,{"$f":"IF(H11=\"\",\"\",IF(F11>F10,2,IF(F11<F10,0,1)))","v":""}]
[]
[null,null,null,null,{"$f":"IF(D19>1,\"\",IF(B20=TRUE,E21,E20))","v":""},null,null,{"$f":"IF(G13=\"\",\"\",ROUND(F13/G13,3))","v":""},null,null,{"$f":"IF(H13=\"\",\"\",IF(F13>F14,2,IF(F13<F14,0,1)))","v":""}]
[null,null,null,null,{"$f":"IF(D19>1,\"\",IF(B22=TRUE,E21,E22))","v":""},null,{"$f":"IF(G13=\"\",\"\",G13)","v":""},{"$f":"IF(G14=\"\",\"\",ROUND(F14/G14,3))","v":""},null,null,{"$f":"IF(H14=\"\",\"\",IF(F14>F13,2,IF(F14<F13,0,1)))","v":""}]
[]
[null,null,null,null,{"$f":"IF(D19>1,\"\",IF(OR(B20=TRUE,B21=TRUE,B22=TRUE),\"\",E20))","v":""},null,null,{"$f":"IF(G16=\"\",\"\",ROUND(F16/G16,3))","v":""},null,null,{"$f":"IF(H16=\"\",\"\",IF(F16>F17,2,IF(F16<F17,0,1)))","v":""}]
[null,null,null,null,{"$f":"IF(OR(B20=TRUE,B21=TRUE,B22=TRUE),\"\",E21)","v":""},null,{"$f":"IF(G16=\"\",\"\",G16)","v":""},{"$f":"IF(G17=\"\",\"\",ROUND(F17/G17,3))","v":""},null,null,{"$f":"IF(H17=\"\",\"\",IF(F17>F16,2,IF(F17<F16,0,1)))","v":""}]
[]
[null,"W.O.",null,{"$f":"COUNTIF(B20:B22,\"VERDADERO\")","v":0},"Jugador","Boles","Ent","Mitj","SM1","SM2","P",{"$f":"B10","v":""}]
[null,false,{"$f":"L20","v":0},{"$f":"'Grups PP'!D10","v":""},{"$f":"'Grups PP'!E10","v":""},{"$f":"SUMIF(E10:E17,E20,F10:F17)","v":0},{"$f":"SUMIF(E10:E17,E20,G10:G17)","v":0},{"$f":"IF(B20=TRUE,0,IF(G20=0,0,ROUND(F20/G20,3)))","v":0},{"$f":"MAX(O20:Z20)","v":0},{"$f":"LARGE((O20:Z20),2)","v":0},{"$f":"SUMIF(E10:E17,E20,K10:K17)","v":0},{"$f":"IF(B20=TRUE,\"WO\",IF(AND(B21=TRUE,B22=TRUE),1,IF(N20=0,0,RANK(N20,N20:N22,0))))","v":0},{"$f":"IF(B10=\"\",0,IF(B20=TRUE,0+N20,3-L20+N20))","v":0},{"$f":"IF(OR(B20=TRUE,AND(B21=TRUE,B22=TRUE)),0.000000000048,K20*0.1+H20*0.01+I20*0.00000001+J20*0.00000000001)","v":0},{"$f":"IF(E10=E20,I10,0)","v":0},{"$f":"IF(E10=E20,J10,0)","v":0},{"$f":"IF(E11=E20,I11,0)","v":0},{"$f":"IF(E11=E20,J11,0)","v":0},{"$f":"IF(E13=E20,I13,0)","v":0},{"$f":"IF(E13=E20,J13,0)","v":0},{"$f":"IF(E14=E20,I14,0)","v":0},{"$f":"IF(E14=E20,J14,0)","v":0},{"$f":"IF(E16=E20,I16,0)","v":0},{"$f":"IF(E16=E20,J16,0)","v":0},{"$f":"IF(E17=E20,I17,0)","v":0},{"$f":"IF(E17=E20,J17,0)","v":0}]
[null,false,{"$f":"L21","v":0},{"$f":"'Grups PP'!D11","v":""},{"$f":"'Grups PP'!E11","v":""},{"$f":"SUMIF(E10:E17,E21,F10:F17)","v":0},{"$f":"SUMIF(E10:E17,E21,G10:G17)","v":0},{"$f":"IF(B21=TRUE,0,IF(G21=0,0,ROUND(F21/G21,3)))","v":0},{"$f":"MAX(O21:Z21)","v":0},{"$f":"LARGE((O21:Z21),2)","v":0},{"$f":"SUMIF(E10:E17,E21,K10:K17)","v":0},{"$f":"IF(B21=TRUE,\"WO\",IF(AND(B20=TRUE,B22=TRUE),1,IF(N21=0,0,RANK(N21,N20:N22,0))))","v":0},{"$f":"IF(B10=\"\",0,IF(B21=TRUE,0+N21,3-L21+N21))","v":0},{"$f":"IF(OR(B21=TRUE,AND(B20=TRUE,B22=TRUE)),0.000000000017,K21*0.1+H21*0.01+I21*0.00000001+J21*0.00000000001)","v":0},{"$f":"IF(E10=E21,I10,0)","v":0},{"$f":"IF(E10=E21,J10,0)","v":0},{"$f":"IF(E11=E21,I11,0)","v":0},{"$f":"IF(E11=E21,J11,0)","v":0},{"$f":"IF(E13=E21,I13,0)","v":0},{"$f":"IF(E13=E21,J13,0)","v":0},{"$f":"IF(E14=E21,I14,0)","v":0},{"$f":"IF(E14=E21,J14,0)","v":0},{"$f":"IF(E16=E21,I16,0)","v":0},{"$f":"IF(E16=E21,J16,0)","v":0},{"$f":"IF(E17=E21,I17,0)","v":0},{"$f":"IF(E17=E21,J17,0)","v":0}]
[null,false,{"$f":"L22","v":0},{"$f":"'Grups PP'!D12","v":""},{"$f":"'Grups PP'!E12","v":""},{"$f":"SUMIF(E10:E17,E22,F10:F17)","v":0},{"$f":"SUMIF(E10:E17,E22,G10:G17)","v":0},{"$f":"IF(B22=TRUE,0,IF(G22=0,0,ROUND(F22/G22,3)))","v":0},{"$f":"MAX(O22:Z22)","v":0},{"$f":"LARGE((O22:Z22),2)","v":0},{"$f":"SUMIF(E10:E17,E22,K10:K17)","v":0},{"$f":"IF(B22=TRUE,\"WO\",IF(AND(B20=TRUE,B21=TRUE),1,IF(N22=0,0,RANK(N22,N20:N22,0))))","v":0},{"$f":"IF(B10=\"\",0,IF(B22=TRUE,0+N22,3-L22+N22))","v":0},{"$f":"IF(OR(B22=TRUE,AND(B20=TRUE,B21=TRUE)),0.000000000001,K22*0.1+H22*0.01+I22*0.00000001+J22*0.00000000001)","v":0},{"$f":"IF(E10=E22,I10,0)","v":0},{"$f":"IF(E10=E22,J10,0)","v":0},{"$f":"IF(E11=E22,I11,0)","v":0},{"$f":"IF(E11=E22,J11,0)","v":0},{"$f":"IF(E13=E22,I13,0)","v":0},{"$f":"IF(E13=E22,J13,0)","v":0},{"$f":"IF(E14=E22,I14,0)","v":0},{"$f":"IF(E14=E22,J14,0)","v":0},{"$f":"IF(E16=E22,I16,0)","v":0},{"$f":"IF(E16=E22,J16,0)","v":0},{"$f":"IF(E17=E22,I17,0)","v":0},{"$f":"IF(E17=E22,J17,0)","v":0}]
[]
[null,null,null,null,null,"Boles","Ent","Mitj","SM1","SM2","Punts"]
[null,{"$f":"IF('Rànquing Inicial'!$D$141<65,\"\",\"Grup R\")","v":""},null,null,{"$f":"IF(D34>1,\"\",IF(OR(B36=TRUE,B37=TRUE),E35,E36))","v":""},null,null,{"$f":"IF(G25=\"\",\"\",ROUND(F25/G25,3))","v":""},null,null,{"$f":"IF(H25=\"\",\"\",IF(F25>F26,2,IF(F25<F26,0,1)))","v":""}]
[null,null,null,null,{"$f":"IF(D34>1,\"\",IF(B37=TRUE,E36,E37))","v":""},null,{"$f":"IF(G25=\"\",\"\",G25)","v":""},{"$f":"IF(G26=\"\",\"\",ROUND(F26/G26,3))","v":""},null,null,{"$f":"IF(H26=\"\",\"\",IF(F26>F25,2,IF(F26<F25,0,1)))","v":""}]
[]
[null,null,null,null,{"$f":"IF(D34>1,\"\",IF(B35=TRUE,E36,E35))","v":""},null,null,{"$f":"IF(G28=\"\",\"\",ROUND(F28/G28,3))","v":""},null,null,{"$f":"IF(H28=\"\",\"\",IF(F28>F29,2,IF(F28<F29,0,1)))","v":""}]
[null,null,null,null,{"$f":"IF(D34>1,\"\",IF(B37=TRUE,E36,E37))","v":""},null,{"$f":"IF(G28=\"\",\"\",G28)","v":""},{"$f":"IF(G29=\"\",\"\",ROUND(F29/G29,3))","v":""},null,null,{"$f":"IF(H29=\"\",\"\",IF(F29>F28,2,IF(F29<F28,0,1)))","v":""}]
[]
[null,null,null,null,{"$f":"IF(D34>1,\"\",IF(OR(B35=TRUE,B36=TRUE,B37=TRUE),\"\",E35))","v":""},null,null,{"$f":"IF(G31=\"\",\"\",ROUND(F31/G31,3))","v":""},null,null,{"$f":"IF(H31=\"\",\"\",IF(F31>F32,2,IF(F31<F32,0,1)))","v":""}]
[null,null,null,null,{"$f":"IF(OR(B35=TRUE,B36=TRUE,B37=TRUE),\"\",E36)","v":""},null,{"$f":"IF(G31=\"\",\"\",G31)","v":""},{"$f":"IF(G32=\"\",\"\",ROUND(F32/G32,3))","v":""},null,null,{"$f":"IF(H32=\"\",\"\",IF(F32>F31,2,IF(F32<F31,0,1)))","v":""}]
[]
[null,"¿WO?",null,{"$f":"COUNTIF(B35:B37,\"VERDADERO\")","v":0},"Jugador","Boles","Ent","Mitj","SM1","SM2","P",{"$f":"B25","v":""}]
[null,false,{"$f":"L35","v":0},{"$f":"'Grups PP'!D14","v":""},{"$f":"'Grups PP'!E14","v":""},{"$f":"SUMIF(E25:E32,E35,F25:F32)","v":0},{"$f":"SUMIF(E25:E32,E35,G25:G32)","v":0},{"$f":"IF(B35=TRUE,0,IF(G35=0,0,ROUND(F35/G35,3)))","v":0},{"$f":"MAX(O35:Z35)","v":0},{"$f":"LARGE((O35:Z35),2)","v":0},{"$f":"SUMIF(E25:E32,E35,K25:K32)","v":0},{"$f":"IF(B35=TRUE,\"WO\",IF(AND(B36=TRUE,B37=TRUE),1,IF(N35=0,0,RANK(N35,N35:N37,0))))","v":0},{"$f":"IF(B25=\"\",0,IF(B35=TRUE,0+N35,3-L35+N35))","v":0},{"$f":"IF(OR(B35=TRUE,AND(B36=TRUE,B37=TRUE)),0.000000000047,K35*0.1+H35*0.01+I35*0.00000001+J35*0.00000000001)","v":0},{"$f":"IF(E25=E35,I25,0)","v":0},{"$f":"IF(E25=E35,J25,0)","v":0},{"$f":"IF(E26=E35,I26,0)","v":0},{"$f":"IF(E26=E35,J26,0)","v":0},{"$f":"IF(E28=E35,I28,0)","v":0},{"$f":"IF(E28=E35,J28,0)","v":0},{"$f":"IF(E29=E35,I29,0)","v":0},{"$f":"IF(E29=E35,J29,0)","v":0},{"$f":"IF(E31=E35,I31,0)","v":0},{"$f":"IF(E31=E35,J31,0)","v":0},{"$f":"IF(E32=E35,I32,0)","v":0},{"$f":"IF(E32=E35,J32,0)","v":0}]
[null,false,{"$f":"L36","v":0},{"$f":"'Grups PP'!D15","v":""},{"$f":"'Grups PP'!E15","v":""},{"$f":"SUMIF(E25:E32,E36,F25:F32)","v":0},{"$f":"SUMIF(E25:E32,E36,G25:G32)","v":0},{"$f":"IF(B36=TRUE,0,IF(G36=0,0,ROUND(F36/G36,3)))","v":0},{"$f":"MAX(O36:Z36)","v":0},{"$f":"LARGE((O36:Z36),2)","v":0},{"$f":"SUMIF(E25:E32,E36,K25:K32)","v":0},{"$f":"IF(B36=TRUE,\"WO\",IF(AND(B35=TRUE,B37=TRUE),1,IF(N36=0,0,RANK(N36,N35:N37,0))))","v":0},{"$f":"IF(B25=\"\",0,IF(B36=TRUE,0+N36,3-L36+N36))","v":0},{"$f":"IF(OR(B36=TRUE,AND(B35=TRUE,B37=TRUE)),0.000000000018,K36*0.1+H36*0.01+I36*0.00000001+J36*0.00000000001)","v":0},{"$f":"IF(E25=E36,I25,0)","v":0},{"$f":"IF(E25=E36,J25,0)","v":0},{"$f":"IF(E26=E36,I26,0)","v":0},{"$f":"IF(E26=E36,J26,0)","v":0},{"$f":"IF(E28=E36,I28,0)","v":0},{"$f":"IF(E28=E36,J28,0)","v":0},{"$f":"IF(E29=E36,I29,0)","v":0},{"$f":"IF(E29=E36,J29,0)","v":0},{"$f":"IF(E31=E36,I31,0)","v":0},{"$f":"IF(E31=E36,J31,0)","v":0},{"$f":"IF(E32=E36,I32,0)","v":0},{"$f":"IF(E32=E36,J32,0)","v":0}]
[null,false,{"$f":"L37","v":0},{"$f":"'Grups PP'!D16","v":""},{"$f":"'Grups PP'!E16","v":""},{"$f":"SUMIF(E25:E32,E37,F25:F32)","v":0},{"$f":"SUMIF(E25:E32,E37,G25:G32)","v":0},{"$f":"IF(B37=TRUE,0,IF(G37=0,0,ROUND(F37/G37,3)))","v":0},{"$f":"MAX(O37:Z37)","v":0},{"$f":"LARGE((O37:Z37),2)","v":0},{"$f":"SUMIF(E25:E32,E37,K25:K32)","v":0},{"$f":"IF(B37=TRUE,\"WO\",IF(AND(B35=TRUE,B36=TRUE),1,IF(N37=0,0,RANK(N37,N35:N37,0))))","v":0},{"$f":"IF(B25=\"\",0,IF(B37=TRUE,0+N37,3-L37+N37))","v":0},{"$f":"IF(OR(B37=TRUE,AND(B35=TRUE,B36=TRUE)),0.000000000002,K37*0.1+H37*0.01+I37*0.00000001+J37*0.00000000001)","v":0},{"$f":"IF(E25=E37,I25,0)","v":0},{"$f":"IF(E25=E37,J25,0)","v":0},{"$f":"IF(E26=E37,I26,0)","v":0},{"$f":"IF(E26=E37,J26,0)","v":0},{"$f":"IF(E28=E37,I28,0)","v":0},{"$f":"IF(E28=E37,J28,0)","v":0},{"$f":"IF(E29=E37,I29,0)","v":0},{"$f":"IF(E29=E37,J29,0)","v":0},{"$f":"IF(E31=E37,I31,0)","v":0},{"$f":"IF(E31=E37,J31,0)","v":0},{"$f":"IF(E32=E37,I32,0)","v":0},{"$f":"IF(E32=E37,J32,0)","v":0}]
[]
[null,null,null,null,null,"Boles","Ent","Mitj","SM1","SM2","Punts"]
[null,{"$f":"IF('Rànquing Inicial'!$D$141<65,\"\",\"Grup S\")","v":""},null,null,{"$f":"IF(D49>1,\"\",IF(OR(B51=TRUE,B52=TRUE),E50,E51))","v":""},null,null,{"$f":"IF(G40=\"\",\"\",ROUND(F40/G40,3))","v":""},null,null,{"$f":"IF(H40=\"\",\"\",IF(F40>F41,2,IF(F40<F41,0,1)))","v":""}]
[null,null,null,null,{"$f":"IF(D49>1,\"\",IF(B52=TRUE,E51,E52))","v":""},null,{"$f":"IF(G40=\"\",\"\",G40)","v":""},{"$f":"IF(G41=\"\",\"\",ROUND(F41/G41,3))","v":""},null,null,{"$f":"IF(H41=\"\",\"\",IF(F41>F40,2,IF(F41<F40,0,1)))","v":""}]
[]
[null,null,null,null,{"$f":"IF(D49>1,\"\",IF(B50=TRUE,E51,E50))","v":""},null,null,{"$f":"IF(G43=\"\",\"\",ROUND(F43/G43,3))","v":""},null,null,{"$f":"IF(H43=\"\",\"\",IF(F43>F44,2,IF(F43<F44,0,1)))","v":""}]
[null,null,null,null,{"$f":"IF(D49>1,\"\",IF(B52=TRUE,E51,E52))","v":""},null,{"$f":"IF(G43=\"\",\"\",G43)","v":""},{"$f":"IF(G44=\"\",\"\",ROUND(F44/G44,3))","v":""},null,null,{"$f":"IF(H44=\"\",\"\",IF(F44>F43,2,IF(F44<F43,0,1)))","v":""}]
[]
[null,null,null,null,{"$f":"IF(D49>1,\"\",IF(OR(B50=TRUE,B51=TRUE,B52=TRUE),\"\",E50))","v":""},null,null,{"$f":"IF(G46=\"\",\"\",ROUND(F46/G46,3))","v":""},null,null,{"$f":"IF(H46=\"\",\"\",IF(F46>F47,2,IF(F46<F47,0,1)))","v":""}]
[null,null,null,null,{"$f":"IF(OR(B50=TRUE,B51=TRUE,B52=TRUE),\"\",E51)","v":""},null,{"$f":"IF(G46=\"\",\"\",G46)","v":""},{"$f":"IF(G47=\"\",\"\",ROUND(F47/G47,3))","v":""},null,null,{"$f":"IF(H47=\"\",\"\",IF(F47>F46,2,IF(F47<F46,0,1)))","v":""}]
[]
[null,"¿WO?",null,{"$f":"COUNTIF(B50:B52,\"VERDADERO\")","v":0},"Jugador","Boles","Ent","Mitj","SM1","SM2","P",{"$f":"B40","v":""}]
[null,false,{"$f":"L50","v":0},{"$f":"'Grups PP'!D18","v":""},{"$f":"'Grups PP'!E18","v":""},{"$f":"SUMIF(E40:E47,E50,F40:F47)","v":0},{"$f":"SUMIF(E40:E47,E50,G40:G47)","v":0},{"$f":"IF(B50=TRUE,0,IF(G50=0,0,ROUND(F50/G50,3)))","v":0},{"$f":"MAX(O50:Z50)","v":0},{"$f":"LARGE((O50:Z50),2)","v":0},{"$f":"SUMIF(E40:E47,E50,K40:K47)","v":0},{"$f":"IF(B50=TRUE,\"WO\",IF(AND(B51=TRUE,B52=TRUE),1,IF(N50=0,0,RANK(N50,N50:N52,0))))","v":0},{"$f":"IF(B40=\"\",0,IF(B50=TRUE,0+N50,3-L50+N50))","v":0},{"$f":"IF(OR(B50=TRUE,AND(B51=TRUE,B52=TRUE)),0.000000000046,K50*0.1+H50*0.01+I50*0.00000001+J50*0.00000000001)","v":0},{"$f":"IF(E40=E50,I40,0)","v":0},{"$f":"IF(E40=E50,J40,0)","v":0},{"$f":"IF(E41=E50,I41,0)","v":0},{"$f":"IF(E41=E50,J41,0)","v":0},{"$f":"IF(E43=E50,I43,0)","v":0},{"$f":"IF(E43=E50,J43,0)","v":0},{"$f":"IF(E44=E50,I44,0)","v":0},{"$f":"IF(E44=E50,J44,0)","v":0},{"$f":"IF(E46=E50,I46,0)","v":0},{"$f":"IF(E46=E50,J46,0)","v":0},{"$f":"IF(E47=E50,I47,0)","v":0},{"$f":"IF(E47=E50,J47,0)","v":0}]
[null,false,{"$f":"L51","v":0},{"$f":"'Grups PP'!D19","v":""},{"$f":"'Grups PP'!E19","v":""},{"$f":"SUMIF(E40:E47,E51,F40:F47)","v":0},{"$f":"SUMIF(E40:E47,E51,G40:G47)","v":0},{"$f":"IF(B51=TRUE,0,IF(G51=0,0,ROUND(F51/G51,3)))","v":0},{"$f":"MAX(O51:Z51)","v":0},{"$f":"LARGE((O51:Z51),2)","v":0},{"$f":"SUMIF(E40:E47,E51,K40:K47)","v":0},{"$f":"IF(B51=TRUE,\"WO\",IF(AND(B50=TRUE,B52=TRUE),1,IF(N51=0,0,RANK(N51,N50:N52,0))))","v":0},{"$f":"IF(B40=\"\",0,IF(B51=TRUE,0+N51,3-L51+N51))","v":0},{"$f":"IF(OR(B51=TRUE,AND(B50=TRUE,B52=TRUE)),0.000000000019,K51*0.1+H51*0.01+I51*0.00000001+J51*0.00000000001)","v":0},{"$f":"IF(E40=E51,I40,0)","v":0},{"$f":"IF(E40=E51,J40,0)","v":0},{"$f":"IF(E41=E51,I41,0)","v":0},{"$f":"IF(E41=E51,J41,0)","v":0},{"$f":"IF(E43=E51,I43,0)","v":0},{"$f":"IF(E43=E51,J43,0)","v":0},{"$f":"IF(E44=E51,I44,0)","v":0},{"$f":"IF(E44=E51,J44,0)","v":0},{"$f":"IF(E46=E51,I46,0)","v":0},{"$f":"IF(E46=E51,J46,0)","v":0},{"$f":"IF(E47=E51,I47,0)","v":0},{"$f":"IF(E47=E51,J47,0)","v":0}]
[null,false,{"$f":"L52","v":0},{"$f":"'Grups PP'!D20","v":""},{"$f":"'Grups PP'!E20","v":""},{"$f":"SUMIF(E40:E47,E52,F40:F47)","v":0},{"$f":"SUMIF(E40:E47,E52,G40:G47)","v":0},{"$f":"IF(B52=TRUE,0,IF(G52=0,0,ROUND(F52/G52,3)))","v":0},{"$f":"MAX(O52:Z52)","v":0},{"$f":"LARGE((O52:Z52),2)","v":0},{"$f":"SUMIF(E40:E47,E52,K40:K47)","v":0},{"$f":"IF(B52=TRUE,\"WO\",IF(AND(B50=TRUE,B51=TRUE),1,IF(N52=0,0,RANK(N52,N50:N52,0))))","v":0},{"$f":"IF(B40=\"\",0,IF(B52=TRUE,0+N52,3-L52+N52))","v":0},{"$f":"IF(OR(B52=TRUE,AND(B50=TRUE,B51=TRUE)),0.000000000003,K52*0.1+H52*0.01+I52*0.00000001+J52*0.00000000001)","v":0},{"$f":"IF(E40=E52,I40,0)","v":0},{"$f":"IF(E40=E52,J40,0)","v":0},{"$f":"IF(E41=E52,I41,0)","v":0},{"$f":"IF(E41=E52,J41,0)","v":0},{"$f":"IF(E43=E52,I43,0)","v":0},{"$f":"IF(E43=E52,J43,0)","v":0},{"$f":"IF(E44=E52,I44,0)","v":0},{"$f":"IF(E44=E52,J44,0)","v":0},{"$f":"IF(E46=E52,I46,0)","v":0},{"$f":"IF(E46=E52,J46,0)","v":0},{"$f":"IF(E47=E52,I47,0)","v":0},{"$f":"IF(E47=E52,J47,0)","v":0}]
[]
[null,null,null,null,null,"Boles","Ent","Mitj","SM1","SM2","Punts"]
[null,{"$f":"IF('Rànquing Inicial'!$D$141<65,\"\",\"Grup T\")","v":""},null,null,{"$f":"IF(D64>1,\"\",IF(OR(B66=TRUE,B67=TRUE),E65,E66))","v":""},null,null,{"$f":"IF(G55=\"\",\"\",ROUND(F55/G55,3))","v":""},null,null,{"$f":"IF(H55=\"\",\"\",IF(F55>F56,2,IF(F55<F56,0,1)))","v":""}]
[null,null,null,null,{"$f":"IF(D64>1,\"\",IF(B67=TRUE,E66,E67))","v":""},null,{"$f":"IF(G55=\"\",\"\",G55)","v":""},{"$f":"IF(G56=\"\",\"\",ROUND(F56/G56,3))","v":""},null,null,{"$f":"IF(H56=\"\",\"\",IF(F56>F55,2,IF(F56<F55,0,1)))","v":""}]
[]
[null,null,null,null,{"$f":"IF(D64>1,\"\",IF(B65=TRUE,E66,E65))","v":""},null,null,{"$f":"IF(G58=\"\",\"\",ROUND(F58/G58,3))","v":""},null,null,{"$f":"IF(H58=\"\",\"\",IF(F58>F59,2,IF(F58<F59,0,1)))","v":""}]
[null,null,null,null,{"$f":"IF(D64>1,\"\",IF(B67=TRUE,E66,E67))","v":""},null,{"$f":"IF(G58=\"\",\"\",G58)","v":""},{"$f":"IF(G59=\"\",\"\",ROUND(F59/G59,3))","v":""},null,null,{"$f":"IF(H59=\"\",\"\",IF(F59>F58,2,IF(F59<F58,0,1)))","v":""}]
[]
[null,null,null,null,{"$f":"IF(D64>1,\"\",IF(OR(B65=TRUE,B66=TRUE,B67=TRUE),\"\",E65))","v":""},null,null,{"$f":"IF(G61=\"\",\"\",ROUND(F61/G61,3))","v":""},null,null,{"$f":"IF(H61=\"\",\"\",IF(F61>F62,2,IF(F61<F62,0,1)))","v":""}]
[null,null,null,null,{"$f":"IF(OR(B65=TRUE,B66=TRUE,B67=TRUE),\"\",E66)","v":""},null,{"$f":"IF(G61=\"\",\"\",G61)","v":""},{"$f":"IF(G62=\"\",\"\",ROUND(F62/G62,3))","v":""},null,null,{"$f":"IF(H62=\"\",\"\",IF(F62>F61,2,IF(F62<F61,0,1)))","v":""}]
[]
[null,"¿WO?",null,{"$f":"COUNTIF(B65:B67,\"VERDADERO\")","v":0},"Jugador","Boles","Ent","Mitj","SM1","SM2","P",{"$f":"B55","v":""}]
[null,false,{"$f":"L65","v":0},{"$f":"'Grups PP'!D22","v":""},{"$f":"'Grups PP'!E22","v":""},{"$f":"SUMIF(E55:E62,E65,F55:F62)","v":0},{"$f":"SUMIF(E55:E62,E65,G55:G62)","v":0},{"$f":"IF(B65=TRUE,0,IF(G65=0,0,ROUND(F65/G65,3)))","v":0},{"$f":"MAX(O65:Z65)","v":0},{"$f":"LARGE((O65:Z65),2)","v":0},{"$f":"SUMIF(E55:E62,E65,K55:K62)","v":0},{"$f":"IF(B65=TRUE,\"WO\",IF(AND(B66=TRUE,B67=TRUE),1,IF(N65=0,0,RANK(N65,N65:N67,0))))","v":0},{"$f":"IF(B55=\"\",0,IF(B65=TRUE,0+N65,3-L65+N65))","v":0},{"$f":"IF(OR(B65=TRUE,AND(B66=TRUE,B67=TRUE)),0.000000000045,K65*0.1+H65*0.01+I65*0.00000001+J65*0.00000000001)","v":0},{"$f":"IF(E55=E65,I55,0)","v":0},{"$f":"IF(E55=E65,J55,0)","v":0},{"$f":"IF(E56=E65,I56,0)","v":0},{"$f":"IF(E56=E65,J56,0)","v":0},{"$f":"IF(E58=E65,I58,0)","v":0},{"$f":"IF(E58=E65,J58,0)","v":0},{"$f":"IF(E59=E65,I59,0)","v":0},{"$f":"IF(E59=E65,J59,0)","v":0},{"$f":"IF(E61=E65,I61,0)","v":0},{"$f":"IF(E61=E65,J61,0)","v":0},{"$f":"IF(E62=E65,I62,0)","v":0},{"$f":"IF(E62=E65,J62,0)","v":0}]
[null,false,{"$f":"L66","v":0},{"$f":"'Grups PP'!D23","v":""},{"$f":"'Grups PP'!E23","v":""},{"$f":"SUMIF(E55:E62,E66,F55:F62)","v":0},{"$f":"SUMIF(E55:E62,E66,G55:G62)","v":0},{"$f":"IF(B66=TRUE,0,IF(G66=0,0,ROUND(F66/G66,3)))","v":0},{"$f":"MAX(O66:Z66)","v":0},{"$f":"LARGE((O66:Z66),2)","v":0},{"$f":"SUMIF(E55:E62,E66,K55:K62)","v":0},{"$f":"IF(B66=TRUE,\"WO\",IF(AND(B65=TRUE,B67=TRUE),1,IF(N66=0,0,RANK(N66,N65:N67,0))))","v":0},{"$f":"IF(B55=\"\",0,IF(B66=TRUE,0+N66,3-L66+N66))","v":0},{"$f":"IF(OR(B66=TRUE,AND(B65=TRUE,B67=TRUE)),0.00000000002,K66*0.1+H66*0.01+I66*0.00000001+J66*0.00000000001)","v":0},{"$f":"IF(E55=E66,I55,0)","v":0},{"$f":"IF(E55=E66,J55,0)","v":0},{"$f":"IF(E56=E66,I56,0)","v":0},{"$f":"IF(E56=E66,J56,0)","v":0},{"$f":"IF(E58=E66,I58,0)","v":0},{"$f":"IF(E58=E66,J58,0)","v":0},{"$f":"IF(E59=E66,I59,0)","v":0},{"$f":"IF(E59=E66,J59,0)","v":0},{"$f":"IF(E61=E66,I61,0)","v":0},{"$f":"IF(E61=E66,J61,0)","v":0},{"$f":"IF(E62=E66,I62,0)","v":0},{"$f":"IF(E62=E66,J62,0)","v":0}]
[null,false,{"$f":"L67","v":0},{"$f":"'Grups PP'!D24","v":""},{"$f":"'Grups PP'!E24","v":""},{"$f":"SUMIF(E55:E62,E67,F55:F62)","v":0},{"$f":"SUMIF(E55:E62,E67,G55:G62)","v":0},{"$f":"IF(B67=TRUE,0,IF(G67=0,0,ROUND(F67/G67,3)))","v":0},{"$f":"MAX(O67:Z67)","v":0},{"$f":"LARGE((O67:Z67),2)","v":0},{"$f":"SUMIF(E55:E62,E67,K55:K62)","v":0},{"$f":"IF(B67=TRUE,\"WO\",IF(AND(B65=TRUE,B66=TRUE),1,IF(N67=0,0,RANK(N67,N65:N67,0))))","v":0},{"$f":"IF(B55=\"\",0,IF(B67=TRUE,0+N67,3-L67+N67))","v":0},{"$f":"IF(OR(B67=TRUE,AND(B65=TRUE,B66=TRUE)),0.000000000004,K67*0.1+H67*0.01+I67*0.00000001+J67*0.00000000001)","v":0},{"$f":"IF(E55=E67,I55,0)","v":0},{"$f":"IF(E55=E67,J55,0)","v":0},{"$f":"IF(E56=E67,I56,0)","v":0},{"$f":"IF(E56=E67,J56,0)","v":0},{"$f":"IF(E58=E67,I58,0)","v":0},{"$f":"IF(E58=E67,J58,0)","v":0},{"$f":"IF(E59=E67,I59,0)","v":0},{"$f":"IF(E59=E67,J59,0)","v":0},{"$f":"IF(E61=E67,I61,0)","v":0},{"$f":"IF(E61=E67,J61,0)","v":0},{"$f":"IF(E62=E67,I62,0)","v":0},{"$f":"IF(E62=E67,J62,0)","v":0}]
[]
[null,null,null,null,null,"Boles","Ent","Mitj","SM1","SM2","Punts"]
[null,{"$f":"IF('Rànquing Inicial'!$D$147>12,\"Grup U\",\"\")","v":""},null,null,{"$f":"IF(D79>1,\"\",IF(OR(B81=TRUE,B82=TRUE),E80,E81))","v":""},null,null,{"$f":"IF(G70=\"\",\"\",ROUND(F70/G70,3))","v":""},null,null,{"$f":"IF(H70=\"\",\"\",IF(F70>F71,2,IF(F70<F71,0,1)))","v":""}]
[null,null,null,null,{"$f":"IF(D79>1,\"\",IF(B82=TRUE,E81,E82))","v":""},null,{"$f":"IF(G70=\"\",\"\",G70)","v":""},{"$f":"IF(G71=\"\",\"\",ROUND(F71/G71,3))","v":""},null,null,{"$f":"IF(H71=\"\",\"\",IF(F71>F70,2,IF(F71<F70,0,1)))","v":""}]
[]
[null,null,null,null,{"$f":"IF(D79>1,\"\",IF(B80=TRUE,E81,E80))","v":""},null,null,{"$f":"IF(G73=\"\",\"\",ROUND(F73/G73,3))","v":""},null,null,{"$f":"IF(H73=\"\",\"\",IF(F73>F74,2,IF(F73<F74,0,1)))","v":""}]
[null,null,null,null,{"$f":"IF(D79>1,\"\",IF(B82=TRUE,E81,E82))","v":""},null,{"$f":"IF(G73=\"\",\"\",G73)","v":""},{"$f":"IF(G74=\"\",\"\",ROUND(F74/G74,3))","v":""},null,null,{"$f":"IF(H74=\"\",\"\",IF(F74>F73,2,IF(F74<F73,0,1)))","v":""}]
[]
[null,null,null,null,{"$f":"IF(D79>1,\"\",IF(OR(B80=TRUE,B81=TRUE,B82=TRUE),\"\",E80))","v":""},null,null,{"$f":"IF(G76=\"\",\"\",ROUND(F76/G76,3))","v":""},null,null,{"$f":"IF(H76=\"\",\"\",IF(F76>F77,2,IF(F76<F77,0,1)))","v":""}]
[null,null,null,null,{"$f":"IF(OR(B80=TRUE,B81=TRUE,B82=TRUE),\"\",E81)","v":""},null,{"$f":"IF(G76=\"\",\"\",G76)","v":""},{"$f":"IF(G77=\"\",\"\",ROUND(F77/G77,3))","v":""},null,null,{"$f":"IF(H77=\"\",\"\",IF(F77>F76,2,IF(F77<F76,0,1)))","v":""}]
[]
[null,"¿WO?",null,{"$f":"COUNTIF(B80:B82,\"VERDADERO\")","v":0},"Jugador","Boles","Ent","Mitj","SM1","SM2","P",{"$f":"B70","v":""}]
[null,false,{"$f":"L80","v":0},{"$f":"'Grups PP'!D26","v":""},{"$f":"'Grups PP'!E26","v":""},{"$f":"SUMIF(E70:E77,E80,F70:F77)","v":0},{"$f":"SUMIF(E70:E77,E80,G70:G77)","v":0},{"$f":"IF(B80=TRUE,0,IF(G80=0,0,ROUND(F80/G80,3)))","v":0},{"$f":"MAX(O80:Z80)","v":0},{"$f":"LARGE((O80:Z80),2)","v":0},{"$f":"SUMIF(E70:E77,E80,K70:K77)","v":0},{"$f":"IF(B80=TRUE,\"WO\",IF(AND(B81=TRUE,B82=TRUE),1,IF(N80=0,0,RANK(N80,N80:N82,0))))","v":0},{"$f":"IF(B70=\"\",0,IF(B80=TRUE,0+N80,3-L80+N80))","v":0},{"$f":"IF(OR(B80=TRUE,AND(B81=TRUE,B82=TRUE)),0.000000000044,K80*0.1+H80*0.01+I80*0.00000001+J80*0.00000000001)","v":0},{"$f":"IF(E70=E80,I70,0)","v":0},{"$f":"IF(E70=E80,J70,0)","v":0},{"$f":"IF(E71=E80,I71,0)","v":0},{"$f":"IF(E71=E80,J71,0)","v":0},{"$f":"IF(E73=E80,I73,0)","v":0},{"$f":"IF(E73=E80,J73,0)","v":0},{"$f":"IF(E74=E80,I74,0)","v":0},{"$f":"IF(E74=E80,J74,0)","v":0},{"$f":"IF(E76=E80,I76,0)","v":0},{"$f":"IF(E76=E80,J76,0)","v":0},{"$f":"IF(E77=E80,I77,0)","v":0},{"$f":"IF(E77=E80,J77,0)","v":0}]
[null,false,{"$f":"L81","v":0},{"$f":"'Grups PP'!D27","v":""},{"$f":"'Grups PP'!E27","v":""},{"$f":"SUMIF(E70:E77,E81,F70:F77)","v":0},{"$f":"SUMIF(E70:E77,E81,G70:G77)","v":0},{"$f":"IF(B81=TRUE,0,IF(G81=0,0,ROUND(F81/G81,3)))","v":0},{"$f":"MAX(O81:Z81)","v":0},{"$f":"LARGE((O81:Z81),2)","v":0},{"$f":"SUMIF(E70:E77,E81,K70:K77)","v":0},{"$f":"IF(B81=TRUE,\"WO\",IF(AND(B80=TRUE,B82=TRUE),1,IF(N81=0,0,RANK(N81,N80:N82,0))))","v":0},{"$f":"IF(B70=\"\",0,IF(B81=TRUE,0+N81,3-L81+N81))","v":0},{"$f":"IF(OR(B81=TRUE,AND(B80=TRUE,B82=TRUE)),0.000000000021,K81*0.1+H81*0.01+I81*0.00000001+J81*0.00000000001)","v":0},{"$f":"IF(E70=E81,I70,0)","v":0},{"$f":"IF(E70=E81,J70,0)","v":0},{"$f":"IF(E71=E81,I71,0)","v":0},{"$f":"IF(E71=E81,J71,0)","v":0},{"$f":"IF(E73=E81,I73,0)","v":0},{"$f":"IF(E73=E81,J73,0)","v":0},{"$f":"IF(E74=E81,I74,0)","v":0},{"$f":"IF(E74=E81,J74,0)","v":0},{"$f":"IF(E76=E81,I76,0)","v":0},{"$f":"IF(E76=E81,J76,0)","v":0},{"$f":"IF(E77=E81,I77,0)","v":0},{"$f":"IF(E77=E81,J77,0)","v":0}]
[null,false,{"$f":"L82","v":0},{"$f":"'Grups PP'!D28","v":""},{"$f":"'Grups PP'!E28","v":""},{"$f":"SUMIF(E70:E77,E82,F70:F77)","v":0},{"$f":"SUMIF(E70:E77,E82,G70:G77)","v":0},{"$f":"IF(B82=TRUE,0,IF(G82=0,0,ROUND(F82/G82,3)))","v":0},{"$f":"MAX(O82:Z82)","v":0},{"$f":"LARGE((O82:Z82),2)","v":0},{"$f":"SUMIF(E70:E77,E82,K70:K77)","v":0},{"$f":"IF(B82=TRUE,\"WO\",IF(AND(B80=TRUE,B81=TRUE),1,IF(N82=0,0,RANK(N82,N80:N82,0))))","v":0},{"$f":"IF(B70=\"\",0,IF(B82=TRUE,0+N82,3-L82+N82))","v":0},{"$f":"IF(OR(B82=TRUE,AND(B80=TRUE,B81=TRUE)),0.000000000005,K82*0.1+H82*0.01+I82*0.00000001+J82*0.00000000001)","v":0},{"$f":"IF(E70=E82,I70,0)","v":0},{"$f":"IF(E70=E82,J70,0)","v":0},{"$f":"IF(E71=E82,I71,0)","v":0},{"$f":"IF(E71=E82,J71,0)","v":0},{"$f":"IF(E73=E82,I73,0)","v":0},{"$f":"IF(E73=E82,J73,0)","v":0},{"$f":"IF(E74=E82,I74,0)","v":0},{"$f":"IF(E74=E82,J74,0)","v":0},{"$f":"IF(E76=E82,I76,0)","v":0},{"$f":"IF(E76=E82,J76,0)","v":0},{"$f":"IF(E77=E82,I77,0)","v":0},{"$f":"IF(E77=E82,J77,0)","v":0}]
[]
[null,null,null,null,null,"Boles","Ent","Mitj","SM1","SM2","Punts"]
[null,{"$f":"IF('Rànquing Inicial'!$D$147>15,\"Grup V\",\"\")","v":""},null,null,{"$f":"IF(D94>1,\"\",IF(OR(B96=TRUE,B97=TRUE),E95,E96))","v":""},null,null,{"$f":"IF(G85=\"\",\"\",ROUND(F85/G85,3))","v":""},null,null,{"$f":"IF(H85=\"\",\"\",IF(F85>F86,2,IF(F85<F86,0,1)))","v":""}]
[null,null,null,null,{"$f":"IF(D94>1,\"\",IF(B97=TRUE,E96,E97))","v":""},null,{"$f":"IF(G85=\"\",\"\",G85)","v":""},{"$f":"IF(G86=\"\",\"\",ROUND(F86/G86,3))","v":""},null,null,{"$f":"IF(H86=\"\",\"\",IF(F86>F85,2,IF(F86<F85,0,1)))","v":""}]
[]
[null,null,null,null,{"$f":"IF(D94>1,\"\",IF(B95=TRUE,E96,E95))","v":""},null,null,{"$f":"IF(G88=\"\",\"\",ROUND(F88/G88,3))","v":""},null,null,{"$f":"IF(H88=\"\",\"\",IF(F88>F89,2,IF(F88<F89,0,1)))","v":""}]
[null,null,null,null,{"$f":"IF(D94>1,\"\",IF(B97=TRUE,E96,E97))","v":""},null,{"$f":"IF(G88=\"\",\"\",G88)","v":""},{"$f":"IF(G89=\"\",\"\",ROUND(F89/G89,3))","v":""},null,null,{"$f":"IF(H89=\"\",\"\",IF(F89>F88,2,IF(F89<F88,0,1)))","v":""}]
[]
[null,null,null,null,{"$f":"IF(D94>1,\"\",IF(OR(B95=TRUE,B96=TRUE,B97=TRUE),\"\",E95))","v":""},null,null,{"$f":"IF(G91=\"\",\"\",ROUND(F91/G91,3))","v":""},null,null,{"$f":"IF(H91=\"\",\"\",IF(F91>F92,2,IF(F91<F92,0,1)))","v":""}]
[null,null,null,null,{"$f":"IF(OR(B95=TRUE,B96=TRUE,B97=TRUE),\"\",E96)","v":""},null,{"$f":"IF(G91=\"\",\"\",G91)","v":""},{"$f":"IF(G92=\"\",\"\",ROUND(F92/G92,3))","v":""},null,null,{"$f":"IF(H92=\"\",\"\",IF(F92>F91,2,IF(F92<F91,0,1)))","v":""}]
[]
[null,"¿WO?",null,{"$f":"COUNTIF(B95:B97,\"VERDADERO\")","v":0},"Jugador","Boles","Ent","Mitj","SM1","SM2","P",{"$f":"B85","v":""}]
[null,false,{"$f":"L95","v":0},{"$f":"'Grups PP'!D30","v":""},{"$f":"'Grups PP'!E30","v":""},{"$f":"SUMIF(E85:E92,E95,F85:F92)","v":0},{"$f":"SUMIF(E85:E92,E95,G85:G92)","v":0},{"$f":"IF(B95=TRUE,0,IF(G95=0,0,ROUND(F95/G95,3)))","v":0},{"$f":"MAX(O95:Z95)","v":0},{"$f":"LARGE((O95:Z95),2)","v":0},{"$f":"SUMIF(E85:E92,E95,K85:K92)","v":0},{"$f":"IF(B95=TRUE,\"WO\",IF(AND(B96=TRUE,B97=TRUE),1,IF(N95=0,0,RANK(N95,N95:N97,0))))","v":0},{"$f":"IF(B85=\"\",0,IF(B95=TRUE,0+N95,3-L95+N95))","v":0},{"$f":"IF(OR(B95=TRUE,AND(B96=TRUE,B97=TRUE)),0.000000000043,K95*0.1+H95*0.01+I95*0.00000001+J95*0.00000000001)","v":0},{"$f":"IF(E85=E95,I85,0)","v":0},{"$f":"IF(E85=E95,J85,0)","v":0},{"$f":"IF(E86=E95,I86,0)","v":0},{"$f":"IF(E86=E95,J86,0)","v":0},{"$f":"IF(E88=E95,I88,0)","v":0},{"$f":"IF(E88=E95,J88,0)","v":0},{"$f":"IF(E89=E95,I89,0)","v":0},{"$f":"IF(E89=E95,J89,0)","v":0},{"$f":"IF(E91=E95,I91,0)","v":0},{"$f":"IF(E91=E95,J91,0)","v":0},{"$f":"IF(E92=E95,I92,0)","v":0},{"$f":"IF(E92=E95,J92,0)","v":0}]
[null,false,{"$f":"L96","v":0},{"$f":"'Grups PP'!D31","v":""},{"$f":"'Grups PP'!E31","v":""},{"$f":"SUMIF(E85:E92,E96,F85:F92)","v":0},{"$f":"SUMIF(E85:E92,E96,G85:G92)","v":0},{"$f":"IF(B96=TRUE,0,IF(G96=0,0,ROUND(F96/G96,3)))","v":0},{"$f":"MAX(O96:Z96)","v":0},{"$f":"LARGE((O96:Z96),2)","v":0},{"$f":"SUMIF(E85:E92,E96,K85:K92)","v":0},{"$f":"IF(B96=TRUE,\"WO\",IF(AND(B95=TRUE,B97=TRUE),1,IF(N96=0,0,RANK(N96,N95:N97,0))))","v":0},{"$f":"IF(B85=\"\",0,IF(B96=TRUE,0+N96,3-L96+N96))","v":0},{"$f":"IF(OR(B96=TRUE,AND(B95=TRUE,B97=TRUE)),0.000000000022,K96*0.1+H96*0.01+I96*0.00000001+J96*0.00000000001)","v":0},{"$f":"IF(E85=E96,I85,0)","v":0},{"$f":"IF(E85=E96,J85,0)","v":0},{"$f":"IF(E86=E96,I86,0)","v":0},{"$f":"IF(E86=E96,J86,0)","v":0},{"$f":"IF(E88=E96,I88,0)","v":0},{"$f":"IF(E88=E96,J88,0)","v":0},{"$f":"IF(E89=E96,I89,0)","v":0},{"$f":"IF(E89=E96,J89,0)","v":0},{"$f":"IF(E91=E96,I91,0)","v":0},{"$f":"IF(E91=E96,J91,0)","v":0},{"$f":"IF(E92=E96,I92,0)","v":0},{"$f":"IF(E92=E96,J92,0)","v":0}]
[null,false,{"$f":"L97","v":0},{"$f":"'Grups PP'!D32","v":""},{"$f":"'Grups PP'!E32","v":""},{"$f":"SUMIF(E85:E92,E97,F85:F92)","v":0},{"$f":"SUMIF(E85:E92,E97,G85:G92)","v":0},{"$f":"IF(B97=TRUE,0,IF(G97=0,0,ROUND(F97/G97,3)))","v":0},{"$f":"MAX(O97:Z97)","v":0},{"$f":"LARGE((O97:Z97),2)","v":0},{"$f":"SUMIF(E85:E92,E97,K85:K92)","v":0},{"$f":"IF(B97=TRUE,\"WO\",IF(AND(B95=TRUE,B96=TRUE),1,IF(N97=0,0,RANK(N97,N95:N97,0))))","v":0},{"$f":"IF(B85=\"\",0,IF(B97=TRUE,0+N97,3-L97+N97))","v":0},{"$f":"IF(OR(B97=TRUE,AND(B95=TRUE,B96=TRUE)),0.000000000006,K97*0.1+H97*0.01+I97*0.00000001+J97*0.00000000001)","v":0},{"$f":"IF(E85=E97,I85,0)","v":0},{"$f":"IF(E85=E97,J85,0)","v":0},{"$f":"IF(E86=E97,I86,0)","v":0},{"$f":"IF(E86=E97,J86,0)","v":0},{"$f":"IF(E88=E97,I88,0)","v":0},{"$f":"IF(E88=E97,J88,0)","v":0},{"$f":"IF(E89=E97,I89,0)","v":0},{"$f":"IF(E89=E97,J89,0)","v":0},{"$f":"IF(E91=E97,I91,0)","v":0},{"$f":"IF(E91=E97,J91,0)","v":0},{"$f":"IF(E92=E97,I92,0)","v":0},{"$f":"IF(E92=E97,J92,0)","v":0}]
[]
[null,null,null,null,null,"Boles","Ent","Mitj","SM1","SM2","Punts"]
[null,{"$f":"IF('Rànquing Inicial'!$D$147>18,\"Grup W\",\"\")","v":""},null,null,{"$f":"IF(D109>1,\"\",IF(OR(B111=TRUE,B112=TRUE),E110,E111))","v":""},null,null,{"$f":"IF(G100=\"\",\"\",ROUND(F100/G100,3))","v":""},null,null,{"$f":"IF(H100=\"\",\"\",IF(F100>F101,2,IF(F100<F101,0,1)))","v":""}]
[null,null,null,null,{"$f":"IF(D109>1,\"\",IF(B112=TRUE,E111,E112))","v":""},null,{"$f":"IF(G100=\"\",\"\",G100)","v":""},{"$f":"IF(G101=\"\",\"\",ROUND(F101/G101,3))","v":""},null,null,{"$f":"IF(H101=\"\",\"\",IF(F101>F100,2,IF(F101<F100,0,1)))","v":""}]
[]
[null,null,null,null,{"$f":"IF(D109>1,\"\",IF(B110=TRUE,E111,E110))","v":""},null,null,{"$f":"IF(G103=\"\",\"\",ROUND(F103/G103,3))","v":""},null,null,{"$f":"IF(H103=\"\",\"\",IF(F103>F104,2,IF(F103<F104,0,1)))","v":""}]
[null,null,null,null,{"$f":"IF(D109>1,\"\",IF(B112=TRUE,E111,E112))","v":""},null,{"$f":"IF(G103=\"\",\"\",G103)","v":""},{"$f":"IF(G104=\"\",\"\",ROUND(F104/G104,3))","v":""},null,null,{"$f":"IF(H104=\"\",\"\",IF(F104>F103,2,IF(F104<F103,0,1)))","v":""}]
[]
[null,null,null,null,{"$f":"IF(D109>1,\"\",IF(OR(B110=TRUE,B111=TRUE,B112=TRUE),\"\",E110))","v":""},null,null,{"$f":"IF(G106=\"\",\"\",ROUND(F106/G106,3))","v":""},null,null,{"$f":"IF(H106=\"\",\"\",IF(F106>F107,2,IF(F106<F107,0,1)))","v":""}]
[null,null,null,null,{"$f":"IF(OR(B110=TRUE,B111=TRUE,B112=TRUE),\"\",E111)","v":""},null,{"$f":"IF(G106=\"\",\"\",G106)","v":""},{"$f":"IF(G107=\"\",\"\",ROUND(F107/G107,3))","v":""},null,null,{"$f":"IF(H107=\"\",\"\",IF(F107>F106,2,IF(F107<F106,0,1)))","v":""}]
[]
[null,"¿WO?",null,{"$f":"COUNTIF(B110:B112,\"VERDADERO\")","v":0},"Jugador","Boles","Ent","Mitj","SM1","SM2","P",{"$f":"B100","v":""}]
[null,false,{"$f":"L110","v":0},{"$f":"'Grups PP'!D34","v":""},{"$f":"'Grups PP'!E34","v":""},{"$f":"SUMIF(E100:E107,E110,F100:F107)","v":0},{"$f":"SUMIF(E100:E107,E110,G100:G107)","v":0},{"$f":"IF(B110=TRUE,0,IF(G110=0,0,ROUND(F110/G110,3)))","v":0},{"$f":"MAX(O110:Z110)","v":0},{"$f":"LARGE((O110:Z110),2)","v":0},{"$f":"SUMIF(E100:E107,E110,K100:K107)","v":0},{"$f":"IF(B110=TRUE,\"WO\",IF(AND(B111=TRUE,B112=TRUE),1,IF(N110=0,0,RANK(N110,N110:N112,0))))","v":0},{"$f":"IF(B100=\"\",0,IF(B110=TRUE,0+N110,3-L110+N110))","v":0},{"$f":"IF(OR(B110=TRUE,AND(B111=TRUE,B112=TRUE)),0.000000000042,K110*0.1+H110*0.01+I110*0.00000001+J110*0.00000000001)","v":0},{"$f":"IF(E100=E110,I100,0)","v":0},{"$f":"IF(E100=E110,J100,0)","v":0},{"$f":"IF(E101=E110,I101,0)","v":0},{"$f":"IF(E101=E110,J101,0)","v":0},{"$f":"IF(E103=E110,I103,0)","v":0},{"$f":"IF(E103=E110,J103,0)","v":0},{"$f":"IF(E104=E110,I104,0)","v":0},{"$f":"IF(E104=E110,J104,0)","v":0},{"$f":"IF(E106=E110,I106,0)","v":0},{"$f":"IF(E106=E110,J106,0)","v":0},{"$f":"IF(E107=E110,I107,0)","v":0},{"$f":"IF(E107=E110,J107,0)","v":0}]
[null,false,{"$f":"L111","v":0},{"$f":"'Grups PP'!D35","v":""},{"$f":"'Grups PP'!E35","v":""},{"$f":"SUMIF(E100:E107,E111,F100:F107)","v":0},{"$f":"SUMIF(E100:E107,E111,G100:G107)","v":0},{"$f":"IF(B111=TRUE,0,IF(G111=0,0,ROUND(F111/G111,3)))","v":0},{"$f":"MAX(O111:Z111)","v":0},{"$f":"LARGE((O111:Z111),2)","v":0},{"$f":"SUMIF(E100:E107,E111,K100:K107)","v":0},{"$f":"IF(B111=TRUE,\"WO\",IF(AND(B110=TRUE,B112=TRUE),1,IF(N111=0,0,RANK(N111,N110:N112,0))))","v":0},{"$f":"IF(B100=\"\",0,IF(B111=TRUE,0+N111,3-L111+N111))","v":0},{"$f":"IF(OR(B111=TRUE,AND(B110=TRUE,B112=TRUE)),0.000000000023,K111*0.1+H111*0.01+I111*0.00000001+J111*0.00000000001)","v":0},{"$f":"IF(E100=E111,I100,0)","v":0},{"$f":"IF(E100=E111,J100,0)","v":0},{"$f":"IF(E101=E111,I101,0)","v":0},{"$f":"IF(E101=E111,J101,0)","v":0},{"$f":"IF(E103=E111,I103,0)","v":0},{"$f":"IF(E103=E111,J103,0)","v":0},{"$f":"IF(E104=E111,I104,0)","v":0},{"$f":"IF(E104=E111,J104,0)","v":0},{"$f":"IF(E106=E111,I106,0)","v":0},{"$f":"IF(E106=E111,J106,0)","v":0},{"$f":"IF(E107=E111,I107,0)","v":0},{"$f":"IF(E107=E111,J107,0)","v":0}]
[null,false,{"$f":"L112","v":0},{"$f":"'Grups PP'!D36","v":""},{"$f":"'Grups PP'!E36","v":""},{"$f":"SUMIF(E100:E107,E112,F100:F107)","v":0},{"$f":"SUMIF(E100:E107,E112,G100:G107)","v":0},{"$f":"IF(B112=TRUE,0,IF(G112=0,0,ROUND(F112/G112,3)))","v":0},{"$f":"MAX(O112:Z112)","v":0},{"$f":"LARGE((O112:Z112),2)","v":0},{"$f":"SUMIF(E100:E107,E112,K100:K107)","v":0},{"$f":"IF(B112=TRUE,\"WO\",IF(AND(B110=TRUE,B111=TRUE),1,IF(N112=0,0,RANK(N112,N110:N112,0))))","v":0},{"$f":"IF(B100=\"\",0,IF(B112=TRUE,0+N112,3-L112+N112))","v":0},{"$f":"IF(OR(B112=TRUE,AND(B110=TRUE,B111=TRUE)),0.000000000007,K112*0.1+H112*0.01+I112*0.00000001+J112*0.00000000001)","v":0},{"$f":"IF(E100=E112,I100,0)","v":0},{"$f":"IF(E100=E112,J100,0)","v":0},{"$f":"IF(E101=E112,I101,0)","v":0},{"$f":"IF(E101=E112,J101,0)","v":0},{"$f":"IF(E103=E112,I103,0)","v":0},{"$f":"IF(E103=E112,J103,0)","v":0},{"$f":"IF(E104=E112,I104,0)","v":0},{"$f":"IF(E104=E112,J104,0)","v":0},{"$f":"IF(E106=E112,I106,0)","v":0},{"$f":"IF(E106=E112,J106,0)","v":0},{"$f":"IF(E107=E112,I107,0)","v":0},{"$f":"IF(E107=E112,J107,0)","v":0}]
[]
[null,null,null,null,null,"Boles","Ent","Mitj","SM1","SM2","Punts"]
[null,{"$f":"IF('Rànquing Inicial'!$D$147>21,\"Grup X\",\"\")","v":""},null,null,{"$f":"IF(D124>1,\"\",IF(OR(B126=TRUE,B127=TRUE),E125,E126))","v":""},null,null,{"$f":"IF(G115=\"\",\"\",ROUND(F115/G115,3))","v":""},null,null,{"$f":"IF(H115=\"\",\"\",IF(F115>F116,2,IF(F115<F116,0,1)))","v":""}]
[null,null,null,null,{"$f":"IF(D124>1,\"\",IF(B127=TRUE,E126,E127))","v":""},null,{"$f":"IF(G115=\"\",\"\",G115)","v":""},{"$f":"IF(G116=\"\",\"\",ROUND(F116/G116,3))","v":""},null,null,{"$f":"IF(H116=\"\",\"\",IF(F116>F115,2,IF(F116<F115,0,1)))","v":""}]
[]
[null,null,null,null,{"$f":"IF(D124>1,\"\",IF(B125=TRUE,E126,E125))","v":""},null,null,{"$f":"IF(G118=\"\",\"\",ROUND(F118/G118,3))","v":""},null,null,{"$f":"IF(H118=\"\",\"\",IF(F118>F119,2,IF(F118<F119,0,1)))","v":""}]
[null,null,null,null,{"$f":"IF(D124>1,\"\",IF(B127=TRUE,E126,E127))","v":""},null,{"$f":"IF(G118=\"\",\"\",G118)","v":""},{"$f":"IF(G119=\"\",\"\",ROUND(F119/G119,3))","v":""},null,null,{"$f":"IF(H119=\"\",\"\",IF(F119>F118,2,IF(F119<F118,0,1)))","v":""}]
[]
[null,null,null,null,{"$f":"IF(D124>1,\"\",IF(OR(B125=TRUE,B126=TRUE,B127=TRUE),\"\",E125))","v":""},null,null,{"$f":"IF(G121=\"\",\"\",ROUND(F121/G121,3))","v":""},null,null,{"$f":"IF(H121=\"\",\"\",IF(F121>F122,2,IF(F121<F122,0,1)))","v":""}]
[null,null,null,null,{"$f":"IF(OR(B125=TRUE,B126=TRUE,B127=TRUE),\"\",E126)","v":""},null,{"$f":"IF(G121=\"\",\"\",G121)","v":""},{"$f":"IF(G122=\"\",\"\",ROUND(F122/G122,3))","v":""},null,null,{"$f":"IF(H122=\"\",\"\",IF(F122>F121,2,IF(F122<F121,0,1)))","v":""}]
[]
[null,"¿WO?",null,{"$f":"COUNTIF(B125:B127,\"VERDADERO\")","v":0},"Jugador","Boles","Ent","Mitj","SM1","SM2","P",{"$f":"B115","v":""}]
[null,false,{"$f":"L125","v":0},{"$f":"'Grups PP'!D38","v":""},{"$f":"'Grups PP'!E38","v":""},{"$f":"SUMIF(E115:E122,E125,F115:F122)","v":0},{"$f":"SUMIF(E115:E122,E125,G115:G122)","v":0},{"$f":"IF(B125=TRUE,0,IF(G125=0,0,ROUND(F125/G125,3)))","v":0},{"$f":"MAX(O125:Z125)","v":0},{"$f":"LARGE((O125:Z125),2)","v":0},{"$f":"SUMIF(E115:E122,E125,K115:K122)","v":0},{"$f":"IF(B125=TRUE,\"WO\",IF(AND(B126=TRUE,B127=TRUE),1,IF(N125=0,0,RANK(N125,N125:N127,0))))","v":0},{"$f":"IF(B115=\"\",0,IF(B125=TRUE,0+N125,3-L125+N125))","v":0},{"$f":"IF(OR(B125=TRUE,AND(B126=TRUE,B127=TRUE)),0.000000000041,K125*0.1+H125*0.01+I125*0.00000001+J125*0.00000000001)","v":0},{"$f":"IF(E115=E125,I115,0)","v":0},{"$f":"IF(E115=E125,J115,0)","v":0},{"$f":"IF(E116=E125,I116,0)","v":0},{"$f":"IF(E116=E125,J116,0)","v":0},{"$f":"IF(E118=E125,I118,0)","v":0},{"$f":"IF(E118=E125,J118,0)","v":0},{"$f":"IF(E119=E125,I119,0)","v":0},{"$f":"IF(E119=E125,J119,0)","v":0},{"$f":"IF(E121=E125,I121,0)","v":0},{"$f":"IF(E121=E125,J121,0)","v":0},{"$f":"IF(E122=E125,I122,0)","v":0},{"$f":"IF(E122=E125,J122,0)","v":0}]
[null,false,{"$f":"L126","v":0},{"$f":"'Grups PP'!D39","v":""},{"$f":"'Grups PP'!E39","v":""},{"$f":"SUMIF(E115:E122,E126,F115:F122)","v":0},{"$f":"SUMIF(E115:E122,E126,G115:G122)","v":0},{"$f":"IF(B126=TRUE,0,IF(G126=0,0,ROUND(F126/G126,3)))","v":0},{"$f":"MAX(O126:Z126)","v":0},{"$f":"LARGE((O126:Z126),2)","v":0},{"$f":"SUMIF(E115:E122,E126,K115:K122)","v":0},{"$f":"IF(B126=TRUE,\"WO\",IF(AND(B125=TRUE,B127=TRUE),1,IF(N126=0,0,RANK(N126,N125:N127,0))))","v":0},{"$f":"IF(B115=\"\",0,IF(B126=TRUE,0+N126,3-L126+N126))","v":0},{"$f":"IF(OR(B126=TRUE,AND(B125=TRUE,B127=TRUE)),0.000000000024,K126*0.1+H126*0.01+I126*0.00000001+J126*0.00000000001)","v":0},{"$f":"IF(E115=E126,I115,0)","v":0},{"$f":"IF(E115=E126,J115,0)","v":0},{"$f":"IF(E116=E126,I116,0)","v":0},{"$f":"IF(E116=E126,J116,0)","v":0},{"$f":"IF(E118=E126,I118,0)","v":0},{"$f":"IF(E118=E126,J118,0)","v":0},{"$f":"IF(E119=E126,I119,0)","v":0},{"$f":"IF(E119=E126,J119,0)","v":0},{"$f":"IF(E121=E126,I121,0)","v":0},{"$f":"IF(E121=E126,J121,0)","v":0},{"$f":"IF(E122=E126,I122,0)","v":0},{"$f":"IF(E122=E126,J122,0)","v":0}]
[null,false,{"$f":"L127","v":0},{"$f":"'Grups PP'!D40","v":""},{"$f":"'Grups PP'!E40","v":""},{"$f":"SUMIF(E115:E122,E127,F115:F122)","v":0},{"$f":"SUMIF(E115:E122,E127,G115:G122)","v":0},{"$f":"IF(B127=TRUE,0,IF(G127=0,0,ROUND(F127/G127,3)))","v":0},{"$f":"MAX(O127:Z127)","v":0},{"$f":"LARGE((O127:Z127),2)","v":0},{"$f":"SUMIF(E115:E122,E127,K115:K122)","v":0},{"$f":"IF(B127=TRUE,\"WO\",IF(AND(B125=TRUE,B126=TRUE),1,IF(N127=0,0,RANK(N127,N125:N127,0))))","v":0},{"$f":"IF(B115=\"\",0,IF(B127=TRUE,0+N127,3-L127+N127))","v":0},{"$f":"IF(OR(B127=TRUE,AND(B125=TRUE,B126=TRUE)),0.000000000008,K127*0.1+H127*0.01+I127*0.00000001+J127*0.00000000001)","v":0},{"$f":"IF(E115=E127,I115,0)","v":0},{"$f":"IF(E115=E127,J115,0)","v":0},{"$f":"IF(E116=E127,I116,0)","v":0},{"$f":"IF(E116=E127,J116,0)","v":0},{"$f":"IF(E118=E127,I118,0)","v":0},{"$f":"IF(E118=E127,J118,0)","v":0},{"$f":"IF(E119=E127,I119,0)","v":0},{"$f":"IF(E119=E127,J119,0)","v":0},{"$f":"IF(E121=E127,I121,0)","v":0},{"$f":"IF(E121=E127,J121,0)","v":0},{"$f":"IF(E122=E127,I122,0)","v":0},{"$f":"IF(E122=E127,J122,0)","v":0}]
[]
[null,null,null,null,null,"Boles","Ent","Mitj","SM1","SM2","Punts"]
[null,{"$f":"IF('Rànquing Inicial'!$D$147>24,\"Grup Y\",\"\")","v":""},null,null,{"$f":"IF(D139>1,\"\",IF(OR(B141=TRUE,B142=TRUE),E140,E141))","v":""},null,null,{"$f":"IF(G130=\"\",\"\",ROUND(F130/G130,3))","v":""},null,null,{"$f":"IF(H130=\"\",\"\",IF(F130>F131,2,IF(F130<F131,0,1)))","v":""}]
[null,null,null,null,{"$f":"IF(D139>1,\"\",IF(B142=TRUE,E141,E142))","v":""},null,{"$f":"IF(G130=\"\",\"\",G130)","v":""},{"$f":"IF(G131=\"\",\"\",ROUND(F131/G131,3))","v":""},null,null,{"$f":"IF(H131=\"\",\"\",IF(F131>F130,2,IF(F131<F130,0,1)))","v":""}]
[]
[null,null,null,null,{"$f":"IF(D139>1,\"\",IF(B140=TRUE,E141,E140))","v":""},null,null,{"$f":"IF(G133=\"\",\"\",ROUND(F133/G133,3))","v":""},null,null,{"$f":"IF(H133=\"\",\"\",IF(F133>F134,2,IF(F133<F134,0,1)))","v":""}]
[null,null,null,null,{"$f":"IF(D139>1,\"\",IF(B142=TRUE,E141,E142))","v":""},null,{"$f":"IF(G133=\"\",\"\",G133)","v":""},{"$f":"IF(G134=\"\",\"\",ROUND(F134/G134,3))","v":""},null,null,{"$f":"IF(H134=\"\",\"\",IF(F134>F133,2,IF(F134<F133,0,1)))","v":""}]
[]
[null,null,null,null,{"$f":"IF(D139>1,\"\",IF(OR(B140=TRUE,B141=TRUE,B142=TRUE),\"\",E140))","v":""},null,null,{"$f":"IF(G136=\"\",\"\",ROUND(F136/G136,3))","v":""},null,null,{"$f":"IF(H136=\"\",\"\",IF(F136>F137,2,IF(F136<F137,0,1)))","v":""}]
[null,null,null,null,{"$f":"IF(OR(B140=TRUE,B141=TRUE,B142=TRUE),\"\",E141)","v":""},null,{"$f":"IF(G136=\"\",\"\",G136)","v":""},{"$f":"IF(G137=\"\",\"\",ROUND(F137/G137,3))","v":""},null,null,{"$f":"IF(H137=\"\",\"\",IF(F137>F136,2,IF(F137<F136,0,1)))","v":""}]
[]
[null,"¿WO?",null,{"$f":"COUNTIF(B140:B142,\"VERDADERO\")","v":0},"Jugador","Boles","Ent","Mitj","SM1","SM2","P",{"$f":"B130","v":""}]
[null,false,{"$f":"L140","v":0},{"$f":"'Grups PP'!H10","v":""},{"$f":"'Grups PP'!I10","v":""},{"$f":"SUMIF(E130:E137,E140,F130:F137)","v":0},{"$f":"SUMIF(E130:E137,E140,G130:G137)","v":0},{"$f":"IF(B140=TRUE,0,IF(G140=0,0,ROUND(F140/G140,3)))","v":0},{"$f":"MAX(O140:Z140)","v":0},{"$f":"LARGE((O140:Z140),2)","v":0},{"$f":"SUMIF(E130:E137,E140,K130:K137)","v":0},{"$f":"IF(B140=TRUE,\"WO\",IF(AND(B141=TRUE,B142=TRUE),1,IF(N140=0,0,RANK(N140,N140:N142,0))))","v":0},{"$f":"IF(B130=\"\",0,IF(B140=TRUE,0+N140,3-L140+N140))","v":0},{"$f":"IF(OR(B140=TRUE,AND(B141=TRUE,B142=TRUE)),0.00000000004,K140*0.1+H140*0.01+I140*0.00000001+J140*0.00000000001)","v":0},{"$f":"IF(E130=E140,I130,0)","v":0},{"$f":"IF(E130=E140,J130,0)","v":0},{"$f":"IF(E131=E140,I131,0)","v":0},{"$f":"IF(E131=E140,J131,0)","v":0},{"$f":"IF(E133=E140,I133,0)","v":0},{"$f":"IF(E133=E140,J133,0)","v":0},{"$f":"IF(E134=E140,I134,0)","v":0},{"$f":"IF(E134=E140,J134,0)","v":0},{"$f":"IF(E136=E140,I136,0)","v":0},{"$f":"IF(E136=E140,J136,0)","v":0},{"$f":"IF(E137=E140,I137,0)","v":0},{"$f":"IF(E137=E140,J137,0)","v":0}]
[null,false,{"$f":"L141","v":0},{"$f":"'Grups PP'!H11","v":""},{"$f":"'Grups PP'!I11","v":""},{"$f":"SUMIF(E130:E137,E141,F130:F137)","v":0},{"$f":"SUMIF(E130:E137,E141,G130:G137)","v":0},{"$f":"IF(B141=TRUE,0,IF(G141=0,0,ROUND(F141/G141,3)))","v":0},{"$f":"MAX(O141:Z141)","v":0},{"$f":"LARGE((O141:Z141),2)","v":0},{"$f":"SUMIF(E130:E137,E141,K130:K137)","v":0},{"$f":"IF(B141=TRUE,\"WO\",IF(AND(B140=TRUE,B142=TRUE),1,IF(N141=0,0,RANK(N141,N140:N142,0))))","v":0},{"$f":"IF(B130=\"\",0,IF(B141=TRUE,0+N141,3-L141+N141))","v":0},{"$f":"IF(OR(B141=TRUE,AND(B140=TRUE,B142=TRUE)),0.000000000025,K141*0.1+H141*0.01+I141*0.00000001+J141*0.00000000001)","v":0},{"$f":"IF(E130=E141,I130,0)","v":0},{"$f":"IF(E130=E141,J130,0)","v":0},{"$f":"IF(E131=E141,I131,0)","v":0},{"$f":"IF(E131=E141,J131,0)","v":0},{"$f":"IF(E133=E141,I133,0)","v":0},{"$f":"IF(E133=E141,J133,0)","v":0},{"$f":"IF(E134=E141,I134,0)","v":0},{"$f":"IF(E134=E141,J134,0)","v":0},{"$f":"IF(E136=E141,I136,0)","v":0},{"$f":"IF(E136=E141,J136,0)","v":0},{"$f":"IF(E137=E141,I137,0)","v":0},{"$f":"IF(E137=E141,J137,0)","v":0}]
[null,false,{"$f":"L142","v":0},{"$f":"'Grups PP'!H12","v":""},{"$f":"'Grups PP'!I12","v":""},{"$f":"SUMIF(E130:E137,E142,F130:F137)","v":0},{"$f":"SUMIF(E130:E137,E142,G130:G137)","v":0},{"$f":"IF(B142=TRUE,0,IF(G142=0,0,ROUND(F142/G142,3)))","v":0},{"$f":"MAX(O142:Z142)","v":0},{"$f":"LARGE((O142:Z142),2)","v":0},{"$f":"SUMIF(E130:E137,E142,K130:K137)","v":0},{"$f":"IF(B142=TRUE,\"WO\",IF(AND(B140=TRUE,B141=TRUE),1,IF(N142=0,0,RANK(N142,N140:N142,0))))","v":0},{"$f":"IF(B130=\"\",0,IF(B142=TRUE,0+N142,3-L142+N142))","v":0},{"$f":"IF(OR(B142=TRUE,AND(B140=TRUE,B141=TRUE)),0.000000000009,K142*0.1+H142*0.01+I142*0.00000001+J142*0.00000000001)","v":0},{"$f":"IF(E130=E142,I130,0)","v":0},{"$f":"IF(E130=E142,J130,0)","v":0},{"$f":"IF(E131=E142,I131,0)","v":0},{"$f":"IF(E131=E142,J131,0)","v":0},{"$f":"IF(E133=E142,I133,0)","v":0},{"$f":"IF(E133=E142,J133,0)","v":0},{"$f":"IF(E134=E142,I134,0)","v":0},{"$f":"IF(E134=E142,J134,0)","v":0},{"$f":"IF(E136=E142,I136,0)","v":0},{"$f":"IF(E136=E142,J136,0)","v":0},{"$f":"IF(E137=E142,I137,0)","v":0},{"$f":"IF(E137=E142,J137,0)","v":0}]
[]
[null,null,null,null,null,"Boles","Ent","Mitj","SM1","SM2","Punts"]
[null,{"$f":"IF('Rànquing Inicial'!$D$147>27,\"Grup Z\",\"\")","v":""},null,null,{"$f":"IF(D154>1,\"\",IF(OR(B156=TRUE,B157=TRUE),E155,E156))","v":""},null,null,{"$f":"IF(G145=\"\",\"\",ROUND(F145/G145,3))","v":""},null,null,{"$f":"IF(H145=\"\",\"\",IF(F145>F146,2,IF(F145<F146,0,1)))","v":""}]
[null,null,null,null,{"$f":"IF(D154>1,\"\",IF(B157=TRUE,E156,E157))","v":""},null,{"$f":"IF(G145=\"\",\"\",G145)","v":""},{"$f":"IF(G146=\"\",\"\",ROUND(F146/G146,3))","v":""},null,null,{"$f":"IF(H146=\"\",\"\",IF(F146>F145,2,IF(F146<F145,0,1)))","v":""}]
[]
[null,null,null,null,{"$f":"IF(D154>1,\"\",IF(B155=TRUE,E156,E155))","v":""},null,null,{"$f":"IF(G148=\"\",\"\",ROUND(F148/G148,3))","v":""},null,null,{"$f":"IF(H148=\"\",\"\",IF(F148>F149,2,IF(F148<F149,0,1)))","v":""}]
[null,null,null,null,{"$f":"IF(D154>1,\"\",IF(B157=TRUE,E156,E157))","v":""},null,{"$f":"IF(G148=\"\",\"\",G148)","v":""},{"$f":"IF(G149=\"\",\"\",ROUND(F149/G149,3))","v":""},null,null,{"$f":"IF(H149=\"\",\"\",IF(F149>F148,2,IF(F149<F148,0,1)))","v":""}]
[]
[null,null,null,null,{"$f":"IF(D154>1,\"\",IF(OR(B155=TRUE,B156=TRUE,B157=TRUE),\"\",E155))","v":""},null,null,{"$f":"IF(G151=\"\",\"\",ROUND(F151/G151,3))","v":""},null,null,{"$f":"IF(H151=\"\",\"\",IF(F151>F152,2,IF(F151<F152,0,1)))","v":""}]
[null,null,null,null,{"$f":"IF(OR(B155=TRUE,B156=TRUE,B157=TRUE),\"\",E156)","v":""},null,{"$f":"IF(G151=\"\",\"\",G151)","v":""},{"$f":"IF(G152=\"\",\"\",ROUND(F152/G152,3))","v":""},null,null,{"$f":"IF(H152=\"\",\"\",IF(F152>F151,2,IF(F152<F151,0,1)))","v":""}]
[]
[null,"¿WO?",null,{"$f":"COUNTIF(B155:B157,\"VERDADERO\")","v":0},"Jugador","Boles","Ent","Mitj","SM1","SM2","P",{"$f":"B145","v":""}]
[null,false,{"$f":"L155","v":0},{"$f":"'Grups PP'!H14","v":""},{"$f":"'Grups PP'!I14","v":""},{"$f":"SUMIF(E145:E152,E155,F145:F152)","v":0},{"$f":"SUMIF(E145:E152,E155,G145:G152)","v":0},{"$f":"IF(B155=TRUE,0,IF(G155=0,0,ROUND(F155/G155,3)))","v":0},{"$f":"MAX(O155:Z155)","v":0},{"$f":"LARGE((O155:Z155),2)","v":0},{"$f":"SUMIF(E145:E152,E155,K145:K152)","v":0},{"$f":"IF(B155=TRUE,\"WO\",IF(AND(B156=TRUE,B157=TRUE),1,IF(N155=0,0,RANK(N155,N155:N157,0))))","v":0},{"$f":"IF(B145=\"\",0,IF(B155=TRUE,0+N155,3-L155+N155))","v":0},{"$f":"IF(OR(B155=TRUE,AND(B156=TRUE,B157=TRUE)),0.000000000039,K155*0.1+H155*0.01+I155*0.00000001+J155*0.00000000001)","v":0},{"$f":"IF(E145=E155,I145,0)","v":0},{"$f":"IF(E145=E155,J145,0)","v":0},{"$f":"IF(E146=E155,I146,0)","v":0},{"$f":"IF(E146=E155,J146,0)","v":0},{"$f":"IF(E148=E155,I148,0)","v":0},{"$f":"IF(E148=E155,J148,0)","v":0},{"$f":"IF(E149=E155,I149,0)","v":0},{"$f":"IF(E149=E155,J149,0)","v":0},{"$f":"IF(E151=E155,I151,0)","v":0},{"$f":"IF(E151=E155,J151,0)","v":0},{"$f":"IF(E152=E155,I152,0)","v":0},{"$f":"IF(E152=E155,J152,0)","v":0}]
[null,false,{"$f":"L156","v":0},{"$f":"'Grups PP'!H15","v":""},{"$f":"'Grups PP'!I15","v":""},{"$f":"SUMIF(E145:E152,E156,F145:F152)","v":0},{"$f":"SUMIF(E145:E152,E156,G145:G152)","v":0},{"$f":"IF(B156=TRUE,0,IF(G156=0,0,ROUND(F156/G156,3)))","v":0},{"$f":"MAX(O156:Z156)","v":0},{"$f":"LARGE((O156:Z156),2)","v":0},{"$f":"SUMIF(E145:E152,E156,K145:K152)","v":0},{"$f":"IF(B156=TRUE,\"WO\",IF(AND(B155=TRUE,B157=TRUE),1,IF(N156=0,0,RANK(N156,N155:N157,0))))","v":0},{"$f":"IF(B145=\"\",0,IF(B156=TRUE,0+N156,3-L156+N156))","v":0},{"$f":"IF(OR(B156=TRUE,AND(B155=TRUE,B157=TRUE)),0.000000000026,K156*0.1+H156*0.01+I156*0.00000001+J156*0.00000000001)","v":0},{"$f":"IF(E145=E156,I145,0)","v":0},{"$f":"IF(E145=E156,J145,0)","v":0},{"$f":"IF(E146=E156,I146,0)","v":0},{"$f":"IF(E146=E156,J146,0)","v":0},{"$f":"IF(E148=E156,I148,0)","v":0},{"$f":"IF(E148=E156,J148,0)","v":0},{"$f":"IF(E149=E156,I149,0)","v":0},{"$f":"IF(E149=E156,J149,0)","v":0},{"$f":"IF(E151=E156,I151,0)","v":0},{"$f":"IF(E151=E156,J151,0)","v":0},{"$f":"IF(E152=E156,I152,0)","v":0},{"$f":"IF(E152=E156,J152,0)","v":0}]
[null,false,{"$f":"L157","v":0},{"$f":"'Grups PP'!H16","v":""},{"$f":"'Grups PP'!I16","v":""},{"$f":"SUMIF(E145:E152,E157,F145:F152)","v":0},{"$f":"SUMIF(E145:E152,E157,G145:G152)","v":0},{"$f":"IF(B157=TRUE,0,IF(G157=0,0,ROUND(F157/G157,3)))","v":0},{"$f":"MAX(O157:Z157)","v":0},{"$f":"LARGE((O157:Z157),2)","v":0},{"$f":"SUMIF(E145:E152,E157,K145:K152)","v":0},{"$f":"IF(B157=TRUE,\"WO\",IF(AND(B155=TRUE,B156=TRUE),1,IF(N157=0,0,RANK(N157,N155:N157,0))))","v":0},{"$f":"IF(B145=\"\",0,IF(B157=TRUE,0+N157,3-L157+N157))","v":0},{"$f":"IF(OR(B157=TRUE,AND(B155=TRUE,B156=TRUE)),0.00000000001,K157*0.1+H157*0.01+I157*0.00000001+J157*0.00000000001)","v":0},{"$f":"IF(E145=E157,I145,0)","v":0},{"$f":"IF(E145=E157,J145,0)","v":0},{"$f":"IF(E146=E157,I146,0)","v":0},{"$f":"IF(E146=E157,J146,0)","v":0},{"$f":"IF(E148=E157,I148,0)","v":0},{"$f":"IF(E148=E157,J148,0)","v":0},{"$f":"IF(E149=E157,I149,0)","v":0},{"$f":"IF(E149=E157,J149,0)","v":0},{"$f":"IF(E151=E157,I151,0)","v":0},{"$f":"IF(E151=E157,J151,0)","v":0},{"$f":"IF(E152=E157,I152,0)","v":0},{"$f":"IF(E152=E157,J152,0)","v":0}]
[]
[null,null,null,null,null,"Boles","Ent","Mitj","SM1","SM2","Punts"]
[null,{"$f":"IF('Rànquing Inicial'!$D$147>30,\"Grup AA\",\"\")","v":""},null,null,{"$f":"IF(D169>1,\"\",IF(OR(B171=TRUE,B172=TRUE),E170,E171))","v":""},null,null,{"$f":"IF(G160=\"\",\"\",ROUND(F160/G160,3))","v":""},null,null,{"$f":"IF(H160=\"\",\"\",IF(F160>F161,2,IF(F160<F161,0,1)))","v":""}]
[null,null,null,null,{"$f":"IF(D169>1,\"\",IF(B172=TRUE,E171,E172))","v":""},null,{"$f":"IF(G160=\"\",\"\",G160)","v":""},{"$f":"IF(G161=\"\",\"\",ROUND(F161/G161,3))","v":""},null,null,{"$f":"IF(H161=\"\",\"\",IF(F161>F160,2,IF(F161<F160,0,1)))","v":""}]
[]
[null,null,null,null,{"$f":"IF(D169>1,\"\",IF(B170=TRUE,E171,E170))","v":""},null,null,{"$f":"IF(G163=\"\",\"\",ROUND(F163/G163,3))","v":""},null,null,{"$f":"IF(H163=\"\",\"\",IF(F163>F164,2,IF(F163<F164,0,1)))","v":""}]
[null,null,null,null,{"$f":"IF(D169>1,\"\",IF(B172=TRUE,E171,E172))","v":""},null,{"$f":"IF(G163=\"\",\"\",G163)","v":""},{"$f":"IF(G164=\"\",\"\",ROUND(F164/G164,3))","v":""},null,null,{"$f":"IF(H164=\"\",\"\",IF(F164>F163,2,IF(F164<F163,0,1)))","v":""}]
[]
[null,null,null,null,{"$f":"IF(D169>1,\"\",IF(OR(B170=TRUE,B171=TRUE,B172=TRUE),\"\",E170))","v":""},null,null,{"$f":"IF(G166=\"\",\"\",ROUND(F166/G166,3))","v":""},null,null,{"$f":"IF(H166=\"\",\"\",IF(F166>F167,2,IF(F166<F167,0,1)))","v":""}]
[null,null,null,null,{"$f":"IF(OR(B170=TRUE,B171=TRUE,B172=TRUE),\"\",E171)","v":""},null,{"$f":"IF(G166=\"\",\"\",G166)","v":""},{"$f":"IF(G167=\"\",\"\",ROUND(F167/G167,3))","v":""},null,null,{"$f":"IF(H167=\"\",\"\",IF(F167>F166,2,IF(F167<F166,0,1)))","v":""}]
[]
[null,"¿WO?",null,{"$f":"COUNTIF(B170:B172,\"VERDADERO\")","v":0},"Jugador","Boles","Ent","Mitj","SM1","SM2","P",{"$f":"B160","v":""}]
[null,false,{"$f":"L170","v":0},{"$f":"'Grups PP'!H18","v":""},{"$f":"'Grups PP'!I18","v":""},{"$f":"SUMIF(E160:E167,E170,F160:F167)","v":0},{"$f":"SUMIF(E160:E167,E170,G160:G167)","v":0},{"$f":"IF(B170=TRUE,0,IF(G170=0,0,ROUND(F170/G170,3)))","v":0},{"$f":"MAX(O170:Z170)","v":0},{"$f":"LARGE((O170:Z170),2)","v":0},{"$f":"SUMIF(E160:E167,E170,K160:K167)","v":0},{"$f":"IF(B170=TRUE,\"WO\",IF(AND(B171=TRUE,B172=TRUE),1,IF(N170=0,0,RANK(N170,N170:N172,0))))","v":0},{"$f":"IF(B160=\"\",0,IF(B170=TRUE,0+N170,3-L170+N170))","v":0},{"$f":"IF(OR(B170=TRUE,AND(B171=TRUE,B172=TRUE)),0.000000000038,K170*0.1+H170*0.01+I170*0.00000001+J170*0.00000000001)","v":0},{"$f":"IF(E160=E170,I160,0)","v":0},{"$f":"IF(E160=E170,J160,0)","v":0},{"$f":"IF(E161=E170,I161,0)","v":0},{"$f":"IF(E161=E170,J161,0)","v":0},{"$f":"IF(E163=E170,I163,0)","v":0},{"$f":"IF(E163=E170,J163,0)","v":0},{"$f":"IF(E164=E170,I164,0)","v":0},{"$f":"IF(E164=E170,J164,0)","v":0},{"$f":"IF(E166=E170,I166,0)","v":0},{"$f":"IF(E166=E170,J166,0)","v":0},{"$f":"IF(E167=E170,I167,0)","v":0},{"$f":"IF(E167=E170,J167,0)","v":0}]
[null,false,{"$f":"L171","v":0},{"$f":"'Grups PP'!H19","v":""},{"$f":"'Grups PP'!I19","v":""},{"$f":"SUMIF(E160:E167,E171,F160:F167)","v":0},{"$f":"SUMIF(E160:E167,E171,G160:G167)","v":0},{"$f":"IF(B171=TRUE,0,IF(G171=0,0,ROUND(F171/G171,3)))","v":0},{"$f":"MAX(O171:Z171)","v":0},{"$f":"LARGE((O171:Z171),2)","v":0},{"$f":"SUMIF(E160:E167,E171,K160:K167)","v":0},{"$f":"IF(B171=TRUE,\"WO\",IF(AND(B170=TRUE,B172=TRUE),1,IF(N171=0,0,RANK(N171,N170:N172,0))))","v":0},{"$f":"IF(B160=\"\",0,IF(B171=TRUE,0+N171,3-L171+N171))","v":0},{"$f":"IF(OR(B171=TRUE,AND(B170=TRUE,B172=TRUE)),0.000000000027,K171*0.1+H171*0.01+I171*0.00000001+J171*0.00000000001)","v":0},{"$f":"IF(E160=E171,I160,0)","v":0},{"$f":"IF(E160=E171,J160,0)","v":0},{"$f":"IF(E161=E171,I161,0)","v":0},{"$f":"IF(E161=E171,J161,0)","v":0},{"$f":"IF(E163=E171,I163,0)","v":0},{"$f":"IF(E163=E171,J163,0)","v":0},{"$f":"IF(E164=E171,I164,0)","v":0},{"$f":"IF(E164=E171,J164,0)","v":0},{"$f":"IF(E166=E171,I166,0)","v":0},{"$f":"IF(E166=E171,J166,0)","v":0},{"$f":"IF(E167=E171,I167,0)","v":0},{"$f":"IF(E167=E171,J167,0)","v":0}]
[null,false,{"$f":"L172","v":0},{"$f":"'Grups PP'!H20","v":""},{"$f":"'Grups PP'!I20","v":""},{"$f":"SUMIF(E160:E167,E172,F160:F167)","v":0},{"$f":"SUMIF(E160:E167,E172,G160:G167)","v":0},{"$f":"IF(B172=TRUE,0,IF(G172=0,0,ROUND(F172/G172,3)))","v":0},{"$f":"MAX(O172:Z172)","v":0},{"$f":"LARGE((O172:Z172),2)","v":0},{"$f":"SUMIF(E160:E167,E172,K160:K167)","v":0},{"$f":"IF(B172=TRUE,\"WO\",IF(AND(B170=TRUE,B171=TRUE),1,IF(N172=0,0,RANK(N172,N170:N172,0))))","v":0},{"$f":"IF(B160=\"\",0,IF(B172=TRUE,0+N172,3-L172+N172))","v":0},{"$f":"IF(OR(B172=TRUE,AND(B170=TRUE,B171=TRUE)),0.000000000011,K172*0.1+H172*0.01+I172*0.00000001+J172*0.00000000001)","v":0},{"$f":"IF(E160=E172,I160,0)","v":0},{"$f":"IF(E160=E172,J160,0)","v":0},{"$f":"IF(E161=E172,I161,0)","v":0},{"$f":"IF(E161=E172,J161,0)","v":0},{"$f":"IF(E163=E172,I163,0)","v":0},{"$f":"IF(E163=E172,J163,0)","v":0},{"$f":"IF(E164=E172,I164,0)","v":0},{"$f":"IF(E164=E172,J164,0)","v":0},{"$f":"IF(E166=E172,I166,0)","v":0},{"$f":"IF(E166=E172,J166,0)","v":0},{"$f":"IF(E167=E172,I167,0)","v":0},{"$f":"IF(E167=E172,J167,0)","v":0}]
[]
[null,null,null,null,null,"Boles","Ent","Mitj","SM1","SM2","Punts"]
[null,{"$f":"IF('Rànquing Inicial'!$D$147>33,\"Grup AB\",\"\")","v":""},null,null,{"$f":"IF(D184>1,\"\",IF(OR(B186=TRUE,B187=TRUE),E185,E186))","v":""},null,null,{"$f":"IF(G175=\"\",\"\",ROUND(F175/G175,3))","v":""},null,null,{"$f":"IF(H175=\"\",\"\",IF(F175>F176,2,IF(F175<F176,0,1)))","v":""}]
[null,null,null,null,{"$f":"IF(D184>1,\"\",IF(B187=TRUE,E186,E187))","v":""},null,{"$f":"IF(G175=\"\",\"\",G175)","v":""},{"$f":"IF(G176=\"\",\"\",ROUND(F176/G176,3))","v":""},null,null,{"$f":"IF(H176=\"\",\"\",IF(F176>F175,2,IF(F176<F175,0,1)))","v":""}]
[]
[null,null,null,null,{"$f":"IF(D184>1,\"\",IF(B185=TRUE,E186,E185))","v":""},null,null,{"$f":"IF(G178=\"\",\"\",ROUND(F178/G178,3))","v":""},null,null,{"$f":"IF(H178=\"\",\"\",IF(F178>F179,2,IF(F178<F179,0,1)))","v":""}]
[null,null,null,null,{"$f":"IF(D184>1,\"\",IF(B187=TRUE,E186,E187))","v":""},null,{"$f":"IF(G178=\"\",\"\",G178)","v":""},{"$f":"IF(G179=\"\",\"\",ROUND(F179/G179,3))","v":""},null,null,{"$f":"IF(H179=\"\",\"\",IF(F179>F178,2,IF(F179<F178,0,1)))","v":""}]
[]
[null,null,null,null,{"$f":"IF(D184>1,\"\",IF(OR(B185=TRUE,B186=TRUE,B187=TRUE),\"\",E185))","v":""},null,null,{"$f":"IF(G181=\"\",\"\",ROUND(F181/G181,3))","v":""},null,null,{"$f":"IF(H181=\"\",\"\",IF(F181>F182,2,IF(F181<F182,0,1)))","v":""}]
[null,null,null,null,{"$f":"IF(OR(B185=TRUE,B186=TRUE,B187=TRUE),\"\",E186)","v":""},null,{"$f":"IF(G181=\"\",\"\",G181)","v":""},{"$f":"IF(G182=\"\",\"\",ROUND(F182/G182,3))","v":""},null,null,{"$f":"IF(H182=\"\",\"\",IF(F182>F181,2,IF(F182<F181,0,1)))","v":""}]
[]
[null,"¿WO?",null,{"$f":"COUNTIF(B185:B187,\"VERDADERO\")","v":0},"Jugador","Boles","Ent","Mitj","SM1","SM2","P",{"$f":"B175","v":""}]
[null,false,{"$f":"L185","v":0},{"$f":"'Grups PP'!H22","v":""},{"$f":"'Grups PP'!I22","v":""},{"$f":"SUMIF(E175:E182,E185,F175:F182)","v":0},{"$f":"SUMIF(E175:E182,E185,G175:G182)","v":0},{"$f":"IF(B185=TRUE,0,IF(G185=0,0,ROUND(F185/G185,3)))","v":0},{"$f":"MAX(O185:Z185)","v":0},{"$f":"LARGE((O185:Z185),2)","v":0},{"$f":"SUMIF(E175:E182,E185,K175:K182)","v":0},{"$f":"IF(B185=TRUE,\"WO\",IF(AND(B186=TRUE,B187=TRUE),1,IF(N185=0,0,RANK(N185,N185:N187,0))))","v":0},{"$f":"IF(B175=\"\",0,IF(B185=TRUE,0+N185,3-L185+N185))","v":0},{"$f":"IF(OR(B185=TRUE,AND(B186=TRUE,B187=TRUE)),0.000000000037,K185*0.1+H185*0.01+I185*0.00000001+J185*0.00000000001)","v":0},{"$f":"IF(E175=E185,I175,0)","v":0},{"$f":"IF(E175=E185,J175,0)","v":0},{"$f":"IF(E176=E185,I176,0)","v":0},{"$f":"IF(E176=E185,J176,0)","v":0},{"$f":"IF(E178=E185,I178,0)","v":0},{"$f":"IF(E178=E185,J178,0)","v":0},{"$f":"IF(E179=E185,I179,0)","v":0},{"$f":"IF(E179=E185,J179,0)","v":0},{"$f":"IF(E181=E185,I181,0)","v":0},{"$f":"IF(E181=E185,J181,0)","v":0},{"$f":"IF(E182=E185,I182,0)","v":0},{"$f":"IF(E182=E185,J182,0)","v":0}]
[null,false,{"$f":"L186","v":0},{"$f":"'Grups PP'!H23","v":""},{"$f":"'Grups PP'!I23","v":""},{"$f":"SUMIF(E175:E182,E186,F175:F182)","v":0},{"$f":"SUMIF(E175:E182,E186,G175:G182)","v":0},{"$f":"IF(B186=TRUE,0,IF(G186=0,0,ROUND(F186/G186,3)))","v":0},{"$f":"MAX(O186:Z186)","v":0},{"$f":"LARGE((O186:Z186),2)","v":0},{"$f":"SUMIF(E175:E182,E186,K175:K182)","v":0},{"$f":"IF(B186=TRUE,\"WO\",IF(AND(B185=TRUE,B187=TRUE),1,IF(N186=0,0,RANK(N186,N185:N187,0))))","v":0},{"$f":"IF(B175=\"\",0,IF(B186=TRUE,0+N186,3-L186+N186))","v":0},{"$f":"IF(OR(B186=TRUE,AND(B185=TRUE,B187=TRUE)),0.000000000028,K186*0.1+H186*0.01+I186*0.00000001+J186*0.00000000001)","v":0},{"$f":"IF(E175=E186,I175,0)","v":0},{"$f":"IF(E175=E186,J175,0)","v":0},{"$f":"IF(E176=E186,I176,0)","v":0},{"$f":"IF(E176=E186,J176,0)","v":0},{"$f":"IF(E178=E186,I178,0)","v":0},{"$f":"IF(E178=E186,J178,0)","v":0},{"$f":"IF(E179=E186,I179,0)","v":0},{"$f":"IF(E179=E186,J179,0)","v":0},{"$f":"IF(E181=E186,I181,0)","v":0},{"$f":"IF(E181=E186,J181,0)","v":0},{"$f":"IF(E182=E186,I182,0)","v":0},{"$f":"IF(E182=E186,J182,0)","v":0}]
[null,false,{"$f":"L187","v":0},{"$f":"'Grups PP'!H24","v":""},{"$f":"'Grups PP'!I24","v":""},{"$f":"SUMIF(E175:E182,E187,F175:F182)","v":0},{"$f":"SUMIF(E175:E182,E187,G175:G182)","v":0},{"$f":"IF(B187=TRUE,0,IF(G187=0,0,ROUND(F187/G187,3)))","v":0},{"$f":"MAX(O187:Z187)","v":0},{"$f":"LARGE((O187:Z187),2)","v":0},{"$f":"SUMIF(E175:E182,E187,K175:K182)","v":0},{"$f":"IF(B187=TRUE,\"WO\",IF(AND(B185=TRUE,B186=TRUE),1,IF(N187=0,0,RANK(N187,N185:N187,0))))","v":0},{"$f":"IF(B175=\"\",0,IF(B187=TRUE,0+N187,3-L187+N187))","v":0},{"$f":"IF(OR(B187=TRUE,AND(B185=TRUE,B186=TRUE)),0.000000000012,K187*0.1+H187*0.01+I187*0.00000001+J187*0.00000000001)","v":0},{"$f":"IF(E175=E187,I175,0)","v":0},{"$f":"IF(E175=E187,J175,0)","v":0},{"$f":"IF(E176=E187,I176,0)","v":0},{"$f":"IF(E176=E187,J176,0)","v":0},{"$f":"IF(E178=E187,I178,0)","v":0},{"$f":"IF(E178=E187,J178,0)","v":0},{"$f":"IF(E179=E187,I179,0)","v":0},{"$f":"IF(E179=E187,J179,0)","v":0},{"$f":"IF(E181=E187,I181,0)","v":0},{"$f":"IF(E181=E187,J181,0)","v":0},{"$f":"IF(E182=E187,I182,0)","v":0},{"$f":"IF(E182=E187,J182,0)","v":0}]
[]
[null,null,null,null,null,"Boles","Ent","Mitj","SM1","SM2","Punts"]
[null,{"$f":"IF('Rànquing Inicial'!$D$147>36,\"Grup AC\",\"\")","v":""},null,null,{"$f":"IF(D199>1,\"\",IF(OR(B201=TRUE,B202=TRUE),E200,E201))","v":""},null,null,{"$f":"IF(G190=\"\",\"\",ROUND(F190/G190,3))","v":""},null,null,{"$f":"IF(H190=\"\",\"\",IF(F190>F191,2,IF(F190<F191,0,1)))","v":""}]
[null,null,null,null,{"$f":"IF(D199>1,\"\",IF(B202=TRUE,E201,E202))","v":""},null,{"$f":"IF(G190=\"\",\"\",G190)","v":""},{"$f":"IF(G191=\"\",\"\",ROUND(F191/G191,3))","v":""},null,null,{"$f":"IF(H191=\"\",\"\",IF(F191>F190,2,IF(F191<F190,0,1)))","v":""}]
[]
[null,null,null,null,{"$f":"IF(D199>1,\"\",IF(B200=TRUE,E201,E200))","v":""},null,null,{"$f":"IF(G193=\"\",\"\",ROUND(F193/G193,3))","v":""},null,null,{"$f":"IF(H193=\"\",\"\",IF(F193>F194,2,IF(F193<F194,0,1)))","v":""}]
[null,null,null,null,{"$f":"IF(D199>1,\"\",IF(B202=TRUE,E201,E202))","v":""},null,{"$f":"IF(G193=\"\",\"\",G193)","v":""},{"$f":"IF(G194=\"\",\"\",ROUND(F194/G194,3))","v":""},null,null,{"$f":"IF(H194=\"\",\"\",IF(F194>F193,2,IF(F194<F193,0,1)))","v":""}]
[]
[null,null,null,null,{"$f":"IF(D199>1,\"\",IF(OR(B200=TRUE,B201=TRUE,B202=TRUE),\"\",E200))","v":""},null,null,{"$f":"IF(G196=\"\",\"\",ROUND(F196/G196,3))","v":""},null,null,{"$f":"IF(H196=\"\",\"\",IF(F196>F197,2,IF(F196<F197,0,1)))","v":""}]
[null,null,null,null,{"$f":"IF(OR(B200=TRUE,B201=TRUE,B202=TRUE),\"\",E201)","v":""},null,{"$f":"IF(G196=\"\",\"\",G196)","v":""},{"$f":"IF(G197=\"\",\"\",ROUND(F197/G197,3))","v":""},null,null,{"$f":"IF(H197=\"\",\"\",IF(F197>F196,2,IF(F197<F196,0,1)))","v":""}]
[]
[null,"¿WO?",null,{"$f":"COUNTIF(B200:B202,\"VERDADERO\")","v":0},"Jugador","Boles","Ent","Mitj","SM1","SM2","P",{"$f":"B190","v":""}]
[null,false,{"$f":"L200","v":0},{"$f":"'Grups PP'!H26","v":""},{"$f":"'Grups PP'!I26","v":""},{"$f":"SUMIF(E190:E197,E200,F190:F197)","v":0},{"$f":"SUMIF(E190:E197,E200,G190:G197)","v":0},{"$f":"IF(B200=TRUE,0,IF(G200=0,0,ROUND(F200/G200,3)))","v":0},{"$f":"MAX(O200:Z200)","v":0},{"$f":"LARGE((O200:Z200),2)","v":0},{"$f":"SUMIF(E190:E197,E200,K190:K197)","v":0},{"$f":"IF(B200=TRUE,\"WO\",IF(AND(B201=TRUE,B202=TRUE),1,IF(N200=0,0,RANK(N200,N200:N202,0))))","v":0},{"$f":"IF(B190=\"\",0,IF(B200=TRUE,0+N200,3-L200+N200))","v":0},{"$f":"IF(OR(B200=TRUE,AND(B201=TRUE,B202=TRUE)),0.000000000036,K200*0.1+H200*0.01+I200*0.00000001+J200*0.00000000001)","v":0},{"$f":"IF(E190=E200,I190,0)","v":0},{"$f":"IF(E190=E200,J190,0)","v":0},{"$f":"IF(E191=E200,I191,0)","v":0},{"$f":"IF(E191=E200,J191,0)","v":0},{"$f":"IF(E193=E200,I193,0)","v":0},{"$f":"IF(E193=E200,J193,0)","v":0},{"$f":"IF(E194=E200,I194,0)","v":0},{"$f":"IF(E194=E200,J194,0)","v":0},{"$f":"IF(E196=E200,I196,0)","v":0},{"$f":"IF(E196=E200,J196,0)","v":0},{"$f":"IF(E197=E200,I197,0)","v":0},{"$f":"IF(E197=E200,J197,0)","v":0}]
[null,false,{"$f":"L201","v":0},{"$f":"'Grups PP'!H27","v":""},{"$f":"'Grups PP'!I27","v":""},{"$f":"SUMIF(E190:E197,E201,F190:F197)","v":0},{"$f":"SUMIF(E190:E197,E201,G190:G197)","v":0},{"$f":"IF(B201=TRUE,0,IF(G201=0,0,ROUND(F201/G201,3)))","v":0},{"$f":"MAX(O201:Z201)","v":0},{"$f":"LARGE((O201:Z201),2)","v":0},{"$f":"SUMIF(E190:E197,E201,K190:K197)","v":0},{"$f":"IF(B201=TRUE,\"WO\",IF(AND(B200=TRUE,B202=TRUE),1,IF(N201=0,0,RANK(N201,N200:N202,0))))","v":0},{"$f":"IF(B190=\"\",0,IF(B201=TRUE,0+N201,3-L201+N201))","v":0},{"$f":"IF(OR(B201=TRUE,AND(B200=TRUE,B202=TRUE)),0.000000000029,K201*0.1+H201*0.01+I201*0.00000001+J201*0.00000000001)","v":0},{"$f":"IF(E190=E201,I190,0)","v":0},{"$f":"IF(E190=E201,J190,0)","v":0},{"$f":"IF(E191=E201,I191,0)","v":0},{"$f":"IF(E191=E201,J191,0)","v":0},{"$f":"IF(E193=E201,I193,0)","v":0},{"$f":"IF(E193=E201,J193,0)","v":0},{"$f":"IF(E194=E201,I194,0)","v":0},{"$f":"IF(E194=E201,J194,0)","v":0},{"$f":"IF(E196=E201,I196,0)","v":0},{"$f":"IF(E196=E201,J196,0)","v":0},{"$f":"IF(E197=E201,I197,0)","v":0},{"$f":"IF(E197=E201,J197,0)","v":0}]
[null,false,{"$f":"L202","v":0},{"$f":"'Grups PP'!H28","v":""},{"$f":"'Grups PP'!I28","v":""},{"$f":"SUMIF(E190:E197,E202,F190:F197)","v":0},{"$f":"SUMIF(E190:E197,E202,G190:G197)","v":0},{"$f":"IF(B202=TRUE,0,IF(G202=0,0,ROUND(F202/G202,3)))","v":0},{"$f":"MAX(O202:Z202)","v":0},{"$f":"LARGE((O202:Z202),2)","v":0},{"$f":"SUMIF(E190:E197,E202,K190:K197)","v":0},{"$f":"IF(B202=TRUE,\"WO\",IF(AND(B200=TRUE,B201=TRUE),1,IF(N202=0,0,RANK(N202,N200:N202,0))))","v":0},{"$f":"IF(B190=\"\",0,IF(B202=TRUE,0+N202,3-L202+N202))","v":0},{"$f":"IF(OR(B202=TRUE,AND(B200=TRUE,B201=TRUE)),0.000000000013,K202*0.1+H202*0.01+I202*0.00000001+J202*0.00000000001)","v":0},{"$f":"IF(E190=E202,I190,0)","v":0},{"$f":"IF(E190=E202,J190,0)","v":0},{"$f":"IF(E191=E202,I191,0)","v":0},{"$f":"IF(E191=E202,J191,0)","v":0},{"$f":"IF(E193=E202,I193,0)","v":0},{"$f":"IF(E193=E202,J193,0)","v":0},{"$f":"IF(E194=E202,I194,0)","v":0},{"$f":"IF(E194=E202,J194,0)","v":0},{"$f":"IF(E196=E202,I196,0)","v":0},{"$f":"IF(E196=E202,J196,0)","v":0},{"$f":"IF(E197=E202,I197,0)","v":0},{"$f":"IF(E197=E202,J197,0)","v":0}]
[]
[null,null,null,null,null,"Boles","Ent","Mitj","SM1","SM2","Punts"]
[null,{"$f":"IF('Rànquing Inicial'!$D$147>39,\"Grup AD\",\"\")","v":""},null,null,{"$f":"IF(D214>1,\"\",IF(OR(B216=TRUE,B217=TRUE),E215,E216))","v":""},null,null,{"$f":"IF(G205=\"\",\"\",ROUND(F205/G205,3))","v":""},null,null,{"$f":"IF(H205=\"\",\"\",IF(F205>F206,2,IF(F205<F206,0,1)))","v":""}]
[null,null,null,null,{"$f":"IF(D214>1,\"\",IF(B217=TRUE,E216,E217))","v":""},null,{"$f":"IF(G205=\"\",\"\",G205)","v":""},{"$f":"IF(G206=\"\",\"\",ROUND(F206/G206,3))","v":""},null,null,{"$f":"IF(H206=\"\",\"\",IF(F206>F205,2,IF(F206<F205,0,1)))","v":""}]
[]
[null,null,null,null,{"$f":"IF(D214>1,\"\",IF(B215=TRUE,E216,E215))","v":""},null,null,{"$f":"IF(G208=\"\",\"\",ROUND(F208/G208,3))","v":""},null,null,{"$f":"IF(H208=\"\",\"\",IF(F208>F209,2,IF(F208<F209,0,1)))","v":""}]
[null,null,null,null,{"$f":"IF(D214>1,\"\",IF(B217=TRUE,E216,E217))","v":""},null,{"$f":"IF(G208=\"\",\"\",G208)","v":""},{"$f":"IF(G209=\"\",\"\",ROUND(F209/G209,3))","v":""},null,null,{"$f":"IF(H209=\"\",\"\",IF(F209>F208,2,IF(F209<F208,0,1)))","v":""}]
[]
[null,null,null,null,{"$f":"IF(D214>1,\"\",IF(OR(B215=TRUE,B216=TRUE,B217=TRUE),\"\",E215))","v":""},null,null,{"$f":"IF(G211=\"\",\"\",ROUND(F211/G211,3))","v":""},null,null,{"$f":"IF(H211=\"\",\"\",IF(F211>F212,2,IF(F211<F212,0,1)))","v":""}]
[null,null,null,null,{"$f":"IF(OR(B215=TRUE,B216=TRUE,B217=TRUE),\"\",E216)","v":""},null,{"$f":"IF(G211=\"\",\"\",G211)","v":""},{"$f":"IF(G212=\"\",\"\",ROUND(F212/G212,3))","v":""},null,null,{"$f":"IF(H212=\"\",\"\",IF(F212>F211,2,IF(F212<F211,0,1)))","v":""}]
[]
[null,"¿WO?",null,{"$f":"COUNTIF(B215:B217,\"VERDADERO\")","v":0},"Jugador","Boles","Ent","Mitj","SM1","SM2","P",{"$f":"B205","v":""}]
[null,false,{"$f":"L215","v":0},{"$f":"'Grups PP'!H30","v":""},{"$f":"'Grups PP'!I30","v":""},{"$f":"SUMIF(E205:E212,E215,F205:F212)","v":0},{"$f":"SUMIF(E205:E212,E215,G205:G212)","v":0},{"$f":"IF(B215=TRUE,0,IF(G215=0,0,ROUND(F215/G215,3)))","v":0},{"$f":"MAX(O215:Z215)","v":0},{"$f":"LARGE((O215:Z215),2)","v":0},{"$f":"SUMIF(E205:E212,E215,K205:K212)","v":0},{"$f":"IF(B215=TRUE,\"WO\",IF(AND(B216=TRUE,B217=TRUE),1,IF(N215=0,0,RANK(N215,N215:N217,0))))","v":0},{"$f":"IF(B205=\"\",0,IF(B215=TRUE,0+N215,3-L215+N215))","v":0},{"$f":"IF(OR(B215=TRUE,AND(B216=TRUE,B217=TRUE)),0.000000000035,K215*0.1+H215*0.01+I215*0.00000001+J215*0.00000000001)","v":0},{"$f":"IF(E205=E215,I205,0)","v":0},{"$f":"IF(E205=E215,J205,0)","v":0},{"$f":"IF(E206=E215,I206,0)","v":0},{"$f":"IF(E206=E215,J206,0)","v":0},{"$f":"IF(E208=E215,I208,0)","v":0},{"$f":"IF(E208=E215,J208,0)","v":0},{"$f":"IF(E209=E215,I209,0)","v":0},{"$f":"IF(E209=E215,J209,0)","v":0},{"$f":"IF(E211=E215,I211,0)","v":0},{"$f":"IF(E211=E215,J211,0)","v":0},{"$f":"IF(E212=E215,I212,0)","v":0},{"$f":"IF(E212=E215,J212,0)","v":0}]
[null,false,{"$f":"L216","v":0},{"$f":"'Grups PP'!H31","v":""},{"$f":"'Grups PP'!I31","v":""},{"$f":"SUMIF(E205:E212,E216,F205:F212)","v":0},{"$f":"SUMIF(E205:E212,E216,G205:G212)","v":0},{"$f":"IF(B216=TRUE,0,IF(G216=0,0,ROUND(F216/G216,3)))","v":0},{"$f":"MAX(O216:Z216)","v":0},{"$f":"LARGE((O216:Z216),2)","v":0},{"$f":"SUMIF(E205:E212,E216,K205:K212)","v":0},{"$f":"IF(B216=TRUE,\"WO\",IF(AND(B215=TRUE,B217=TRUE),1,IF(N216=0,0,RANK(N216,N215:N217,0))))","v":0},{"$f":"IF(B205=\"\",0,IF(B216=TRUE,0+N216,3-L216+N216))","v":0},{"$f":"IF(OR(B216=TRUE,AND(B215=TRUE,B217=TRUE)),0.00000000003,K216*0.1+H216*0.01+I216*0.00000001+J216*0.00000000001)","v":0},{"$f":"IF(E205=E216,I205,0)","v":0},{"$f":"IF(E205=E216,J205,0)","v":0},{"$f":"IF(E206=E216,I206,0)","v":0},{"$f":"IF(E206=E216,J206,0)","v":0},{"$f":"IF(E208=E216,I208,0)","v":0},{"$f":"IF(E208=E216,J208,0)","v":0},{"$f":"IF(E209=E216,I209,0)","v":0},{"$f":"IF(E209=E216,J209,0)","v":0},{"$f":"IF(E211=E216,I211,0)","v":0},{"$f":"IF(E211=E216,J211,0)","v":0},{"$f":"IF(E212=E216,I212,0)","v":0},{"$f":"IF(E212=E216,J212,0)","v":0}]
[null,false,{"$f":"L217","v":0},{"$f":"'Grups PP'!H32","v":""},{"$f":"'Grups PP'!I32","v":""},{"$f":"SUMIF(E205:E212,E217,F205:F212)","v":0},{"$f":"SUMIF(E205:E212,E217,G205:G212)","v":0},{"$f":"IF(B217=TRUE,0,IF(G217=0,0,ROUND(F217/G217,3)))","v":0},{"$f":"MAX(O217:Z217)","v":0},{"$f":"LARGE((O217:Z217),2)","v":0},{"$f":"SUMIF(E205:E212,E217,K205:K212)","v":0},{"$f":"IF(B217=TRUE,\"WO\",IF(AND(B215=TRUE,B216=TRUE),1,IF(N217=0,0,RANK(N217,N215:N217,0))))","v":0},{"$f":"IF(B205=\"\",0,IF(B217=TRUE,0+N217,3-L217+N217))","v":0},{"$f":"IF(OR(B217=TRUE,AND(B215=TRUE,B216=TRUE)),0.000000000014,K217*0.1+H217*0.01+I217*0.00000001+J217*0.00000000001)","v":0},{"$f":"IF(E205=E217,I205,0)","v":0},{"$f":"IF(E205=E217,J205,0)","v":0},{"$f":"IF(E206=E217,I206,0)","v":0},{"$f":"IF(E206=E217,J206,0)","v":0},{"$f":"IF(E208=E217,I208,0)","v":0},{"$f":"IF(E208=E217,J208,0)","v":0},{"$f":"IF(E209=E217,I209,0)","v":0},{"$f":"IF(E209=E217,J209,0)","v":0},{"$f":"IF(E211=E217,I211,0)","v":0},{"$f":"IF(E211=E217,J211,0)","v":0},{"$f":"IF(E212=E217,I212,0)","v":0},{"$f":"IF(E212=E217,J212,0)","v":0}]
[]
[null,null,null,null,null,"Boles","Ent","Mitj","SM1","SM2","Punts"]
[null,{"$f":"IF('Rànquing Inicial'!$D$147>42,\"Grup AE\",\"\")","v":""},null,null,{"$f":"IF(D229>1,\"\",IF(OR(B231=TRUE,B232=TRUE),E230,E231))","v":""},null,null,{"$f":"IF(G220=\"\",\"\",ROUND(F220/G220,3))","v":""},null,null,{"$f":"IF(H220=\"\",\"\",IF(F220>F221,2,IF(F220<F221,0,1)))","v":""}]
[null,null,null,null,{"$f":"IF(D229>1,\"\",IF(B232=TRUE,E231,E232))","v":""},null,{"$f":"IF(G220=\"\",\"\",G220)","v":""},{"$f":"IF(G221=\"\",\"\",ROUND(F221/G221,3))","v":""},null,null,{"$f":"IF(H221=\"\",\"\",IF(F221>F220,2,IF(F221<F220,0,1)))","v":""}]
[]
[null,null,null,null,{"$f":"IF(D229>1,\"\",IF(B230=TRUE,E231,E230))","v":""},null,null,{"$f":"IF(G223=\"\",\"\",ROUND(F223/G223,3))","v":""},null,null,{"$f":"IF(H223=\"\",\"\",IF(F223>F224,2,IF(F223<F224,0,1)))","v":""}]
[null,null,null,null,{"$f":"IF(D229>1,\"\",IF(B232=TRUE,E231,E232))","v":""},null,{"$f":"IF(G223=\"\",\"\",G223)","v":""},{"$f":"IF(G224=\"\",\"\",ROUND(F224/G224,3))","v":""},null,null,{"$f":"IF(H224=\"\",\"\",IF(F224>F223,2,IF(F224<F223,0,1)))","v":""}]
[]
[null,null,null,null,{"$f":"IF(D229>1,\"\",IF(OR(B230=TRUE,B231=TRUE,B232=TRUE),\"\",E230))","v":""},null,null,{"$f":"IF(G226=\"\",\"\",ROUND(F226/G226,3))","v":""},null,null,{"$f":"IF(H226=\"\",\"\",IF(F226>F227,2,IF(F226<F227,0,1)))","v":""}]
[null,null,null,null,{"$f":"IF(OR(B230=TRUE,B231=TRUE,B232=TRUE),\"\",E231)","v":""},null,{"$f":"IF(G226=\"\",\"\",G226)","v":""},{"$f":"IF(G227=\"\",\"\",ROUND(F227/G227,3))","v":""},null,null,{"$f":"IF(H227=\"\",\"\",IF(F227>F226,2,IF(F227<F226,0,1)))","v":""}]
[]
[null,"¿WO?",null,{"$f":"COUNTIF(B230:B232,\"VERDADERO\")","v":0},"Jugador","Boles","Ent","Mitj","SM1","SM2","P",{"$f":"B220","v":""}]
[null,false,{"$f":"L230","v":0},{"$f":"'Grups PP'!H34","v":""},{"$f":"'Grups PP'!I34","v":""},{"$f":"SUMIF(E220:E227,E230,F220:F227)","v":0},{"$f":"SUMIF(E220:E227,E230,G220:G227)","v":0},{"$f":"IF(B230=TRUE,0,IF(G230=0,0,ROUND(F230/G230,3)))","v":0},{"$f":"MAX(O230:Z230)","v":0},{"$f":"LARGE((O230:Z230),2)","v":0},{"$f":"SUMIF(E220:E227,E230,K220:K227)","v":0},{"$f":"IF(B230=TRUE,\"WO\",IF(AND(B231=TRUE,B232=TRUE),1,IF(N230=0,0,RANK(N230,N230:N232,0))))","v":0},{"$f":"IF(B220=\"\",0,IF(B230=TRUE,0+N230,3-L230+N230))","v":0},{"$f":"IF(OR(B230=TRUE,AND(B231=TRUE,B232=TRUE)),0.000000000034,K230*0.1+H230*0.01+I230*0.00000001+J230*0.00000000001)","v":0},{"$f":"IF(E220=E230,I220,0)","v":0},{"$f":"IF(E220=E230,J220,0)","v":0},{"$f":"IF(E221=E230,I221,0)","v":0},{"$f":"IF(E221=E230,J221,0)","v":0},{"$f":"IF(E223=E230,I223,0)","v":0},{"$f":"IF(E223=E230,J223,0)","v":0},{"$f":"IF(E224=E230,I224,0)","v":0},{"$f":"IF(E224=E230,J224,0)","v":0},{"$f":"IF(E226=E230,I226,0)","v":0},{"$f":"IF(E226=E230,J226,0)","v":0},{"$f":"IF(E227=E230,I227,0)","v":0},{"$f":"IF(E227=E230,J227,0)","v":0}]
[null,false,{"$f":"L231","v":0},{"$f":"'Grups PP'!H35","v":""},{"$f":"'Grups PP'!I35","v":""},{"$f":"SUMIF(E220:E227,E231,F220:F227)","v":0},{"$f":"SUMIF(E220:E227,E231,G220:G227)","v":0},{"$f":"IF(B231=TRUE,0,IF(G231=0,0,ROUND(F231/G231,3)))","v":0},{"$f":"MAX(O231:Z231)","v":0},{"$f":"LARGE((O231:Z231),2)","v":0},{"$f":"SUMIF(E220:E227,E231,K220:K227)","v":0},{"$f":"IF(B231=TRUE,\"WO\",IF(AND(B230=TRUE,B232=TRUE),1,IF(N231=0,0,RANK(N231,N230:N232,0))))","v":0},{"$f":"IF(B220=\"\",0,IF(B231=TRUE,0+N231,3-L231+N231))","v":0},{"$f":"IF(OR(B231=TRUE,AND(B230=TRUE,B232=TRUE)),0.000000000031,K231*0.1+H231*0.01+I231*0.00000001+J231*0.00000000001)","v":0},{"$f":"IF(E220=E231,I220,0)","v":0},{"$f":"IF(E220=E231,J220,0)","v":0},{"$f":"IF(E221=E231,I221,0)","v":0},{"$f":"IF(E221=E231,J221,0)","v":0},{"$f":"IF(E223=E231,I223,0)","v":0},{"$f":"IF(E223=E231,J223,0)","v":0},{"$f":"IF(E224=E231,I224,0)","v":0},{"$f":"IF(E224=E231,J224,0)","v":0},{"$f":"IF(E226=E231,I226,0)","v":0},{"$f":"IF(E226=E231,J226,0)","v":0},{"$f":"IF(E227=E231,I227,0)","v":0},{"$f":"IF(E227=E231,J227,0)","v":0}]
[null,false,{"$f":"L232","v":0},{"$f":"'Grups PP'!H36","v":""},{"$f":"'Grups PP'!I36","v":""},{"$f":"SUMIF(E220:E227,E232,F220:F227)","v":0},{"$f":"SUMIF(E220:E227,E232,G220:G227)","v":0},{"$f":"IF(B232=TRUE,0,IF(G232=0,0,ROUND(F232/G232,3)))","v":0},{"$f":"MAX(O232:Z232)","v":0},{"$f":"LARGE((O232:Z232),2)","v":0},{"$f":"SUMIF(E220:E227,E232,K220:K227)","v":0},{"$f":"IF(B232=TRUE,\"WO\",IF(AND(B230=TRUE,B231=TRUE),1,IF(N232=0,0,RANK(N232,N230:N232,0))))","v":0},{"$f":"IF(B220=\"\",0,IF(B232=TRUE,0+N232,3-L232+N232))","v":0},{"$f":"IF(OR(B232=TRUE,AND(B230=TRUE,B231=TRUE)),0.000000000015,K232*0.1+H232*0.01+I232*0.00000001+J232*0.00000000001)","v":0},{"$f":"IF(E220=E232,I220,0)","v":0},{"$f":"IF(E220=E232,J220,0)","v":0},{"$f":"IF(E221=E232,I221,0)","v":0},{"$f":"IF(E221=E232,J221,0)","v":0},{"$f":"IF(E223=E232,I223,0)","v":0},{"$f":"IF(E223=E232,J223,0)","v":0},{"$f":"IF(E224=E232,I224,0)","v":0},{"$f":"IF(E224=E232,J224,0)","v":0},{"$f":"IF(E226=E232,I226,0)","v":0},{"$f":"IF(E226=E232,J226,0)","v":0},{"$f":"IF(E227=E232,I227,0)","v":0},{"$f":"IF(E227=E232,J227,0)","v":0}]
[]
[null,null,null,null,null,"Boles","Ent","Mitj","SM1","SM2","Punts"]
[null,{"$f":"IF('Rànquing Inicial'!$D$147>45,\"Grup AF\",\"\")","v":""},null,null,{"$f":"IF(D244>1,\"\",IF(OR(B246=TRUE,B247=TRUE),E245,E246))","v":""},null,null,{"$f":"IF(G235=\"\",\"\",ROUND(F235/G235,3))","v":""},null,null,{"$f":"IF(H235=\"\",\"\",IF(F235>F236,2,IF(F235<F236,0,1)))","v":""}]
[null,null,null,null,{"$f":"IF(D244>1,\"\",IF(B247=TRUE,E246,E247))","v":""},null,{"$f":"IF(G235=\"\",\"\",G235)","v":""},{"$f":"IF(G236=\"\",\"\",ROUND(F236/G236,3))","v":""},null,null,{"$f":"IF(H236=\"\",\"\",IF(F236>F235,2,IF(F236<F235,0,1)))","v":""}]
[]
[null,null,null,null,{"$f":"IF(D244>1,\"\",IF(B245=TRUE,E246,E245))","v":""},null,null,{"$f":"IF(G238=\"\",\"\",ROUND(F238/G238,3))","v":""},null,null,{"$f":"IF(H238=\"\",\"\",IF(F238>F239,2,IF(F238<F239,0,1)))","v":""}]
[null,null,null,null,{"$f":"IF(D244>1,\"\",IF(B247=TRUE,E246,E247))","v":""},null,{"$f":"IF(G238=\"\",\"\",G238)","v":""},{"$f":"IF(G239=\"\",\"\",ROUND(F239/G239,3))","v":""},null,null,{"$f":"IF(H239=\"\",\"\",IF(F239>F238,2,IF(F239<F238,0,1)))","v":""}]
[]
[null,null,null,null,{"$f":"IF(D244>1,\"\",IF(OR(B245=TRUE,B246=TRUE,B247=TRUE),\"\",E245))","v":""},null,null,{"$f":"IF(G241=\"\",\"\",ROUND(F241/G241,3))","v":""},null,null,{"$f":"IF(H241=\"\",\"\",IF(F241>F242,2,IF(F241<F242,0,1)))","v":""}]
[null,null,null,null,{"$f":"IF(OR(B245=TRUE,B246=TRUE,B247=TRUE),\"\",E246)","v":""},null,{"$f":"IF(G241=\"\",\"\",G241)","v":""},{"$f":"IF(G242=\"\",\"\",ROUND(F242/G242,3))","v":""},null,null,{"$f":"IF(H242=\"\",\"\",IF(F242>F241,2,IF(F242<F241,0,1)))","v":""}]
[]
[null,"¿WO?",null,{"$f":"COUNTIF(B245:B247,\"VERDADERO\")","v":0},"Jugador","Boles","Ent","Mitj","SM1","SM2","P",{"$f":"B235","v":""}]
[null,false,{"$f":"L245","v":0},{"$f":"'Grups PP'!H38","v":""},{"$f":"'Grups PP'!I38","v":""},{"$f":"SUMIF(E235:E242,E245,F235:F242)","v":0},{"$f":"SUMIF(E235:E242,E245,G235:G242)","v":0},{"$f":"IF(B245=TRUE,0,IF(G245=0,0,ROUND(F245/G245,3)))","v":0},{"$f":"MAX(O245:Z245)","v":0},{"$f":"LARGE((O245:Z245),2)","v":0},{"$f":"SUMIF(E235:E242,E245,K235:K242)","v":0},{"$f":"IF(B245=TRUE,\"WO\",IF(AND(B246=TRUE,B247=TRUE),1,IF(N245=0,0,RANK(N245,N245:N247,0))))","v":0},{"$f":"IF(B235=\"\",0,IF(B245=TRUE,0+N245,3-L245+N245))","v":0},{"$f":"IF(OR(B245=TRUE,AND(B246=TRUE,B247=TRUE)),0.000000000033,K245*0.1+H245*0.01+I245*0.00000001+J245*0.00000000001)","v":0},{"$f":"IF(E235=E245,I235,0)","v":0},{"$f":"IF(E235=E245,J235,0)","v":0},{"$f":"IF(E236=E245,I236,0)","v":0},{"$f":"IF(E236=E245,J236,0)","v":0},{"$f":"IF(E238=E245,I238,0)","v":0},{"$f":"IF(E238=E245,J238,0)","v":0},{"$f":"IF(E239=E245,I239,0)","v":0},{"$f":"IF(E239=E245,J239,0)","v":0},{"$f":"IF(E241=E245,I241,0)","v":0},{"$f":"IF(E241=E245,J241,0)","v":0},{"$f":"IF(E242=E245,I242,0)","v":0},{"$f":"IF(E242=E245,J242,0)","v":0}]
[null,false,{"$f":"L246","v":0},{"$f":"'Grups PP'!H39","v":""},{"$f":"'Grups PP'!I39","v":""},{"$f":"SUMIF(E235:E242,E246,F235:F242)","v":0},{"$f":"SUMIF(E235:E242,E246,G235:G242)","v":0},{"$f":"IF(B246=TRUE,0,IF(G246=0,0,ROUND(F246/G246,3)))","v":0},{"$f":"MAX(O246:Z246)","v":0},{"$f":"LARGE((O246:Z246),2)","v":0},{"$f":"SUMIF(E235:E242,E246,K235:K242)","v":0},{"$f":"IF(B246=TRUE,\"WO\",IF(AND(B245=TRUE,B247=TRUE),1,IF(N246=0,0,RANK(N246,N245:N247,0))))","v":0},{"$f":"IF(B235=\"\",0,IF(B246=TRUE,0+N246,3-L246+N246))","v":0},{"$f":"IF(OR(B246=TRUE,AND(B245=TRUE,B247=TRUE)),0.000000000032,K246*0.1+H246*0.01+I246*0.00000001+J246*0.00000000001)","v":0},{"$f":"IF(E235=E246,I235,0)","v":0},{"$f":"IF(E235=E246,J235,0)","v":0},{"$f":"IF(E236=E246,I236,0)","v":0},{"$f":"IF(E236=E246,J236,0)","v":0},{"$f":"IF(E238=E246,I238,0)","v":0},{"$f":"IF(E238=E246,J238,0)","v":0},{"$f":"IF(E239=E246,I239,0)","v":0},{"$f":"IF(E239=E246,J239,0)","v":0},{"$f":"IF(E241=E246,I241,0)","v":0},{"$f":"IF(E241=E246,J241,0)","v":0},{"$f":"IF(E242=E246,I242,0)","v":0},{"$f":"IF(E242=E246,J242,0)","v":0}]
[null,false,{"$f":"L247","v":0},{"$f":"'Grups PP'!H40","v":""},{"$f":"'Grups PP'!I40","v":""},{"$f":"SUMIF(E235:E242,E247,F235:F242)","v":0},{"$f":"SUMIF(E235:E242,E247,G235:G242)","v":0},{"$f":"IF(B247=TRUE,0,IF(G247=0,0,ROUND(F247/G247,3)))","v":0},{"$f":"MAX(O247:Z247)","v":0},{"$f":"LARGE((O247:Z247),2)","v":0},{"$f":"SUMIF(E235:E242,E247,K235:K242)","v":0},{"$f":"IF(B247=TRUE,\"WO\",IF(AND(B245=TRUE,B246=TRUE),1,IF(N247=0,0,RANK(N247,N245:N247,0))))","v":0},{"$f":"IF(B235=\"\",0,IF(B247=TRUE,0+N247,3-L247+N247))","v":0},{"$f":"IF(OR(B247=TRUE,AND(B245=TRUE,B246=TRUE)),0.000000000016,K247*0.1+H247*0.01+I247*0.00000001+J247*0.00000000001)","v":0},{"$f":"IF(E235=E247,I235,0)","v":0},{"$f":"IF(E235=E247,J235,0)","v":0},{"$f":"IF(E236=E247,I236,0)","v":0},{"$f":"IF(E236=E247,J236,0)","v":0},{"$f":"IF(E238=E247,I238,0)","v":0},{"$f":"IF(E238=E247,J238,0)","v":0},{"$f":"IF(E239=E247,I239,0)","v":0},{"$f":"IF(E239=E247,J239,0)","v":0},{"$f":"IF(E241=E247,I241,0)","v":0},{"$f":"IF(E241=E247,J241,0)","v":0},{"$f":"IF(E242=E247,I242,0)","v":0},{"$f":"IF(E242=E247,J242,0)","v":0}]

{"sheet":"PP (C)","index":13,"n_rows":51,"n_cols":8,"rows_kept":51,"cut":false,"hidden":true,"merged":[[0,0,0,7]]}
["CLASSIFICACIÓ PRE-PRÈVIA (PP)"]
[]
["Classificació","Posició","Jugador","Punts","Mitjana","SM (1)","SM (2)","Puntuació"]
[{"$f":"IF(H4=0,\"\",RANK(H4,$H$4:$H$51,))","v":""},{"$f":"'Resultats PP'!L20","v":0},{"$f":"'Resultats PP'!E20","v":""},{"$f":"'Resultats PP'!K20","v":0},{"$f":"'Resultats PP'!H20","v":0},{"$f":"'Resultats PP'!I20","v":0},{"$f":"'Resultats PP'!J20","v":0},{"$f":"IF('Resultats PP'!M20=3,0,'Resultats PP'!M20)","v":0}]
[{"$f":"IF(H5=0,\"\",RANK(H5,$H$4:$H$51,))","v":""},{"$f":"'Resultats PP'!L21","v":0},{"$f":"'Resultats PP'!E21","v":""},{"$f":"'Resultats PP'!K21","v":0},{"$f":"'Resultats PP'!H21","v":0},{"$f":"'Resultats PP'!I21","v":0},{"$f":"'Resultats PP'!J21","v":0},{"$f":"IF('Resultats PP'!M21=3,0,'Resultats PP'!M21)","v":0}]
["",{"$f":"'Resultats PP'!L22","v":0},{"$f":"'Resultats PP'!E22","v":""},{"$f":"'Resultats PP'!K22","v":0},{"$f":"'Resultats PP'!H22","v":0},{"$f":"'Resultats PP'!I22","v":0},{"$f":"'Resultats PP'!J22","v":0},{"$f":"IF('Resultats PP'!M22=3,0,'Resultats PP'!M22)","v":0}]
["",{"$f":"'Resultats PP'!L35","v":0},{"$f":"'Resultats PP'!E35","v":""},{"$f":"'Resultats PP'!K35","v":0},{"$f":"'Resultats PP'!H35","v":0},{"$f":"'Resultats PP'!I35","v":0},{"$f":"'Resultats PP'!J35","v":0},{"$f":"IF('Resultats PP'!M35=3,0,'Resultats PP'!M35)","v":0}]
["",{"$f":"'Resultats PP'!L36","v":0},{"$f":"'Resultats PP'!E36","v":""},{"$f":"'Resultats PP'!K36","v":0},{"$f":"'Resultats PP'!H36","v":0},{"$f":"'Resultats PP'!I36","v":0},{"$f":"'Resultats PP'!J36","v":0},{"$f":"IF('Resultats PP'!M36=3,0,'Resultats PP'!M36)","v":0}]
["",{"$f":"'Resultats PP'!L37","v":0},{"$f":"'Resultats PP'!E37","v":""},{"$f":"'Resultats PP'!K37","v":0},{"$f":"'Resultats PP'!H37","v":0},{"$f":"'Resultats PP'!I37","v":0},{"$f":"'Resultats PP'!J37","v":0},{"$f":"IF('Resultats PP'!M37=3,0,'Resultats PP'!M37)","v":0}]
["",{"$f":"'Resultats PP'!L50","v":0},{"$f":"'Resultats PP'!E50","v":""},{"$f":"'Resultats PP'!K50","v":0},{"$f":"'Resultats PP'!H50","v":0},{"$f":"'Resultats PP'!I50","v":0},{"$f":"'Resultats PP'!J50","v":0},{"$f":"IF('Resultats PP'!M50=3,0,'Resultats PP'!M50)","v":0}]
["",{"$f":"'Resultats PP'!L51","v":0},{"$f":"'Resultats PP'!E51","v":""},{"$f":"'Resultats PP'!K51","v":0},{"$f":"'Resultats PP'!H51","v":0},{"$f":"'Resultats PP'!I51","v":0},{"$f":"'Resultats PP'!J51","v":0},{"$f":"IF('Resultats PP'!M51=3,0,'Resultats PP'!M51)","v":0}]
["",{"$f":"'Resultats PP'!L52","v":0},{"$f":"'Resultats PP'!E52","v":""},{"$f":"'Resultats PP'!K52","v":0},{"$f":"'Resultats PP'!H52","v":0},{"$f":"'Resultats PP'!I52","v":0},{"$f":"'Resultats PP'!J52","v":0},{"$f":"IF('Resultats PP'!M52=3,0,'Resultats PP'!M52)","v":0}]
["",{"$f":"'Resultats PP'!L65","v":0},{"$f":"'Resultats PP'!E65","v":""},{"$f":"'Resultats PP'!K65","v":0},{"$f":"'Resultats PP'!H65","v":0},{"$f":"'Resultats PP'!I65","v":0},{"$f":"'Resultats PP'!J65","v":0},{"$f":"IF('Resultats PP'!M65=3,0,'Resultats PP'!M65)","v":0}]
["",{"$f":"'Resultats PP'!L66","v":0},{"$f":"'Resultats PP'!E66","v":""},{"$f":"'Resultats PP'!K66","v":0},{"$f":"'Resultats PP'!H66","v":0},{"$f":"'Resultats PP'!I66","v":0},{"$f":"'Resultats PP'!J66","v":0},{"$f":"IF('Resultats PP'!M66=3,0,'Resultats PP'!M66)","v":0}]
["",{"$f":"'Resultats PP'!L67","v":0},{"$f":"'Resultats PP'!E67","v":""},{"$f":"'Resultats PP'!K67","v":0},{"$f":"'Resultats PP'!H67","v":0},{"$f":"'Resultats PP'!I67","v":0},{"$f":"'Resultats PP'!J67","v":0},{"$f":"IF('Resultats PP'!M67=3,0,'Resultats PP'!M67)","v":0}]
["",{"$f":"'Resultats PP'!L80","v":0},{"$f":"'Resultats PP'!E80","v":""},{"$f":"'Resultats PP'!K80","v":0},{"$f":"'Resultats PP'!H80","v":0},{"$f":"'Resultats PP'!I80","v":0},{"$f":"'Resultats PP'!J80","v":0},{"$f":"IF('Resultats PP'!M80=3,0,'Resultats PP'!M80)","v":0}]
["",{"$f":"'Resultats PP'!L81","v":0},{"$f":"'Resultats PP'!E81","v":""},{"$f":"'Resultats PP'!K81","v":0},{"$f":"'Resultats PP'!H81","v":0},{"$f":"'Resultats PP'!I81","v":0},{"$f":"'Resultats PP'!J81","v":0},{"$f":"IF('Resultats PP'!M81=3,0,'Resultats PP'!M81)","v":0}]
["",{"$f":"'Resultats PP'!L82","v":0},{"$f":"'Resultats PP'!E82","v":""},{"$f":"'Resultats PP'!K82","v":0},{"$f":"'Resultats PP'!H82","v":0},{"$f":"'Resultats PP'!I82","v":0},{"$f":"'Resultats PP'!J82","v":0},{"$f":"IF('Resultats PP'!M82=3,0,'Resultats PP'!M82)","v":0}]
["",{"$f":"'Resultats PP'!L95","v":0},{"$f":"'Resultats PP'!E95","v":""},{"$f":"'Resultats PP'!K95","v":0},{"$f":"'Resultats PP'!H95","v":0},{"$f":"'Resultats PP'!I95","v":0},{"$f":"'Resultats PP'!J95","v":0},{"$f":"IF('Resultats PP'!M95=3,0,'Resultats PP'!M95)","v":0}]
["",{"$f":"'Resultats PP'!L96","v":0},{"$f":"'Resultats PP'!E96","v":""},{"$f":"'Resultats PP'!K96","v":0},{"$f":"'Resultats PP'!H96","v":0},{"$f":"'Resultats PP'!I96","v":0},{"$f":"'Resultats PP'!J96","v":0},{"$f":"IF('Resultats PP'!M96=3,0,'Resultats PP'!M96)","v":0}]
["",{"$f":"'Resultats PP'!L97","v":0},{"$f":"'Resultats PP'!E97","v":""},{"$f":"'Resultats PP'!K97","v":0},{"$f":"'Resultats PP'!H97","v":0},{"$f":"'Resultats PP'!I97","v":0},{"$f":"'Resultats PP'!J97","v":0},{"$f":"IF('Resultats PP'!M97=3,0,'Resultats PP'!M97)","v":0}]
["",{"$f":"'Resultats PP'!L110","v":0},{"$f":"'Resultats PP'!E110","v":""},{"$f":"'Resultats PP'!K110","v":0},{"$f":"'Resultats PP'!H110","v":0},{"$f":"'Resultats PP'!I110","v":0},{"$f":"'Resultats PP'!J110","v":0},{"$f":"IF('Resultats PP'!M110=3,0,'Resultats PP'!M110)","v":0}]
["",{"$f":"'Resultats PP'!L111","v":0},{"$f":"'Resultats PP'!E111","v":""},{"$f":"'Resultats PP'!K111","v":0},{"$f":"'Resultats PP'!H111","v":0},{"$f":"'Resultats PP'!I111","v":0},{"$f":"'Resultats PP'!J111","v":0},{"$f":"IF('Resultats PP'!M111=3,0,'Resultats PP'!M111)","v":0}]
["",{"$f":"'Resultats PP'!L112","v":0},{"$f":"'Resultats PP'!E112","v":""},{"$f":"'Resultats PP'!K112","v":0},{"$f":"'Resultats PP'!H112","v":0},{"$f":"'Resultats PP'!I112","v":0},{"$f":"'Resultats PP'!J112","v":0},{"$f":"IF('Resultats PP'!M112=3,0,'Resultats PP'!M112)","v":0}]
["",{"$f":"'Resultats PP'!L125","v":0},{"$f":"'Resultats PP'!E125","v":""},{"$f":"'Resultats PP'!K125","v":0},{"$f":"'Resultats PP'!H125","v":0},{"$f":"'Resultats PP'!I125","v":0},{"$f":"'Resultats PP'!J125","v":0},{"$f":"IF('Resultats PP'!M125=3,0,'Resultats PP'!M125)","v":0}]
["",{"$f":"'Resultats PP'!L126","v":0},{"$f":"'Resultats PP'!E126","v":""},{"$f":"'Resultats PP'!K126","v":0},{"$f":"'Resultats PP'!H126","v":0},{"$f":"'Resultats PP'!I126","v":0},{"$f":"'Resultats PP'!J126","v":0},{"$f":"IF('Resultats PP'!M126=3,0,'Resultats PP'!M126)","v":0}]
["",{"$f":"'Resultats PP'!L127","v":0},{"$f":"'Resultats PP'!E127","v":""},{"$f":"'Resultats PP'!K127","v":0},{"$f":"'Resultats PP'!H127","v":0},{"$f":"'Resultats PP'!I127","v":0},{"$f":"'Resultats PP'!J127","v":0},{"$f":"IF('Resultats PP'!M127=3,0,'Resultats PP'!M127)","v":0}]
["",{"$f":"'Resultats PP'!L140","v":0},{"$f":"'Resultats PP'!E140","v":""},{"$f":"'Resultats PP'!K140","v":0},{"$f":"'Resultats PP'!H140","v":0},{"$f":"'Resultats PP'!I140","v":0},{"$f":"'Resultats PP'!J140","v":0},{"$f":"IF('Resultats PP'!M140=3,0,'Resultats PP'!M140)","v":0}]
["",{"$f":"'Resultats PP'!L141","v":0},{"$f":"'Resultats PP'!E141","v":""},{"$f":"'Resultats PP'!K141","v":0},{"$f":"'Resultats PP'!H141","v":0},{"$f":"'Resultats PP'!I141","v":0},{"$f":"'Resultats PP'!J141","v":0},{"$f":"IF('Resultats PP'!M141=3,0,'Resultats PP'!M141)","v":0}]
["",{"$f":"'Resultats PP'!L142","v":0},{"$f":"'Resultats PP'!E142","v":""},{"$f":"'Resultats PP'!K142","v":0},{"$f":"'Resultats PP'!H142","v":0},{"$f":"'Resultats PP'!I142","v":0},{"$f":"'Resultats PP'!J142","v":0},{"$f":"IF('Resultats PP'!M142=3,0,'Resultats PP'!M142)","v":0}]
["",{"$f":"'Resultats PP'!L155","v":0},{"$f":"'Resultats PP'!E155","v":""},{"$f":"'Resultats PP'!K155","v":0},{"$f":"'Resultats PP'!H155","v":0},{"$f":"'Resultats PP'!I155","v":0},{"$f":"'Resultats PP'!J155","v":0},{"$f":"IF('Resultats PP'!M155=3,0,'Resultats PP'!M155)","v":0}]
["",{"$f":"'Resultats PP'!L156","v":0},{"$f":"'Resultats PP'!E156","v":""},{"$f":"'Resultats PP'!K156","v":0},{"$f":"'Resultats PP'!H156","v":0},{"$f":"'Resultats PP'!I156","v":0},{"$f":"'Resultats PP'!J156","v":0},{"$f":"IF('Resultats PP'!M156=3,0,'Resultats PP'!M156)","v":0}]
["",{"$f":"'Resultats PP'!L157","v":0},{"$f":"'Resultats PP'!E157","v":""},{"$f":"'Resultats PP'!K157","v":0},{"$f":"'Resultats PP'!H157","v":0},{"$f":"'Resultats PP'!I157","v":0},{"$f":"'Resultats PP'!J157","v":0},{"$f":"IF('Resultats PP'!M157=3,0,'Resultats PP'!M157)","v":0}]
["",{"$f":"'Resultats PP'!L170","v":0},{"$f":"'Resultats PP'!E170","v":""},{"$f":"'Resultats PP'!K170","v":0},{"$f":"'Resultats PP'!H170","v":0},{"$f":"'Resultats PP'!I170","v":0},{"$f":"'Resultats PP'!J170","v":0},{"$f":"IF('Resultats PP'!M170=3,0,'Resultats PP'!M170)","v":0}]
["",{"$f":"'Resultats PP'!L171","v":0},{"$f":"'Resultats PP'!E171","v":""},{"$f":"'Resultats PP'!K171","v":0},{"$f":"'Resultats PP'!H171","v":0},{"$f":"'Resultats PP'!I171","v":0},{"$f":"'Resultats PP'!J171","v":0},{"$f":"IF('Resultats PP'!M171=3,0,'Resultats PP'!M171)","v":0}]
["",{"$f":"'Resultats PP'!L172","v":0},{"$f":"'Resultats PP'!E172","v":""},{"$f":"'Resultats PP'!K172","v":0},{"$f":"'Resultats PP'!H172","v":0},{"$f":"'Resultats PP'!I172","v":0},{"$f":"'Resultats PP'!J172","v":0},{"$f":"IF('Resultats PP'!M172=3,0,'Resultats PP'!M172)","v":0}]
["",{"$f":"'Resultats PP'!L185","v":0},{"$f":"'Resultats PP'!E185","v":""},{"$f":"'Resultats PP'!K185","v":0},{"$f":"'Resultats PP'!H185","v":0},{"$f":"'Resultats PP'!I185","v":0},{"$f":"'Resultats PP'!J185","v":0},{"$f":"IF('Resultats PP'!M185=3,0,'Resultats PP'!M185)","v":0}]
["",{"$f":"'Resultats PP'!L186","v":0},{"$f":"'Resultats PP'!E186","v":""},{"$f":"'Resultats PP'!K186","v":0},{"$f":"'Resultats PP'!H186","v":0},{"$f":"'Resultats PP'!I186","v":0},{"$f":"'Resultats PP'!J186","v":0},{"$f":"IF('Resultats PP'!M186=3,0,'Resultats PP'!M186)","v":0}]
["",{"$f":"'Resultats PP'!L187","v":0},{"$f":"'Resultats PP'!E187","v":""},{"$f":"'Resultats PP'!K187","v":0},{"$f":"'Resultats PP'!H187","v":0},{"$f":"'Resultats PP'!I187","v":0},{"$f":"'Resultats PP'!J187","v":0},{"$f":"IF('Resultats PP'!M187=3,0,'Resultats PP'!M187)","v":0}]
["",{"$f":"'Resultats PP'!L200","v":0},{"$f":"'Resultats PP'!E200","v":""},{"$f":"'Resultats PP'!K200","v":0},{"$f":"'Resultats PP'!H200","v":0},{"$f":"'Resultats PP'!I200","v":0},{"$f":"'Resultats PP'!J200","v":0},{"$f":"IF('Resultats PP'!M200=3,0,'Resultats PP'!M200)","v":0}]
["",{"$f":"'Resultats PP'!L201","v":0},{"$f":"'Resultats PP'!E201","v":""},{"$f":"'Resultats PP'!K201","v":0},{"$f":"'Resultats PP'!H201","v":0},{"$f":"'Resultats PP'!I201","v":0},{"$f":"'Resultats PP'!J201","v":0},{"$f":"IF('Resultats PP'!M201=3,0,'Resultats PP'!M201)","v":0}]
["",{"$f":"'Resultats PP'!L202","v":0},{"$f":"'Resultats PP'!E202","v":""},{"$f":"'Resultats PP'!K202","v":0},{"$f":"'Resultats PP'!H202","v":0},{"$f":"'Resultats PP'!I202","v":0},{"$f":"'Resultats PP'!J202","v":0},{"$f":"IF('Resultats PP'!M202=3,0,'Resultats PP'!M202)","v":0}]
["",{"$f":"'Resultats PP'!L215","v":0},{"$f":"'Resultats PP'!E215","v":""},{"$f":"'Resultats PP'!K215","v":0},{"$f":"'Resultats PP'!H215","v":0},{"$f":"'Resultats PP'!I215","v":0},{"$f":"'Resultats PP'!J215","v":0},{"$f":"IF('Resultats PP'!M215=3,0,'Resultats PP'!M215)","v":0}]
["",{"$f":"'Resultats PP'!L216","v":0},{"$f":"'Resultats PP'!E216","v":""},{"$f":"'Resultats PP'!K216","v":0},{"$f":"'Resultats PP'!H216","v":0},{"$f":"'Resultats PP'!I216","v":0},{"$f":"'Resultats PP'!J216","v":0},{"$f":"IF('Resultats PP'!M216=3,0,'Resultats PP'!M216)","v":0}]
["",{"$f":"'Resultats PP'!L217","v":0},{"$f":"'Resultats PP'!E217","v":""},{"$f":"'Resultats PP'!K217","v":0},{"$f":"'Resultats PP'!H217","v":0},{"$f":"'Resultats PP'!I217","v":0},{"$f":"'Resultats PP'!J217","v":0},{"$f":"IF('Resultats PP'!M217=3,0,'Resultats PP'!M217)","v":0}]
["",{"$f":"'Resultats PP'!L230","v":0},{"$f":"'Resultats PP'!E230","v":""},{"$f":"'Resultats PP'!K230","v":0},{"$f":"'Resultats PP'!H230","v":0},{"$f":"'Resultats PP'!I230","v":0},{"$f":"'Resultats PP'!J230","v":0},{"$f":"IF('Resultats PP'!M230=3,0,'Resultats PP'!M230)","v":0}]
["",{"$f":"'Resultats PP'!L231","v":0},{"$f":"'Resultats PP'!E231","v":""},{"$f":"'Resultats PP'!K231","v":0},{"$f":"'Resultats PP'!H231","v":0},{"$f":"'Resultats PP'!I231","v":0},{"$f":"'Resultats PP'!J231","v":0},{"$f":"IF('Resultats PP'!M231=3,0,'Resultats PP'!M231)","v":0}]
["",{"$f":"'Resultats PP'!L232","v":0},{"$f":"'Resultats PP'!E232","v":""},{"$f":"'Resultats PP'!K232","v":0},{"$f":"'Resultats PP'!H232","v":0},{"$f":"'Resultats PP'!I232","v":0},{"$f":"'Resultats PP'!J232","v":0},{"$f":"IF('Resultats PP'!M232=3,0,'Resultats PP'!M232)","v":0}]
["",{"$f":"'Resultats PP'!L245","v":0},{"$f":"'Resultats PP'!E245","v":""},{"$f":"'Resultats PP'!K245","v":0},{"$f":"'Resultats PP'!H245","v":0},{"$f":"'Resultats PP'!I245","v":0},{"$f":"'Resultats PP'!J245","v":0},{"$f":"IF('Resultats PP'!M245=3,0,'Resultats PP'!M245)","v":0}]
["",{"$f":"'Resultats PP'!L246","v":0},{"$f":"'Resultats PP'!E246","v":""},{"$f":"'Resultats PP'!K246","v":0},{"$f":"'Resultats PP'!H246","v":0},{"$f":"'Resultats PP'!I246","v":0},{"$f":"'Resultats PP'!J246","v":0},{"$f":"IF('Resultats PP'!M246=3,0,'Resultats PP'!M246)","v":0}]
[{"$f":"IF(OR(H51=0,C51=\"(Jugador Virtual)\"),\"\",RANK(H51,$H$4:$H$51,))","v":""},{"$f":"'Resultats PP'!L247","v":0},{"$f":"'Resultats PP'!E247","v":""},{"$f":"'Resultats PP'!K247","v":0},{"$f":"'Resultats PP'!H247","v":0},{"$f":"'Resultats PP'!I247","v":0},{"$f":"'Resultats PP'!J247","v":0},{"$f":"IF('Resultats PP'!M247=3,0,'Resultats PP'!M247)","v":0}]

{"sheet":"Classificació PP","index":14,"n_rows":60,"n_cols":16,"rows_kept":60,"cut":false,"hidden":false,"merged":[[9,2,9,7],[1,14,1,15],[7,1,7,8],[1,1,1,6],[1,7,5,8],[2,4,5,6]]}
[]
[null,{"$f":"IF(Inici!B2=\"INTRODUIR EN MAIÚSCULES EL NOM DE L'OPEN\",\"Introduiu el nom de l'Open a la pantalla d'Inici!!!\",Inici!B2)","v":"Introduiu el nom de l'Open a la pantalla d'Inici!!!"},null,null,null,null,null,null,null,null,"ANAR A PÀGINA","P-P-PRÈVIA","P-PRÈVIA","PRÈVIA","FASE FINAL"]
[null,null,null,null,null,null,null,null,null,null,"Rànquing Inicial","Grups PPP","Grups PP","Grups P","Setzens","Vuitens"]
[null,null,null,null,null,null,null,null,null,null,"Organigrama","Result PPP","Result PP","Result P","Class SF","Quarts/SF/F"]
[null,null,null,null,null,null,null,null,null,null,"Horaris","Classif PPP","Classif PP","Classif P"]
[]
[]
[null,"CLASSIFICACIÓ FINAL PRE-PRÈVIA (PP)",null,null,null,null,null,null,null,null,"Inici","Participants"]
[]
[null,{"$f":"Organigrama!G33","v":0},{"$f":"CONCATENATE(\"Passen a la Prèvia (P) \",I10,\" jugadors d'un total de \",B10)","v":"Passen a la Prèvia (P) 0 jugadors d'un total de 0"},null,null,null,null,null,{"$f":"Organigrama!K33","v":0}]
[]
[null,"Posició",null,"Jugador","Posició al grup","Punts","Mitjana","SM (1)","SM (2)"]
[null,1,"1-PP",{"$f":"IFERROR(VLOOKUP(B13,'PP (C)'!$A$4:$H$51,3,FALSE),\"\")","v":""},{"$f":"IFERROR(IF(D13=\"\",\"\",VLOOKUP(B13,'PP (C)'!$A$4:$H$51,2,FALSE)),\"\")","v":""},{"$f":"IFERROR(IF(D13=\"\",\"\",VLOOKUP(B13,'PP (C)'!$A$4:$H$51,4,FALSE)),\"\")","v":""},{"$f":"IFERROR(IF(D13=\"\",\"\",VLOOKUP(B13,'PP (C)'!$A$4:$H$51,5,FALSE)),\"\")","v":""},{"$f":"IFERROR(IF(D13=\"\",\"\",VLOOKUP(B13,'PP (C)'!$A$4:$H$51,6,FALSE)),\"\")","v":""},{"$f":"IFERROR(IF(D13=\"\",\"\",VLOOKUP(B13,'PP (C)'!$A$4:$H$51,7,FALSE)),\"\")","v":""}]
[null,2,"2-PP",{"$f":"IFERROR(VLOOKUP(B14,'PP (C)'!$A$4:$H$51,3,FALSE),\"\")","v":""},{"$f":"IFERROR(IF(D14=\"\",\"\",VLOOKUP(B14,'PP (C)'!$A$4:$H$51,2,FALSE)),\"\")","v":""},{"$f":"IFERROR(IF(D14=\"\",\"\",VLOOKUP(B14,'PP (C)'!$A$4:$H$51,4,FALSE)),\"\")","v":""},{"$f":"IFERROR(IF(D14=\"\",\"\",VLOOKUP(B14,'PP (C)'!$A$4:$H$51,5,FALSE)),\"\")","v":""},{"$f":"IFERROR(IF(D14=\"\",\"\",VLOOKUP(B14,'PP (C)'!$A$4:$H$51,6,FALSE)),\"\")","v":""},{"$f":"IFERROR(IF(D14=\"\",\"\",VLOOKUP(B14,'PP (C)'!$A$4:$H$51,7,FALSE)),\"\")","v":""}]
[null,3,"3-PP",{"$f":"IFERROR(VLOOKUP(B15,'PP (C)'!$A$4:$H$51,3,FALSE),\"\")","v":""},{"$f":"IFERROR(IF(D15=\"\",\"\",VLOOKUP(B15,'PP (C)'!$A$4:$H$51,2,FALSE)),\"\")","v":""},{"$f":"IFERROR(IF(D15=\"\",\"\",VLOOKUP(B15,'PP (C)'!$A$4:$H$51,4,FALSE)),\"\")","v":""},{"$f":"IFERROR(IF(D15=\"\",\"\",VLOOKUP(B15,'PP (C)'!$A$4:$H$51,5,FALSE)),\"\")","v":""},{"$f":"IFERROR(IF(D15=\"\",\"\",VLOOKUP(B15,'PP (C)'!$A$4:$H$51,6,FALSE)),\"\")","v":""},{"$f":"IFERROR(IF(D15=\"\",\"\",VLOOKUP(B15,'PP (C)'!$A$4:$H$51,7,FALSE)),\"\")","v":""}]
[null,4,"4-PP",{"$f":"IFERROR(VLOOKUP(B16,'PP (C)'!$A$4:$H$51,3,FALSE),\"\")","v":""},{"$f":"IFERROR(IF(D16=\"\",\"\",VLOOKUP(B16,'PP (C)'!$A$4:$H$51,2,FALSE)),\"\")","v":""},{"$f":"IFERROR(IF(D16=\"\",\"\",VLOOKUP(B16,'PP (C)'!$A$4:$H$51,4,FALSE)),\"\")","v":""},{"$f":"IFERROR(IF(D16=\"\",\"\",VLOOKUP(B16,'PP (C)'!$A$4:$H$51,5,FALSE)),\"\")","v":""},{"$f":"IFERROR(IF(D16=\"\",\"\",VLOOKUP(B16,'PP (C)'!$A$4:$H$51,6,FALSE)),\"\")","v":""},{"$f":"IFERROR(IF(D16=\"\",\"\",VLOOKUP(B16,'PP (C)'!$A$4:$H$51,7,FALSE)),\"\")","v":""}]
[null,5,"5-PP",{"$f":"IFERROR(VLOOKUP(B17,'PP (C)'!$A$4:$H$51,3,FALSE),\"\")","v":""},{"$f":"IFERROR(IF(D17=\"\",\"\",VLOOKUP(B17,'PP (C)'!$A$4:$H$51,2,FALSE)),\"\")","v":""},{"$f":"IFERROR(IF(D17=\"\",\"\",VLOOKUP(B17,'PP (C)'!$A$4:$H$51,4,FALSE)),\"\")","v":""},{"$f":"IFERROR(IF(D17=\"\",\"\",VLOOKUP(B17,'PP (C)'!$A$4:$H$51,5,FALSE)),\"\")","v":""},{"$f":"IFERROR(IF(D17=\"\",\"\",VLOOKUP(B17,'PP (C)'!$A$4:$H$51,6,FALSE)),\"\")","v":""},{"$f":"IFERROR(IF(D17=\"\",\"\",VLOOKUP(B17,'PP (C)'!$A$4:$H$51,7,FALSE)),\"\")","v":""}]
[null,6,"6-PP",{"$f":"IFERROR(VLOOKUP(B18,'PP (C)'!$A$4:$H$51,3,FALSE),\"\")","v":""},{"$f":"IFERROR(IF(D18=\"\",\"\",VLOOKUP(B18,'PP (C)'!$A$4:$H$51,2,FALSE)),\"\")","v":""},{"$f":"IFERROR(IF(D18=\"\",\"\",VLOOKUP(B18,'PP (C)'!$A$4:$H$51,4,FALSE)),\"\")","v":""},{"$f":"IFERROR(IF(D18=\"\",\"\",VLOOKUP(B18,'PP (C)'!$A$4:$H$51,5,FALSE)),\"\")","v":""},{"$f":"IFERROR(IF(D18=\"\",\"\",VLOOKUP(B18,'PP (C)'!$A$4:$H$51,6,FALSE)),\"\")","v":""},{"$f":"IFERROR(IF(D18=\"\",\"\",VLOOKUP(B18,'PP (C)'!$A$4:$H$51,7,FALSE)),\"\")","v":""}]
[null,7,"7-PP",{"$f":"IFERROR(VLOOKUP(B19,'PP (C)'!$A$4:$H$51,3,FALSE),\"\")","v":""},{"$f":"IFERROR(IF(D19=\"\",\"\",VLOOKUP(B19,'PP (C)'!$A$4:$H$51,2,FALSE)),\"\")","v":""},{"$f":"IFERROR(IF(D19=\"\",\"\",VLOOKUP(B19,'PP (C)'!$A$4:$H$51,4,FALSE)),\"\")","v":""},{"$f":"IFERROR(IF(D19=\"\",\"\",VLOOKUP(B19,'PP (C)'!$A$4:$H$51,5,FALSE)),\"\")","v":""},{"$f":"IFERROR(IF(D19=\"\",\"\",VLOOKUP(B19,'PP (C)'!$A$4:$H$51,6,FALSE)),\"\")","v":""},{"$f":"IFERROR(IF(D19=\"\",\"\",VLOOKUP(B19,'PP (C)'!$A$4:$H$51,7,FALSE)),\"\")","v":""}]
[null,8,"8-PP",{"$f":"IFERROR(VLOOKUP(B20,'PP (C)'!$A$4:$H$51,3,FALSE),\"\")","v":""},{"$f":"IFERROR(IF(D20=\"\",\"\",VLOOKUP(B20,'PP (C)'!$A$4:$H$51,2,FALSE)),\"\")","v":""},{"$f":"IFERROR(IF(D20=\"\",\"\",VLOOKUP(B20,'PP (C)'!$A$4:$H$51,4,FALSE)),\"\")","v":""},{"$f":"IFERROR(IF(D20=\"\",\"\",VLOOKUP(B20,'PP (C)'!$A$4:$H$51,5,FALSE)),\"\")","v":""},{"$f":"IFERROR(IF(D20=\"\",\"\",VLOOKUP(B20,'PP (C)'!$A$4:$H$51,6,FALSE)),\"\")","v":""},{"$f":"IFERROR(IF(D20=\"\",\"\",VLOOKUP(B20,'PP (C)'!$A$4:$H$51,7,FALSE)),\"\")","v":""}]
[null,9,"9-PP",{"$f":"IFERROR(VLOOKUP(B21,'PP (C)'!$A$4:$H$51,3,FALSE),\"\")","v":""},{"$f":"IFERROR(IF(D21=\"\",\"\",VLOOKUP(B21,'PP (C)'!$A$4:$H$51,2,FALSE)),\"\")","v":""},{"$f":"IFERROR(IF(D21=\"\",\"\",VLOOKUP(B21,'PP (C)'!$A$4:$H$51,4,FALSE)),\"\")","v":""},{"$f":"IFERROR(IF(D21=\"\",\"\",VLOOKUP(B21,'PP (C)'!$A$4:$H$51,5,FALSE)),\"\")","v":""},{"$f":"IFERROR(IF(D21=\"\",\"\",VLOOKUP(B21,'PP (C)'!$A$4:$H$51,6,FALSE)),\"\")","v":""},{"$f":"IFERROR(IF(D21=\"\",\"\",VLOOKUP(B21,'PP (C)'!$A$4:$H$51,7,FALSE)),\"\")","v":""}]
[null,10,"10-PP",{"$f":"IFERROR(VLOOKUP(B22,'PP (C)'!$A$4:$H$51,3,FALSE),\"\")","v":""},{"$f":"IFERROR(IF(D22=\"\",\"\",VLOOKUP(B22,'PP (C)'!$A$4:$H$51,2,FALSE)),\"\")","v":""},{"$f":"IFERROR(IF(D22=\"\",\"\",VLOOKUP(B22,'PP (C)'!$A$4:$H$51,4,FALSE)),\"\")","v":""},{"$f":"IFERROR(IF(D22=\"\",\"\",VLOOKUP(B22,'PP (C)'!$A$4:$H$51,5,FALSE)),\"\")","v":""},{"$f":"IFERROR(IF(D22=\"\",\"\",VLOOKUP(B22,'PP (C)'!$A$4:$H$51,6,FALSE)),\"\")","v":""},{"$f":"IFERROR(IF(D22=\"\",\"\",VLOOKUP(B22,'PP (C)'!$A$4:$H$51,7,FALSE)),\"\")","v":""}]
[null,11,"11-PP",{"$f":"IFERROR(VLOOKUP(B23,'PP (C)'!$A$4:$H$51,3,FALSE),\"\")","v":""},{"$f":"IFERROR(IF(D23=\"\",\"\",VLOOKUP(B23,'PP (C)'!$A$4:$H$51,2,FALSE)),\"\")","v":""},{"$f":"IFERROR(IF(D23=\"\",\"\",VLOOKUP(B23,'PP (C)'!$A$4:$H$51,4,FALSE)),\"\")","v":""},{"$f":"IFERROR(IF(D23=\"\",\"\",VLOOKUP(B23,'PP (C)'!$A$4:$H$51,5,FALSE)),\"\")","v":""},{"$f":"IFERROR(IF(D23=\"\",\"\",VLOOKUP(B23,'PP (C)'!$A$4:$H$51,6,FALSE)),\"\")","v":""},{"$f":"IFERROR(IF(D23=\"\",\"\",VLOOKUP(B23,'PP (C)'!$A$4:$H$51,7,FALSE)),\"\")","v":""}]
[null,12,"12-PP",{"$f":"IFERROR(VLOOKUP(B24,'PP (C)'!$A$4:$H$51,3,FALSE),\"\")","v":""},{"$f":"IFERROR(IF(D24=\"\",\"\",VLOOKUP(B24,'PP (C)'!$A$4:$H$51,2,FALSE)),\"\")","v":""},{"$f":"IFERROR(IF(D24=\"\",\"\",VLOOKUP(B24,'PP (C)'!$A$4:$H$51,4,FALSE)),\"\")","v":""},{"$f":"IFERROR(IF(D24=\"\",\"\",VLOOKUP(B24,'PP (C)'!$A$4:$H$51,5,FALSE)),\"\")","v":""},{"$f":"IFERROR(IF(D24=\"\",\"\",VLOOKUP(B24,'PP (C)'!$A$4:$H$51,6,FALSE)),\"\")","v":""},{"$f":"IFERROR(IF(D24=\"\",\"\",VLOOKUP(B24,'PP (C)'!$A$4:$H$51,7,FALSE)),\"\")","v":""}]
[null,13,"13-PP",{"$f":"IFERROR(VLOOKUP(B25,'PP (C)'!$A$4:$H$51,3,FALSE),\"\")","v":""},{"$f":"IFERROR(IF(D25=\"\",\"\",VLOOKUP(B25,'PP (C)'!$A$4:$H$51,2,FALSE)),\"\")","v":""},{"$f":"IFERROR(IF(D25=\"\",\"\",VLOOKUP(B25,'PP (C)'!$A$4:$H$51,4,FALSE)),\"\")","v":""},{"$f":"IFERROR(IF(D25=\"\",\"\",VLOOKUP(B25,'PP (C)'!$A$4:$H$51,5,FALSE)),\"\")","v":""},{"$f":"IFERROR(IF(D25=\"\",\"\",VLOOKUP(B25,'PP (C)'!$A$4:$H$51,6,FALSE)),\"\")","v":""},{"$f":"IFERROR(IF(D25=\"\",\"\",VLOOKUP(B25,'PP (C)'!$A$4:$H$51,7,FALSE)),\"\")","v":""}]
[null,14,"14-PP",{"$f":"IFERROR(VLOOKUP(B26,'PP (C)'!$A$4:$H$51,3,FALSE),\"\")","v":""},{"$f":"IFERROR(IF(D26=\"\",\"\",VLOOKUP(B26,'PP (C)'!$A$4:$H$51,2,FALSE)),\"\")","v":""},{"$f":"IFERROR(IF(D26=\"\",\"\",VLOOKUP(B26,'PP (C)'!$A$4:$H$51,4,FALSE)),\"\")","v":""},{"$f":"IFERROR(IF(D26=\"\",\"\",VLOOKUP(B26,'PP (C)'!$A$4:$H$51,5,FALSE)),\"\")","v":""},{"$f":"IFERROR(IF(D26=\"\",\"\",VLOOKUP(B26,'PP (C)'!$A$4:$H$51,6,FALSE)),\"\")","v":""},{"$f":"IFERROR(IF(D26=\"\",\"\",VLOOKUP(B26,'PP (C)'!$A$4:$H$51,7,FALSE)),\"\")","v":""}]
[null,15,"15-PP",{"$f":"IFERROR(VLOOKUP(B27,'PP (C)'!$A$4:$H$51,3,FALSE),\"\")","v":""},{"$f":"IFERROR(IF(D27=\"\",\"\",VLOOKUP(B27,'PP (C)'!$A$4:$H$51,2,FALSE)),\"\")","v":""},{"$f":"IFERROR(IF(D27=\"\",\"\",VLOOKUP(B27,'PP (C)'!$A$4:$H$51,4,FALSE)),\"\")","v":""},{"$f":"IFERROR(IF(D27=\"\",\"\",VLOOKUP(B27,'PP (C)'!$A$4:$H$51,5,FALSE)),\"\")","v":""},{"$f":"IFERROR(IF(D27=\"\",\"\",VLOOKUP(B27,'PP (C)'!$A$4:$H$51,6,FALSE)),\"\")","v":""},{"$f":"IFERROR(IF(D27=\"\",\"\",VLOOKUP(B27,'PP (C)'!$A$4:$H$51,7,FALSE)),\"\")","v":""}]
[null,16,"16-PP",{"$f":"IFERROR(VLOOKUP(B28,'PP (C)'!$A$4:$H$51,3,FALSE),\"\")","v":""},{"$f":"IFERROR(IF(D28=\"\",\"\",VLOOKUP(B28,'PP (C)'!$A$4:$H$51,2,FALSE)),\"\")","v":""},{"$f":"IFERROR(IF(D28=\"\",\"\",VLOOKUP(B28,'PP (C)'!$A$4:$H$51,4,FALSE)),\"\")","v":""},{"$f":"IFERROR(IF(D28=\"\",\"\",VLOOKUP(B28,'PP (C)'!$A$4:$H$51,5,FALSE)),\"\")","v":""},{"$f":"IFERROR(IF(D28=\"\",\"\",VLOOKUP(B28,'PP (C)'!$A$4:$H$51,6,FALSE)),\"\")","v":""},{"$f":"IFERROR(IF(D28=\"\",\"\",VLOOKUP(B28,'PP (C)'!$A$4:$H$51,7,FALSE)),\"\")","v":""}]
[null,17,"17-PP",{"$f":"IFERROR(VLOOKUP(B29,'PP (C)'!$A$4:$H$51,3,FALSE),\"\")","v":""},{"$f":"IFERROR(IF(D29=\"\",\"\",VLOOKUP(B29,'PP (C)'!$A$4:$H$51,2,FALSE)),\"\")","v":""},{"$f":"IFERROR(IF(D29=\"\",\"\",VLOOKUP(B29,'PP (C)'!$A$4:$H$51,4,FALSE)),\"\")","v":""},{"$f":"IFERROR(IF(D29=\"\",\"\",VLOOKUP(B29,'PP (C)'!$A$4:$H$51,5,FALSE)),\"\")","v":""},{"$f":"IFERROR(IF(D29=\"\",\"\",VLOOKUP(B29,'PP (C)'!$A$4:$H$51,6,FALSE)),\"\")","v":""},{"$f":"IFERROR(IF(D29=\"\",\"\",VLOOKUP(B29,'PP (C)'!$A$4:$H$51,7,FALSE)),\"\")","v":""}]
[null,18,"18-PP",{"$f":"IFERROR(VLOOKUP(B30,'PP (C)'!$A$4:$H$51,3,FALSE),\"\")","v":""},{"$f":"IFERROR(IF(D30=\"\",\"\",VLOOKUP(B30,'PP (C)'!$A$4:$H$51,2,FALSE)),\"\")","v":""},{"$f":"IFERROR(IF(D30=\"\",\"\",VLOOKUP(B30,'PP (C)'!$A$4:$H$51,4,FALSE)),\"\")","v":""},{"$f":"IFERROR(IF(D30=\"\",\"\",VLOOKUP(B30,'PP (C)'!$A$4:$H$51,5,FALSE)),\"\")","v":""},{"$f":"IFERROR(IF(D30=\"\",\"\",VLOOKUP(B30,'PP (C)'!$A$4:$H$51,6,FALSE)),\"\")","v":""},{"$f":"IFERROR(IF(D30=\"\",\"\",VLOOKUP(B30,'PP (C)'!$A$4:$H$51,7,FALSE)),\"\")","v":""}]
[null,19,"19-PP",{"$f":"IFERROR(VLOOKUP(B31,'PP (C)'!$A$4:$H$51,3,FALSE),\"\")","v":""},{"$f":"IFERROR(IF(D31=\"\",\"\",VLOOKUP(B31,'PP (C)'!$A$4:$H$51,2,FALSE)),\"\")","v":""},{"$f":"IFERROR(IF(D31=\"\",\"\",VLOOKUP(B31,'PP (C)'!$A$4:$H$51,4,FALSE)),\"\")","v":""},{"$f":"IFERROR(IF(D31=\"\",\"\",VLOOKUP(B31,'PP (C)'!$A$4:$H$51,5,FALSE)),\"\")","v":""},{"$f":"IFERROR(IF(D31=\"\",\"\",VLOOKUP(B31,'PP (C)'!$A$4:$H$51,6,FALSE)),\"\")","v":""},{"$f":"IFERROR(IF(D31=\"\",\"\",VLOOKUP(B31,'PP (C)'!$A$4:$H$51,7,FALSE)),\"\")","v":""}]
[null,20,"20-PP",{"$f":"IFERROR(VLOOKUP(B32,'PP (C)'!$A$4:$H$51,3,FALSE),\"\")","v":""},{"$f":"IFERROR(IF(D32=\"\",\"\",VLOOKUP(B32,'PP (C)'!$A$4:$H$51,2,FALSE)),\"\")","v":""},{"$f":"IFERROR(IF(D32=\"\",\"\",VLOOKUP(B32,'PP (C)'!$A$4:$H$51,4,FALSE)),\"\")","v":""},{"$f":"IFERROR(IF(D32=\"\",\"\",VLOOKUP(B32,'PP (C)'!$A$4:$H$51,5,FALSE)),\"\")","v":""},{"$f":"IFERROR(IF(D32=\"\",\"\",VLOOKUP(B32,'PP (C)'!$A$4:$H$51,6,FALSE)),\"\")","v":""},{"$f":"IFERROR(IF(D32=\"\",\"\",VLOOKUP(B32,'PP (C)'!$A$4:$H$51,7,FALSE)),\"\")","v":""}]
[null,21,"21-PP",{"$f":"IFERROR(VLOOKUP(B33,'PP (C)'!$A$4:$H$51,3,FALSE),\"\")","v":""},{"$f":"IFERROR(IF(D33=\"\",\"\",VLOOKUP(B33,'PP (C)'!$A$4:$H$51,2,FALSE)),\"\")","v":""},{"$f":"IFERROR(IF(D33=\"\",\"\",VLOOKUP(B33,'PP (C)'!$A$4:$H$51,4,FALSE)),\"\")","v":""},{"$f":"IFERROR(IF(D33=\"\",\"\",VLOOKUP(B33,'PP (C)'!$A$4:$H$51,5,FALSE)),\"\")","v":""},{"$f":"IFERROR(IF(D33=\"\",\"\",VLOOKUP(B33,'PP (C)'!$A$4:$H$51,6,FALSE)),\"\")","v":""},{"$f":"IFERROR(IF(D33=\"\",\"\",VLOOKUP(B33,'PP (C)'!$A$4:$H$51,7,FALSE)),\"\")","v":""}]
[null,22,"22-PP",{"$f":"IFERROR(VLOOKUP(B34,'PP (C)'!$A$4:$H$51,3,FALSE),\"\")","v":""},{"$f":"IFERROR(IF(D34=\"\",\"\",VLOOKUP(B34,'PP (C)'!$A$4:$H$51,2,FALSE)),\"\")","v":""},{"$f":"IFERROR(IF(D34=\"\",\"\",VLOOKUP(B34,'PP (C)'!$A$4:$H$51,4,FALSE)),\"\")","v":""},{"$f":"IFERROR(IF(D34=\"\",\"\",VLOOKUP(B34,'PP (C)'!$A$4:$H$51,5,FALSE)),\"\")","v":""},{"$f":"IFERROR(IF(D34=\"\",\"\",VLOOKUP(B34,'PP (C)'!$A$4:$H$51,6,FALSE)),\"\")","v":""},{"$f":"IFERROR(IF(D34=\"\",\"\",VLOOKUP(B34,'PP (C)'!$A$4:$H$51,7,FALSE)),\"\")","v":""}]
[null,23,"23-PP",{"$f":"IFERROR(VLOOKUP(B35,'PP (C)'!$A$4:$H$51,3,FALSE),\"\")","v":""},{"$f":"IFERROR(IF(D35=\"\",\"\",VLOOKUP(B35,'PP (C)'!$A$4:$H$51,2,FALSE)),\"\")","v":""},{"$f":"IFERROR(IF(D35=\"\",\"\",VLOOKUP(B35,'PP (C)'!$A$4:$H$51,4,FALSE)),\"\")","v":""},{"$f":"IFERROR(IF(D35=\"\",\"\",VLOOKUP(B35,'PP (C)'!$A$4:$H$51,5,FALSE)),\"\")","v":""},{"$f":"IFERROR(IF(D35=\"\",\"\",VLOOKUP(B35,'PP (C)'!$A$4:$H$51,6,FALSE)),\"\")","v":""},{"$f":"IFERROR(IF(D35=\"\",\"\",VLOOKUP(B35,'PP (C)'!$A$4:$H$51,7,FALSE)),\"\")","v":""}]
[null,24,"24-PP",{"$f":"IFERROR(VLOOKUP(B36,'PP (C)'!$A$4:$H$51,3,FALSE),\"\")","v":""},{"$f":"IFERROR(IF(D36=\"\",\"\",VLOOKUP(B36,'PP (C)'!$A$4:$H$51,2,FALSE)),\"\")","v":""},{"$f":"IFERROR(IF(D36=\"\",\"\",VLOOKUP(B36,'PP (C)'!$A$4:$H$51,4,FALSE)),\"\")","v":""},{"$f":"IFERROR(IF(D36=\"\",\"\",VLOOKUP(B36,'PP (C)'!$A$4:$H$51,5,FALSE)),\"\")","v":""},{"$f":"IFERROR(IF(D36=\"\",\"\",VLOOKUP(B36,'PP (C)'!$A$4:$H$51,6,FALSE)),\"\")","v":""},{"$f":"IFERROR(IF(D36=\"\",\"\",VLOOKUP(B36,'PP (C)'!$A$4:$H$51,7,FALSE)),\"\")","v":""}]
[null,25,"25-PP",{"$f":"IFERROR(VLOOKUP(B37,'PP (C)'!$A$4:$H$51,3,FALSE),\"\")","v":""},{"$f":"IFERROR(IF(D37=\"\",\"\",VLOOKUP(B37,'PP (C)'!$A$4:$H$51,2,FALSE)),\"\")","v":""},{"$f":"IFERROR(IF(D37=\"\",\"\",VLOOKUP(B37,'PP (C)'!$A$4:$H$51,4,FALSE)),\"\")","v":""},{"$f":"IFERROR(IF(D37=\"\",\"\",VLOOKUP(B37,'PP (C)'!$A$4:$H$51,5,FALSE)),\"\")","v":""},{"$f":"IFERROR(IF(D37=\"\",\"\",VLOOKUP(B37,'PP (C)'!$A$4:$H$51,6,FALSE)),\"\")","v":""},{"$f":"IFERROR(IF(D37=\"\",\"\",VLOOKUP(B37,'PP (C)'!$A$4:$H$51,7,FALSE)),\"\")","v":""}]
[null,26,"26-PP",{"$f":"IFERROR(VLOOKUP(B38,'PP (C)'!$A$4:$H$51,3,FALSE),\"\")","v":""},{"$f":"IFERROR(IF(D38=\"\",\"\",VLOOKUP(B38,'PP (C)'!$A$4:$H$51,2,FALSE)),\"\")","v":""},{"$f":"IFERROR(IF(D38=\"\",\"\",VLOOKUP(B38,'PP (C)'!$A$4:$H$51,4,FALSE)),\"\")","v":""},{"$f":"IFERROR(IF(D38=\"\",\"\",VLOOKUP(B38,'PP (C)'!$A$4:$H$51,5,FALSE)),\"\")","v":""},{"$f":"IFERROR(IF(D38=\"\",\"\",VLOOKUP(B38,'PP (C)'!$A$4:$H$51,6,FALSE)),\"\")","v":""},{"$f":"IFERROR(IF(D38=\"\",\"\",VLOOKUP(B38,'PP (C)'!$A$4:$H$51,7,FALSE)),\"\")","v":""}]
[null,27,"27-PP",{"$f":"IFERROR(VLOOKUP(B39,'PP (C)'!$A$4:$H$51,3,FALSE),\"\")","v":""},{"$f":"IFERROR(IF(D39=\"\",\"\",VLOOKUP(B39,'PP (C)'!$A$4:$H$51,2,FALSE)),\"\")","v":""},{"$f":"IFERROR(IF(D39=\"\",\"\",VLOOKUP(B39,'PP (C)'!$A$4:$H$51,4,FALSE)),\"\")","v":""},{"$f":"IFERROR(IF(D39=\"\",\"\",VLOOKUP(B39,'PP (C)'!$A$4:$H$51,5,FALSE)),\"\")","v":""},{"$f":"IFERROR(IF(D39=\"\",\"\",VLOOKUP(B39,'PP (C)'!$A$4:$H$51,6,FALSE)),\"\")","v":""},{"$f":"IFERROR(IF(D39=\"\",\"\",VLOOKUP(B39,'PP (C)'!$A$4:$H$51,7,FALSE)),\"\")","v":""}]
[null,28,"28-PP",{"$f":"IFERROR(VLOOKUP(B40,'PP (C)'!$A$4:$H$51,3,FALSE),\"\")","v":""},{"$f":"IFERROR(IF(D40=\"\",\"\",VLOOKUP(B40,'PP (C)'!$A$4:$H$51,2,FALSE)),\"\")","v":""},{"$f":"IFERROR(IF(D40=\"\",\"\",VLOOKUP(B40,'PP (C)'!$A$4:$H$51,4,FALSE)),\"\")","v":""},{"$f":"IFERROR(IF(D40=\"\",\"\",VLOOKUP(B40,'PP (C)'!$A$4:$H$51,5,FALSE)),\"\")","v":""},{"$f":"IFERROR(IF(D40=\"\",\"\",VLOOKUP(B40,'PP (C)'!$A$4:$H$51,6,FALSE)),\"\")","v":""},{"$f":"IFERROR(IF(D40=\"\",\"\",VLOOKUP(B40,'PP (C)'!$A$4:$H$51,7,FALSE)),\"\")","v":""}]
[null,29,"29-PP",{"$f":"IFERROR(VLOOKUP(B41,'PP (C)'!$A$4:$H$51,3,FALSE),\"\")","v":""},{"$f":"IFERROR(IF(D41=\"\",\"\",VLOOKUP(B41,'PP (C)'!$A$4:$H$51,2,FALSE)),\"\")","v":""},{"$f":"IFERROR(IF(D41=\"\",\"\",VLOOKUP(B41,'PP (C)'!$A$4:$H$51,4,FALSE)),\"\")","v":""},{"$f":"IFERROR(IF(D41=\"\",\"\",VLOOKUP(B41,'PP (C)'!$A$4:$H$51,5,FALSE)),\"\")","v":""},{"$f":"IFERROR(IF(D41=\"\",\"\",VLOOKUP(B41,'PP (C)'!$A$4:$H$51,6,FALSE)),\"\")","v":""},{"$f":"IFERROR(IF(D41=\"\",\"\",VLOOKUP(B41,'PP (C)'!$A$4:$H$51,7,FALSE)),\"\")","v":""}]
[null,30,"30-PP",{"$f":"IFERROR(VLOOKUP(B42,'PP (C)'!$A$4:$H$51,3,FALSE),\"\")","v":""},{"$f":"IFERROR(IF(D42=\"\",\"\",VLOOKUP(B42,'PP (C)'!$A$4:$H$51,2,FALSE)),\"\")","v":""},{"$f":"IFERROR(IF(D42=\"\",\"\",VLOOKUP(B42,'PP (C)'!$A$4:$H$51,4,FALSE)),\"\")","v":""},{"$f":"IFERROR(IF(D42=\"\",\"\",VLOOKUP(B42,'PP (C)'!$A$4:$H$51,5,FALSE)),\"\")","v":""},{"$f":"IFERROR(IF(D42=\"\",\"\",VLOOKUP(B42,'PP (C)'!$A$4:$H$51,6,FALSE)),\"\")","v":""},{"$f":"IFERROR(IF(D42=\"\",\"\",VLOOKUP(B42,'PP (C)'!$A$4:$H$51,7,FALSE)),\"\")","v":""}]
[null,31,"31-PP",{"$f":"IFERROR(VLOOKUP(B43,'PP (C)'!$A$4:$H$51,3,FALSE),\"\")","v":""},{"$f":"IFERROR(IF(D43=\"\",\"\",VLOOKUP(B43,'PP (C)'!$A$4:$H$51,2,FALSE)),\"\")","v":""},{"$f":"IFERROR(IF(D43=\"\",\"\",VLOOKUP(B43,'PP (C)'!$A$4:$H$51,4,FALSE)),\"\")","v":""},{"$f":"IFERROR(IF(D43=\"\",\"\",VLOOKUP(B43,'PP (C)'!$A$4:$H$51,5,FALSE)),\"\")","v":""},{"$f":"IFERROR(IF(D43=\"\",\"\",VLOOKUP(B43,'PP (C)'!$A$4:$H$51,6,FALSE)),\"\")","v":""},{"$f":"IFERROR(IF(D43=\"\",\"\",VLOOKUP(B43,'PP (C)'!$A$4:$H$51,7,FALSE)),\"\")","v":""}]
[null,32,"32-PP",{"$f":"IFERROR(VLOOKUP(B44,'PP (C)'!$A$4:$H$51,3,FALSE),\"\")","v":""},{"$f":"IFERROR(IF(D44=\"\",\"\",VLOOKUP(B44,'PP (C)'!$A$4:$H$51,2,FALSE)),\"\")","v":""},{"$f":"IFERROR(IF(D44=\"\",\"\",VLOOKUP(B44,'PP (C)'!$A$4:$H$51,4,FALSE)),\"\")","v":""},{"$f":"IFERROR(IF(D44=\"\",\"\",VLOOKUP(B44,'PP (C)'!$A$4:$H$51,5,FALSE)),\"\")","v":""},{"$f":"IFERROR(IF(D44=\"\",\"\",VLOOKUP(B44,'PP (C)'!$A$4:$H$51,6,FALSE)),\"\")","v":""},{"$f":"IFERROR(IF(D44=\"\",\"\",VLOOKUP(B44,'PP (C)'!$A$4:$H$51,7,FALSE)),\"\")","v":""}]
[null,33,"33-PP",{"$f":"IFERROR(VLOOKUP(B45,'PP (C)'!$A$4:$H$51,3,FALSE),\"\")","v":""},{"$f":"IFERROR(IF(D45=\"\",\"\",VLOOKUP(B45,'PP (C)'!$A$4:$H$51,2,FALSE)),\"\")","v":""},{"$f":"IFERROR(IF(D45=\"\",\"\",VLOOKUP(B45,'PP (C)'!$A$4:$H$51,4,FALSE)),\"\")","v":""},{"$f":"IFERROR(IF(D45=\"\",\"\",VLOOKUP(B45,'PP (C)'!$A$4:$H$51,5,FALSE)),\"\")","v":""},{"$f":"IFERROR(IF(D45=\"\",\"\",VLOOKUP(B45,'PP (C)'!$A$4:$H$51,6,FALSE)),\"\")","v":""},{"$f":"IFERROR(IF(D45=\"\",\"\",VLOOKUP(B45,'PP (C)'!$A$4:$H$51,7,FALSE)),\"\")","v":""}]
[null,34,"34-PP",{"$f":"IFERROR(VLOOKUP(B46,'PP (C)'!$A$4:$H$51,3,FALSE),\"\")","v":""},{"$f":"IFERROR(IF(D46=\"\",\"\",VLOOKUP(B46,'PP (C)'!$A$4:$H$51,2,FALSE)),\"\")","v":""},{"$f":"IFERROR(IF(D46=\"\",\"\",VLOOKUP(B46,'PP (C)'!$A$4:$H$51,4,FALSE)),\"\")","v":""},{"$f":"IFERROR(IF(D46=\"\",\"\",VLOOKUP(B46,'PP (C)'!$A$4:$H$51,5,FALSE)),\"\")","v":""},{"$f":"IFERROR(IF(D46=\"\",\"\",VLOOKUP(B46,'PP (C)'!$A$4:$H$51,6,FALSE)),\"\")","v":""},{"$f":"IFERROR(IF(D46=\"\",\"\",VLOOKUP(B46,'PP (C)'!$A$4:$H$51,7,FALSE)),\"\")","v":""}]
[null,35,"35-PP",{"$f":"IFERROR(VLOOKUP(B47,'PP (C)'!$A$4:$H$51,3,FALSE),\"\")","v":""},{"$f":"IFERROR(IF(D47=\"\",\"\",VLOOKUP(B47,'PP (C)'!$A$4:$H$51,2,FALSE)),\"\")","v":""},{"$f":"IFERROR(IF(D47=\"\",\"\",VLOOKUP(B47,'PP (C)'!$A$4:$H$51,4,FALSE)),\"\")","v":""},{"$f":"IFERROR(IF(D47=\"\",\"\",VLOOKUP(B47,'PP (C)'!$A$4:$H$51,5,FALSE)),\"\")","v":""},{"$f":"IFERROR(IF(D47=\"\",\"\",VLOOKUP(B47,'PP (C)'!$A$4:$H$51,6,FALSE)),\"\")","v":""},{"$f":"IFERROR(IF(D47=\"\",\"\",VLOOKUP(B47,'PP (C)'!$A$4:$H$51,7,FALSE)),\"\")","v":""}]
[null,36,"36-PP",{"$f":"IFERROR(VLOOKUP(B48,'PP (C)'!$A$4:$H$51,3,FALSE),\"\")","v":""},{"$f":"IFERROR(IF(D48=\"\",\"\",VLOOKUP(B48,'PP (C)'!$A$4:$H$51,2,FALSE)),\"\")","v":""},{"$f":"IFERROR(IF(D48=\"\",\"\",VLOOKUP(B48,'PP (C)'!$A$4:$H$51,4,FALSE)),\"\")","v":""},{"$f":"IFERROR(IF(D48=\"\",\"\",VLOOKUP(B48,'PP (C)'!$A$4:$H$51,5,FALSE)),\"\")","v":""},{"$f":"IFERROR(IF(D48=\"\",\"\",VLOOKUP(B48,'PP (C)'!$A$4:$H$51,6,FALSE)),\"\")","v":""},{"$f":"IFERROR(IF(D48=\"\",\"\",VLOOKUP(B48,'PP (C)'!$A$4:$H$51,7,FALSE)),\"\")","v":""}]
[null,37,"37-PP",{"$f":"IFERROR(VLOOKUP(B49,'PP (C)'!$A$4:$H$51,3,FALSE),\"\")","v":""},{"$f":"IFERROR(IF(D49=\"\",\"\",VLOOKUP(B49,'PP (C)'!$A$4:$H$51,2,FALSE)),\"\")","v":""},{"$f":"IFERROR(IF(D49=\"\",\"\",VLOOKUP(B49,'PP (C)'!$A$4:$H$51,4,FALSE)),\"\")","v":""},{"$f":"IFERROR(IF(D49=\"\",\"\",VLOOKUP(B49,'PP (C)'!$A$4:$H$51,5,FALSE)),\"\")","v":""},{"$f":"IFERROR(IF(D49=\"\",\"\",VLOOKUP(B49,'PP (C)'!$A$4:$H$51,6,FALSE)),\"\")","v":""},{"$f":"IFERROR(IF(D49=\"\",\"\",VLOOKUP(B49,'PP (C)'!$A$4:$H$51,7,FALSE)),\"\")","v":""}]
[null,38,"38-PP",{"$f":"IFERROR(VLOOKUP(B50,'PP (C)'!$A$4:$H$51,3,FALSE),\"\")","v":""},{"$f":"IFERROR(IF(D50=\"\",\"\",VLOOKUP(B50,'PP (C)'!$A$4:$H$51,2,FALSE)),\"\")","v":""},{"$f":"IFERROR(IF(D50=\"\",\"\",VLOOKUP(B50,'PP (C)'!$A$4:$H$51,4,FALSE)),\"\")","v":""},{"$f":"IFERROR(IF(D50=\"\",\"\",VLOOKUP(B50,'PP (C)'!$A$4:$H$51,5,FALSE)),\"\")","v":""},{"$f":"IFERROR(IF(D50=\"\",\"\",VLOOKUP(B50,'PP (C)'!$A$4:$H$51,6,FALSE)),\"\")","v":""},{"$f":"IFERROR(IF(D50=\"\",\"\",VLOOKUP(B50,'PP (C)'!$A$4:$H$51,7,FALSE)),\"\")","v":""}]
[null,39,"39-PP",{"$f":"IFERROR(VLOOKUP(B51,'PP (C)'!$A$4:$H$51,3,FALSE),\"\")","v":""},{"$f":"IFERROR(IF(D51=\"\",\"\",VLOOKUP(B51,'PP (C)'!$A$4:$H$51,2,FALSE)),\"\")","v":""},{"$f":"IFERROR(IF(D51=\"\",\"\",VLOOKUP(B51,'PP (C)'!$A$4:$H$51,4,FALSE)),\"\")","v":""},{"$f":"IFERROR(IF(D51=\"\",\"\",VLOOKUP(B51,'PP (C)'!$A$4:$H$51,5,FALSE)),\"\")","v":""},{"$f":"IFERROR(IF(D51=\"\",\"\",VLOOKUP(B51,'PP (C)'!$A$4:$H$51,6,FALSE)),\"\")","v":""},{"$f":"IFERROR(IF(D51=\"\",\"\",VLOOKUP(B51,'PP (C)'!$A$4:$H$51,7,FALSE)),\"\")","v":""}]
[null,40,"40-PP",{"$f":"IFERROR(VLOOKUP(B52,'PP (C)'!$A$4:$H$51,3,FALSE),\"\")","v":""},{"$f":"IFERROR(IF(D52=\"\",\"\",VLOOKUP(B52,'PP (C)'!$A$4:$H$51,2,FALSE)),\"\")","v":""},{"$f":"IFERROR(IF(D52=\"\",\"\",VLOOKUP(B52,'PP (C)'!$A$4:$H$51,4,FALSE)),\"\")","v":""},{"$f":"IFERROR(IF(D52=\"\",\"\",VLOOKUP(B52,'PP (C)'!$A$4:$H$51,5,FALSE)),\"\")","v":""},{"$f":"IFERROR(IF(D52=\"\",\"\",VLOOKUP(B52,'PP (C)'!$A$4:$H$51,6,FALSE)),\"\")","v":""},{"$f":"IFERROR(IF(D52=\"\",\"\",VLOOKUP(B52,'PP (C)'!$A$4:$H$51,7,FALSE)),\"\")","v":""}]
[null,41,"41-PP",{"$f":"IFERROR(VLOOKUP(B53,'PP (C)'!$A$4:$H$51,3,FALSE),\"\")","v":""},{"$f":"IFERROR(IF(D53=\"\",\"\",VLOOKUP(B53,'PP (C)'!$A$4:$H$51,2,FALSE)),\"\")","v":""},{"$f":"IFERROR(IF(D53=\"\",\"\",VLOOKUP(B53,'PP (C)'!$A$4:$H$51,4,FALSE)),\"\")","v":""},{"$f":"IFERROR(IF(D53=\"\",\"\",VLOOKUP(B53,'PP (C)'!$A$4:$H$51,5,FALSE)),\"\")","v":""},{"$f":"IFERROR(IF(D53=\"\",\"\",VLOOKUP(B53,'PP (C)'!$A$4:$H$51,6,FALSE)),\"\")","v":""},{"$f":"IFERROR(IF(D53=\"\",\"\",VLOOKUP(B53,'PP (C)'!$A$4:$H$51,7,FALSE)),\"\")","v":""}]
[null,42,"42-PP",{"$f":"IFERROR(VLOOKUP(B54,'PP (C)'!$A$4:$H$51,3,FALSE),\"\")","v":""},{"$f":"IFERROR(IF(D54=\"\",\"\",VLOOKUP(B54,'PP (C)'!$A$4:$H$51,2,FALSE)),\"\")","v":""},{"$f":"IFERROR(IF(D54=\"\",\"\",VLOOKUP(B54,'PP (C)'!$A$4:$H$51,4,FALSE)),\"\")","v":""},{"$f":"IFERROR(IF(D54=\"\",\"\",VLOOKUP(B54,'PP (C)'!$A$4:$H$51,5,FALSE)),\"\")","v":""},{"$f":"IFERROR(IF(D54=\"\",\"\",VLOOKUP(B54,'PP (C)'!$A$4:$H$51,6,FALSE)),\"\")","v":""},{"$f":"IFERROR(IF(D54=\"\",\"\",VLOOKUP(B54,'PP (C)'!$A$4:$H$51,7,FALSE)),\"\")","v":""}]
[null,43,"43-PP",{"$f":"IFERROR(VLOOKUP(B55,'PP (C)'!$A$4:$H$51,3,FALSE),\"\")","v":""},{"$f":"IFERROR(IF(D55=\"\",\"\",VLOOKUP(B55,'PP (C)'!$A$4:$H$51,2,FALSE)),\"\")","v":""},{"$f":"IFERROR(IF(D55=\"\",\"\",VLOOKUP(B55,'PP (C)'!$A$4:$H$51,4,FALSE)),\"\")","v":""},{"$f":"IFERROR(IF(D55=\"\",\"\",VLOOKUP(B55,'PP (C)'!$A$4:$H$51,5,FALSE)),\"\")","v":""},{"$f":"IFERROR(IF(D55=\"\",\"\",VLOOKUP(B55,'PP (C)'!$A$4:$H$51,6,FALSE)),\"\")","v":""},{"$f":"IFERROR(IF(D55=\"\",\"\",VLOOKUP(B55,'PP (C)'!$A$4:$H$51,7,FALSE)),\"\")","v":""}]
[null,44,"44-PP",{"$f":"IFERROR(VLOOKUP(B56,'PP (C)'!$A$4:$H$51,3,FALSE),\"\")","v":""},{"$f":"IFERROR(IF(D56=\"\",\"\",VLOOKUP(B56,'PP (C)'!$A$4:$H$51,2,FALSE)),\"\")","v":""},{"$f":"IFERROR(IF(D56=\"\",\"\",VLOOKUP(B56,'PP (C)'!$A$4:$H$51,4,FALSE)),\"\")","v":""},{"$f":"IFERROR(IF(D56=\"\",\"\",VLOOKUP(B56,'PP (C)'!$A$4:$H$51,5,FALSE)),\"\")","v":""},{"$f":"IFERROR(IF(D56=\"\",\"\",VLOOKUP(B56,'PP (C)'!$A$4:$H$51,6,FALSE)),\"\")","v":""},{"$f":"IFERROR(IF(D56=\"\",\"\",VLOOKUP(B56,'PP (C)'!$A$4:$H$51,7,FALSE)),\"\")","v":""}]
[null,45,"45-PP",{"$f":"IFERROR(VLOOKUP(B57,'PP (C)'!$A$4:$H$51,3,FALSE),\"\")","v":""},{"$f":"IFERROR(IF(D57=\"\",\"\",VLOOKUP(B57,'PP (C)'!$A$4:$H$51,2,FALSE)),\"\")","v":""},{"$f":"IFERROR(IF(D57=\"\",\"\",VLOOKUP(B57,'PP (C)'!$A$4:$H$51,4,FALSE)),\"\")","v":""},{"$f":"IFERROR(IF(D57=\"\",\"\",VLOOKUP(B57,'PP (C)'!$A$4:$H$51,5,FALSE)),\"\")","v":""},{"$f":"IFERROR(IF(D57=\"\",\"\",VLOOKUP(B57,'PP (C)'!$A$4:$H$51,6,FALSE)),\"\")","v":""},{"$f":"IFERROR(IF(D57=\"\",\"\",VLOOKUP(B57,'PP (C)'!$A$4:$H$51,7,FALSE)),\"\")","v":""}]
[null,46,"46-PP",{"$f":"IFERROR(VLOOKUP(B58,'PP (C)'!$A$4:$H$51,3,FALSE),\"\")","v":""},{"$f":"IFERROR(IF(D58=\"\",\"\",VLOOKUP(B58,'PP (C)'!$A$4:$H$51,2,FALSE)),\"\")","v":""},{"$f":"IFERROR(IF(D58=\"\",\"\",VLOOKUP(B58,'PP (C)'!$A$4:$H$51,4,FALSE)),\"\")","v":""},{"$f":"IFERROR(IF(D58=\"\",\"\",VLOOKUP(B58,'PP (C)'!$A$4:$H$51,5,FALSE)),\"\")","v":""},{"$f":"IFERROR(IF(D58=\"\",\"\",VLOOKUP(B58,'PP (C)'!$A$4:$H$51,6,FALSE)),\"\")","v":""},{"$f":"IFERROR(IF(D58=\"\",\"\",VLOOKUP(B58,'PP (C)'!$A$4:$H$51,7,FALSE)),\"\")","v":""}]
[null,47,"47-PP",{"$f":"IFERROR(VLOOKUP(B59,'PP (C)'!$A$4:$H$51,3,FALSE),\"\")","v":""},{"$f":"IFERROR(IF(D59=\"\",\"\",VLOOKUP(B59,'PP (C)'!$A$4:$H$51,2,FALSE)),\"\")","v":""},{"$f":"IFERROR(IF(D59=\"\",\"\",VLOOKUP(B59,'PP (C)'!$A$4:$H$51,4,FALSE)),\"\")","v":""},{"$f":"IFERROR(IF(D59=\"\",\"\",VLOOKUP(B59,'PP (C)'!$A$4:$H$51,5,FALSE)),\"\")","v":""},{"$f":"IFERROR(IF(D59=\"\",\"\",VLOOKUP(B59,'PP (C)'!$A$4:$H$51,6,FALSE)),\"\")","v":""},{"$f":"IFERROR(IF(D59=\"\",\"\",VLOOKUP(B59,'PP (C)'!$A$4:$H$51,7,FALSE)),\"\")","v":""}]
[null,48,"48-PP",{"$f":"IFERROR(VLOOKUP(B60,'PP (C)'!$A$4:$H$51,3,FALSE),\"\")","v":""},{"$f":"IFERROR(IF(D60=\"\",\"\",VLOOKUP(B60,'PP (C)'!$A$4:$H$51,2,FALSE)),\"\")","v":""},{"$f":"IFERROR(IF(D60=\"\",\"\",VLOOKUP(B60,'PP (C)'!$A$4:$H$51,4,FALSE)),\"\")","v":""},{"$f":"IFERROR(IF(D60=\"\",\"\",VLOOKUP(B60,'PP (C)'!$A$4:$H$51,5,FALSE)),\"\")","v":""},{"$f":"IFERROR(IF(D60=\"\",\"\",VLOOKUP(B60,'PP (C)'!$A$4:$H$51,6,FALSE)),\"\")","v":""},{"$f":"IFERROR(IF(D60=\"\",\"\",VLOOKUP(B60,'PP (C)'!$A$4:$H$51,7,FALSE)),\"\")","v":""}]

{"sheet":"Grups P","index":15,"n_rows":40,"n_cols":18,"rows_kept":40,"cut":false,"hidden":false,"merged":[[1,16,1,17],[29,6,31,6],[33,6,35,6],[37,6,39,6],[33,2,35,2],[37,2,39,2],[29,2,31,2],[1,1,1,8],[1,9,5,9],[2,5,5,8],[7,1,7,9],[25,6,27,6],[9,6,11,6],[13,6,15,6],[17,6,19,6],[21,6,23,6],[9,2,11,2],[13,2,15,2],[17,2,19,2],[21,2,23,2],[25,2,27,2]]}
[]
[null,{"$f":"IF(Inici!B2=\"INTRODUIR EN MAIÚSCULES EL NOM DE L'OPEN\",\"Introduiu el nom de l'Open a la pantalla d'Inici!!!\",Inici!B2)","v":"Introduiu el nom de l'Open a la pantalla d'Inici!!!"},null,null,null,null,null,null,null,null,null,null,"ANAR A PÀGINA","P-P-PRÈVIA","P-PRÈVIA","PRÈVIA","FASE FINAL"]
[null,null,null,null,null,null,null,null,null,null,null,null,"Rànquing Inicial","Grups PPP","Grups PP","Grups P","Setzens","Vuitens"]
[null,null,null,null,null,null,null,null,null,null,null,null,"Organigrama","Result PPP","Result PP","Result P","Class SF","Quarts/SF/F"]
[null,null,null,null,null,null,null,null,null,null,null,null,"Horaris","Classif PPP","Classif PP","Classif P"]
[]
[]
[null,{"$f":"IF('Rànquing Inicial'!$D$141<33,\"NO HI HA PRÈVIA\",\"PRÈVIA (P)\")","v":"PRÈVIA (P)"},null,null,null,null,null,null,null,null,null,null,"Inici","Participants"]
[]
[null,null,{"$f":"IF('Rànquing Inicial'!$D$141<33,\"\",\"Grup A\")","v":"Grup A"},{"$f":"Organigrama!B29","v":19},{"$f":"IF(D10=\"\",\"\",IF(AND(D10>0,D10<129),VLOOKUP(D10,'Rànquing Inicial'!$B$11:$G$138,2,FALSE),VLOOKUP(D10,'Classificació PP'!$C$13:$I$60,2,FALSE)))","v":"JUGADOR 19"},null,{"$f":"IF('Rànquing Inicial'!$D$144<27,\"\",\"Grup I\")","v":""},{"$f":"Organigrama!J29","v":""},{"$f":"IF(H10=\"\",\"\",IF(AND(H10>0,H10<129),VLOOKUP(H10,'Rànquing Inicial'!$B$11:$G$138,2,FALSE),VLOOKUP(H10,'Classificació PP'!$C$13:$I$60,2,FALSE)))","v":""}]
[null,null,null,{"$f":"Organigrama!B30","v":34},{"$f":"IF(D11=\"\",\"\",IF(AND(D11>0,D11<129),VLOOKUP(D11,'Rànquing Inicial'!$B$11:$G$138,2,FALSE),VLOOKUP(D11,'Classificació PP'!$C$13:$I$60,2,FALSE)))","v":"JUGADOR 34"},null,null,{"$f":"Organigrama!J30","v":""},{"$f":"IF(H11=\"\",\"\",IF(AND(H11>0,H11<129),VLOOKUP(H11,'Rànquing Inicial'!$B$11:$G$138,2,FALSE),VLOOKUP(H11,'Classificació PP'!$C$13:$I$60,2,FALSE)))","v":""}]
[null,null,null,{"$f":"Organigrama!B31","v":42},{"$f":"IFERROR(IF(D12=\"\",\"\",IF(AND(D12>0,D12<129),VLOOKUP(D12,'Rànquing Inicial'!$B$11:$G$138,2,FALSE),VLOOKUP(D12,'Classificació PP'!$C$13:$I$60,2,FALSE))),\"\")","v":"JUGADOR 42"},null,null,{"$f":"Organigrama!J31","v":""},{"$f":"IFERROR(IF(H12=\"\",\"\",IF(AND(H12>0,H12<129),VLOOKUP(H12,'Rànquing Inicial'!$B$11:$G$138,2,FALSE),VLOOKUP(H12,'Classificació PP'!$C$13:$I$60,2,FALSE))),\"\")","v":""}]
[]
[null,null,{"$f":"IF('Rànquing Inicial'!$D$141<33,\"\",\"Grup B\")","v":"Grup B"},{"$f":"Organigrama!C29","v":20},{"$f":"IF(D14=\"\",\"\",IF(AND(D14>0,D14<129),VLOOKUP(D14,'Rànquing Inicial'!$B$11:$G$138,2,FALSE),VLOOKUP(D14,'Classificació PP'!$C$13:$I$60,2,FALSE)))","v":"JUGADOR 20"},null,{"$f":"IF('Rànquing Inicial'!$D$144<30,\"\",\"Grup J\")","v":""},{"$f":"Organigrama!K29","v":""},{"$f":"IF(H14=\"\",\"\",IF(AND(H14>0,H14<129),VLOOKUP(H14,'Rànquing Inicial'!$B$11:$G$138,2,FALSE),VLOOKUP(H14,'Classificació PP'!$C$13:$I$60,2,FALSE)))","v":""}]
[null,null,null,{"$f":"Organigrama!C30","v":33},{"$f":"IF(D15=\"\",\"\",IF(AND(D15>0,D15<129),VLOOKUP(D15,'Rànquing Inicial'!$B$11:$G$138,2,FALSE),VLOOKUP(D15,'Classificació PP'!$C$13:$I$60,2,FALSE)))","v":"JUGADOR 33"},null,null,{"$f":"Organigrama!K30","v":""},{"$f":"IF(H15=\"\",\"\",IF(AND(H15>0,H15<129),VLOOKUP(H15,'Rànquing Inicial'!$B$11:$G$138,2,FALSE),VLOOKUP(H15,'Classificació PP'!$C$13:$I$60,2,FALSE)))","v":""}]
[null,null,null,{"$f":"Organigrama!C31","v":41},{"$f":"IFERROR(IF(D16=\"\",\"\",IF(AND(D16>0,D16<129),VLOOKUP(D16,'Rànquing Inicial'!$B$11:$G$138,2,FALSE),VLOOKUP(D16,'Classificació PP'!$C$13:$I$60,2,FALSE))),\"\")","v":"JUGADOR 41"},null,null,{"$f":"Organigrama!K31","v":""},{"$f":"IFERROR(IF(H16=\"\",\"\",IF(AND(H16>0,H16<129),VLOOKUP(H16,'Rànquing Inicial'!$B$11:$G$138,2,FALSE),VLOOKUP(H16,'Classificació PP'!$C$13:$I$60,2,FALSE))),\"\")","v":""}]
[]
[null,null,{"$f":"IF('Rànquing Inicial'!$D$141<33,\"\",\"Grup C\")","v":"Grup C"},{"$f":"Organigrama!D29","v":21},{"$f":"IF(D18=\"\",\"\",IF(AND(D18>0,D18<129),VLOOKUP(D18,'Rànquing Inicial'!$B$11:$G$138,2,FALSE),VLOOKUP(D18,'Classificació PP'!$C$13:$I$60,2,FALSE)))","v":"JUGADOR 21"},null,{"$f":"IF('Rànquing Inicial'!$D$144<33,\"\",\"Grup K\")","v":""},{"$f":"Organigrama!L29","v":""},{"$f":"IF(H18=\"\",\"\",IF(AND(H18>0,H18<129),VLOOKUP(H18,'Rànquing Inicial'!$B$11:$G$138,2,FALSE),VLOOKUP(H18,'Classificació PP'!$C$13:$I$60,2,FALSE)))","v":""}]
[null,null,null,{"$f":"Organigrama!D30","v":32},{"$f":"IF(D19=\"\",\"\",IF(AND(D19>0,D19<129),VLOOKUP(D19,'Rànquing Inicial'!$B$11:$G$138,2,FALSE),VLOOKUP(D19,'Classificació PP'!$C$13:$I$60,2,FALSE)))","v":"JUGADOR 32"},null,null,{"$f":"Organigrama!L30","v":""},{"$f":"IF(H19=\"\",\"\",IF(AND(H19>0,H19<129),VLOOKUP(H19,'Rànquing Inicial'!$B$11:$G$138,2,FALSE),VLOOKUP(H19,'Classificació PP'!$C$13:$I$60,2,FALSE)))","v":""}]
[null,null,null,{"$f":"Organigrama!D31","v":40},{"$f":"IFERROR(IF(D20=\"\",\"\",IF(AND(D20>0,D20<129),VLOOKUP(D20,'Rànquing Inicial'!$B$11:$G$138,2,FALSE),VLOOKUP(D20,'Classificació PP'!$C$13:$I$60,2,FALSE))),\"\")","v":"JUGADOR 40"},null,null,{"$f":"Organigrama!L31","v":""},{"$f":"IFERROR(IF(H20=\"\",\"\",IF(AND(H20>0,H20<129),VLOOKUP(H20,'Rànquing Inicial'!$B$11:$G$138,2,FALSE),VLOOKUP(H20,'Classificació PP'!$C$13:$I$60,2,FALSE))),\"\")","v":""}]
[]
[null,null,{"$f":"IF('Rànquing Inicial'!$D$141<33,\"\",\"Grup D\")","v":"Grup D"},{"$f":"Organigrama!E29","v":22},{"$f":"IF(D22=\"\",\"\",IF(AND(D22>0,D22<129),VLOOKUP(D22,'Rànquing Inicial'!$B$11:$G$138,2,FALSE),VLOOKUP(D22,'Classificació PP'!$C$13:$I$60,2,FALSE)))","v":"JUGADOR 22"},null,{"$f":"IF('Rànquing Inicial'!$D$144<36,\"\",\"Grup L\")","v":""},{"$f":"Organigrama!M29","v":""},{"$f":"IF(H22=\"\",\"\",IF(AND(H22>0,H22<129),VLOOKUP(H22,'Rànquing Inicial'!$B$11:$G$138,2,FALSE),VLOOKUP(H22,'Classificació PP'!$C$13:$I$60,2,FALSE)))","v":""}]
[null,null,null,{"$f":"Organigrama!E30","v":31},{"$f":"IF(D23=\"\",\"\",IF(AND(D23>0,D23<129),VLOOKUP(D23,'Rànquing Inicial'!$B$11:$G$138,2,FALSE),VLOOKUP(D23,'Classificació PP'!$C$13:$I$60,2,FALSE)))","v":"JUGADOR 31"},null,null,{"$f":"Organigrama!M30","v":""},{"$f":"IF(H23=\"\",\"\",IF(AND(H23>0,H23<129),VLOOKUP(H23,'Rànquing Inicial'!$B$11:$G$138,2,FALSE),VLOOKUP(H23,'Classificació PP'!$C$13:$I$60,2,FALSE)))","v":""}]
[null,null,null,{"$f":"Organigrama!E31","v":39},{"$f":"IFERROR(IF(D24=\"\",\"\",IF(AND(D24>0,D24<129),VLOOKUP(D24,'Rànquing Inicial'!$B$11:$G$138,2,FALSE),VLOOKUP(D24,'Classificació PP'!$C$13:$I$60,2,FALSE))),\"\")","v":"JUGADOR 39"},null,null,{"$f":"Organigrama!M31","v":""},{"$f":"IFERROR(IF(H24=\"\",\"\",IF(AND(H24>0,H24<129),VLOOKUP(H24,'Rànquing Inicial'!$B$11:$G$138,2,FALSE),VLOOKUP(H24,'Classificació PP'!$C$13:$I$60,2,FALSE))),\"\")","v":""}]
[]
[null,null,{"$f":"IF('Rànquing Inicial'!$D$144<15,\"\",\"Grup E\")","v":"Grup E"},{"$f":"Organigrama!F29","v":23},{"$f":"IF(D26=\"\",\"\",IF(AND(D26>0,D26<129),VLOOKUP(D26,'Rànquing Inicial'!$B$11:$G$138,2,FALSE),VLOOKUP(D26,'Classificació PP'!$C$13:$I$60,2,FALSE)))","v":"JUGADOR 23"},null,{"$f":"IF('Rànquing Inicial'!$D$144<39,\"\",\"Grup M\")","v":""},{"$f":"Organigrama!N29","v":""},{"$f":"IF(H26=\"\",\"\",IF(AND(H26>0,H26<129),VLOOKUP(H26,'Rànquing Inicial'!$B$11:$G$138,2,FALSE),VLOOKUP(H26,'Classificació PP'!$C$13:$I$60,2,FALSE)))","v":""}]
[null,null,null,{"$f":"Organigrama!F30","v":30},{"$f":"IF(D27=\"\",\"\",IF(AND(D27>0,D27<129),VLOOKUP(D27,'Rànquing Inicial'!$B$11:$G$138,2,FALSE),VLOOKUP(D27,'Classificació PP'!$C$13:$I$60,2,FALSE)))","v":"JUGADOR 30"},null,null,{"$f":"Organigrama!N30","v":""},{"$f":"IF(H27=\"\",\"\",IF(AND(H27>0,H27<129),VLOOKUP(H27,'Rànquing Inicial'!$B$11:$G$138,2,FALSE),VLOOKUP(H27,'Classificació PP'!$C$13:$I$60,2,FALSE)))","v":""}]
[null,null,null,{"$f":"Organigrama!F31","v":38},{"$f":"IFERROR(IF(D28=\"\",\"\",IF(AND(D28>0,D28<129),VLOOKUP(D28,'Rànquing Inicial'!$B$11:$G$138,2,FALSE),VLOOKUP(D28,'Classificació PP'!$C$13:$I$60,2,FALSE))),\"\")","v":"JUGADOR 38"},null,null,{"$f":"Organigrama!N31","v":""},{"$f":"IFERROR(IF(H28=\"\",\"\",IF(AND(H28>0,H28<129),VLOOKUP(H28,'Rànquing Inicial'!$B$11:$G$138,2,FALSE),VLOOKUP(H28,'Classificació PP'!$C$13:$I$60,2,FALSE))),\"\")","v":""}]
[]
[null,null,{"$f":"IF('Rànquing Inicial'!$D$144<18,\"\",\"Grup F\")","v":"Grup F"},{"$f":"Organigrama!G29","v":24},{"$f":"IF(D30=\"\",\"\",IF(AND(D30>0,D30<129),VLOOKUP(D30,'Rànquing Inicial'!$B$11:$G$138,2,FALSE),VLOOKUP(D30,'Classificació PP'!$C$13:$I$60,2,FALSE)))","v":"JUGADOR 24"},null,{"$f":"IF('Rànquing Inicial'!$D$144<42,\"\",\"Grup N\")","v":""},{"$f":"Organigrama!O29","v":""},{"$f":"IF(H30=\"\",\"\",IF(AND(H30>0,H30<129),VLOOKUP(H30,'Rànquing Inicial'!$B$11:$G$138,2,FALSE),VLOOKUP(H30,'Classificació PP'!$C$13:$I$60,2,FALSE)))","v":""}]
[null,null,null,{"$f":"Organigrama!G30","v":29},{"$f":"IF(D31=\"\",\"\",IF(AND(D31>0,D31<129),VLOOKUP(D31,'Rànquing Inicial'!$B$11:$G$138,2,FALSE),VLOOKUP(D31,'Classificació PP'!$C$13:$I$60,2,FALSE)))","v":"JUGADOR 29"},null,null,{"$f":"Organigrama!O30","v":""},{"$f":"IF(H31=\"\",\"\",IF(AND(H31>0,H31<129),VLOOKUP(H31,'Rànquing Inicial'!$B$11:$G$138,2,FALSE),VLOOKUP(H31,'Classificació PP'!$C$13:$I$60,2,FALSE)))","v":""}]
[null,null,null,{"$f":"Organigrama!G31","v":37},{"$f":"IFERROR(IF(D32=\"\",\"\",IF(AND(D32>0,D32<129),VLOOKUP(D32,'Rànquing Inicial'!$B$11:$G$138,2,FALSE),VLOOKUP(D32,'Classificació PP'!$C$13:$I$60,2,FALSE))),\"\")","v":"JUGADOR 37"},null,null,{"$f":"Organigrama!O31","v":""},{"$f":"IFERROR(IF(H32=\"\",\"\",IF(AND(H32>0,H32<129),VLOOKUP(H32,'Rànquing Inicial'!$B$11:$G$138,2,FALSE),VLOOKUP(H32,'Classificació PP'!$C$13:$I$60,2,FALSE))),\"\")","v":""}]
[]
[null,null,{"$f":"IF('Rànquing Inicial'!$D$144<21,\"\",\"Grup G\")","v":"Grup G"},{"$f":"Organigrama!H29","v":25},{"$f":"IF(D34=\"\",\"\",IF(AND(D34>0,D34<129),VLOOKUP(D34,'Rànquing Inicial'!$B$11:$G$138,2,FALSE),VLOOKUP(D34,'Classificació PP'!$C$13:$I$60,2,FALSE)))","v":"JUGADOR 25"},null,{"$f":"IF('Rànquing Inicial'!$D$144<45,\"\",\"Grup O\")","v":""},{"$f":"Organigrama!P29","v":""},{"$f":"IF(H34=\"\",\"\",IF(AND(H34>0,H34<129),VLOOKUP(H34,'Rànquing Inicial'!$B$11:$G$138,2,FALSE),VLOOKUP(H34,'Classificació PP'!$C$13:$I$60,2,FALSE)))","v":""}]
[null,null,null,{"$f":"Organigrama!H30","v":28},{"$f":"IF(D35=\"\",\"\",IF(AND(D35>0,D35<129),VLOOKUP(D35,'Rànquing Inicial'!$B$11:$G$138,2,FALSE),VLOOKUP(D35,'Classificació PP'!$C$13:$I$60,2,FALSE)))","v":"JUGADOR 28"},null,null,{"$f":"Organigrama!P30","v":""},{"$f":"IF(H35=\"\",\"\",IF(AND(H35>0,H35<129),VLOOKUP(H35,'Rànquing Inicial'!$B$11:$G$138,2,FALSE),VLOOKUP(H35,'Classificació PP'!$C$13:$I$60,2,FALSE)))","v":""}]
[null,null,null,{"$f":"Organigrama!H31","v":36},{"$f":"IFERROR(IF(D36=\"\",\"\",IF(AND(D36>0,D36<129),VLOOKUP(D36,'Rànquing Inicial'!$B$11:$G$138,2,FALSE),VLOOKUP(D36,'Classificació PP'!$C$13:$I$60,2,FALSE))),\"\")","v":"JUGADOR 36"},null,null,{"$f":"Organigrama!P31","v":""},{"$f":"IFERROR(IF(H36=\"\",\"\",IF(AND(H36>0,H36<129),VLOOKUP(H36,'Rànquing Inicial'!$B$11:$G$138,2,FALSE),VLOOKUP(H36,'Classificació PP'!$C$13:$I$60,2,FALSE))),\"\")","v":""}]
[]
[null,null,{"$f":"IF('Rànquing Inicial'!$D$144<24,\"\",\"Grup H\")","v":"Grup H"},{"$f":"Organigrama!I29","v":26},{"$f":"IF(D38=\"\",\"\",IF(AND(D38>0,D38<129),VLOOKUP(D38,'Rànquing Inicial'!$B$11:$G$138,2,FALSE),VLOOKUP(D38,'Classificació PP'!$C$13:$I$60,2,FALSE)))","v":"JUGADOR 26"},null,{"$f":"IF('Rànquing Inicial'!$D$144<48,\"\",\"Grup P\")","v":""},{"$f":"Organigrama!Q29","v":""},{"$f":"IF(H38=\"\",\"\",IF(AND(H38>0,H38<129),VLOOKUP(H38,'Rànquing Inicial'!$B$11:$G$138,2,FALSE),VLOOKUP(H38,'Classificació PP'!$C$13:$I$60,2,FALSE)))","v":""}]
[null,null,null,{"$f":"Organigrama!I30","v":27},{"$f":"IF(D39=\"\",\"\",IF(AND(D39>0,D39<129),VLOOKUP(D39,'Rànquing Inicial'!$B$11:$G$138,2,FALSE),VLOOKUP(D39,'Classificació PP'!$C$13:$I$60,2,FALSE)))","v":"JUGADOR 27"},null,null,{"$f":"Organigrama!Q30","v":""},{"$f":"IF(H39=\"\",\"\",IF(AND(H39>0,H39<129),VLOOKUP(H39,'Rànquing Inicial'!$B$11:$G$138,2,FALSE),VLOOKUP(H39,'Classificació PP'!$C$13:$I$60,2,FALSE)))","v":""}]
[null,null,null,{"$f":"Organigrama!I31","v":35},{"$f":"IFERROR(IF(D40=\"\",\"\",IF(AND(D40>0,D40<129),VLOOKUP(D40,'Rànquing Inicial'!$B$11:$G$138,2,FALSE),VLOOKUP(D40,'Classificació PP'!$C$13:$I$60,2,FALSE))),\"\")","v":"JUGADOR 35"},null,null,{"$f":"Organigrama!Q31","v":""},{"$f":"IFERROR(IF(H40=\"\",\"\",IF(AND(H40>0,H40<129),VLOOKUP(H40,'Rànquing Inicial'!$B$11:$G$138,2,FALSE),VLOOKUP(H40,'Classificació PP'!$C$13:$I$60,2,FALSE))),\"\")","v":""}]

{"sheet":"Resultats P","index":16,"n_rows":247,"n_cols":26,"rows_kept":247,"cut":false,"hidden":false,"merged":[[0,17,0,18],[219,1,226,3],[234,1,241,3],[159,1,166,3],[204,1,211,3],[0,1,0,9],[0,10,4,11],[1,5,4,9],[174,1,181,3],[189,1,196,3],[6,1,6,11],[9,1,16,3],[24,1,31,3],[39,1,46,3],[54,1,61,3],[69,1,76,3],[84,1,91,3],[99,1,106,3],[114,1,121,3],[129,1,136,3],[144,1,151,3]]}
[null,{"$f":"IF(Inici!B2=\"INTRODUIR EN MAIÚSCULES EL NOM DE L'OPEN\",\"Introduiu el nom de l'Open a la pantalla d'Inici!!!\",Inici!B2)","v":"Introduiu el nom de l'Open a la pantalla d'Inici!!!"},null,null,null,null,null,null,null,null,null,null,null,"ANAR A PÀGINA","P-P-PRÈVIA","P-PRÈVIA","PRÈVIA","FASE FINAL"]
[null,null,null,null,null,null,null,null,null,null,null,null,null,"Rànquing Inicial","Grups PPP","Grups PP","Grups P","Setzens","Vuitens"]
[null,null,null,null,null,null,null,null,null,null,null,null,null,"Organigrama","Result PPP","Result PP","Result P","Class SF","Quarts/SF/F"]
[null,null,null,null,null,null,null,null,null,null,null,null,null,"Horaris","Classif PPP","Classif PP","Classif P"]
[]
[]
[null,{"$f":"IF('Rànquing Inicial'!$D$141<33,\"NO HI HA PRÈVIA\",\"RESULTATS PRÈVIA (P)\")","v":"RESULTATS PRÈVIA (P)"}]
[]
[null,null,null,null,null,"Boles","Ent","Mitj","SM1","SM2","Punts"]
[null,{"$f":"IF('Rànquing Inicial'!$D$141<33,\"\",\"Grup A\")","v":"Grup A"},null,null,{"$f":"IF(D19>1,\"\",IF(OR(B21=TRUE,B22=TRUE),E20,E21))","v":"JUGADOR 34"},null,null,{"$f":"IF(G10=\"\",\"\",ROUND(F10/G10,3))","v":""},null,null,{"$f":"IF(H10=\"\",\"\",IF(F10>F11,2,IF(F10<F11,0,1)))","v":""}]
[null,null,null,null,{"$f":"IF(D19>1,\"\",IF(B22=TRUE,E21,E22))","v":"JUGADOR 42"},null,{"$f":"IF(G10=\"\",\"\",G10)","v":""},{"$f":"IF(G11=\"\",\"\",ROUND(F11/G11,3))","v":""},null,null,{"$f":"IF(H11=\"\",\"\",IF(F11>F10,2,IF(F11<F10,0,1)))","v":""}]
[]
[null,null,null,null,{"$f":"IF(D19>1,\"\",IF(B20=TRUE,E21,E20))","v":"JUGADOR 19"},null,null,{"$f":"IF(G13=\"\",\"\",ROUND(F13/G13,3))","v":""},null,null,{"$f":"IF(H13=\"\",\"\",IF(F13>F14,2,IF(F13<F14,0,1)))","v":""}]
[null,null,null,null,{"$f":"IF(D19>1,\"\",IF(B22=TRUE,E21,E22))","v":"JUGADOR 42"},null,{"$f":"IF(G13=\"\",\"\",G13)","v":""},{"$f":"IF(G14=\"\",\"\",ROUND(F14/G14,3))","v":""},null,null,{"$f":"IF(H14=\"\",\"\",IF(F14>F13,2,IF(F14<F13,0,1)))","v":""}]
[]
[null,null,null,null,{"$f":"IF(D19>1,\"\",IF(OR(B20=TRUE,B21=TRUE,B22=TRUE),\"\",E20))","v":"JUGADOR 19"},null,null,{"$f":"IF(G16=\"\",\"\",ROUND(F16/G16,3))","v":""},null,null,{"$f":"IF(H16=\"\",\"\",IF(F16>F17,2,IF(F16<F17,0,1)))","v":""}]
[null,null,null,null,{"$f":"IF(OR(B20=TRUE,B21=TRUE,B22=TRUE),\"\",E21)","v":"JUGADOR 34"},null,{"$f":"IF(G16=\"\",\"\",G16)","v":""},{"$f":"IF(G17=\"\",\"\",ROUND(F17/G17,3))","v":""},null,null,{"$f":"IF(H17=\"\",\"\",IF(F17>F16,2,IF(F17<F16,0,1)))","v":""}]
[]
[null,"W.O.",null,{"$f":"COUNTIF(B20:B22,\"VERDADERO\")","v":0},"Jugador","Boles","Ent","Mitj","SM1","SM2","P",{"$f":"B10","v":"Grup A"}]
[null,false,{"$f":"L20","v":0},{"$f":"'Grups P'!D10","v":19},{"$f":"'Grups P'!E10","v":"JUGADOR 19"},{"$f":"SUMIF(E10:E17,E20,F10:F17)","v":0},{"$f":"SUMIF(E10:E17,E20,G10:G17)","v":0},{"$f":"IF(B20=TRUE,0,IF(G20=0,0,ROUND(F20/G20,3)))","v":0},{"$f":"MAX(O20:Z20)","v":0},{"$f":"LARGE((O20:Z20),2)","v":0},{"$f":"SUMIF(E10:E17,E20,K10:K17)","v":0},{"$f":"IF(B20=TRUE,\"WO\",IF(AND(B21=TRUE,B22=TRUE),1,IF(N20=0,0,RANK(N20,N20:N22,0))))","v":0},{"$f":"IF(B10=\"\",0,IF(B20=TRUE,0+N20,3-L20+N20))","v":3},{"$f":"IF(OR(B20=TRUE,AND(B21=TRUE,B22=TRUE)),0.000000000048,K20*0.1+H20*0.01+I20*0.00000001+J20*0.00000000001)","v":0},{"$f":"IF(E10=E20,I10,0)","v":0},{"$f":"IF(E10=E20,J10,0)","v":0},{"$f":"IF(E11=E20,I11,0)","v":0},{"$f":"IF(E11=E20,J11,0)","v":0},{"$f":"IF(E13=E20,I13,0)","v":0},{"$f":"IF(E13=E20,J13,0)","v":0},{"$f":"IF(E14=E20,I14,0)","v":0},{"$f":"IF(E14=E20,J14,0)","v":0},{"$f":"IF(E16=E20,I16,0)","v":0},{"$f":"IF(E16=E20,J16,0)","v":0},{"$f":"IF(E17=E20,I17,0)","v":0},{"$f":"IF(E17=E20,J17,0)","v":0}]
[null,false,{"$f":"L21","v":0},{"$f":"'Grups P'!D11","v":34},{"$f":"'Grups P'!E11","v":"JUGADOR 34"},{"$f":"SUMIF(E10:E17,E21,F10:F17)","v":0},{"$f":"SUMIF(E10:E17,E21,G10:G17)","v":0},{"$f":"IF(B21=TRUE,0,IF(G21=0,0,ROUND(F21/G21,3)))","v":0},{"$f":"MAX(O21:Z21)","v":0},{"$f":"LARGE((O21:Z21),2)","v":0},{"$f":"SUMIF(E10:E17,E21,K10:K17)","v":0},{"$f":"IF(B21=TRUE,\"WO\",IF(AND(B20=TRUE,B22=TRUE),1,IF(N21=0,0,RANK(N21,N20:N22,0))))","v":0},{"$f":"IF(B10=\"\",0,IF(B21=TRUE,0+N21,3-L21+N21))","v":3},{"$f":"IF(OR(B21=TRUE,AND(B20=TRUE,B22=TRUE)),0.000000000017,K21*0.1+H21*0.01+I21*0.00000001+J21*0.00000000001)","v":0},{"$f":"IF(E10=E21,I10,0)","v":0},{"$f":"IF(E10=E21,J10,0)","v":0},{"$f":"IF(E11=E21,I11,0)","v":0},{"$f":"IF(E11=E21,J11,0)","v":0},{"$f":"IF(E13=E21,I13,0)","v":0},{"$f":"IF(E13=E21,J13,0)","v":0},{"$f":"IF(E14=E21,I14,0)","v":0},{"$f":"IF(E14=E21,J14,0)","v":0},{"$f":"IF(E16=E21,I16,0)","v":0},{"$f":"IF(E16=E21,J16,0)","v":0},{"$f":"IF(E17=E21,I17,0)","v":0},{"$f":"IF(E17=E21,J17,0)","v":0}]
[null,false,{"$f":"L22","v":0},{"$f":"'Grups P'!D12","v":42},{"$f":"'Grups P'!E12","v":"JUGADOR 42"},{"$f":"SUMIF(E10:E17,E22,F10:F17)","v":0},{"$f":"SUMIF(E10:E17,E22,G10:G17)","v":0},{"$f":"IF(B22=TRUE,0,IF(G22=0,0,ROUND(F22/G22,3)))","v":0},{"$f":"MAX(O22:Z22)","v":0},{"$f":"LARGE((O22:Z22),2)","v":0},{"$f":"SUMIF(E10:E17,E22,K10:K17)","v":0},{"$f":"IF(B22=TRUE,\"WO\",IF(AND(B20=TRUE,B21=TRUE),1,IF(N22=0,0,RANK(N22,N20:N22,0))))","v":0},{"$f":"IF(B10=\"\",0,IF(B22=TRUE,0+N22,3-L22+N22))","v":3},{"$f":"IF(OR(B22=TRUE,AND(B20=TRUE,B21=TRUE)),0.000000000001,K22*0.1+H22*0.01+I22*0.00000001+J22*0.00000000001)","v":0},{"$f":"IF(E10=E22,I10,0)","v":0},{"$f":"IF(E10=E22,J10,0)","v":0},{"$f":"IF(E11=E22,I11,0)","v":0},{"$f":"IF(E11=E22,J11,0)","v":0},{"$f":"IF(E13=E22,I13,0)","v":0},{"$f":"IF(E13=E22,J13,0)","v":0},{"$f":"IF(E14=E22,I14,0)","v":0},{"$f":"IF(E14=E22,J14,0)","v":0},{"$f":"IF(E16=E22,I16,0)","v":0},{"$f":"IF(E16=E22,J16,0)","v":0},{"$f":"IF(E17=E22,I17,0)","v":0},{"$f":"IF(E17=E22,J17,0)","v":0}]
[]
[null,null,null,null,null,"Boles","Ent","Mitj","SM1","SM2","Punts"]
[null,{"$f":"IF('Rànquing Inicial'!$D$141<33,\"\",\"Grup B\")","v":"Grup B"},null,null,{"$f":"IF(D34>1,\"\",IF(OR(B36=TRUE,B37=TRUE),E35,E36))","v":"JUGADOR 33"},null,null,{"$f":"IF(G25=\"\",\"\",ROUND(F25/G25,3))","v":""},null,null,{"$f":"IF(H25=\"\",\"\",IF(F25>F26,2,IF(F25<F26,0,1)))","v":""}]
[null,null,null,null,{"$f":"IF(D34>1,\"\",IF(B37=TRUE,E36,E37))","v":"JUGADOR 41"},null,{"$f":"IF(G25=\"\",\"\",G25)","v":""},{"$f":"IF(G26=\"\",\"\",ROUND(F26/G26,3))","v":""},null,null,{"$f":"IF(H26=\"\",\"\",IF(F26>F25,2,IF(F26<F25,0,1)))","v":""}]
[]
[null,null,null,null,{"$f":"IF(D34>1,\"\",IF(B35=TRUE,E36,E35))","v":"JUGADOR 20"},null,null,{"$f":"IF(G28=\"\",\"\",ROUND(F28/G28,3))","v":""},null,null,{"$f":"IF(H28=\"\",\"\",IF(F28>F29,2,IF(F28<F29,0,1)))","v":""}]
[null,null,null,null,{"$f":"IF(D34>1,\"\",IF(B37=TRUE,E36,E37))","v":"JUGADOR 41"},null,{"$f":"IF(G28=\"\",\"\",G28)","v":""},{"$f":"IF(G29=\"\",\"\",ROUND(F29/G29,3))","v":""},null,null,{"$f":"IF(H29=\"\",\"\",IF(F29>F28,2,IF(F29<F28,0,1)))","v":""}]
[]
[null,null,null,null,{"$f":"IF(D34>1,\"\",IF(OR(B35=TRUE,B36=TRUE,B37=TRUE),\"\",E35))","v":"JUGADOR 20"},null,null,{"$f":"IF(G31=\"\",\"\",ROUND(F31/G31,3))","v":""},null,null,{"$f":"IF(H31=\"\",\"\",IF(F31>F32,2,IF(F31<F32,0,1)))","v":""}]
[null,null,null,null,{"$f":"IF(OR(B35=TRUE,B36=TRUE,B37=TRUE),\"\",E36)","v":"JUGADOR 33"},null,{"$f":"IF(G31=\"\",\"\",G31)","v":""},{"$f":"IF(G32=\"\",\"\",ROUND(F32/G32,3))","v":""},null,null,{"$f":"IF(H32=\"\",\"\",IF(F32>F31,2,IF(F32<F31,0,1)))","v":""}]
[]
[null,"¿WO?",null,{"$f":"COUNTIF(B35:B37,\"VERDADERO\")","v":0},"Jugador","Boles","Ent","Mitj","SM1","SM2","P",{"$f":"B25","v":"Grup B"}]
[null,false,{"$f":"L35","v":0},{"$f":"'Grups P'!D14","v":20},{"$f":"'Grups P'!E14","v":"JUGADOR 20"},{"$f":"SUMIF(E25:E32,E35,F25:F32)","v":0},{"$f":"SUMIF(E25:E32,E35,G25:G32)","v":0},{"$f":"IF(B35=TRUE,0,IF(G35=0,0,ROUND(F35/G35,3)))","v":0},{"$f":"MAX(O35:Z35)","v":0},{"$f":"LARGE((O35:Z35),2)","v":0},{"$f":"SUMIF(E25:E32,E35,K25:K32)","v":0},{"$f":"IF(B35=TRUE,\"WO\",IF(AND(B36=TRUE,B37=TRUE),1,IF(N35=0,0,RANK(N35,N35:N37,0))))","v":0},{"$f":"IF(B25=\"\",0,IF(B35=TRUE,0+N35,3-L35+N35))","v":3},{"$f":"IF(OR(B35=TRUE,AND(B36=TRUE,B37=TRUE)),0.000000000047,K35*0.1+H35*0.01+I35*0.00000001+J35*0.00000000001)","v":0},{"$f":"IF(E25=E35,I25,0)","v":0},{"$f":"IF(E25=E35,J25,0)","v":0},{"$f":"IF(E26=E35,I26,0)","v":0},{"$f":"IF(E26=E35,J26,0)","v":0},{"$f":"IF(E28=E35,I28,0)","v":0},{"$f":"IF(E28=E35,J28,0)","v":0},{"$f":"IF(E29=E35,I29,0)","v":0},{"$f":"IF(E29=E35,J29,0)","v":0},{"$f":"IF(E31=E35,I31,0)","v":0},{"$f":"IF(E31=E35,J31,0)","v":0},{"$f":"IF(E32=E35,I32,0)","v":0},{"$f":"IF(E32=E35,J32,0)","v":0}]
[null,false,{"$f":"L36","v":0},{"$f":"'Grups P'!D15","v":33},{"$f":"'Grups P'!E15","v":"JUGADOR 33"},{"$f":"SUMIF(E25:E32,E36,F25:F32)","v":0},{"$f":"SUMIF(E25:E32,E36,G25:G32)","v":0},{"$f":"IF(B36=TRUE,0,IF(G36=0,0,ROUND(F36/G36,3)))","v":0},{"$f":"MAX(O36:Z36)","v":0},{"$f":"LARGE((O36:Z36),2)","v":0},{"$f":"SUMIF(E25:E32,E36,K25:K32)","v":0},{"$f":"IF(B36=TRUE,\"WO\",IF(AND(B35=TRUE,B37=TRUE),1,IF(N36=0,0,RANK(N36,N35:N37,0))))","v":0},{"$f":"IF(B25=\"\",0,IF(B36=TRUE,0+N36,3-L36+N36))","v":3},{"$f":"IF(OR(B36=TRUE,AND(B35=TRUE,B37=TRUE)),0.000000000018,K36*0.1+H36*0.01+I36*0.00000001+J36*0.00000000001)","v":0},{"$f":"IF(E25=E36,I25,0)","v":0},{"$f":"IF(E25=E36,J25,0)","v":0},{"$f":"IF(E26=E36,I26,0)","v":0},{"$f":"IF(E26=E36,J26,0)","v":0},{"$f":"IF(E28=E36,I28,0)","v":0},{"$f":"IF(E28=E36,J28,0)","v":0},{"$f":"IF(E29=E36,I29,0)","v":0},{"$f":"IF(E29=E36,J29,0)","v":0},{"$f":"IF(E31=E36,I31,0)","v":0},{"$f":"IF(E31=E36,J31,0)","v":0},{"$f":"IF(E32=E36,I32,0)","v":0},{"$f":"IF(E32=E36,J32,0)","v":0}]
[null,false,{"$f":"L37","v":0},{"$f":"'Grups P'!D16","v":41},{"$f":"'Grups P'!E16","v":"JUGADOR 41"},{"$f":"SUMIF(E25:E32,E37,F25:F32)","v":0},{"$f":"SUMIF(E25:E32,E37,G25:G32)","v":0},{"$f":"IF(B37=TRUE,0,IF(G37=0,0,ROUND(F37/G37,3)))","v":0},{"$f":"MAX(O37:Z37)","v":0},{"$f":"LARGE((O37:Z37),2)","v":0},{"$f":"SUMIF(E25:E32,E37,K25:K32)","v":0},{"$f":"IF(B37=TRUE,\"WO\",IF(AND(B35=TRUE,B36=TRUE),1,IF(N37=0,0,RANK(N37,N35:N37,0))))","v":0},{"$f":"IF(B25=\"\",0,IF(B37=TRUE,0+N37,3-L37+N37))","v":3},{"$f":"IF(OR(B37=TRUE,AND(B35=TRUE,B36=TRUE)),0.000000000002,K37*0.1+H37*0.01+I37*0.00000001+J37*0.00000000001)","v":0},{"$f":"IF(E25=E37,I25,0)","v":0},{"$f":"IF(E25=E37,J25,0)","v":0},{"$f":"IF(E26=E37,I26,0)","v":0},{"$f":"IF(E26=E37,J26,0)","v":0},{"$f":"IF(E28=E37,I28,0)","v":0},{"$f":"IF(E28=E37,J28,0)","v":0},{"$f":"IF(E29=E37,I29,0)","v":0},{"$f":"IF(E29=E37,J29,0)","v":0},{"$f":"IF(E31=E37,I31,0)","v":0},{"$f":"IF(E31=E37,J31,0)","v":0},{"$f":"IF(E32=E37,I32,0)","v":0},{"$f":"IF(E32=E37,J32,0)","v":0}]
[]
[null,null,null,null,null,"Boles","Ent","Mitj","SM1","SM2","Punts"]
[null,{"$f":"IF('Rànquing Inicial'!$D$141<33,\"\",\"Grup C\")","v":"Grup C"},null,null,{"$f":"IF(D49>1,\"\",IF(OR(B51=TRUE,B52=TRUE),E50,E51))","v":"JUGADOR 32"},null,null,{"$f":"IF(G40=\"\",\"\",ROUND(F40/G40,3))","v":""},null,null,{"$f":"IF(H40=\"\",\"\",IF(F40>F41,2,IF(F40<F41,0,1)))","v":""}]
[null,null,null,null,{"$f":"IF(D49>1,\"\",IF(B52=TRUE,E51,E52))","v":"JUGADOR 40"},null,{"$f":"IF(G40=\"\",\"\",G40)","v":""},{"$f":"IF(G41=\"\",\"\",ROUND(F41/G41,3))","v":""},null,null,{"$f":"IF(H41=\"\",\"\",IF(F41>F40,2,IF(F41<F40,0,1)))","v":""}]
[]
[null,null,null,null,{"$f":"IF(D49>1,\"\",IF(B50=TRUE,E51,E50))","v":"JUGADOR 21"},null,null,{"$f":"IF(G43=\"\",\"\",ROUND(F43/G43,3))","v":""},null,null,{"$f":"IF(H43=\"\",\"\",IF(F43>F44,2,IF(F43<F44,0,1)))","v":""}]
[null,null,null,null,{"$f":"IF(D49>1,\"\",IF(B52=TRUE,E51,E52))","v":"JUGADOR 40"},null,{"$f":"IF(G43=\"\",\"\",G43)","v":""},{"$f":"IF(G44=\"\",\"\",ROUND(F44/G44,3))","v":""},null,null,{"$f":"IF(H44=\"\",\"\",IF(F44>F43,2,IF(F44<F43,0,1)))","v":""}]
[]
[null,null,null,null,{"$f":"IF(D49>1,\"\",IF(OR(B50=TRUE,B51=TRUE,B52=TRUE),\"\",E50))","v":"JUGADOR 21"},null,null,{"$f":"IF(G46=\"\",\"\",ROUND(F46/G46,3))","v":""},null,null,{"$f":"IF(H46=\"\",\"\",IF(F46>F47,2,IF(F46<F47,0,1)))","v":""}]
[null,null,null,null,{"$f":"IF(OR(B50=TRUE,B51=TRUE,B52=TRUE),\"\",E51)","v":"JUGADOR 32"},null,{"$f":"IF(G46=\"\",\"\",G46)","v":""},{"$f":"IF(G47=\"\",\"\",ROUND(F47/G47,3))","v":""},null,null,{"$f":"IF(H47=\"\",\"\",IF(F47>F46,2,IF(F47<F46,0,1)))","v":""}]
[]
[null,"¿WO?",null,{"$f":"COUNTIF(B50:B52,\"VERDADERO\")","v":0},"Jugador","Boles","Ent","Mitj","SM1","SM2","P",{"$f":"B40","v":"Grup C"}]
[null,false,{"$f":"L50","v":0},{"$f":"'Grups P'!D18","v":21},{"$f":"'Grups P'!E18","v":"JUGADOR 21"},{"$f":"SUMIF(E40:E47,E50,F40:F47)","v":0},{"$f":"SUMIF(E40:E47,E50,G40:G47)","v":0},{"$f":"IF(B50=TRUE,0,IF(G50=0,0,ROUND(F50/G50,3)))","v":0},{"$f":"MAX(O50:Z50)","v":0},{"$f":"LARGE((O50:Z50),2)","v":0},{"$f":"SUMIF(E40:E47,E50,K40:K47)","v":0},{"$f":"IF(B50=TRUE,\"WO\",IF(AND(B51=TRUE,B52=TRUE),1,IF(N50=0,0,RANK(N50,N50:N52,0))))","v":0},{"$f":"IF(B40=\"\",0,IF(B50=TRUE,0+N50,3-L50+N50))","v":3},{"$f":"IF(OR(B50=TRUE,AND(B51=TRUE,B52=TRUE)),0.000000000046,K50*0.1+H50*0.01+I50*0.00000001+J50*0.00000000001)","v":0},{"$f":"IF(E40=E50,I40,0)","v":0},{"$f":"IF(E40=E50,J40,0)","v":0},{"$f":"IF(E41=E50,I41,0)","v":0},{"$f":"IF(E41=E50,J41,0)","v":0},{"$f":"IF(E43=E50,I43,0)","v":0},{"$f":"IF(E43=E50,J43,0)","v":0},{"$f":"IF(E44=E50,I44,0)","v":0},{"$f":"IF(E44=E50,J44,0)","v":0},{"$f":"IF(E46=E50,I46,0)","v":0},{"$f":"IF(E46=E50,J46,0)","v":0},{"$f":"IF(E47=E50,I47,0)","v":0},{"$f":"IF(E47=E50,J47,0)","v":0}]
[null,false,{"$f":"L51","v":0},{"$f":"'Grups P'!D19","v":32},{"$f":"'Grups P'!E19","v":"JUGADOR 32"},{"$f":"SUMIF(E40:E47,E51,F40:F47)","v":0},{"$f":"SUMIF(E40:E47,E51,G40:G47)","v":0},{"$f":"IF(B51=TRUE,0,IF(G51=0,0,ROUND(F51/G51,3)))","v":0},{"$f":"MAX(O51:Z51)","v":0},{"$f":"LARGE((O51:Z51),2)","v":0},{"$f":"SUMIF(E40:E47,E51,K40:K47)","v":0},{"$f":"IF(B51=TRUE,\"WO\",IF(AND(B50=TRUE,B52=TRUE),1,IF(N51=0,0,RANK(N51,N50:N52,0))))","v":0},{"$f":"IF(B40=\"\",0,IF(B51=TRUE,0+N51,3-L51+N51))","v":3},{"$f":"IF(OR(B51=TRUE,AND(B50=TRUE,B52=TRUE)),0.000000000019,K51*0.1+H51*0.01+I51*0.00000001+J51*0.00000000001)","v":0},{"$f":"IF(E40=E51,I40,0)","v":0},{"$f":"IF(E40=E51,J40,0)","v":0},{"$f":"IF(E41=E51,I41,0)","v":0},{"$f":"IF(E41=E51,J41,0)","v":0},{"$f":"IF(E43=E51,I43,0)","v":0},{"$f":"IF(E43=E51,J43,0)","v":0},{"$f":"IF(E44=E51,I44,0)","v":0},{"$f":"IF(E44=E51,J44,0)","v":0},{"$f":"IF(E46=E51,I46,0)","v":0},{"$f":"IF(E46=E51,J46,0)","v":0},{"$f":"IF(E47=E51,I47,0)","v":0},{"$f":"IF(E47=E51,J47,0)","v":0}]
[null,false,{"$f":"L52","v":0},{"$f":"'Grups P'!D20","v":40},{"$f":"'Grups P'!E20","v":"JUGADOR 40"},{"$f":"SUMIF(E40:E47,E52,F40:F47)","v":0},{"$f":"SUMIF(E40:E47,E52,G40:G47)","v":0},{"$f":"IF(B52=TRUE,0,IF(G52=0,0,ROUND(F52/G52,3)))","v":0},{"$f":"MAX(O52:Z52)","v":0},{"$f":"LARGE((O52:Z52),2)","v":0},{"$f":"SUMIF(E40:E47,E52,K40:K47)","v":0},{"$f":"IF(B52=TRUE,\"WO\",IF(AND(B50=TRUE,B51=TRUE),1,IF(N52=0,0,RANK(N52,N50:N52,0))))","v":0},{"$f":"IF(B40=\"\",0,IF(B52=TRUE,0+N52,3-L52+N52))","v":3},{"$f":"IF(OR(B52=TRUE,AND(B50=TRUE,B51=TRUE)),0.000000000003,K52*0.1+H52*0.01+I52*0.00000001+J52*0.00000000001)","v":0},{"$f":"IF(E40=E52,I40,0)","v":0},{"$f":"IF(E40=E52,J40,0)","v":0},{"$f":"IF(E41=E52,I41,0)","v":0},{"$f":"IF(E41=E52,J41,0)","v":0},{"$f":"IF(E43=E52,I43,0)","v":0},{"$f":"IF(E43=E52,J43,0)","v":0},{"$f":"IF(E44=E52,I44,0)","v":0},{"$f":"IF(E44=E52,J44,0)","v":0},{"$f":"IF(E46=E52,I46,0)","v":0},{"$f":"IF(E46=E52,J46,0)","v":0},{"$f":"IF(E47=E52,I47,0)","v":0},{"$f":"IF(E47=E52,J47,0)","v":0}]
[]
[null,null,null,null,null,"Boles","Ent","Mitj","SM1","SM2","Punts"]
[null,{"$f":"IF('Rànquing Inicial'!$D$141<33,\"\",\"Grup D\")","v":"Grup D"},null,null,{"$f":"IF(D64>1,\"\",IF(OR(B66=TRUE,B67=TRUE),E65,E66))","v":"JUGADOR 31"},null,null,{"$f":"IF(G55=\"\",\"\",ROUND(F55/G55,3))","v":""},null,null,{"$f":"IF(H55=\"\",\"\",IF(F55>F56,2,IF(F55<F56,0,1)))","v":""}]
[null,null,null,null,{"$f":"IF(D64>1,\"\",IF(B67=TRUE,E66,E67))","v":"JUGADOR 39"},null,{"$f":"IF(G55=\"\",\"\",G55)","v":""},{"$f":"IF(G56=\"\",\"\",ROUND(F56/G56,3))","v":""},null,null,{"$f":"IF(H56=\"\",\"\",IF(F56>F55,2,IF(F56<F55,0,1)))","v":""}]
[]
[null,null,null,null,{"$f":"IF(D64>1,\"\",IF(B65=TRUE,E66,E65))","v":"JUGADOR 22"},null,null,{"$f":"IF(G58=\"\",\"\",ROUND(F58/G58,3))","v":""},null,null,{"$f":"IF(H58=\"\",\"\",IF(F58>F59,2,IF(F58<F59,0,1)))","v":""}]
[null,null,null,null,{"$f":"IF(D64>1,\"\",IF(B67=TRUE,E66,E67))","v":"JUGADOR 39"},null,{"$f":"IF(G58=\"\",\"\",G58)","v":""},{"$f":"IF(G59=\"\",\"\",ROUND(F59/G59,3))","v":""},null,null,{"$f":"IF(H59=\"\",\"\",IF(F59>F58,2,IF(F59<F58,0,1)))","v":""}]
[]
[null,null,null,null,{"$f":"IF(D64>1,\"\",IF(OR(B65=TRUE,B66=TRUE,B67=TRUE),\"\",E65))","v":"JUGADOR 22"},null,null,{"$f":"IF(G61=\"\",\"\",ROUND(F61/G61,3))","v":""},null,null,{"$f":"IF(H61=\"\",\"\",IF(F61>F62,2,IF(F61<F62,0,1)))","v":""}]
[null,null,null,null,{"$f":"IF(OR(B65=TRUE,B66=TRUE,B67=TRUE),\"\",E66)","v":"JUGADOR 31"},null,{"$f":"IF(G61=\"\",\"\",G61)","v":""},{"$f":"IF(G62=\"\",\"\",ROUND(F62/G62,3))","v":""},null,null,{"$f":"IF(H62=\"\",\"\",IF(F62>F61,2,IF(F62<F61,0,1)))","v":""}]
[]
[null,"¿WO?",null,{"$f":"COUNTIF(B65:B67,\"VERDADERO\")","v":0},"Jugador","Boles","Ent","Mitj","SM1","SM2","P",{"$f":"B55","v":"Grup D"}]
[null,false,{"$f":"L65","v":0},{"$f":"'Grups P'!D22","v":22},{"$f":"'Grups P'!E22","v":"JUGADOR 22"},{"$f":"SUMIF(E55:E62,E65,F55:F62)","v":0},{"$f":"SUMIF(E55:E62,E65,G55:G62)","v":0},{"$f":"IF(B65=TRUE,0,IF(G65=0,0,ROUND(F65/G65,3)))","v":0},{"$f":"MAX(O65:Z65)","v":0},{"$f":"LARGE((O65:Z65),2)","v":0},{"$f":"SUMIF(E55:E62,E65,K55:K62)","v":0},{"$f":"IF(B65=TRUE,\"WO\",IF(AND(B66=TRUE,B67=TRUE),1,IF(N65=0,0,RANK(N65,N65:N67,0))))","v":0},{"$f":"IF(B55=\"\",0,IF(B65=TRUE,0+N65,3-L65+N65))","v":3},{"$f":"IF(OR(B65=TRUE,AND(B66=TRUE,B67=TRUE)),0.000000000045,K65*0.1+H65*0.01+I65*0.00000001+J65*0.00000000001)","v":0},{"$f":"IF(E55=E65,I55,0)","v":0},{"$f":"IF(E55=E65,J55,0)","v":0},{"$f":"IF(E56=E65,I56,0)","v":0},{"$f":"IF(E56=E65,J56,0)","v":0},{"$f":"IF(E58=E65,I58,0)","v":0},{"$f":"IF(E58=E65,J58,0)","v":0},{"$f":"IF(E59=E65,I59,0)","v":0},{"$f":"IF(E59=E65,J59,0)","v":0},{"$f":"IF(E61=E65,I61,0)","v":0},{"$f":"IF(E61=E65,J61,0)","v":0},{"$f":"IF(E62=E65,I62,0)","v":0},{"$f":"IF(E62=E65,J62,0)","v":0}]
[null,false,{"$f":"L66","v":0},{"$f":"'Grups P'!D23","v":31},{"$f":"'Grups P'!E23","v":"JUGADOR 31"},{"$f":"SUMIF(E55:E62,E66,F55:F62)","v":0},{"$f":"SUMIF(E55:E62,E66,G55:G62)","v":0},{"$f":"IF(B66=TRUE,0,IF(G66=0,0,ROUND(F66/G66,3)))","v":0},{"$f":"MAX(O66:Z66)","v":0},{"$f":"LARGE((O66:Z66),2)","v":0},{"$f":"SUMIF(E55:E62,E66,K55:K62)","v":0},{"$f":"IF(B66=TRUE,\"WO\",IF(AND(B65=TRUE,B67=TRUE),1,IF(N66=0,0,RANK(N66,N65:N67,0))))","v":0},{"$f":"IF(B55=\"\",0,IF(B66=TRUE,0+N66,3-L66+N66))","v":3},{"$f":"IF(OR(B66=TRUE,AND(B65=TRUE,B67=TRUE)),0.00000000002,K66*0.1+H66*0.01+I66*0.00000001+J66*0.00000000001)","v":0},{"$f":"IF(E55=E66,I55,0)","v":0},{"$f":"IF(E55=E66,J55,0)","v":0},{"$f":"IF(E56=E66,I56,0)","v":0},{"$f":"IF(E56=E66,J56,0)","v":0},{"$f":"IF(E58=E66,I58,0)","v":0},{"$f":"IF(E58=E66,J58,0)","v":0},{"$f":"IF(E59=E66,I59,0)","v":0},{"$f":"IF(E59=E66,J59,0)","v":0},{"$f":"IF(E61=E66,I61,0)","v":0},{"$f":"IF(E61=E66,J61,0)","v":0},{"$f":"IF(E62=E66,I62,0)","v":0},{"$f":"IF(E62=E66,J62,0)","v":0}]
[null,false,{"$f":"L67","v":0},{"$f":"'Grups P'!D24","v":39},{"$f":"'Grups P'!E24","v":"JUGADOR 39"},{"$f":"SUMIF(E55:E62,E67,F55:F62)","v":0},{"$f":"SUMIF(E55:E62,E67,G55:G62)","v":0},{"$f":"IF(B67=TRUE,0,IF(G67=0,0,ROUND(F67/G67,3)))","v":0},{"$f":"MAX(O67:Z67)","v":0},{"$f":"LARGE((O67:Z67),2)","v":0},{"$f":"SUMIF(E55:E62,E67,K55:K62)","v":0},{"$f":"IF(B67=TRUE,\"WO\",IF(AND(B65=TRUE,B66=TRUE),1,IF(N67=0,0,RANK(N67,N65:N67,0))))","v":0},{"$f":"IF(B55=\"\",0,IF(B67=TRUE,0+N67,3-L67+N67))","v":3},{"$f":"IF(OR(B67=TRUE,AND(B65=TRUE,B66=TRUE)),0.000000000004,K67*0.1+H67*0.01+I67*0.00000001+J67*0.00000000001)","v":0},{"$f":"IF(E55=E67,I55,0)","v":0},{"$f":"IF(E55=E67,J55,0)","v":0},{"$f":"IF(E56=E67,I56,0)","v":0},{"$f":"IF(E56=E67,J56,0)","v":0},{"$f":"IF(E58=E67,I58,0)","v":0},{"$f":"IF(E58=E67,J58,0)","v":0},{"$f":"IF(E59=E67,I59,0)","v":0},{"$f":"IF(E59=E67,J59,0)","v":0},{"$f":"IF(E61=E67,I61,0)","v":0},{"$f":"IF(E61=E67,J61,0)","v":0},{"$f":"IF(E62=E67,I62,0)","v":0},{"$f":"IF(E62=E67,J62,0)","v":0}]
[]
[null,null,null,null,null,"Boles","Ent","Mitj","SM1","SM2","Punts"]
[null,{"$f":"IF('Rànquing Inicial'!$D$144>12,\"Grup E\",\"\")","v":"Grup E"},null,null,{"$f":"IF(D79>1,\"\",IF(OR(B81=TRUE,B82=TRUE),E80,E81))","v":"JUGADOR 30"},null,null,{"$f":"IF(G70=\"\",\"\",ROUND(F70/G70,3))","v":""},null,null,{"$f":"IF(H70=\"\",\"\",IF(F70>F71,2,IF(F70<F71,0,1)))","v":""}]
[null,null,null,null,{"$f":"IF(D79>1,\"\",IF(B82=TRUE,E81,E82))","v":"JUGADOR 38"},null,{"$f":"IF(G70=\"\",\"\",G70)","v":""},{"$f":"IF(G71=\"\",\"\",ROUND(F71/G71,3))","v":""},null,null,{"$f":"IF(H71=\"\",\"\",IF(F71>F70,2,IF(F71<F70,0,1)))","v":""}]
[]
[null,null,null,null,{"$f":"IF(D79>1,\"\",IF(B80=TRUE,E81,E80))","v":"JUGADOR 23"},null,null,{"$f":"IF(G73=\"\",\"\",ROUND(F73/G73,3))","v":""},null,null,{"$f":"IF(H73=\"\",\"\",IF(F73>F74,2,IF(F73<F74,0,1)))","v":""}]
[null,null,null,null,{"$f":"IF(D79>1,\"\",IF(B82=TRUE,E81,E82))","v":"JUGADOR 38"},null,{"$f":"IF(G73=\"\",\"\",G73)","v":""},{"$f":"IF(G74=\"\",\"\",ROUND(F74/G74,3))","v":""},null,null,{"$f":"IF(H74=\"\",\"\",IF(F74>F73,2,IF(F74<F73,0,1)))","v":""}]
[]
[null,null,null,null,{"$f":"IF(D79>1,\"\",IF(OR(B80=TRUE,B81=TRUE,B82=TRUE),\"\",E80))","v":"JUGADOR 23"},null,null,{"$f":"IF(G76=\"\",\"\",ROUND(F76/G76,3))","v":""},null,null,{"$f":"IF(H76=\"\",\"\",IF(F76>F77,2,IF(F76<F77,0,1)))","v":""}]
[null,null,null,null,{"$f":"IF(OR(B80=TRUE,B81=TRUE,B82=TRUE),\"\",E81)","v":"JUGADOR 30"},null,{"$f":"IF(G76=\"\",\"\",G76)","v":""},{"$f":"IF(G77=\"\",\"\",ROUND(F77/G77,3))","v":""},null,null,{"$f":"IF(H77=\"\",\"\",IF(F77>F76,2,IF(F77<F76,0,1)))","v":""}]
[]
[null,"¿WO?",null,{"$f":"COUNTIF(B80:B82,\"VERDADERO\")","v":0},"Jugador","Boles","Ent","Mitj","SM1","SM2","P",{"$f":"B70","v":"Grup E"}]
[null,false,{"$f":"L80","v":0},{"$f":"'Grups P'!D26","v":23},{"$f":"'Grups P'!E26","v":"JUGADOR 23"},{"$f":"SUMIF(E70:E77,E80,F70:F77)","v":0},{"$f":"SUMIF(E70:E77,E80,G70:G77)","v":0},{"$f":"IF(B80=TRUE,0,IF(G80=0,0,ROUND(F80/G80,3)))","v":0},{"$f":"MAX(O80:Z80)","v":0},{"$f":"LARGE((O80:Z80),2)","v":0},{"$f":"SUMIF(E70:E77,E80,K70:K77)","v":0},{"$f":"IF(B80=TRUE,\"WO\",IF(AND(B81=TRUE,B82=TRUE),1,IF(N80=0,0,RANK(N80,N80:N82,0))))","v":0},{"$f":"IF(B70=\"\",0,IF(B80=TRUE,0+N80,3-L80+N80))","v":3},{"$f":"IF(OR(B80=TRUE,AND(B81=TRUE,B82=TRUE)),0.000000000044,K80*0.1+H80*0.01+I80*0.00000001+J80*0.00000000001)","v":0},{"$f":"IF(E70=E80,I70,0)","v":0},{"$f":"IF(E70=E80,J70,0)","v":0},{"$f":"IF(E71=E80,I71,0)","v":0},{"$f":"IF(E71=E80,J71,0)","v":0},{"$f":"IF(E73=E80,I73,0)","v":0},{"$f":"IF(E73=E80,J73,0)","v":0},{"$f":"IF(E74=E80,I74,0)","v":0},{"$f":"IF(E74=E80,J74,0)","v":0},{"$f":"IF(E76=E80,I76,0)","v":0},{"$f":"IF(E76=E80,J76,0)","v":0},{"$f":"IF(E77=E80,I77,0)","v":0},{"$f":"IF(E77=E80,J77,0)","v":0}]
[null,false,{"$f":"L81","v":0},{"$f":"'Grups P'!D27","v":30},{"$f":"'Grups P'!E27","v":"JUGADOR 30"},{"$f":"SUMIF(E70:E77,E81,F70:F77)","v":0},{"$f":"SUMIF(E70:E77,E81,G70:G77)","v":0},{"$f":"IF(B81=TRUE,0,IF(G81=0,0,ROUND(F81/G81,3)))","v":0},{"$f":"MAX(O81:Z81)","v":0},{"$f":"LARGE((O81:Z81),2)","v":0},{"$f":"SUMIF(E70:E77,E81,K70:K77)","v":0},{"$f":"IF(B81=TRUE,\"WO\",IF(AND(B80=TRUE,B82=TRUE),1,IF(N81=0,0,RANK(N81,N80:N82,0))))","v":0},{"$f":"IF(B70=\"\",0,IF(B81=TRUE,0+N81,3-L81+N81))","v":3},{"$f":"IF(OR(B81=TRUE,AND(B80=TRUE,B82=TRUE)),0.000000000021,K81*0.1+H81*0.01+I81*0.00000001+J81*0.00000000001)","v":0},{"$f":"IF(E70=E81,I70,0)","v":0},{"$f":"IF(E70=E81,J70,0)","v":0},{"$f":"IF(E71=E81,I71,0)","v":0},{"$f":"IF(E71=E81,J71,0)","v":0},{"$f":"IF(E73=E81,I73,0)","v":0},{"$f":"IF(E73=E81,J73,0)","v":0},{"$f":"IF(E74=E81,I74,0)","v":0},{"$f":"IF(E74=E81,J74,0)","v":0},{"$f":"IF(E76=E81,I76,0)","v":0},{"$f":"IF(E76=E81,J76,0)","v":0},{"$f":"IF(E77=E81,I77,0)","v":0},{"$f":"IF(E77=E81,J77,0)","v":0}]
[null,false,{"$f":"L82","v":0},{"$f":"'Grups P'!D28","v":38},{"$f":"'Grups P'!E28","v":"JUGADOR 38"},{"$f":"SUMIF(E70:E77,E82,F70:F77)","v":0},{"$f":"SUMIF(E70:E77,E82,G70:G77)","v":0},{"$f":"IF(B82=TRUE,0,IF(G82=0,0,ROUND(F82/G82,3)))","v":0},{"$f":"MAX(O82:Z82)","v":0},{"$f":"LARGE((O82:Z82),2)","v":0},{"$f":"SUMIF(E70:E77,E82,K70:K77)","v":0},{"$f":"IF(B82=TRUE,\"WO\",IF(AND(B80=TRUE,B81=TRUE),1,IF(N82=0,0,RANK(N82,N80:N82,0))))","v":0},{"$f":"IF(B70=\"\",0,IF(B82=TRUE,0+N82,3-L82+N82))","v":3},{"$f":"IF(OR(B82=TRUE,AND(B80=TRUE,B81=TRUE)),0.000000000005,K82*0.1+H82*0.01+I82*0.00000001+J82*0.00000000001)","v":0},{"$f":"IF(E70=E82,I70,0)","v":0},{"$f":"IF(E70=E82,J70,0)","v":0},{"$f":"IF(E71=E82,I71,0)","v":0},{"$f":"IF(E71=E82,J71,0)","v":0},{"$f":"IF(E73=E82,I73,0)","v":0},{"$f":"IF(E73=E82,J73,0)","v":0},{"$f":"IF(E74=E82,I74,0)","v":0},{"$f":"IF(E74=E82,J74,0)","v":0},{"$f":"IF(E76=E82,I76,0)","v":0},{"$f":"IF(E76=E82,J76,0)","v":0},{"$f":"IF(E77=E82,I77,0)","v":0},{"$f":"IF(E77=E82,J77,0)","v":0}]
[]
[null,null,null,null,null,"Boles","Ent","Mitj","SM1","SM2","Punts"]
[null,{"$f":"IF('Rànquing Inicial'!$D$144>15,\"Grup F\",\"\")","v":"Grup F"},null,null,{"$f":"IF(D94>1,\"\",IF(OR(B96=TRUE,B97=TRUE),E95,E96))","v":"JUGADOR 29"},null,null,{"$f":"IF(G85=\"\",\"\",ROUND(F85/G85,3))","v":""},null,null,{"$f":"IF(H85=\"\",\"\",IF(F85>F86,2,IF(F85<F86,0,1)))","v":""}]
[null,null,null,null,{"$f":"IF(D94>1,\"\",IF(B97=TRUE,E96,E97))","v":"JUGADOR 37"},null,{"$f":"IF(G85=\"\",\"\",G85)","v":""},{"$f":"IF(G86=\"\",\"\",ROUND(F86/G86,3))","v":""},null,null,{"$f":"IF(H86=\"\",\"\",IF(F86>F85,2,IF(F86<F85,0,1)))","v":""}]
[]
[null,null,null,null,{"$f":"IF(D94>1,\"\",IF(B95=TRUE,E96,E95))","v":"JUGADOR 24"},null,null,{"$f":"IF(G88=\"\",\"\",ROUND(F88/G88,3))","v":""},null,null,{"$f":"IF(H88=\"\",\"\",IF(F88>F89,2,IF(F88<F89,0,1)))","v":""}]
[null,null,null,null,{"$f":"IF(D94>1,\"\",IF(B97=TRUE,E96,E97))","v":"JUGADOR 37"},null,{"$f":"IF(G88=\"\",\"\",G88)","v":""},{"$f":"IF(G89=\"\",\"\",ROUND(F89/G89,3))","v":""},null,null,{"$f":"IF(H89=\"\",\"\",IF(F89>F88,2,IF(F89<F88,0,1)))","v":""}]
[]
[null,null,null,null,{"$f":"IF(D94>1,\"\",IF(OR(B95=TRUE,B96=TRUE,B97=TRUE),\"\",E95))","v":"JUGADOR 24"},null,null,{"$f":"IF(G91=\"\",\"\",ROUND(F91/G91,3))","v":""},null,null,{"$f":"IF(H91=\"\",\"\",IF(F91>F92,2,IF(F91<F92,0,1)))","v":""}]
[null,null,null,null,{"$f":"IF(OR(B95=TRUE,B96=TRUE,B97=TRUE),\"\",E96)","v":"JUGADOR 29"},null,{"$f":"IF(G91=\"\",\"\",G91)","v":""},{"$f":"IF(G92=\"\",\"\",ROUND(F92/G92,3))","v":""},null,null,{"$f":"IF(H92=\"\",\"\",IF(F92>F91,2,IF(F92<F91,0,1)))","v":""}]
[]
[null,"¿WO?",null,{"$f":"COUNTIF(B95:B97,\"VERDADERO\")","v":0},"Jugador","Boles","Ent","Mitj","SM1","SM2","P",{"$f":"B85","v":"Grup F"}]
[null,false,{"$f":"L95","v":0},{"$f":"'Grups P'!D30","v":24},{"$f":"'Grups P'!E30","v":"JUGADOR 24"},{"$f":"SUMIF(E85:E92,E95,F85:F92)","v":0},{"$f":"SUMIF(E85:E92,E95,G85:G92)","v":0},{"$f":"IF(B95=TRUE,0,IF(G95=0,0,ROUND(F95/G95,3)))","v":0},{"$f":"MAX(O95:Z95)","v":0},{"$f":"LARGE((O95:Z95),2)","v":0},{"$f":"SUMIF(E85:E92,E95,K85:K92)","v":0},{"$f":"IF(B95=TRUE,\"WO\",IF(AND(B96=TRUE,B97=TRUE),1,IF(N95=0,0,RANK(N95,N95:N97,0))))","v":0},{"$f":"IF(B85=\"\",0,IF(B95=TRUE,0+N95,3-L95+N95))","v":3},{"$f":"IF(OR(B95=TRUE,AND(B96=TRUE,B97=TRUE)),0.000000000043,K95*0.1+H95*0.01+I95*0.00000001+J95*0.00000000001)","v":0},{"$f":"IF(E85=E95,I85,0)","v":0},{"$f":"IF(E85=E95,J85,0)","v":0},{"$f":"IF(E86=E95,I86,0)","v":0},{"$f":"IF(E86=E95,J86,0)","v":0},{"$f":"IF(E88=E95,I88,0)","v":0},{"$f":"IF(E88=E95,J88,0)","v":0},{"$f":"IF(E89=E95,I89,0)","v":0},{"$f":"IF(E89=E95,J89,0)","v":0},{"$f":"IF(E91=E95,I91,0)","v":0},{"$f":"IF(E91=E95,J91,0)","v":0},{"$f":"IF(E92=E95,I92,0)","v":0},{"$f":"IF(E92=E95,J92,0)","v":0}]
[null,false,{"$f":"L96","v":0},{"$f":"'Grups P'!D31","v":29},{"$f":"'Grups P'!E31","v":"JUGADOR 29"},{"$f":"SUMIF(E85:E92,E96,F85:F92)","v":0},{"$f":"SUMIF(E85:E92,E96,G85:G92)","v":0},{"$f":"IF(B96=TRUE,0,IF(G96=0,0,ROUND(F96/G96,3)))","v":0},{"$f":"MAX(O96:Z96)","v":0},{"$f":"LARGE((O96:Z96),2)","v":0},{"$f":"SUMIF(E85:E92,E96,K85:K92)","v":0},{"$f":"IF(B96=TRUE,\"WO\",IF(AND(B95=TRUE,B97=TRUE),1,IF(N96=0,0,RANK(N96,N95:N97,0))))","v":0},{"$f":"IF(B85=\"\",0,IF(B96=TRUE,0+N96,3-L96+N96))","v":3},{"$f":"IF(OR(B96=TRUE,AND(B95=TRUE,B97=TRUE)),0.000000000022,K96*0.1+H96*0.01+I96*0.00000001+J96*0.00000000001)","v":0},{"$f":"IF(E85=E96,I85,0)","v":0},{"$f":"IF(E85=E96,J85,0)","v":0},{"$f":"IF(E86=E96,I86,0)","v":0},{"$f":"IF(E86=E96,J86,0)","v":0},{"$f":"IF(E88=E96,I88,0)","v":0},{"$f":"IF(E88=E96,J88,0)","v":0},{"$f":"IF(E89=E96,I89,0)","v":0},{"$f":"IF(E89=E96,J89,0)","v":0},{"$f":"IF(E91=E96,I91,0)","v":0},{"$f":"IF(E91=E96,J91,0)","v":0},{"$f":"IF(E92=E96,I92,0)","v":0},{"$f":"IF(E92=E96,J92,0)","v":0}]
[null,false,{"$f":"L97","v":0},{"$f":"'Grups P'!D32","v":37},{"$f":"'Grups P'!E32","v":"JUGADOR 37"},{"$f":"SUMIF(E85:E92,E97,F85:F92)","v":0},{"$f":"SUMIF(E85:E92,E97,G85:G92)","v":0},{"$f":"IF(B97=TRUE,0,IF(G97=0,0,ROUND(F97/G97,3)))","v":0},{"$f":"MAX(O97:Z97)","v":0},{"$f":"LARGE((O97:Z97),2)","v":0},{"$f":"SUMIF(E85:E92,E97,K85:K92)","v":0},{"$f":"IF(B97=TRUE,\"WO\",IF(AND(B95=TRUE,B96=TRUE),1,IF(N97=0,0,RANK(N97,N95:N97,0))))","v":0},{"$f":"IF(B85=\"\",0,IF(B97=TRUE,0+N97,3-L97+N97))","v":3},{"$f":"IF(OR(B97=TRUE,AND(B95=TRUE,B96=TRUE)),0.000000000006,K97*0.1+H97*0.01+I97*0.00000001+J97*0.00000000001)","v":0},{"$f":"IF(E85=E97,I85,0)","v":0},{"$f":"IF(E85=E97,J85,0)","v":0},{"$f":"IF(E86=E97,I86,0)","v":0},{"$f":"IF(E86=E97,J86,0)","v":0},{"$f":"IF(E88=E97,I88,0)","v":0},{"$f":"IF(E88=E97,J88,0)","v":0},{"$f":"IF(E89=E97,I89,0)","v":0},{"$f":"IF(E89=E97,J89,0)","v":0},{"$f":"IF(E91=E97,I91,0)","v":0},{"$f":"IF(E91=E97,J91,0)","v":0},{"$f":"IF(E92=E97,I92,0)","v":0},{"$f":"IF(E92=E97,J92,0)","v":0}]
[]
[null,null,null,null,null,"Boles","Ent","Mitj","SM1","SM2","Punts"]
[null,{"$f":"IF('Rànquing Inicial'!$D$144>18,\"Grup G\",\"\")","v":"Grup G"},null,null,{"$f":"IF(D109>1,\"\",IF(OR(B111=TRUE,B112=TRUE),E110,E111))","v":"JUGADOR 28"},null,null,{"$f":"IF(G100=\"\",\"\",ROUND(F100/G100,3))","v":""},null,null,{"$f":"IF(H100=\"\",\"\",IF(F100>F101,2,IF(F100<F101,0,1)))","v":""}]
[null,null,null,null,{"$f":"IF(D109>1,\"\",IF(B112=TRUE,E111,E112))","v":"JUGADOR 36"},null,{"$f":"IF(G100=\"\",\"\",G100)","v":""},{"$f":"IF(G101=\"\",\"\",ROUND(F101/G101,3))","v":""},null,null,{"$f":"IF(H101=\"\",\"\",IF(F101>F100,2,IF(F101<F100,0,1)))","v":""}]
[]
[null,null,null,null,{"$f":"IF(D109>1,\"\",IF(B110=TRUE,E111,E110))","v":"JUGADOR 25"},null,null,{"$f":"IF(G103=\"\",\"\",ROUND(F103/G103,3))","v":""},null,null,{"$f":"IF(H103=\"\",\"\",IF(F103>F104,2,IF(F103<F104,0,1)))","v":""}]
[null,null,null,null,{"$f":"IF(D109>1,\"\",IF(B112=TRUE,E111,E112))","v":"JUGADOR 36"},null,{"$f":"IF(G103=\"\",\"\",G103)","v":""},{"$f":"IF(G104=\"\",\"\",ROUND(F104/G104,3))","v":""},null,null,{"$f":"IF(H104=\"\",\"\",IF(F104>F103,2,IF(F104<F103,0,1)))","v":""}]
[]
[null,null,null,null,{"$f":"IF(D109>1,\"\",IF(OR(B110=TRUE,B111=TRUE,B112=TRUE),\"\",E110))","v":"JUGADOR 25"},null,null,{"$f":"IF(G106=\"\",\"\",ROUND(F106/G106,3))","v":""},null,null,{"$f":"IF(H106=\"\",\"\",IF(F106>F107,2,IF(F106<F107,0,1)))","v":""}]
[null,null,null,null,{"$f":"IF(OR(B110=TRUE,B111=TRUE,B112=TRUE),\"\",E111)","v":"JUGADOR 28"},null,{"$f":"IF(G106=\"\",\"\",G106)","v":""},{"$f":"IF(G107=\"\",\"\",ROUND(F107/G107,3))","v":""},null,null,{"$f":"IF(H107=\"\",\"\",IF(F107>F106,2,IF(F107<F106,0,1)))","v":""}]
[]
[null,"¿WO?",null,{"$f":"COUNTIF(B110:B112,\"VERDADERO\")","v":0},"Jugador","Boles","Ent","Mitj","SM1","SM2","P",{"$f":"B100","v":"Grup G"}]
[null,false,{"$f":"L110","v":0},{"$f":"'Grups P'!D34","v":25},{"$f":"'Grups P'!E34","v":"JUGADOR 25"},{"$f":"SUMIF(E100:E107,E110,F100:F107)","v":0},{"$f":"SUMIF(E100:E107,E110,G100:G107)","v":0},{"$f":"IF(B110=TRUE,0,IF(G110=0,0,ROUND(F110/G110,3)))","v":0},{"$f":"MAX(O110:Z110)","v":0},{"$f":"LARGE((O110:Z110),2)","v":0},{"$f":"SUMIF(E100:E107,E110,K100:K107)","v":0},{"$f":"IF(B110=TRUE,\"WO\",IF(AND(B111=TRUE,B112=TRUE),1,IF(N110=0,0,RANK(N110,N110:N112,0))))","v":0},{"$f":"IF(B100=\"\",0,IF(B110=TRUE,0+N110,3-L110+N110))","v":3},{"$f":"IF(OR(B110=TRUE,AND(B111=TRUE,B112=TRUE)),0.000000000042,K110*0.1+H110*0.01+I110*0.00000001+J110*0.00000000001)","v":0},{"$f":"IF(E100=E110,I100,0)","v":0},{"$f":"IF(E100=E110,J100,0)","v":0},{"$f":"IF(E101=E110,I101,0)","v":0},{"$f":"IF(E101=E110,J101,0)","v":0},{"$f":"IF(E103=E110,I103,0)","v":0},{"$f":"IF(E103=E110,J103,0)","v":0},{"$f":"IF(E104=E110,I104,0)","v":0},{"$f":"IF(E104=E110,J104,0)","v":0},{"$f":"IF(E106=E110,I106,0)","v":0},{"$f":"IF(E106=E110,J106,0)","v":0},{"$f":"IF(E107=E110,I107,0)","v":0},{"$f":"IF(E107=E110,J107,0)","v":0}]
[null,false,{"$f":"L111","v":0},{"$f":"'Grups P'!D35","v":28},{"$f":"'Grups P'!E35","v":"JUGADOR 28"},{"$f":"SUMIF(E100:E107,E111,F100:F107)","v":0},{"$f":"SUMIF(E100:E107,E111,G100:G107)","v":0},{"$f":"IF(B111=TRUE,0,IF(G111=0,0,ROUND(F111/G111,3)))","v":0},{"$f":"MAX(O111:Z111)","v":0},{"$f":"LARGE((O111:Z111),2)","v":0},{"$f":"SUMIF(E100:E107,E111,K100:K107)","v":0},{"$f":"IF(B111=TRUE,\"WO\",IF(AND(B110=TRUE,B112=TRUE),1,IF(N111=0,0,RANK(N111,N110:N112,0))))","v":0},{"$f":"IF(B100=\"\",0,IF(B111=TRUE,0+N111,3-L111+N111))","v":3},{"$f":"IF(OR(B111=TRUE,AND(B110=TRUE,B112=TRUE)),0.000000000023,K111*0.1+H111*0.01+I111*0.00000001+J111*0.00000000001)","v":0},{"$f":"IF(E100=E111,I100,0)","v":0},{"$f":"IF(E100=E111,J100,0)","v":0},{"$f":"IF(E101=E111,I101,0)","v":0},{"$f":"IF(E101=E111,J101,0)","v":0},{"$f":"IF(E103=E111,I103,0)","v":0},{"$f":"IF(E103=E111,J103,0)","v":0},{"$f":"IF(E104=E111,I104,0)","v":0},{"$f":"IF(E104=E111,J104,0)","v":0},{"$f":"IF(E106=E111,I106,0)","v":0},{"$f":"IF(E106=E111,J106,0)","v":0},{"$f":"IF(E107=E111,I107,0)","v":0},{"$f":"IF(E107=E111,J107,0)","v":0}]
[null,false,{"$f":"L112","v":0},{"$f":"'Grups P'!D36","v":36},{"$f":"'Grups P'!E36","v":"JUGADOR 36"},{"$f":"SUMIF(E100:E107,E112,F100:F107)","v":0},{"$f":"SUMIF(E100:E107,E112,G100:G107)","v":0},{"$f":"IF(B112=TRUE,0,IF(G112=0,0,ROUND(F112/G112,3)))","v":0},{"$f":"MAX(O112:Z112)","v":0},{"$f":"LARGE((O112:Z112),2)","v":0},{"$f":"SUMIF(E100:E107,E112,K100:K107)","v":0},{"$f":"IF(B112=TRUE,\"WO\",IF(AND(B110=TRUE,B111=TRUE),1,IF(N112=0,0,RANK(N112,N110:N112,0))))","v":0},{"$f":"IF(B100=\"\",0,IF(B112=TRUE,0+N112,3-L112+N112))","v":3},{"$f":"IF(OR(B112=TRUE,AND(B110=TRUE,B111=TRUE)),0.000000000007,K112*0.1+H112*0.01+I112*0.00000001+J112*0.00000000001)","v":0},{"$f":"IF(E100=E112,I100,0)","v":0},{"$f":"IF(E100=E112,J100,0)","v":0},{"$f":"IF(E101=E112,I101,0)","v":0},{"$f":"IF(E101=E112,J101,0)","v":0},{"$f":"IF(E103=E112,I103,0)","v":0},{"$f":"IF(E103=E112,J103,0)","v":0},{"$f":"IF(E104=E112,I104,0)","v":0},{"$f":"IF(E104=E112,J104,0)","v":0},{"$f":"IF(E106=E112,I106,0)","v":0},{"$f":"IF(E106=E112,J106,0)","v":0},{"$f":"IF(E107=E112,I107,0)","v":0},{"$f":"IF(E107=E112,J107,0)","v":0}]
[]
[null,null,null,null,null,"Boles","Ent","Mitj","SM1","SM2","Punts"]
[null,{"$f":"IF('Rànquing Inicial'!$D$144>21,\"Grup H\",\"\")","v":"Grup H"},null,null,{"$f":"IF(D124>1,\"\",IF(OR(B126=TRUE,B127=TRUE),E125,E126))","v":"JUGADOR 27"},null,null,{"$f":"IF(G115=\"\",\"\",ROUND(F115/G115,3))","v":""},null,null,{"$f":"IF(H115=\"\",\"\",IF(F115>F116,2,IF(F115<F116,0,1)))","v":""}]
[null,null,null,null,{"$f":"IF(D124>1,\"\",IF(B127=TRUE,E126,E127))","v":"JUGADOR 35"},null,{"$f":"IF(G115=\"\",\"\",G115)","v":""},{"$f":"IF(G116=\"\",\"\",ROUND(F116/G116,3))","v":""},null,null,{"$f":"IF(H116=\"\",\"\",IF(F116>F115,2,IF(F116<F115,0,1)))","v":""}]
[]
[null,null,null,null,{"$f":"IF(D124>1,\"\",IF(B125=TRUE,E126,E125))","v":"JUGADOR 26"},null,null,{"$f":"IF(G118=\"\",\"\",ROUND(F118/G118,3))","v":""},null,null,{"$f":"IF(H118=\"\",\"\",IF(F118>F119,2,IF(F118<F119,0,1)))","v":""}]
[null,null,null,null,{"$f":"IF(D124>1,\"\",IF(B127=TRUE,E126,E127))","v":"JUGADOR 35"},null,{"$f":"IF(G118=\"\",\"\",G118)","v":""},{"$f":"IF(G119=\"\",\"\",ROUND(F119/G119,3))","v":""},null,null,{"$f":"IF(H119=\"\",\"\",IF(F119>F118,2,IF(F119<F118,0,1)))","v":""}]
[]
[null,null,null,null,{"$f":"IF(D124>1,\"\",IF(OR(B125=TRUE,B126=TRUE,B127=TRUE),\"\",E125))","v":"JUGADOR 26"},null,null,{"$f":"IF(G121=\"\",\"\",ROUND(F121/G121,3))","v":""},null,null,{"$f":"IF(H121=\"\",\"\",IF(F121>F122,2,IF(F121<F122,0,1)))","v":""}]
[null,null,null,null,{"$f":"IF(OR(B125=TRUE,B126=TRUE,B127=TRUE),\"\",E126)","v":"JUGADOR 27"},null,{"$f":"IF(G121=\"\",\"\",G121)","v":""},{"$f":"IF(G122=\"\",\"\",ROUND(F122/G122,3))","v":""},null,null,{"$f":"IF(H122=\"\",\"\",IF(F122>F121,2,IF(F122<F121,0,1)))","v":""}]
[]
[null,"¿WO?",null,{"$f":"COUNTIF(B125:B127,\"VERDADERO\")","v":0},"Jugador","Boles","Ent","Mitj","SM1","SM2","P",{"$f":"B115","v":"Grup H"}]
[null,false,{"$f":"L125","v":0},{"$f":"'Grups P'!D38","v":26},{"$f":"'Grups P'!E38","v":"JUGADOR 26"},{"$f":"SUMIF(E115:E122,E125,F115:F122)","v":0},{"$f":"SUMIF(E115:E122,E125,G115:G122)","v":0},{"$f":"IF(B125=TRUE,0,IF(G125=0,0,ROUND(F125/G125,3)))","v":0},{"$f":"MAX(O125:Z125)","v":0},{"$f":"LARGE((O125:Z125),2)","v":0},{"$f":"SUMIF(E115:E122,E125,K115:K122)","v":0},{"$f":"IF(B125=TRUE,\"WO\",IF(AND(B126=TRUE,B127=TRUE),1,IF(N125=0,0,RANK(N125,N125:N127,0))))","v":0},{"$f":"IF(B115=\"\",0,IF(B125=TRUE,0+N125,3-L125+N125))","v":3},{"$f":"IF(OR(B125=TRUE,AND(B126=TRUE,B127=TRUE)),0.000000000041,K125*0.1+H125*0.01+I125*0.00000001+J125*0.00000000001)","v":0},{"$f":"IF(E115=E125,I115,0)","v":0},{"$f":"IF(E115=E125,J115,0)","v":0},{"$f":"IF(E116=E125,I116,0)","v":0},{"$f":"IF(E116=E125,J116,0)","v":0},{"$f":"IF(E118=E125,I118,0)","v":0},{"$f":"IF(E118=E125,J118,0)","v":0},{"$f":"IF(E119=E125,I119,0)","v":0},{"$f":"IF(E119=E125,J119,0)","v":0},{"$f":"IF(E121=E125,I121,0)","v":0},{"$f":"IF(E121=E125,J121,0)","v":0},{"$f":"IF(E122=E125,I122,0)","v":0},{"$f":"IF(E122=E125,J122,0)","v":0}]
[null,false,{"$f":"L126","v":0},{"$f":"'Grups P'!D39","v":27},{"$f":"'Grups P'!E39","v":"JUGADOR 27"},{"$f":"SUMIF(E115:E122,E126,F115:F122)","v":0},{"$f":"SUMIF(E115:E122,E126,G115:G122)","v":0},{"$f":"IF(B126=TRUE,0,IF(G126=0,0,ROUND(F126/G126,3)))","v":0},{"$f":"MAX(O126:Z126)","v":0},{"$f":"LARGE((O126:Z126),2)","v":0},{"$f":"SUMIF(E115:E122,E126,K115:K122)","v":0},{"$f":"IF(B126=TRUE,\"WO\",IF(AND(B125=TRUE,B127=TRUE),1,IF(N126=0,0,RANK(N126,N125:N127,0))))","v":0},{"$f":"IF(B115=\"\",0,IF(B126=TRUE,0+N126,3-L126+N126))","v":3},{"$f":"IF(OR(B126=TRUE,AND(B125=TRUE,B127=TRUE)),0.000000000024,K126*0.1+H126*0.01+I126*0.00000001+J126*0.00000000001)","v":0},{"$f":"IF(E115=E126,I115,0)","v":0},{"$f":"IF(E115=E126,J115,0)","v":0},{"$f":"IF(E116=E126,I116,0)","v":0},{"$f":"IF(E116=E126,J116,0)","v":0},{"$f":"IF(E118=E126,I118,0)","v":0},{"$f":"IF(E118=E126,J118,0)","v":0},{"$f":"IF(E119=E126,I119,0)","v":0},{"$f":"IF(E119=E126,J119,0)","v":0},{"$f":"IF(E121=E126,I121,0)","v":0},{"$f":"IF(E121=E126,J121,0)","v":0},{"$f":"IF(E122=E126,I122,0)","v":0},{"$f":"IF(E122=E126,J122,0)","v":0}]
[null,false,{"$f":"L127","v":0},{"$f":"'Grups P'!D40","v":35},{"$f":"'Grups P'!E40","v":"JUGADOR 35"},{"$f":"SUMIF(E115:E122,E127,F115:F122)","v":0},{"$f":"SUMIF(E115:E122,E127,G115:G122)","v":0},{"$f":"IF(B127=TRUE,0,IF(G127=0,0,ROUND(F127/G127,3)))","v":0},{"$f":"MAX(O127:Z127)","v":0},{"$f":"LARGE((O127:Z127),2)","v":0},{"$f":"SUMIF(E115:E122,E127,K115:K122)","v":0},{"$f":"IF(B127=TRUE,\"WO\",IF(AND(B125=TRUE,B126=TRUE),1,IF(N127=0,0,RANK(N127,N125:N127,0))))","v":0},{"$f":"IF(B115=\"\",0,IF(B127=TRUE,0+N127,3-L127+N127))","v":3},{"$f":"IF(OR(B127=TRUE,AND(B125=TRUE,B126=TRUE)),0.000000000008,K127*0.1+H127*0.01+I127*0.00000001+J127*0.00000000001)","v":0},{"$f":"IF(E115=E127,I115,0)","v":0},{"$f":"IF(E115=E127,J115,0)","v":0},{"$f":"IF(E116=E127,I116,0)","v":0},{"$f":"IF(E116=E127,J116,0)","v":0},{"$f":"IF(E118=E127,I118,0)","v":0},{"$f":"IF(E118=E127,J118,0)","v":0},{"$f":"IF(E119=E127,I119,0)","v":0},{"$f":"IF(E119=E127,J119,0)","v":0},{"$f":"IF(E121=E127,I121,0)","v":0},{"$f":"IF(E121=E127,J121,0)","v":0},{"$f":"IF(E122=E127,I122,0)","v":0},{"$f":"IF(E122=E127,J122,0)","v":0}]
[]
[null,null,null,null,null,"Boles","Ent","Mitj","SM1","SM2","Punts"]
[null,{"$f":"IF('Rànquing Inicial'!$D$144>24,\"Grup I\",\"\")","v":""},null,null,{"$f":"IF(D139>1,\"\",IF(OR(B141=TRUE,B142=TRUE),E140,E141))","v":""},null,null,{"$f":"IF(G130=\"\",\"\",ROUND(F130/G130,3))","v":""},null,null,{"$f":"IF(H130=\"\",\"\",IF(F130>F131,2,IF(F130<F131,0,1)))","v":""}]
[null,null,null,null,{"$f":"IF(D139>1,\"\",IF(B142=TRUE,E141,E142))","v":""},null,{"$f":"IF(G130=\"\",\"\",G130)","v":""},{"$f":"IF(G131=\"\",\"\",ROUND(F131/G131,3))","v":""},null,null,{"$f":"IF(H131=\"\",\"\",IF(F131>F130,2,IF(F131<F130,0,1)))","v":""}]
[]
[null,null,null,null,{"$f":"IF(D139>1,\"\",IF(B140=TRUE,E141,E140))","v":""},null,null,{"$f":"IF(G133=\"\",\"\",ROUND(F133/G133,3))","v":""},null,null,{"$f":"IF(H133=\"\",\"\",IF(F133>F134,2,IF(F133<F134,0,1)))","v":""}]
[null,null,null,null,{"$f":"IF(D139>1,\"\",IF(B142=TRUE,E141,E142))","v":""},null,{"$f":"IF(G133=\"\",\"\",G133)","v":""},{"$f":"IF(G134=\"\",\"\",ROUND(F134/G134,3))","v":""},null,null,{"$f":"IF(H134=\"\",\"\",IF(F134>F133,2,IF(F134<F133,0,1)))","v":""}]
[]
[null,null,null,null,{"$f":"IF(D139>1,\"\",IF(OR(B140=TRUE,B141=TRUE,B142=TRUE),\"\",E140))","v":""},null,null,{"$f":"IF(G136=\"\",\"\",ROUND(F136/G136,3))","v":""},null,null,{"$f":"IF(H136=\"\",\"\",IF(F136>F137,2,IF(F136<F137,0,1)))","v":""}]
[null,null,null,null,{"$f":"IF(OR(B140=TRUE,B141=TRUE,B142=TRUE),\"\",E141)","v":""},null,{"$f":"IF(G136=\"\",\"\",G136)","v":""},{"$f":"IF(G137=\"\",\"\",ROUND(F137/G137,3))","v":""},null,null,{"$f":"IF(H137=\"\",\"\",IF(F137>F136,2,IF(F137<F136,0,1)))","v":""}]
[]
[null,"¿WO?",null,{"$f":"COUNTIF(B140:B142,\"VERDADERO\")","v":0},"Jugador","Boles","Ent","Mitj","SM1","SM2","P",{"$f":"B130","v":""}]
[null,false,{"$f":"L140","v":0},{"$f":"'Grups P'!H10","v":""},{"$f":"'Grups P'!I10","v":""},{"$f":"SUMIF(E130:E137,E140,F130:F137)","v":0},{"$f":"SUMIF(E130:E137,E140,G130:G137)","v":0},{"$f":"IF(B140=TRUE,0,IF(G140=0,0,ROUND(F140/G140,3)))","v":0},{"$f":"MAX(O140:Z140)","v":0},{"$f":"LARGE((O140:Z140),2)","v":0},{"$f":"SUMIF(E130:E137,E140,K130:K137)","v":0},{"$f":"IF(B140=TRUE,\"WO\",IF(AND(B141=TRUE,B142=TRUE),1,IF(N140=0,0,RANK(N140,N140:N142,0))))","v":0},{"$f":"IF(B130=\"\",0,IF(B140=TRUE,0+N140,3-L140+N140))","v":0},{"$f":"IF(OR(B140=TRUE,AND(B141=TRUE,B142=TRUE)),0.00000000004,K140*0.1+H140*0.01+I140*0.00000001+J140*0.00000000001)","v":0},{"$f":"IF(E130=E140,I130,0)","v":0},{"$f":"IF(E130=E140,J130,0)","v":0},{"$f":"IF(E131=E140,I131,0)","v":0},{"$f":"IF(E131=E140,J131,0)","v":0},{"$f":"IF(E133=E140,I133,0)","v":0},{"$f":"IF(E133=E140,J133,0)","v":0},{"$f":"IF(E134=E140,I134,0)","v":0},{"$f":"IF(E134=E140,J134,0)","v":0},{"$f":"IF(E136=E140,I136,0)","v":0},{"$f":"IF(E136=E140,J136,0)","v":0},{"$f":"IF(E137=E140,I137,0)","v":0},{"$f":"IF(E137=E140,J137,0)","v":0}]
[null,false,{"$f":"L141","v":0},{"$f":"'Grups P'!H11","v":""},{"$f":"'Grups P'!I11","v":""},{"$f":"SUMIF(E130:E137,E141,F130:F137)","v":0},{"$f":"SUMIF(E130:E137,E141,G130:G137)","v":0},{"$f":"IF(B141=TRUE,0,IF(G141=0,0,ROUND(F141/G141,3)))","v":0},{"$f":"MAX(O141:Z141)","v":0},{"$f":"LARGE((O141:Z141),2)","v":0},{"$f":"SUMIF(E130:E137,E141,K130:K137)","v":0},{"$f":"IF(B141=TRUE,\"WO\",IF(AND(B140=TRUE,B142=TRUE),1,IF(N141=0,0,RANK(N141,N140:N142,0))))","v":0},{"$f":"IF(B130=\"\",0,IF(B141=TRUE,0+N141,3-L141+N141))","v":0},{"$f":"IF(OR(B141=TRUE,AND(B140=TRUE,B142=TRUE)),0.000000000025,K141*0.1+H141*0.01+I141*0.00000001+J141*0.00000000001)","v":0},{"$f":"IF(E130=E141,I130,0)","v":0},{"$f":"IF(E130=E141,J130,0)","v":0},{"$f":"IF(E131=E141,I131,0)","v":0},{"$f":"IF(E131=E141,J131,0)","v":0},{"$f":"IF(E133=E141,I133,0)","v":0},{"$f":"IF(E133=E141,J133,0)","v":0},{"$f":"IF(E134=E141,I134,0)","v":0},{"$f":"IF(E134=E141,J134,0)","v":0},{"$f":"IF(E136=E141,I136,0)","v":0},{"$f":"IF(E136=E141,J136,0)","v":0},{"$f":"IF(E137=E141,I137,0)","v":0},{"$f":"IF(E137=E141,J137,0)","v":0}]
[null,false,{"$f":"L142","v":0},{"$f":"'Grups P'!H12","v":""},{"$f":"'Grups P'!I12","v":""},{"$f":"SUMIF(E130:E137,E142,F130:F137)","v":0},{"$f":"SUMIF(E130:E137,E142,G130:G137)","v":0},{"$f":"IF(B142=TRUE,0,IF(G142=0,0,ROUND(F142/G142,3)))","v":0},{"$f":"MAX(O142:Z142)","v":0},{"$f":"LARGE((O142:Z142),2)","v":0},{"$f":"SUMIF(E130:E137,E142,K130:K137)","v":0},{"$f":"IF(B142=TRUE,\"WO\",IF(AND(B140=TRUE,B141=TRUE),1,IF(N142=0,0,RANK(N142,N140:N142,0))))","v":0},{"$f":"IF(B130=\"\",0,IF(B142=TRUE,0+N142,3-L142+N142))","v":0},{"$f":"IF(OR(B142=TRUE,AND(B140=TRUE,B141=TRUE)),0.000000000009,K142*0.1+H142*0.01+I142*0.00000001+J142*0.00000000001)","v":0},{"$f":"IF(E130=E142,I130,0)","v":0},{"$f":"IF(E130=E142,J130,0)","v":0},{"$f":"IF(E131=E142,I131,0)","v":0},{"$f":"IF(E131=E142,J131,0)","v":0},{"$f":"IF(E133=E142,I133,0)","v":0},{"$f":"IF(E133=E142,J133,0)","v":0},{"$f":"IF(E134=E142,I134,0)","v":0},{"$f":"IF(E134=E142,J134,0)","v":0},{"$f":"IF(E136=E142,I136,0)","v":0},{"$f":"IF(E136=E142,J136,0)","v":0},{"$f":"IF(E137=E142,I137,0)","v":0},{"$f":"IF(E137=E142,J137,0)","v":0}]
[]
[null,null,null,null,null,"Boles","Ent","Mitj","SM1","SM2","Punts"]
[null,{"$f":"IF('Rànquing Inicial'!$D$144>27,\"Grup J\",\"\")","v":""},null,null,{"$f":"IF(D154>1,\"\",IF(OR(B156=TRUE,B157=TRUE),E155,E156))","v":""},null,null,{"$f":"IF(G145=\"\",\"\",ROUND(F145/G145,3))","v":""},null,null,{"$f":"IF(H145=\"\",\"\",IF(F145>F146,2,IF(F145<F146,0,1)))","v":""}]
[null,null,null,null,{"$f":"IF(D154>1,\"\",IF(B157=TRUE,E156,E157))","v":""},null,{"$f":"IF(G145=\"\",\"\",G145)","v":""},{"$f":"IF(G146=\"\",\"\",ROUND(F146/G146,3))","v":""},null,null,{"$f":"IF(H146=\"\",\"\",IF(F146>F145,2,IF(F146<F145,0,1)))","v":""}]
[]
[null,null,null,null,{"$f":"IF(D154>1,\"\",IF(B155=TRUE,E156,E155))","v":""},null,null,{"$f":"IF(G148=\"\",\"\",ROUND(F148/G148,3))","v":""},null,null,{"$f":"IF(H148=\"\",\"\",IF(F148>F149,2,IF(F148<F149,0,1)))","v":""}]
[null,null,null,null,{"$f":"IF(D154>1,\"\",IF(B157=TRUE,E156,E157))","v":""},null,{"$f":"IF(G148=\"\",\"\",G148)","v":""},{"$f":"IF(G149=\"\",\"\",ROUND(F149/G149,3))","v":""},null,null,{"$f":"IF(H149=\"\",\"\",IF(F149>F148,2,IF(F149<F148,0,1)))","v":""}]
[]
[null,null,null,null,{"$f":"IF(D154>1,\"\",IF(OR(B155=TRUE,B156=TRUE,B157=TRUE),\"\",E155))","v":""},null,null,{"$f":"IF(G151=\"\",\"\",ROUND(F151/G151,3))","v":""},null,null,{"$f":"IF(H151=\"\",\"\",IF(F151>F152,2,IF(F151<F152,0,1)))","v":""}]
[null,null,null,null,{"$f":"IF(OR(B155=TRUE,B156=TRUE,B157=TRUE),\"\",E156)","v":""},null,{"$f":"IF(G151=\"\",\"\",G151)","v":""},{"$f":"IF(G152=\"\",\"\",ROUND(F152/G152,3))","v":""},null,null,{"$f":"IF(H152=\"\",\"\",IF(F152>F151,2,IF(F152<F151,0,1)))","v":""}]
[]
[null,"¿WO?",null,{"$f":"COUNTIF(B155:B157,\"VERDADERO\")","v":0},"Jugador","Boles","Ent","Mitj","SM1","SM2","P",{"$f":"B145","v":""}]
[null,false,{"$f":"L155","v":0},{"$f":"'Grups P'!H14","v":""},{"$f":"'Grups P'!I14","v":""},{"$f":"SUMIF(E145:E152,E155,F145:F152)","v":0},{"$f":"SUMIF(E145:E152,E155,G145:G152)","v":0},{"$f":"IF(B155=TRUE,0,IF(G155=0,0,ROUND(F155/G155,3)))","v":0},{"$f":"MAX(O155:Z155)","v":0},{"$f":"LARGE((O155:Z155),2)","v":0},{"$f":"SUMIF(E145:E152,E155,K145:K152)","v":0},{"$f":"IF(B155=TRUE,\"WO\",IF(AND(B156=TRUE,B157=TRUE),1,IF(N155=0,0,RANK(N155,N155:N157,0))))","v":0},{"$f":"IF(B145=\"\",0,IF(B155=TRUE,0+N155,3-L155+N155))","v":0},{"$f":"IF(OR(B155=TRUE,AND(B156=TRUE,B157=TRUE)),0.000000000039,K155*0.1+H155*0.01+I155*0.00000001+J155*0.00000000001)","v":0},{"$f":"IF(E145=E155,I145,0)","v":0},{"$f":"IF(E145=E155,J145,0)","v":0},{"$f":"IF(E146=E155,I146,0)","v":0},{"$f":"IF(E146=E155,J146,0)","v":0},{"$f":"IF(E148=E155,I148,0)","v":0},{"$f":"IF(E148=E155,J148,0)","v":0},{"$f":"IF(E149=E155,I149,0)","v":0},{"$f":"IF(E149=E155,J149,0)","v":0},{"$f":"IF(E151=E155,I151,0)","v":0},{"$f":"IF(E151=E155,J151,0)","v":0},{"$f":"IF(E152=E155,I152,0)","v":0},{"$f":"IF(E152=E155,J152,0)","v":0}]
[null,false,{"$f":"L156","v":0},{"$f":"'Grups P'!H15","v":""},{"$f":"'Grups P'!I15","v":""},{"$f":"SUMIF(E145:E152,E156,F145:F152)","v":0},{"$f":"SUMIF(E145:E152,E156,G145:G152)","v":0},{"$f":"IF(B156=TRUE,0,IF(G156=0,0,ROUND(F156/G156,3)))","v":0},{"$f":"MAX(O156:Z156)","v":0},{"$f":"LARGE((O156:Z156),2)","v":0},{"$f":"SUMIF(E145:E152,E156,K145:K152)","v":0},{"$f":"IF(B156=TRUE,\"WO\",IF(AND(B155=TRUE,B157=TRUE),1,IF(N156=0,0,RANK(N156,N155:N157,0))))","v":0},{"$f":"IF(B145=\"\",0,IF(B156=TRUE,0+N156,3-L156+N156))","v":0},{"$f":"IF(OR(B156=TRUE,AND(B155=TRUE,B157=TRUE)),0.000000000026,K156*0.1+H156*0.01+I156*0.00000001+J156*0.00000000001)","v":0},{"$f":"IF(E145=E156,I145,0)","v":0},{"$f":"IF(E145=E156,J145,0)","v":0},{"$f":"IF(E146=E156,I146,0)","v":0},{"$f":"IF(E146=E156,J146,0)","v":0},{"$f":"IF(E148=E156,I148,0)","v":0},{"$f":"IF(E148=E156,J148,0)","v":0},{"$f":"IF(E149=E156,I149,0)","v":0},{"$f":"IF(E149=E156,J149,0)","v":0},{"$f":"IF(E151=E156,I151,0)","v":0},{"$f":"IF(E151=E156,J151,0)","v":0},{"$f":"IF(E152=E156,I152,0)","v":0},{"$f":"IF(E152=E156,J152,0)","v":0}]
[null,false,{"$f":"L157","v":0},{"$f":"'Grups P'!H16","v":""},{"$f":"'Grups P'!I16","v":""},{"$f":"SUMIF(E145:E152,E157,F145:F152)","v":0},{"$f":"SUMIF(E145:E152,E157,G145:G152)","v":0},{"$f":"IF(B157=TRUE,0,IF(G157=0,0,ROUND(F157/G157,3)))","v":0},{"$f":"MAX(O157:Z157)","v":0},{"$f":"LARGE((O157:Z157),2)","v":0},{"$f":"SUMIF(E145:E152,E157,K145:K152)","v":0},{"$f":"IF(B157=TRUE,\"WO\",IF(AND(B155=TRUE,B156=TRUE),1,IF(N157=0,0,RANK(N157,N155:N157,0))))","v":0},{"$f":"IF(B145=\"\",0,IF(B157=TRUE,0+N157,3-L157+N157))","v":0},{"$f":"IF(OR(B157=TRUE,AND(B155=TRUE,B156=TRUE)),0.00000000001,K157*0.1+H157*0.01+I157*0.00000001+J157*0.00000000001)","v":0},{"$f":"IF(E145=E157,I145,0)","v":0},{"$f":"IF(E145=E157,J145,0)","v":0},{"$f":"IF(E146=E157,I146,0)","v":0},{"$f":"IF(E146=E157,J146,0)","v":0},{"$f":"IF(E148=E157,I148,0)","v":0},{"$f":"IF(E148=E157,J148,0)","v":0},{"$f":"IF(E149=E157,I149,0)","v":0},{"$f":"IF(E149=E157,J149,0)","v":0},{"$f":"IF(E151=E157,I151,0)","v":0},{"$f":"IF(E151=E157,J151,0)","v":0},{"$f":"IF(E152=E157,I152,0)","v":0},{"$f":"IF(E152=E157,J152,0)","v":0}]
[]
[null,null,null,null,null,"Boles","Ent","Mitj","SM1","SM2","Punts"]
[null,{"$f":"IF('Rànquing Inicial'!$D$144>30,\"Grup K\",\"\")","v":""},null,null,{"$f":"IF(D169>1,\"\",IF(OR(B171=TRUE,B172=TRUE),E170,E171))","v":""},null,null,{"$f":"IF(G160=\"\",\"\",ROUND(F160/G160,3))","v":""},null,null,{"$f":"IF(H160=\"\",\"\",IF(F160>F161,2,IF(F160<F161,0,1)))","v":""}]
[null,null,null,null,{"$f":"IF(D169>1,\"\",IF(B172=TRUE,E171,E172))","v":""},null,{"$f":"IF(G160=\"\",\"\",G160)","v":""},{"$f":"IF(G161=\"\",\"\",ROUND(F161/G161,3))","v":""},null,null,{"$f":"IF(H161=\"\",\"\",IF(F161>F160,2,IF(F161<F160,0,1)))","v":""}]
[]
[null,null,null,null,{"$f":"IF(D169>1,\"\",IF(B170=TRUE,E171,E170))","v":""},null,null,{"$f":"IF(G163=\"\",\"\",ROUND(F163/G163,3))","v":""},null,null,{"$f":"IF(H163=\"\",\"\",IF(F163>F164,2,IF(F163<F164,0,1)))","v":""}]
[null,null,null,null,{"$f":"IF(D169>1,\"\",IF(B172=TRUE,E171,E172))","v":""},null,{"$f":"IF(G163=\"\",\"\",G163)","v":""},{"$f":"IF(G164=\"\",\"\",ROUND(F164/G164,3))","v":""},null,null,{"$f":"IF(H164=\"\",\"\",IF(F164>F163,2,IF(F164<F163,0,1)))","v":""}]
[]
[null,null,null,null,{"$f":"IF(D169>1,\"\",IF(OR(B170=TRUE,B171=TRUE,B172=TRUE),\"\",E170))","v":""},null,null,{"$f":"IF(G166=\"\",\"\",ROUND(F166/G166,3))","v":""},null,null,{"$f":"IF(H166=\"\",\"\",IF(F166>F167,2,IF(F166<F167,0,1)))","v":""}]
[null,null,null,null,{"$f":"IF(OR(B170=TRUE,B171=TRUE,B172=TRUE),\"\",E171)","v":""},null,{"$f":"IF(G166=\"\",\"\",G166)","v":""},{"$f":"IF(G167=\"\",\"\",ROUND(F167/G167,3))","v":""},null,null,{"$f":"IF(H167=\"\",\"\",IF(F167>F166,2,IF(F167<F166,0,1)))","v":""}]
[]
[null,"¿WO?",null,{"$f":"COUNTIF(B170:B172,\"VERDADERO\")","v":0},"Jugador","Boles","Ent","Mitj","SM1","SM2","P",{"$f":"B160","v":""}]
[null,false,{"$f":"L170","v":0},{"$f":"'Grups P'!H18","v":""},{"$f":"'Grups P'!I18","v":""},{"$f":"SUMIF(E160:E167,E170,F160:F167)","v":0},{"$f":"SUMIF(E160:E167,E170,G160:G167)","v":0},{"$f":"IF(B170=TRUE,0,IF(G170=0,0,ROUND(F170/G170,3)))","v":0},{"$f":"MAX(O170:Z170)","v":0},{"$f":"LARGE((O170:Z170),2)","v":0},{"$f":"SUMIF(E160:E167,E170,K160:K167)","v":0},{"$f":"IF(B170=TRUE,\"WO\",IF(AND(B171=TRUE,B172=TRUE),1,IF(N170=0,0,RANK(N170,N170:N172,0))))","v":0},{"$f":"IF(B160=\"\",0,IF(B170=TRUE,0+N170,3-L170+N170))","v":0},{"$f":"IF(OR(B170=TRUE,AND(B171=TRUE,B172=TRUE)),0.000000000038,K170*0.1+H170*0.01+I170*0.00000001+J170*0.00000000001)","v":0},{"$f":"IF(E160=E170,I160,0)","v":0},{"$f":"IF(E160=E170,J160,0)","v":0},{"$f":"IF(E161=E170,I161,0)","v":0},{"$f":"IF(E161=E170,J161,0)","v":0},{"$f":"IF(E163=E170,I163,0)","v":0},{"$f":"IF(E163=E170,J163,0)","v":0},{"$f":"IF(E164=E170,I164,0)","v":0},{"$f":"IF(E164=E170,J164,0)","v":0},{"$f":"IF(E166=E170,I166,0)","v":0},{"$f":"IF(E166=E170,J166,0)","v":0},{"$f":"IF(E167=E170,I167,0)","v":0},{"$f":"IF(E167=E170,J167,0)","v":0}]
[null,false,{"$f":"L171","v":0},{"$f":"'Grups P'!H19","v":""},{"$f":"'Grups P'!I19","v":""},{"$f":"SUMIF(E160:E167,E171,F160:F167)","v":0},{"$f":"SUMIF(E160:E167,E171,G160:G167)","v":0},{"$f":"IF(B171=TRUE,0,IF(G171=0,0,ROUND(F171/G171,3)))","v":0},{"$f":"MAX(O171:Z171)","v":0},{"$f":"LARGE((O171:Z171),2)","v":0},{"$f":"SUMIF(E160:E167,E171,K160:K167)","v":0},{"$f":"IF(B171=TRUE,\"WO\",IF(AND(B170=TRUE,B172=TRUE),1,IF(N171=0,0,RANK(N171,N170:N172,0))))","v":0},{"$f":"IF(B160=\"\",0,IF(B171=TRUE,0+N171,3-L171+N171))","v":0},{"$f":"IF(OR(B171=TRUE,AND(B170=TRUE,B172=TRUE)),0.000000000027,K171*0.1+H171*0.01+I171*0.00000001+J171*0.00000000001)","v":0},{"$f":"IF(E160=E171,I160,0)","v":0},{"$f":"IF(E160=E171,J160,0)","v":0},{"$f":"IF(E161=E171,I161,0)","v":0},{"$f":"IF(E161=E171,J161,0)","v":0},{"$f":"IF(E163=E171,I163,0)","v":0},{"$f":"IF(E163=E171,J163,0)","v":0},{"$f":"IF(E164=E171,I164,0)","v":0},{"$f":"IF(E164=E171,J164,0)","v":0},{"$f":"IF(E166=E171,I166,0)","v":0},{"$f":"IF(E166=E171,J166,0)","v":0},{"$f":"IF(E167=E171,I167,0)","v":0},{"$f":"IF(E167=E171,J167,0)","v":0}]
[null,false,{"$f":"L172","v":0},{"$f":"'Grups P'!H20","v":""},{"$f":"'Grups P'!I20","v":""},{"$f":"SUMIF(E160:E167,E172,F160:F167)","v":0},{"$f":"SUMIF(E160:E167,E172,G160:G167)","v":0},{"$f":"IF(B172=TRUE,0,IF(G172=0,0,ROUND(F172/G172,3)))","v":0},{"$f":"MAX(O172:Z172)","v":0},{"$f":"LARGE((O172:Z172),2)","v":0},{"$f":"SUMIF(E160:E167,E172,K160:K167)","v":0},{"$f":"IF(B172=TRUE,\"WO\",IF(AND(B170=TRUE,B171=TRUE),1,IF(N172=0,0,RANK(N172,N170:N172,0))))","v":0},{"$f":"IF(B160=\"\",0,IF(B172=TRUE,0+N172,3-L172+N172))","v":0},{"$f":"IF(OR(B172=TRUE,AND(B170=TRUE,B171=TRUE)),0.000000000011,K172*0.1+H172*0.01+I172*0.00000001+J172*0.00000000001)","v":0},{"$f":"IF(E160=E172,I160,0)","v":0},{"$f":"IF(E160=E172,J160,0)","v":0},{"$f":"IF(E161=E172,I161,0)","v":0},{"$f":"IF(E161=E172,J161,0)","v":0},{"$f":"IF(E163=E172,I163,0)","v":0},{"$f":"IF(E163=E172,J163,0)","v":0},{"$f":"IF(E164=E172,I164,0)","v":0},{"$f":"IF(E164=E172,J164,0)","v":0},{"$f":"IF(E166=E172,I166,0)","v":0},{"$f":"IF(E166=E172,J166,0)","v":0},{"$f":"IF(E167=E172,I167,0)","v":0},{"$f":"IF(E167=E172,J167,0)","v":0}]
[]
[null,null,null,null,null,"Boles","Ent","Mitj","SM1","SM2","Punts"]
[null,{"$f":"IF('Rànquing Inicial'!$D$144>33,\"Grup L\",\"\")","v":""},null,null,{"$f":"IF(D184>1,\"\",IF(OR(B186=TRUE,B187=TRUE),E185,E186))","v":""},null,null,{"$f":"IF(G175=\"\",\"\",ROUND(F175/G175,3))","v":""},null,null,{"$f":"IF(H175=\"\",\"\",IF(F175>F176,2,IF(F175<F176,0,1)))","v":""}]
[null,null,null,null,{"$f":"IF(D184>1,\"\",IF(B187=TRUE,E186,E187))","v":""},null,{"$f":"IF(G175=\"\",\"\",G175)","v":""},{"$f":"IF(G176=\"\",\"\",ROUND(F176/G176,3))","v":""},null,null,{"$f":"IF(H176=\"\",\"\",IF(F176>F175,2,IF(F176<F175,0,1)))","v":""}]
[]
[null,null,null,null,{"$f":"IF(D184>1,\"\",IF(B185=TRUE,E186,E185))","v":""},null,null,{"$f":"IF(G178=\"\",\"\",ROUND(F178/G178,3))","v":""},null,null,{"$f":"IF(H178=\"\",\"\",IF(F178>F179,2,IF(F178<F179,0,1)))","v":""}]
[null,null,null,null,{"$f":"IF(D184>1,\"\",IF(B187=TRUE,E186,E187))","v":""},null,{"$f":"IF(G178=\"\",\"\",G178)","v":""},{"$f":"IF(G179=\"\",\"\",ROUND(F179/G179,3))","v":""},null,null,{"$f":"IF(H179=\"\",\"\",IF(F179>F178,2,IF(F179<F178,0,1)))","v":""}]
[]
[null,null,null,null,{"$f":"IF(D184>1,\"\",IF(OR(B185=TRUE,B186=TRUE,B187=TRUE),\"\",E185))","v":""},null,null,{"$f":"IF(G181=\"\",\"\",ROUND(F181/G181,3))","v":""},null,null,{"$f":"IF(H181=\"\",\"\",IF(F181>F182,2,IF(F181<F182,0,1)))","v":""}]
[null,null,null,null,{"$f":"IF(OR(B185=TRUE,B186=TRUE,B187=TRUE),\"\",E186)","v":""},null,{"$f":"IF(G181=\"\",\"\",G181)","v":""},{"$f":"IF(G182=\"\",\"\",ROUND(F182/G182,3))","v":""},null,null,{"$f":"IF(H182=\"\",\"\",IF(F182>F181,2,IF(F182<F181,0,1)))","v":""}]
[]
[null,"¿WO?",null,{"$f":"COUNTIF(B185:B187,\"VERDADERO\")","v":0},"Jugador","Boles","Ent","Mitj","SM1","SM2","P",{"$f":"B175","v":""}]
[null,false,{"$f":"L185","v":0},{"$f":"'Grups P'!H22","v":""},{"$f":"'Grups P'!I22","v":""},{"$f":"SUMIF(E175:E182,E185,F175:F182)","v":0},{"$f":"SUMIF(E175:E182,E185,G175:G182)","v":0},{"$f":"IF(B185=TRUE,0,IF(G185=0,0,ROUND(F185/G185,3)))","v":0},{"$f":"MAX(O185:Z185)","v":0},{"$f":"LARGE((O185:Z185),2)","v":0},{"$f":"SUMIF(E175:E182,E185,K175:K182)","v":0},{"$f":"IF(B185=TRUE,\"WO\",IF(AND(B186=TRUE,B187=TRUE),1,IF(N185=0,0,RANK(N185,N185:N187,0))))","v":0},{"$f":"IF(B175=\"\",0,IF(B185=TRUE,0+N185,3-L185+N185))","v":0},{"$f":"IF(OR(B185=TRUE,AND(B186=TRUE,B187=TRUE)),0.000000000037,K185*0.1+H185*0.01+I185*0.00000001+J185*0.00000000001)","v":0},{"$f":"IF(E175=E185,I175,0)","v":0},{"$f":"IF(E175=E185,J175,0)","v":0},{"$f":"IF(E176=E185,I176,0)","v":0},{"$f":"IF(E176=E185,J176,0)","v":0},{"$f":"IF(E178=E185,I178,0)","v":0},{"$f":"IF(E178=E185,J178,0)","v":0},{"$f":"IF(E179=E185,I179,0)","v":0},{"$f":"IF(E179=E185,J179,0)","v":0},{"$f":"IF(E181=E185,I181,0)","v":0},{"$f":"IF(E181=E185,J181,0)","v":0},{"$f":"IF(E182=E185,I182,0)","v":0},{"$f":"IF(E182=E185,J182,0)","v":0}]
[null,false,{"$f":"L186","v":0},{"$f":"'Grups P'!H23","v":""},{"$f":"'Grups P'!I23","v":""},{"$f":"SUMIF(E175:E182,E186,F175:F182)","v":0},{"$f":"SUMIF(E175:E182,E186,G175:G182)","v":0},{"$f":"IF(B186=TRUE,0,IF(G186=0,0,ROUND(F186/G186,3)))","v":0},{"$f":"MAX(O186:Z186)","v":0},{"$f":"LARGE((O186:Z186),2)","v":0},{"$f":"SUMIF(E175:E182,E186,K175:K182)","v":0},{"$f":"IF(B186=TRUE,\"WO\",IF(AND(B185=TRUE,B187=TRUE),1,IF(N186=0,0,RANK(N186,N185:N187,0))))","v":0},{"$f":"IF(B175=\"\",0,IF(B186=TRUE,0+N186,3-L186+N186))","v":0},{"$f":"IF(OR(B186=TRUE,AND(B185=TRUE,B187=TRUE)),0.000000000028,K186*0.1+H186*0.01+I186*0.00000001+J186*0.00000000001)","v":0},{"$f":"IF(E175=E186,I175,0)","v":0},{"$f":"IF(E175=E186,J175,0)","v":0},{"$f":"IF(E176=E186,I176,0)","v":0},{"$f":"IF(E176=E186,J176,0)","v":0},{"$f":"IF(E178=E186,I178,0)","v":0},{"$f":"IF(E178=E186,J178,0)","v":0},{"$f":"IF(E179=E186,I179,0)","v":0},{"$f":"IF(E179=E186,J179,0)","v":0},{"$f":"IF(E181=E186,I181,0)","v":0},{"$f":"IF(E181=E186,J181,0)","v":0},{"$f":"IF(E182=E186,I182,0)","v":0},{"$f":"IF(E182=E186,J182,0)","v":0}]
[null,false,{"$f":"L187","v":0},{"$f":"'Grups P'!H24","v":""},{"$f":"'Grups P'!I24","v":""},{"$f":"SUMIF(E175:E182,E187,F175:F182)","v":0},{"$f":"SUMIF(E175:E182,E187,G175:G182)","v":0},{"$f":"IF(B187=TRUE,0,IF(G187=0,0,ROUND(F187/G187,3)))","v":0},{"$f":"MAX(O187:Z187)","v":0},{"$f":"LARGE((O187:Z187),2)","v":0},{"$f":"SUMIF(E175:E182,E187,K175:K182)","v":0},{"$f":"IF(B187=TRUE,\"WO\",IF(AND(B185=TRUE,B186=TRUE),1,IF(N187=0,0,RANK(N187,N185:N187,0))))","v":0},{"$f":"IF(B175=\"\",0,IF(B187=TRUE,0+N187,3-L187+N187))","v":0},{"$f":"IF(OR(B187=TRUE,AND(B185=TRUE,B186=TRUE)),0.000000000012,K187*0.1+H187*0.01+I187*0.00000001+J187*0.00000000001)","v":0},{"$f":"IF(E175=E187,I175,0)","v":0},{"$f":"IF(E175=E187,J175,0)","v":0},{"$f":"IF(E176=E187,I176,0)","v":0},{"$f":"IF(E176=E187,J176,0)","v":0},{"$f":"IF(E178=E187,I178,0)","v":0},{"$f":"IF(E178=E187,J178,0)","v":0},{"$f":"IF(E179=E187,I179,0)","v":0},{"$f":"IF(E179=E187,J179,0)","v":0},{"$f":"IF(E181=E187,I181,0)","v":0},{"$f":"IF(E181=E187,J181,0)","v":0},{"$f":"IF(E182=E187,I182,0)","v":0},{"$f":"IF(E182=E187,J182,0)","v":0}]
[]
[null,null,null,null,null,"Boles","Ent","Mitj","SM1","SM2","Punts"]
[null,{"$f":"IF('Rànquing Inicial'!$D$144>36,\"Grup M\",\"\")","v":""},null,null,{"$f":"IF(D199>1,\"\",IF(OR(B201=TRUE,B202=TRUE),E200,E201))","v":""},null,null,{"$f":"IF(G190=\"\",\"\",ROUND(F190/G190,3))","v":""},null,null,{"$f":"IF(H190=\"\",\"\",IF(F190>F191,2,IF(F190<F191,0,1)))","v":""}]
[null,null,null,null,{"$f":"IF(D199>1,\"\",IF(B202=TRUE,E201,E202))","v":""},null,{"$f":"IF(G190=\"\",\"\",G190)","v":""},{"$f":"IF(G191=\"\",\"\",ROUND(F191/G191,3))","v":""},null,null,{"$f":"IF(H191=\"\",\"\",IF(F191>F190,2,IF(F191<F190,0,1)))","v":""}]
[]
[null,null,null,null,{"$f":"IF(D199>1,\"\",IF(B200=TRUE,E201,E200))","v":""},null,null,{"$f":"IF(G193=\"\",\"\",ROUND(F193/G193,3))","v":""},null,null,{"$f":"IF(H193=\"\",\"\",IF(F193>F194,2,IF(F193<F194,0,1)))","v":""}]
[null,null,null,null,{"$f":"IF(D199>1,\"\",IF(B202=TRUE,E201,E202))","v":""},null,{"$f":"IF(G193=\"\",\"\",G193)","v":""},{"$f":"IF(G194=\"\",\"\",ROUND(F194/G194,3))","v":""},null,null,{"$f":"IF(H194=\"\",\"\",IF(F194>F193,2,IF(F194<F193,0,1)))","v":""}]
[]
[null,null,null,null,{"$f":"IF(D199>1,\"\",IF(OR(B200=TRUE,B201=TRUE,B202=TRUE),\"\",E200))","v":""},null,null,{"$f":"IF(G196=\"\",\"\",ROUND(F196/G196,3))","v":""},null,null,{"$f":"IF(H196=\"\",\"\",IF(F196>F197,2,IF(F196<F197,0,1)))","v":""}]
[null,null,null,null,{"$f":"IF(OR(B200=TRUE,B201=TRUE,B202=TRUE),\"\",E201)","v":""},null,{"$f":"IF(G196=\"\",\"\",G196)","v":""},{"$f":"IF(G197=\"\",\"\",ROUND(F197/G197,3))","v":""},null,null,{"$f":"IF(H197=\"\",\"\",IF(F197>F196,2,IF(F197<F196,0,1)))","v":""}]
[]
[null,"¿WO?",null,{"$f":"COUNTIF(B200:B202,\"VERDADERO\")","v":0},"Jugador","Boles","Ent","Mitj","SM1","SM2","P",{"$f":"B190","v":""}]
[null,false,{"$f":"L200","v":0},{"$f":"'Grups P'!H26","v":""},{"$f":"'Grups P'!I26","v":""},{"$f":"SUMIF(E190:E197,E200,F190:F197)","v":0},{"$f":"SUMIF(E190:E197,E200,G190:G197)","v":0},{"$f":"IF(B200=TRUE,0,IF(G200=0,0,ROUND(F200/G200,3)))","v":0},{"$f":"MAX(O200:Z200)","v":0},{"$f":"LARGE((O200:Z200),2)","v":0},{"$f":"SUMIF(E190:E197,E200,K190:K197)","v":0},{"$f":"IF(B200=TRUE,\"WO\",IF(AND(B201=TRUE,B202=TRUE),1,IF(N200=0,0,RANK(N200,N200:N202,0))))","v":0},{"$f":"IF(B190=\"\",0,IF(B200=TRUE,0+N200,3-L200+N200))","v":0},{"$f":"IF(OR(B200=TRUE,AND(B201=TRUE,B202=TRUE)),0.000000000036,K200*0.1+H200*0.01+I200*0.00000001+J200*0.00000000001)","v":0},{"$f":"IF(E190=E200,I190,0)","v":0},{"$f":"IF(E190=E200,J190,0)","v":0},{"$f":"IF(E191=E200,I191,0)","v":0},{"$f":"IF(E191=E200,J191,0)","v":0},{"$f":"IF(E193=E200,I193,0)","v":0},{"$f":"IF(E193=E200,J193,0)","v":0},{"$f":"IF(E194=E200,I194,0)","v":0},{"$f":"IF(E194=E200,J194,0)","v":0},{"$f":"IF(E196=E200,I196,0)","v":0},{"$f":"IF(E196=E200,J196,0)","v":0},{"$f":"IF(E197=E200,I197,0)","v":0},{"$f":"IF(E197=E200,J197,0)","v":0}]
[null,false,{"$f":"L201","v":0},{"$f":"'Grups P'!H27","v":""},{"$f":"'Grups P'!I27","v":""},{"$f":"SUMIF(E190:E197,E201,F190:F197)","v":0},{"$f":"SUMIF(E190:E197,E201,G190:G197)","v":0},{"$f":"IF(B201=TRUE,0,IF(G201=0,0,ROUND(F201/G201,3)))","v":0},{"$f":"MAX(O201:Z201)","v":0},{"$f":"LARGE((O201:Z201),2)","v":0},{"$f":"SUMIF(E190:E197,E201,K190:K197)","v":0},{"$f":"IF(B201=TRUE,\"WO\",IF(AND(B200=TRUE,B202=TRUE),1,IF(N201=0,0,RANK(N201,N200:N202,0))))","v":0},{"$f":"IF(B190=\"\",0,IF(B201=TRUE,0+N201,3-L201+N201))","v":0},{"$f":"IF(OR(B201=TRUE,AND(B200=TRUE,B202=TRUE)),0.000000000029,K201*0.1+H201*0.01+I201*0.00000001+J201*0.00000000001)","v":0},{"$f":"IF(E190=E201,I190,0)","v":0},{"$f":"IF(E190=E201,J190,0)","v":0},{"$f":"IF(E191=E201,I191,0)","v":0},{"$f":"IF(E191=E201,J191,0)","v":0},{"$f":"IF(E193=E201,I193,0)","v":0},{"$f":"IF(E193=E201,J193,0)","v":0},{"$f":"IF(E194=E201,I194,0)","v":0},{"$f":"IF(E194=E201,J194,0)","v":0},{"$f":"IF(E196=E201,I196,0)","v":0},{"$f":"IF(E196=E201,J196,0)","v":0},{"$f":"IF(E197=E201,I197,0)","v":0},{"$f":"IF(E197=E201,J197,0)","v":0}]
[null,false,{"$f":"L202","v":0},{"$f":"'Grups P'!H28","v":""},{"$f":"'Grups P'!I28","v":""},{"$f":"SUMIF(E190:E197,E202,F190:F197)","v":0},{"$f":"SUMIF(E190:E197,E202,G190:G197)","v":0},{"$f":"IF(B202=TRUE,0,IF(G202=0,0,ROUND(F202/G202,3)))","v":0},{"$f":"MAX(O202:Z202)","v":0},{"$f":"LARGE((O202:Z202),2)","v":0},{"$f":"SUMIF(E190:E197,E202,K190:K197)","v":0},{"$f":"IF(B202=TRUE,\"WO\",IF(AND(B200=TRUE,B201=TRUE),1,IF(N202=0,0,RANK(N202,N200:N202,0))))","v":0},{"$f":"IF(B190=\"\",0,IF(B202=TRUE,0+N202,3-L202+N202))","v":0},{"$f":"IF(OR(B202=TRUE,AND(B200=TRUE,B201=TRUE)),0.000000000013,K202*0.1+H202*0.01+I202*0.00000001+J202*0.00000000001)","v":0},{"$f":"IF(E190=E202,I190,0)","v":0},{"$f":"IF(E190=E202,J190,0)","v":0},{"$f":"IF(E191=E202,I191,0)","v":0},{"$f":"IF(E191=E202,J191,0)","v":0},{"$f":"IF(E193=E202,I193,0)","v":0},{"$f":"IF(E193=E202,J193,0)","v":0},{"$f":"IF(E194=E202,I194,0)","v":0},{"$f":"IF(E194=E202,J194,0)","v":0},{"$f":"IF(E196=E202,I196,0)","v":0},{"$f":"IF(E196=E202,J196,0)","v":0},{"$f":"IF(E197=E202,I197,0)","v":0},{"$f":"IF(E197=E202,J197,0)","v":0}]
[]
[null,null,null,null,null,"Boles","Ent","Mitj","SM1","SM2","Punts"]
[null,{"$f":"IF('Rànquing Inicial'!$D$144>39,\"Grup N\",\"\")","v":""},null,null,{"$f":"IF(D214>1,\"\",IF(OR(B216=TRUE,B217=TRUE),E215,E216))","v":""},null,null,{"$f":"IF(G205=\"\",\"\",ROUND(F205/G205,3))","v":""},null,null,{"$f":"IF(H205=\"\",\"\",IF(F205>F206,2,IF(F205<F206,0,1)))","v":""}]
[null,null,null,null,{"$f":"IF(D214>1,\"\",IF(B217=TRUE,E216,E217))","v":""},null,{"$f":"IF(G205=\"\",\"\",G205)","v":""},{"$f":"IF(G206=\"\",\"\",ROUND(F206/G206,3))","v":""},null,null,{"$f":"IF(H206=\"\",\"\",IF(F206>F205,2,IF(F206<F205,0,1)))","v":""}]
[]
[null,null,null,null,{"$f":"IF(D214>1,\"\",IF(B215=TRUE,E216,E215))","v":""},null,null,{"$f":"IF(G208=\"\",\"\",ROUND(F208/G208,3))","v":""},null,null,{"$f":"IF(H208=\"\",\"\",IF(F208>F209,2,IF(F208<F209,0,1)))","v":""}]
[null,null,null,null,{"$f":"IF(D214>1,\"\",IF(B217=TRUE,E216,E217))","v":""},null,{"$f":"IF(G208=\"\",\"\",G208)","v":""},{"$f":"IF(G209=\"\",\"\",ROUND(F209/G209,3))","v":""},null,null,{"$f":"IF(H209=\"\",\"\",IF(F209>F208,2,IF(F209<F208,0,1)))","v":""}]
[]
[null,null,null,null,{"$f":"IF(D214>1,\"\",IF(OR(B215=TRUE,B216=TRUE,B217=TRUE),\"\",E215))","v":""},null,null,{"$f":"IF(G211=\"\",\"\",ROUND(F211/G211,3))","v":""},null,null,{"$f":"IF(H211=\"\",\"\",IF(F211>F212,2,IF(F211<F212,0,1)))","v":""}]
[null,null,null,null,{"$f":"IF(OR(B215=TRUE,B216=TRUE,B217=TRUE),\"\",E216)","v":""},null,{"$f":"IF(G211=\"\",\"\",G211)","v":""},{"$f":"IF(G212=\"\",\"\",ROUND(F212/G212,3))","v":""},null,null,{"$f":"IF(H212=\"\",\"\",IF(F212>F211,2,IF(F212<F211,0,1)))","v":""}]
[]
[null,"¿WO?",null,{"$f":"COUNTIF(B215:B217,\"VERDADERO\")","v":0},"Jugador","Boles","Ent","Mitj","SM1","SM2","P",{"$f":"B205","v":""}]
[null,false,{"$f":"L215","v":0},{"$f":"'Grups P'!H30","v":""},{"$f":"'Grups P'!I30","v":""},{"$f":"SUMIF(E205:E212,E215,F205:F212)","v":0},{"$f":"SUMIF(E205:E212,E215,G205:G212)","v":0},{"$f":"IF(B215=TRUE,0,IF(G215=0,0,ROUND(F215/G215,3)))","v":0},{"$f":"MAX(O215:Z215)","v":0},{"$f":"LARGE((O215:Z215),2)","v":0},{"$f":"SUMIF(E205:E212,E215,K205:K212)","v":0},{"$f":"IF(B215=TRUE,\"WO\",IF(AND(B216=TRUE,B217=TRUE),1,IF(N215=0,0,RANK(N215,N215:N217,0))))","v":0},{"$f":"IF(B205=\"\",0,IF(B215=TRUE,0+N215,3-L215+N215))","v":0},{"$f":"IF(OR(B215=TRUE,AND(B216=TRUE,B217=TRUE)),0.000000000035,K215*0.1+H215*0.01+I215*0.00000001+J215*0.00000000001)","v":0},{"$f":"IF(E205=E215,I205,0)","v":0},{"$f":"IF(E205=E215,J205,0)","v":0},{"$f":"IF(E206=E215,I206,0)","v":0},{"$f":"IF(E206=E215,J206,0)","v":0},{"$f":"IF(E208=E215,I208,0)","v":0},{"$f":"IF(E208=E215,J208,0)","v":0},{"$f":"IF(E209=E215,I209,0)","v":0},{"$f":"IF(E209=E215,J209,0)","v":0},{"$f":"IF(E211=E215,I211,0)","v":0},{"$f":"IF(E211=E215,J211,0)","v":0},{"$f":"IF(E212=E215,I212,0)","v":0},{"$f":"IF(E212=E215,J212,0)","v":0}]
[null,false,{"$f":"L216","v":0},{"$f":"'Grups P'!H31","v":""},{"$f":"'Grups P'!I31","v":""},{"$f":"SUMIF(E205:E212,E216,F205:F212)","v":0},{"$f":"SUMIF(E205:E212,E216,G205:G212)","v":0},{"$f":"IF(B216=TRUE,0,IF(G216=0,0,ROUND(F216/G216,3)))","v":0},{"$f":"MAX(O216:Z216)","v":0},{"$f":"LARGE((O216:Z216),2)","v":0},{"$f":"SUMIF(E205:E212,E216,K205:K212)","v":0},{"$f":"IF(B216=TRUE,\"WO\",IF(AND(B215=TRUE,B217=TRUE),1,IF(N216=0,0,RANK(N216,N215:N217,0))))","v":0},{"$f":"IF(B205=\"\",0,IF(B216=TRUE,0+N216,3-L216+N216))","v":0},{"$f":"IF(OR(B216=TRUE,AND(B215=TRUE,B217=TRUE)),0.00000000003,K216*0.1+H216*0.01+I216*0.00000001+J216*0.00000000001)","v":0},{"$f":"IF(E205=E216,I205,0)","v":0},{"$f":"IF(E205=E216,J205,0)","v":0},{"$f":"IF(E206=E216,I206,0)","v":0},{"$f":"IF(E206=E216,J206,0)","v":0},{"$f":"IF(E208=E216,I208,0)","v":0},{"$f":"IF(E208=E216,J208,0)","v":0},{"$f":"IF(E209=E216,I209,0)","v":0},{"$f":"IF(E209=E216,J209,0)","v":0},{"$f":"IF(E211=E216,I211,0)","v":0},{"$f":"IF(E211=E216,J211,0)","v":0},{"$f":"IF(E212=E216,I212,0)","v":0},{"$f":"IF(E212=E216,J212,0)","v":0}]
[null,false,{"$f":"L217","v":0},{"$f":"'Grups P'!H32","v":""},{"$f":"'Grups P'!I32","v":""},{"$f":"SUMIF(E205:E212,E217,F205:F212)","v":0},{"$f":"SUMIF(E205:E212,E217,G205:G212)","v":0},{"$f":"IF(B217=TRUE,0,IF(G217=0,0,ROUND(F217/G217,3)))","v":0},{"$f":"MAX(O217:Z217)","v":0},{"$f":"LARGE((O217:Z217),2)","v":0},{"$f":"SUMIF(E205:E212,E217,K205:K212)","v":0},{"$f":"IF(B217=TRUE,\"WO\",IF(AND(B215=TRUE,B216=TRUE),1,IF(N217=0,0,RANK(N217,N215:N217,0))))","v":0},{"$f":"IF(B205=\"\",0,IF(B217=TRUE,0+N217,3-L217+N217))","v":0},{"$f":"IF(OR(B217=TRUE,AND(B215=TRUE,B216=TRUE)),0.000000000014,K217*0.1+H217*0.01+I217*0.00000001+J217*0.00000000001)","v":0},{"$f":"IF(E205=E217,I205,0)","v":0},{"$f":"IF(E205=E217,J205,0)","v":0},{"$f":"IF(E206=E217,I206,0)","v":0},{"$f":"IF(E206=E217,J206,0)","v":0},{"$f":"IF(E208=E217,I208,0)","v":0},{"$f":"IF(E208=E217,J208,0)","v":0},{"$f":"IF(E209=E217,I209,0)","v":0},{"$f":"IF(E209=E217,J209,0)","v":0},{"$f":"IF(E211=E217,I211,0)","v":0},{"$f":"IF(E211=E217,J211,0)","v":0},{"$f":"IF(E212=E217,I212,0)","v":0},{"$f":"IF(E212=E217,J212,0)","v":0}]
[]
[null,null,null,null,null,"Boles","Ent","Mitj","SM1","SM2","Punts"]
[null,{"$f":"IF('Rànquing Inicial'!$D$144>42,\"Grup O\",\"\")","v":""},null,null,{"$f":"IF(D229>1,\"\",IF(OR(B231=TRUE,B232=TRUE),E230,E231))","v":""},null,null,{"$f":"IF(G220=\"\",\"\",ROUND(F220/G220,3))","v":""},null,null,{"$f":"IF(H220=\"\",\"\",IF(F220>F221,2,IF(F220<F221,0,1)))","v":""}]
[null,null,null,null,{"$f":"IF(D229>1,\"\",IF(B232=TRUE,E231,E232))","v":""},null,{"$f":"IF(G220=\"\",\"\",G220)","v":""},{"$f":"IF(G221=\"\",\"\",ROUND(F221/G221,3))","v":""},null,null,{"$f":"IF(H221=\"\",\"\",IF(F221>F220,2,IF(F221<F220,0,1)))","v":""}]
[]
[null,null,null,null,{"$f":"IF(D229>1,\"\",IF(B230=TRUE,E231,E230))","v":""},null,null,{"$f":"IF(G223=\"\",\"\",ROUND(F223/G223,3))","v":""},null,null,{"$f":"IF(H223=\"\",\"\",IF(F223>F224,2,IF(F223<F224,0,1)))","v":""}]
[null,null,null,null,{"$f":"IF(D229>1,\"\",IF(B232=TRUE,E231,E232))","v":""},null,{"$f":"IF(G223=\"\",\"\",G223)","v":""},{"$f":"IF(G224=\"\",\"\",ROUND(F224/G224,3))","v":""},null,null,{"$f":"IF(H224=\"\",\"\",IF(F224>F223,2,IF(F224<F223,0,1)))","v":""}]
[]
[null,null,null,null,{"$f":"IF(D229>1,\"\",IF(OR(B230=TRUE,B231=TRUE,B232=TRUE),\"\",E230))","v":""},null,null,{"$f":"IF(G226=\"\",\"\",ROUND(F226/G226,3))","v":""},null,null,{"$f":"IF(H226=\"\",\"\",IF(F226>F227,2,IF(F226<F227,0,1)))","v":""}]
[null,null,null,null,{"$f":"IF(OR(B230=TRUE,B231=TRUE,B232=TRUE),\"\",E231)","v":""},null,{"$f":"IF(G226=\"\",\"\",G226)","v":""},{"$f":"IF(G227=\"\",\"\",ROUND(F227/G227,3))","v":""},null,null,{"$f":"IF(H227=\"\",\"\",IF(F227>F226,2,IF(F227<F226,0,1)))","v":""}]
[]
[null,"¿WO?",null,{"$f":"COUNTIF(B230:B232,\"VERDADERO\")","v":0},"Jugador","Boles","Ent","Mitj","SM1","SM2","P",{"$f":"B220","v":""}]
[null,false,{"$f":"L230","v":0},{"$f":"'Grups P'!H34","v":""},{"$f":"'Grups P'!I34","v":""},{"$f":"SUMIF(E220:E227,E230,F220:F227)","v":0},{"$f":"SUMIF(E220:E227,E230,G220:G227)","v":0},{"$f":"IF(B230=TRUE,0,IF(G230=0,0,ROUND(F230/G230,3)))","v":0},{"$f":"MAX(O230:Z230)","v":0},{"$f":"LARGE((O230:Z230),2)","v":0},{"$f":"SUMIF(E220:E227,E230,K220:K227)","v":0},{"$f":"IF(B230=TRUE,\"WO\",IF(AND(B231=TRUE,B232=TRUE),1,IF(N230=0,0,RANK(N230,N230:N232,0))))","v":0},{"$f":"IF(B220=\"\",0,IF(B230=TRUE,0+N230,3-L230+N230))","v":0},{"$f":"IF(OR(B230=TRUE,AND(B231=TRUE,B232=TRUE)),0.000000000034,K230*0.1+H230*0.01+I230*0.00000001+J230*0.00000000001)","v":0},{"$f":"IF(E220=E230,I220,0)","v":0},{"$f":"IF(E220=E230,J220,0)","v":0},{"$f":"IF(E221=E230,I221,0)","v":0},{"$f":"IF(E221=E230,J221,0)","v":0},{"$f":"IF(E223=E230,I223,0)","v":0},{"$f":"IF(E223=E230,J223,0)","v":0},{"$f":"IF(E224=E230,I224,0)","v":0},{"$f":"IF(E224=E230,J224,0)","v":0},{"$f":"IF(E226=E230,I226,0)","v":0},{"$f":"IF(E226=E230,J226,0)","v":0},{"$f":"IF(E227=E230,I227,0)","v":0},{"$f":"IF(E227=E230,J227,0)","v":0}]
[null,false,{"$f":"L231","v":0},{"$f":"'Grups P'!H35","v":""},{"$f":"'Grups P'!I35","v":""},{"$f":"SUMIF(E220:E227,E231,F220:F227)","v":0},{"$f":"SUMIF(E220:E227,E231,G220:G227)","v":0},{"$f":"IF(B231=TRUE,0,IF(G231=0,0,ROUND(F231/G231,3)))","v":0},{"$f":"MAX(O231:Z231)","v":0},{"$f":"LARGE((O231:Z231),2)","v":0},{"$f":"SUMIF(E220:E227,E231,K220:K227)","v":0},{"$f":"IF(B231=TRUE,\"WO\",IF(AND(B230=TRUE,B232=TRUE),1,IF(N231=0,0,RANK(N231,N230:N232,0))))","v":0},{"$f":"IF(B220=\"\",0,IF(B231=TRUE,0+N231,3-L231+N231))","v":0},{"$f":"IF(OR(B231=TRUE,AND(B230=TRUE,B232=TRUE)),0.000000000031,K231*0.1+H231*0.01+I231*0.00000001+J231*0.00000000001)","v":0},{"$f":"IF(E220=E231,I220,0)","v":0},{"$f":"IF(E220=E231,J220,0)","v":0},{"$f":"IF(E221=E231,I221,0)","v":0},{"$f":"IF(E221=E231,J221,0)","v":0},{"$f":"IF(E223=E231,I223,0)","v":0},{"$f":"IF(E223=E231,J223,0)","v":0},{"$f":"IF(E224=E231,I224,0)","v":0},{"$f":"IF(E224=E231,J224,0)","v":0},{"$f":"IF(E226=E231,I226,0)","v":0},{"$f":"IF(E226=E231,J226,0)","v":0},{"$f":"IF(E227=E231,I227,0)","v":0},{"$f":"IF(E227=E231,J227,0)","v":0}]
[null,false,{"$f":"L232","v":0},{"$f":"'Grups P'!H36","v":""},{"$f":"'Grups P'!I36","v":""},{"$f":"SUMIF(E220:E227,E232,F220:F227)","v":0},{"$f":"SUMIF(E220:E227,E232,G220:G227)","v":0},{"$f":"IF(B232=TRUE,0,IF(G232=0,0,ROUND(F232/G232,3)))","v":0},{"$f":"MAX(O232:Z232)","v":0},{"$f":"LARGE((O232:Z232),2)","v":0},{"$f":"SUMIF(E220:E227,E232,K220:K227)","v":0},{"$f":"IF(B232=TRUE,\"WO\",IF(AND(B230=TRUE,B231=TRUE),1,IF(N232=0,0,RANK(N232,N230:N232,0))))","v":0},{"$f":"IF(B220=\"\",0,IF(B232=TRUE,0+N232,3-L232+N232))","v":0},{"$f":"IF(OR(B232=TRUE,AND(B230=TRUE,B231=TRUE)),0.000000000015,K232*0.1+H232*0.01+I232*0.00000001+J232*0.00000000001)","v":0},{"$f":"IF(E220=E232,I220,0)","v":0},{"$f":"IF(E220=E232,J220,0)","v":0},{"$f":"IF(E221=E232,I221,0)","v":0},{"$f":"IF(E221=E232,J221,0)","v":0},{"$f":"IF(E223=E232,I223,0)","v":0},{"$f":"IF(E223=E232,J223,0)","v":0},{"$f":"IF(E224=E232,I224,0)","v":0},{"$f":"IF(E224=E232,J224,0)","v":0},{"$f":"IF(E226=E232,I226,0)","v":0},{"$f":"IF(E226=E232,J226,0)","v":0},{"$f":"IF(E227=E232,I227,0)","v":0},{"$f":"IF(E227=E232,J227,0)","v":0}]
[]
[null,null,null,null,null,"Boles","Ent","Mitj","SM1","SM2","Punts"]
[null,{"$f":"IF('Rànquing Inicial'!$D$144>45,\"Grup P\",\"\")","v":""},null,null,{"$f":"IF(D244>1,\"\",IF(OR(B246=TRUE,B247=TRUE),E245,E246))","v":""},null,null,{"$f":"IF(G235=\"\",\"\",ROUND(F235/G235,3))","v":""},null,null,{"$f":"IF(H235=\"\",\"\",IF(F235>F236,2,IF(F235<F236,0,1)))","v":""}]
[null,null,null,null,{"$f":"IF(D244>1,\"\",IF(B247=TRUE,E246,E247))","v":""},null,{"$f":"IF(G235=\"\",\"\",G235)","v":""},{"$f":"IF(G236=\"\",\"\",ROUND(F236/G236,3))","v":""},null,null,{"$f":"IF(H236=\"\",\"\",IF(F236>F235,2,IF(F236<F235,0,1)))","v":""}]
[]
[null,null,null,null,{"$f":"IF(D244>1,\"\",IF(B245=TRUE,E246,E245))","v":""},null,null,{"$f":"IF(G238=\"\",\"\",ROUND(F238/G238,3))","v":""},null,null,{"$f":"IF(H238=\"\",\"\",IF(F238>F239,2,IF(F238<F239,0,1)))","v":""}]
[null,null,null,null,{"$f":"IF(D244>1,\"\",IF(B247=TRUE,E246,E247))","v":""},null,{"$f":"IF(G238=\"\",\"\",G238)","v":""},{"$f":"IF(G239=\"\",\"\",ROUND(F239/G239,3))","v":""},null,null,{"$f":"IF(H239=\"\",\"\",IF(F239>F238,2,IF(F239<F238,0,1)))","v":""}]
[]
[null,null,null,null,{"$f":"IF(D244>1,\"\",IF(OR(B245=TRUE,B246=TRUE,B247=TRUE),\"\",E245))","v":""},null,null,{"$f":"IF(G241=\"\",\"\",ROUND(F241/G241,3))","v":""},null,null,{"$f":"IF(H241=\"\",\"\",IF(F241>F242,2,IF(F241<F242,0,1)))","v":""}]
[null,null,null,null,{"$f":"IF(OR(B245=TRUE,B246=TRUE,B247=TRUE),\"\",E246)","v":""},null,{"$f":"IF(G241=\"\",\"\",G241)","v":""},{"$f":"IF(G242=\"\",\"\",ROUND(F242/G242,3))","v":""},null,null,{"$f":"IF(H242=\"\",\"\",IF(F242>F241,2,IF(F242<F241,0,1)))","v":""}]
[]
[null,"¿WO?",null,{"$f":"COUNTIF(B245:B247,\"VERDADERO\")","v":0},"Jugador","Boles","Ent","Mitj","SM1","SM2","P",{"$f":"B235","v":""}]
[null,false,{"$f":"L245","v":0},{"$f":"'Grups P'!H38","v":""},{"$f":"'Grups P'!I38","v":""},{"$f":"SUMIF(E235:E242,E245,F235:F242)","v":0},{"$f":"SUMIF(E235:E242,E245,G235:G242)","v":0},{"$f":"IF(B245=TRUE,0,IF(G245=0,0,ROUND(F245/G245,3)))","v":0},{"$f":"MAX(O245:Z245)","v":0},{"$f":"LARGE((O245:Z245),2)","v":0},{"$f":"SUMIF(E235:E242,E245,K235:K242)","v":0},{"$f":"IF(B245=TRUE,\"WO\",IF(AND(B246=TRUE,B247=TRUE),1,IF(N245=0,0,RANK(N245,N245:N247,0))))","v":0},{"$f":"IF(B235=\"\",0,IF(B245=TRUE,0+N245,3-L245+N245))","v":0},{"$f":"IF(OR(B245=TRUE,AND(B246=TRUE,B247=TRUE)),0.000000000033,K245*0.1+H245*0.01+I245*0.00000001+J245*0.00000000001)","v":0},{"$f":"IF(E235=E245,I235,0)","v":0},{"$f":"IF(E235=E245,J235,0)","v":0},{"$f":"IF(E236=E245,I236,0)","v":0},{"$f":"IF(E236=E245,J236,0)","v":0},{"$f":"IF(E238=E245,I238,0)","v":0},{"$f":"IF(E238=E245,J238,0)","v":0},{"$f":"IF(E239=E245,I239,0)","v":0},{"$f":"IF(E239=E245,J239,0)","v":0},{"$f":"IF(E241=E245,I241,0)","v":0},{"$f":"IF(E241=E245,J241,0)","v":0},{"$f":"IF(E242=E245,I242,0)","v":0},{"$f":"IF(E242=E245,J242,0)","v":0}]
[null,false,{"$f":"L246","v":0},{"$f":"'Grups P'!H39","v":""},{"$f":"'Grups P'!I39","v":""},{"$f":"SUMIF(E235:E242,E246,F235:F242)","v":0},{"$f":"SUMIF(E235:E242,E246,G235:G242)","v":0},{"$f":"IF(B246=TRUE,0,IF(G246=0,0,ROUND(F246/G246,3)))","v":0},{"$f":"MAX(O246:Z246)","v":0},{"$f":"LARGE((O246:Z246),2)","v":0},{"$f":"SUMIF(E235:E242,E246,K235:K242)","v":0},{"$f":"IF(B246=TRUE,\"WO\",IF(AND(B245=TRUE,B247=TRUE),1,IF(N246=0,0,RANK(N246,N245:N247,0))))","v":0},{"$f":"IF(B235=\"\",0,IF(B246=TRUE,0+N246,3-L246+N246))","v":0},{"$f":"IF(OR(B246=TRUE,AND(B245=TRUE,B247=TRUE)),0.000000000032,K246*0.1+H246*0.01+I246*0.00000001+J246*0.00000000001)","v":0},{"$f":"IF(E235=E246,I235,0)","v":0},{"$f":"IF(E235=E246,J235,0)","v":0},{"$f":"IF(E236=E246,I236,0)","v":0},{"$f":"IF(E236=E246,J236,0)","v":0},{"$f":"IF(E238=E246,I238,0)","v":0},{"$f":"IF(E238=E246,J238,0)","v":0},{"$f":"IF(E239=E246,I239,0)","v":0},{"$f":"IF(E239=E246,J239,0)","v":0},{"$f":"IF(E241=E246,I241,0)","v":0},{"$f":"IF(E241=E246,J241,0)","v":0},{"$f":"IF(E242=E246,I242,0)","v":0},{"$f":"IF(E242=E246,J242,0)","v":0}]
[null,false,{"$f":"L247","v":0},{"$f":"'Grups P'!H40","v":""},{"$f":"'Grups P'!I40","v":""},{"$f":"SUMIF(E235:E242,E247,F235:F242)","v":0},{"$f":"SUMIF(E235:E242,E247,G235:G242)","v":0},{"$f":"IF(B247=TRUE,0,IF(G247=0,0,ROUND(F247/G247,3)))","v":0},{"$f":"MAX(O247:Z247)","v":0},{"$f":"LARGE((O247:Z247),2)","v":0},{"$f":"SUMIF(E235:E242,E247,K235:K242)","v":0},{"$f":"IF(B247=TRUE,\"WO\",IF(AND(B245=TRUE,B246=TRUE),1,IF(N247=0,0,RANK(N247,N245:N247,0))))","v":0},{"$f":"IF(B235=\"\",0,IF(B247=TRUE,0+N247,3-L247+N247))","v":0},{"$f":"IF(OR(B247=TRUE,AND(B245=TRUE,B246=TRUE)),0.000000000016,K247*0.1+H247*0.01+I247*0.00000001+J247*0.00000000001)","v":0},{"$f":"IF(E235=E247,I235,0)","v":0},{"$f":"IF(E235=E247,J235,0)","v":0},{"$f":"IF(E236=E247,I236,0)","v":0},{"$f":"IF(E236=E247,J236,0)","v":0},{"$f":"IF(E238=E247,I238,0)","v":0},{"$f":"IF(E238=E247,J238,0)","v":0},{"$f":"IF(E239=E247,I239,0)","v":0},{"$f":"IF(E239=E247,J239,0)","v":0},{"$f":"IF(E241=E247,I241,0)","v":0},{"$f":"IF(E241=E247,J241,0)","v":0},{"$f":"IF(E242=E247,I242,0)","v":0},{"$f":"IF(E242=E247,J242,0)","v":0}]

{"sheet":"P (C)","index":17,"n_rows":51,"n_cols":8,"rows_kept":51,"cut":false,"hidden":true,"merged":[[0,0,0,7]]}
["CLASSIFICACIÓ PRÈVIA (P)"]
[]
["Classificació","Posició","Jugador","Punts","Mitjana","SM (1)","SM (2)","Puntuació"]
[{"$f":"IF(H4=0,\"\",RANK(H4,$H$4:$H$51,))","v":""},{"$f":"'Resultats P'!L20","v":0},{"$f":"'Resultats P'!E20","v":"JUGADOR 19"},{"$f":"'Resultats P'!K20","v":0},{"$f":"'Resultats P'!H20","v":0},{"$f":"'Resultats P'!I20","v":0},{"$f":"'Resultats P'!J20","v":0},{"$f":"IF('Resultats P'!M20=3,0,'Resultats P'!M20)","v":0}]
[{"$f":"IF(H5=0,\"\",RANK(H5,$H$4:$H$51,))","v":""},{"$f":"'Resultats P'!L21","v":0},{"$f":"'Resultats P'!E21","v":"JUGADOR 34"},{"$f":"'Resultats P'!K21","v":0},{"$f":"'Resultats P'!H21","v":0},{"$f":"'Resultats P'!I21","v":0},{"$f":"'Resultats P'!J21","v":0},{"$f":"IF('Resultats P'!M21=3,0,'Resultats P'!M21)","v":0}]
["",{"$f":"'Resultats P'!L22","v":0},{"$f":"'Resultats P'!E22","v":"JUGADOR 42"},{"$f":"'Resultats P'!K22","v":0},{"$f":"'Resultats P'!H22","v":0},{"$f":"'Resultats P'!I22","v":0},{"$f":"'Resultats P'!J22","v":0},{"$f":"IF('Resultats P'!M22=3,0,'Resultats P'!M22)","v":0}]
["",{"$f":"'Resultats P'!L35","v":0},{"$f":"'Resultats P'!E35","v":"JUGADOR 20"},{"$f":"'Resultats P'!K35","v":0},{"$f":"'Resultats P'!H35","v":0},{"$f":"'Resultats P'!I35","v":0},{"$f":"'Resultats P'!J35","v":0},{"$f":"IF('Resultats P'!M35=3,0,'Resultats P'!M35)","v":0}]
["",{"$f":"'Resultats P'!L36","v":0},{"$f":"'Resultats P'!E36","v":"JUGADOR 33"},{"$f":"'Resultats P'!K36","v":0},{"$f":"'Resultats P'!H36","v":0},{"$f":"'Resultats P'!I36","v":0},{"$f":"'Resultats P'!J36","v":0},{"$f":"IF('Resultats P'!M36=3,0,'Resultats P'!M36)","v":0}]
["",{"$f":"'Resultats P'!L37","v":0},{"$f":"'Resultats P'!E37","v":"JUGADOR 41"},{"$f":"'Resultats P'!K37","v":0},{"$f":"'Resultats P'!H37","v":0},{"$f":"'Resultats P'!I37","v":0},{"$f":"'Resultats P'!J37","v":0},{"$f":"IF('Resultats P'!M37=3,0,'Resultats P'!M37)","v":0}]
["",{"$f":"'Resultats P'!L50","v":0},{"$f":"'Resultats P'!E50","v":"JUGADOR 21"},{"$f":"'Resultats P'!K50","v":0},{"$f":"'Resultats P'!H50","v":0},{"$f":"'Resultats P'!I50","v":0},{"$f":"'Resultats P'!J50","v":0},{"$f":"IF('Resultats P'!M50=3,0,'Resultats P'!M50)","v":0}]
["",{"$f":"'Resultats P'!L51","v":0},{"$f":"'Resultats P'!E51","v":"JUGADOR 32"},{"$f":"'Resultats P'!K51","v":0},{"$f":"'Resultats P'!H51","v":0},{"$f":"'Resultats P'!I51","v":0},{"$f":"'Resultats P'!J51","v":0},{"$f":"IF('Resultats P'!M51=3,0,'Resultats P'!M51)","v":0}]
["",{"$f":"'Resultats P'!L52","v":0},{"$f":"'Resultats P'!E52","v":"JUGADOR 40"},{"$f":"'Resultats P'!K52","v":0},{"$f":"'Resultats P'!H52","v":0},{"$f":"'Resultats P'!I52","v":0},{"$f":"'Resultats P'!J52","v":0},{"$f":"IF('Resultats P'!M52=3,0,'Resultats P'!M52)","v":0}]
["",{"$f":"'Resultats P'!L65","v":0},{"$f":"'Resultats P'!E65","v":"JUGADOR 22"},{"$f":"'Resultats P'!K65","v":0},{"$f":"'Resultats P'!H65","v":0},{"$f":"'Resultats P'!I65","v":0},{"$f":"'Resultats P'!J65","v":0},{"$f":"IF('Resultats P'!M65=3,0,'Resultats P'!M65)","v":0}]
["",{"$f":"'Resultats P'!L66","v":0},{"$f":"'Resultats P'!E66","v":"JUGADOR 31"},{"$f":"'Resultats P'!K66","v":0},{"$f":"'Resultats P'!H66","v":0},{"$f":"'Resultats P'!I66","v":0},{"$f":"'Resultats P'!J66","v":0},{"$f":"IF('Resultats P'!M66=3,0,'Resultats P'!M66)","v":0}]
["",{"$f":"'Resultats P'!L67","v":0},{"$f":"'Resultats P'!E67","v":"JUGADOR 39"},{"$f":"'Resultats P'!K67","v":0},{"$f":"'Resultats P'!H67","v":0},{"$f":"'Resultats P'!I67","v":0},{"$f":"'Resultats P'!J67","v":0},{"$f":"IF('Resultats P'!M67=3,0,'Resultats P'!M67)","v":0}]
["",{"$f":"'Resultats P'!L80","v":0},{"$f":"'Resultats P'!E80","v":"JUGADOR 23"},{"$f":"'Resultats P'!K80","v":0},{"$f":"'Resultats P'!H80","v":0},{"$f":"'Resultats P'!I80","v":0},{"$f":"'Resultats P'!J80","v":0},{"$f":"IF('Resultats P'!M80=3,0,'Resultats P'!M80)","v":0}]
["",{"$f":"'Resultats P'!L81","v":0},{"$f":"'Resultats P'!E81","v":"JUGADOR 30"},{"$f":"'Resultats P'!K81","v":0},{"$f":"'Resultats P'!H81","v":0},{"$f":"'Resultats P'!I81","v":0},{"$f":"'Resultats P'!J81","v":0},{"$f":"IF('Resultats P'!M81=3,0,'Resultats P'!M81)","v":0}]
["",{"$f":"'Resultats P'!L82","v":0},{"$f":"'Resultats P'!E82","v":"JUGADOR 38"},{"$f":"'Resultats P'!K82","v":0},{"$f":"'Resultats P'!H82","v":0},{"$f":"'Resultats P'!I82","v":0},{"$f":"'Resultats P'!J82","v":0},{"$f":"IF('Resultats P'!M82=3,0,'Resultats P'!M82)","v":0}]
["",{"$f":"'Resultats P'!L95","v":0},{"$f":"'Resultats P'!E95","v":"JUGADOR 24"},{"$f":"'Resultats P'!K95","v":0},{"$f":"'Resultats P'!H95","v":0},{"$f":"'Resultats P'!I95","v":0},{"$f":"'Resultats P'!J95","v":0},{"$f":"IF('Resultats P'!M95=3,0,'Resultats P'!M95)","v":0}]
["",{"$f":"'Resultats P'!L96","v":0},{"$f":"'Resultats P'!E96","v":"JUGADOR 29"},{"$f":"'Resultats P'!K96","v":0},{"$f":"'Resultats P'!H96","v":0},{"$f":"'Resultats P'!I96","v":0},{"$f":"'Resultats P'!J96","v":0},{"$f":"IF('Resultats P'!M96=3,0,'Resultats P'!M96)","v":0}]
["",{"$f":"'Resultats P'!L97","v":0},{"$f":"'Resultats P'!E97","v":"JUGADOR 37"},{"$f":"'Resultats P'!K97","v":0},{"$f":"'Resultats P'!H97","v":0},{"$f":"'Resultats P'!I97","v":0},{"$f":"'Resultats P'!J97","v":0},{"$f":"IF('Resultats P'!M97=3,0,'Resultats P'!M97)","v":0}]
["",{"$f":"'Resultats P'!L110","v":0},{"$f":"'Resultats P'!E110","v":"JUGADOR 25"},{"$f":"'Resultats P'!K110","v":0},{"$f":"'Resultats P'!H110","v":0},{"$f":"'Resultats P'!I110","v":0},{"$f":"'Resultats P'!J110","v":0},{"$f":"IF('Resultats P'!M110=3,0,'Resultats P'!M110)","v":0}]
["",{"$f":"'Resultats P'!L111","v":0},{"$f":"'Resultats P'!E111","v":"JUGADOR 28"},{"$f":"'Resultats P'!K111","v":0},{"$f":"'Resultats P'!H111","v":0},{"$f":"'Resultats P'!I111","v":0},{"$f":"'Resultats P'!J111","v":0},{"$f":"IF('Resultats P'!M111=3,0,'Resultats P'!M111)","v":0}]
["",{"$f":"'Resultats P'!L112","v":0},{"$f":"'Resultats P'!E112","v":"JUGADOR 36"},{"$f":"'Resultats P'!K112","v":0},{"$f":"'Resultats P'!H112","v":0},{"$f":"'Resultats P'!I112","v":0},{"$f":"'Resultats P'!J112","v":0},{"$f":"IF('Resultats P'!M112=3,0,'Resultats P'!M112)","v":0}]
["",{"$f":"'Resultats P'!L125","v":0},{"$f":"'Resultats P'!E125","v":"JUGADOR 26"},{"$f":"'Resultats P'!K125","v":0},{"$f":"'Resultats P'!H125","v":0},{"$f":"'Resultats P'!I125","v":0},{"$f":"'Resultats P'!J125","v":0},{"$f":"IF('Resultats P'!M125=3,0,'Resultats P'!M125)","v":0}]
["",{"$f":"'Resultats P'!L126","v":0},{"$f":"'Resultats P'!E126","v":"JUGADOR 27"},{"$f":"'Resultats P'!K126","v":0},{"$f":"'Resultats P'!H126","v":0},{"$f":"'Resultats P'!I126","v":0},{"$f":"'Resultats P'!J126","v":0},{"$f":"IF('Resultats P'!M126=3,0,'Resultats P'!M126)","v":0}]
["",{"$f":"'Resultats P'!L127","v":0},{"$f":"'Resultats P'!E127","v":"JUGADOR 35"},{"$f":"'Resultats P'!K127","v":0},{"$f":"'Resultats P'!H127","v":0},{"$f":"'Resultats P'!I127","v":0},{"$f":"'Resultats P'!J127","v":0},{"$f":"IF('Resultats P'!M127=3,0,'Resultats P'!M127)","v":0}]
["",{"$f":"'Resultats P'!L140","v":0},{"$f":"'Resultats P'!E140","v":""},{"$f":"'Resultats P'!K140","v":0},{"$f":"'Resultats P'!H140","v":0},{"$f":"'Resultats P'!I140","v":0},{"$f":"'Resultats P'!J140","v":0},{"$f":"IF('Resultats P'!M140=3,0,'Resultats P'!M140)","v":0}]
["",{"$f":"'Resultats P'!L141","v":0},{"$f":"'Resultats P'!E141","v":""},{"$f":"'Resultats P'!K141","v":0},{"$f":"'Resultats P'!H141","v":0},{"$f":"'Resultats P'!I141","v":0},{"$f":"'Resultats P'!J141","v":0},{"$f":"IF('Resultats P'!M141=3,0,'Resultats P'!M141)","v":0}]
["",{"$f":"'Resultats P'!L142","v":0},{"$f":"'Resultats P'!E142","v":""},{"$f":"'Resultats P'!K142","v":0},{"$f":"'Resultats P'!H142","v":0},{"$f":"'Resultats P'!I142","v":0},{"$f":"'Resultats P'!J142","v":0},{"$f":"IF('Resultats P'!M142=3,0,'Resultats P'!M142)","v":0}]
["",{"$f":"'Resultats P'!L155","v":0},{"$f":"'Resultats P'!E155","v":""},{"$f":"'Resultats P'!K155","v":0},{"$f":"'Resultats P'!H155","v":0},{"$f":"'Resultats P'!I155","v":0},{"$f":"'Resultats P'!J155","v":0},{"$f":"IF('Resultats P'!M155=3,0,'Resultats P'!M155)","v":0}]
["",{"$f":"'Resultats P'!L156","v":0},{"$f":"'Resultats P'!E156","v":""},{"$f":"'Resultats P'!K156","v":0},{"$f":"'Resultats P'!H156","v":0},{"$f":"'Resultats P'!I156","v":0},{"$f":"'Resultats P'!J156","v":0},{"$f":"IF('Resultats P'!M156=3,0,'Resultats P'!M156)","v":0}]
["",{"$f":"'Resultats P'!L157","v":0},{"$f":"'Resultats P'!E157","v":""},{"$f":"'Resultats P'!K157","v":0},{"$f":"'Resultats P'!H157","v":0},{"$f":"'Resultats P'!I157","v":0},{"$f":"'Resultats P'!J157","v":0},{"$f":"IF('Resultats P'!M157=3,0,'Resultats P'!M157)","v":0}]
["",{"$f":"'Resultats P'!L170","v":0},{"$f":"'Resultats P'!E170","v":""},{"$f":"'Resultats P'!K170","v":0},{"$f":"'Resultats P'!H170","v":0},{"$f":"'Resultats P'!I170","v":0},{"$f":"'Resultats P'!J170","v":0},{"$f":"IF('Resultats P'!M170=3,0,'Resultats P'!M170)","v":0}]
["",{"$f":"'Resultats P'!L171","v":0},{"$f":"'Resultats P'!E171","v":""},{"$f":"'Resultats P'!K171","v":0},{"$f":"'Resultats P'!H171","v":0},{"$f":"'Resultats P'!I171","v":0},{"$f":"'Resultats P'!J171","v":0},{"$f":"IF('Resultats P'!M171=3,0,'Resultats P'!M171)","v":0}]
["",{"$f":"'Resultats P'!L172","v":0},{"$f":"'Resultats P'!E172","v":""},{"$f":"'Resultats P'!K172","v":0},{"$f":"'Resultats P'!H172","v":0},{"$f":"'Resultats P'!I172","v":0},{"$f":"'Resultats P'!J172","v":0},{"$f":"IF('Resultats P'!M172=3,0,'Resultats P'!M172)","v":0}]
["",{"$f":"'Resultats P'!L185","v":0},{"$f":"'Resultats P'!E185","v":""},{"$f":"'Resultats P'!K185","v":0},{"$f":"'Resultats P'!H185","v":0},{"$f":"'Resultats P'!I185","v":0},{"$f":"'Resultats P'!J185","v":0},{"$f":"IF('Resultats P'!M185=3,0,'Resultats P'!M185)","v":0}]
["",{"$f":"'Resultats P'!L186","v":0},{"$f":"'Resultats P'!E186","v":""},{"$f":"'Resultats P'!K186","v":0},{"$f":"'Resultats P'!H186","v":0},{"$f":"'Resultats P'!I186","v":0},{"$f":"'Resultats P'!J186","v":0},{"$f":"IF('Resultats P'!M186=3,0,'Resultats P'!M186)","v":0}]
["",{"$f":"'Resultats P'!L187","v":0},{"$f":"'Resultats P'!E187","v":""},{"$f":"'Resultats P'!K187","v":0},{"$f":"'Resultats P'!H187","v":0},{"$f":"'Resultats P'!I187","v":0},{"$f":"'Resultats P'!J187","v":0},{"$f":"IF('Resultats P'!M187=3,0,'Resultats P'!M187)","v":0}]
["",{"$f":"'Resultats P'!L200","v":0},{"$f":"'Resultats P'!E200","v":""},{"$f":"'Resultats P'!K200","v":0},{"$f":"'Resultats P'!H200","v":0},{"$f":"'Resultats P'!I200","v":0},{"$f":"'Resultats P'!J200","v":0},{"$f":"IF('Resultats P'!M200=3,0,'Resultats P'!M200)","v":0}]
["",{"$f":"'Resultats P'!L201","v":0},{"$f":"'Resultats P'!E201","v":""},{"$f":"'Resultats P'!K201","v":0},{"$f":"'Resultats P'!H201","v":0},{"$f":"'Resultats P'!I201","v":0},{"$f":"'Resultats P'!J201","v":0},{"$f":"IF('Resultats P'!M201=3,0,'Resultats P'!M201)","v":0}]
["",{"$f":"'Resultats P'!L202","v":0},{"$f":"'Resultats P'!E202","v":""},{"$f":"'Resultats P'!K202","v":0},{"$f":"'Resultats P'!H202","v":0},{"$f":"'Resultats P'!I202","v":0},{"$f":"'Resultats P'!J202","v":0},{"$f":"IF('Resultats P'!M202=3,0,'Resultats P'!M202)","v":0}]
["",{"$f":"'Resultats P'!L215","v":0},{"$f":"'Resultats P'!E215","v":""},{"$f":"'Resultats P'!K215","v":0},{"$f":"'Resultats P'!H215","v":0},{"$f":"'Resultats P'!I215","v":0},{"$f":"'Resultats P'!J215","v":0},{"$f":"IF('Resultats P'!M215=3,0,'Resultats P'!M215)","v":0}]
["",{"$f":"'Resultats P'!L216","v":0},{"$f":"'Resultats P'!E216","v":""},{"$f":"'Resultats P'!K216","v":0},{"$f":"'Resultats P'!H216","v":0},{"$f":"'Resultats P'!I216","v":0},{"$f":"'Resultats P'!J216","v":0},{"$f":"IF('Resultats P'!M216=3,0,'Resultats P'!M216)","v":0}]
["",{"$f":"'Resultats P'!L217","v":0},{"$f":"'Resultats P'!E217","v":""},{"$f":"'Resultats P'!K217","v":0},{"$f":"'Resultats P'!H217","v":0},{"$f":"'Resultats P'!I217","v":0},{"$f":"'Resultats P'!J217","v":0},{"$f":"IF('Resultats P'!M217=3,0,'Resultats P'!M217)","v":0}]
["",{"$f":"'Resultats P'!L230","v":0},{"$f":"'Resultats P'!E230","v":""},{"$f":"'Resultats P'!K230","v":0},{"$f":"'Resultats P'!H230","v":0},{"$f":"'Resultats P'!I230","v":0},{"$f":"'Resultats P'!J230","v":0},{"$f":"IF('Resultats P'!M230=3,0,'Resultats P'!M230)","v":0}]
["",{"$f":"'Resultats P'!L231","v":0},{"$f":"'Resultats P'!E231","v":""},{"$f":"'Resultats P'!K231","v":0},{"$f":"'Resultats P'!H231","v":0},{"$f":"'Resultats P'!I231","v":0},{"$f":"'Resultats P'!J231","v":0},{"$f":"IF('Resultats P'!M231=3,0,'Resultats P'!M231)","v":0}]
["",{"$f":"'Resultats P'!L232","v":0},{"$f":"'Resultats P'!E232","v":""},{"$f":"'Resultats P'!K232","v":0},{"$f":"'Resultats P'!H232","v":0},{"$f":"'Resultats P'!I232","v":0},{"$f":"'Resultats P'!J232","v":0},{"$f":"IF('Resultats P'!M232=3,0,'Resultats P'!M232)","v":0}]
["",{"$f":"'Resultats P'!L245","v":0},{"$f":"'Resultats P'!E245","v":""},{"$f":"'Resultats P'!K245","v":0},{"$f":"'Resultats P'!H245","v":0},{"$f":"'Resultats P'!I245","v":0},{"$f":"'Resultats P'!J245","v":0},{"$f":"IF('Resultats P'!M245=3,0,'Resultats P'!M245)","v":0}]
["",{"$f":"'Resultats P'!L246","v":0},{"$f":"'Resultats P'!E246","v":""},{"$f":"'Resultats P'!K246","v":0},{"$f":"'Resultats P'!H246","v":0},{"$f":"'Resultats P'!I246","v":0},{"$f":"'Resultats P'!J246","v":0},{"$f":"IF('Resultats P'!M246=3,0,'Resultats P'!M246)","v":0}]
[{"$f":"IF(OR(H51=0,C51=\"(Jugador Virtual)\"),\"\",RANK(H51,$H$4:$H$51,))","v":""},{"$f":"'Resultats P'!L247","v":0},{"$f":"'Resultats P'!E247","v":""},{"$f":"'Resultats P'!K247","v":0},{"$f":"'Resultats P'!H247","v":0},{"$f":"'Resultats P'!I247","v":0},{"$f":"'Resultats P'!J247","v":0},{"$f":"IF('Resultats P'!M247=3,0,'Resultats P'!M247)","v":0}]

{"sheet":"Classificació P","index":18,"n_rows":60,"n_cols":16,"rows_kept":60,"cut":false,"hidden":false,"merged":[[9,2,9,7],[1,14,1,15],[7,1,7,8],[1,1,1,6],[1,7,5,8],[2,4,5,6]]}
[]
[null,{"$f":"IF(Inici!B2=\"INTRODUIR EN MAIÚSCULES EL NOM DE L'OPEN\",\"Introduiu el nom de l'Open a la pantalla d'Inici!!!\",Inici!B2)","v":"Introduiu el nom de l'Open a la pantalla d'Inici!!!"},null,null,null,null,null,null,null,null,"ANAR A PÀGINA","P-P-PRÈVIA","P-PRÈVIA","PRÈVIA","FASE FINAL"]
[null,null,null,null,null,null,null,null,null,null,"Rànquing Inicial","Grups PPP","Grups PP","Grups P","Setzens","Vuitens"]
[null,null,null,null,null,null,null,null,null,null,"Organigrama","Result PPP","Result PP","Result P","Class SF","Quarts/SF/F"]
[null,null,null,null,null,null,null,null,null,null,"Horaris","Classif PPP","Classif PP","Classif P"]
[]
[]
[null,"CLASSIFICACIÓ FINAL PRÈVIA (P)",null,null,null,null,null,null,null,null,"Inici","Participants"]
[]
[null,{"$f":"Organigrama!G27","v":24},{"$f":"CONCATENATE(\"Passen a Setzens de Final (S) \",I10,\" jugadors d'un total de \",B10)","v":"Passen a Setzens de Final (S) 14 jugadors d'un total de 24"},null,null,null,null,null,{"$f":"Organigrama!K27","v":14}]
[]
[null,"Posició",null,"Jugador","Posició al grup","Punts","Mitjana","SM (1)","SM (2)"]
[null,1,"1-P",{"$f":"IFERROR(VLOOKUP(B13,'P (C)'!$A$4:$H$51,3,FALSE),\"\")","v":""},{"$f":"IFERROR(IF(D13=\"\",\"\",VLOOKUP(B13,'P (C)'!$A$4:$H$51,2,FALSE)),\"\")","v":""},{"$f":"IFERROR(IF(D13=\"\",\"\",VLOOKUP(B13,'P (C)'!$A$4:$H$51,4,FALSE)),\"\")","v":""},{"$f":"IFERROR(IF(D13=\"\",\"\",VLOOKUP(B13,'P (C)'!$A$4:$H$51,5,FALSE)),\"\")","v":""},{"$f":"IFERROR(IF(D13=\"\",\"\",VLOOKUP(B13,'P (C)'!$A$4:$H$51,6,FALSE)),\"\")","v":""},{"$f":"IFERROR(IF(D13=\"\",\"\",VLOOKUP(B13,'P (C)'!$A$4:$H$51,7,FALSE)),\"\")","v":""}]
[null,2,"2-P",{"$f":"IFERROR(VLOOKUP(B14,'P (C)'!$A$4:$H$51,3,FALSE),\"\")","v":""},{"$f":"IFERROR(IF(D14=\"\",\"\",VLOOKUP(B14,'P (C)'!$A$4:$H$51,2,FALSE)),\"\")","v":""},{"$f":"IFERROR(IF(D14=\"\",\"\",VLOOKUP(B14,'P (C)'!$A$4:$H$51,4,FALSE)),\"\")","v":""},{"$f":"IFERROR(IF(D14=\"\",\"\",VLOOKUP(B14,'P (C)'!$A$4:$H$51,5,FALSE)),\"\")","v":""},{"$f":"IFERROR(IF(D14=\"\",\"\",VLOOKUP(B14,'P (C)'!$A$4:$H$51,6,FALSE)),\"\")","v":""},{"$f":"IFERROR(IF(D14=\"\",\"\",VLOOKUP(B14,'P (C)'!$A$4:$H$51,7,FALSE)),\"\")","v":""}]
[null,3,"3-P",{"$f":"IFERROR(VLOOKUP(B15,'P (C)'!$A$4:$H$51,3,FALSE),\"\")","v":""},{"$f":"IFERROR(IF(D15=\"\",\"\",VLOOKUP(B15,'P (C)'!$A$4:$H$51,2,FALSE)),\"\")","v":""},{"$f":"IFERROR(IF(D15=\"\",\"\",VLOOKUP(B15,'P (C)'!$A$4:$H$51,4,FALSE)),\"\")","v":""},{"$f":"IFERROR(IF(D15=\"\",\"\",VLOOKUP(B15,'P (C)'!$A$4:$H$51,5,FALSE)),\"\")","v":""},{"$f":"IFERROR(IF(D15=\"\",\"\",VLOOKUP(B15,'P (C)'!$A$4:$H$51,6,FALSE)),\"\")","v":""},{"$f":"IFERROR(IF(D15=\"\",\"\",VLOOKUP(B15,'P (C)'!$A$4:$H$51,7,FALSE)),\"\")","v":""}]
[null,4,"4-P",{"$f":"IFERROR(VLOOKUP(B16,'P (C)'!$A$4:$H$51,3,FALSE),\"\")","v":""},{"$f":"IFERROR(IF(D16=\"\",\"\",VLOOKUP(B16,'P (C)'!$A$4:$H$51,2,FALSE)),\"\")","v":""},{"$f":"IFERROR(IF(D16=\"\",\"\",VLOOKUP(B16,'P (C)'!$A$4:$H$51,4,FALSE)),\"\")","v":""},{"$f":"IFERROR(IF(D16=\"\",\"\",VLOOKUP(B16,'P (C)'!$A$4:$H$51,5,FALSE)),\"\")","v":""},{"$f":"IFERROR(IF(D16=\"\",\"\",VLOOKUP(B16,'P (C)'!$A$4:$H$51,6,FALSE)),\"\")","v":""},{"$f":"IFERROR(IF(D16=\"\",\"\",VLOOKUP(B16,'P (C)'!$A$4:$H$51,7,FALSE)),\"\")","v":""}]
[null,5,"5-P",{"$f":"IFERROR(VLOOKUP(B17,'P (C)'!$A$4:$H$51,3,FALSE),\"\")","v":""},{"$f":"IFERROR(IF(D17=\"\",\"\",VLOOKUP(B17,'P (C)'!$A$4:$H$51,2,FALSE)),\"\")","v":""},{"$f":"IFERROR(IF(D17=\"\",\"\",VLOOKUP(B17,'P (C)'!$A$4:$H$51,4,FALSE)),\"\")","v":""},{"$f":"IFERROR(IF(D17=\"\",\"\",VLOOKUP(B17,'P (C)'!$A$4:$H$51,5,FALSE)),\"\")","v":""},{"$f":"IFERROR(IF(D17=\"\",\"\",VLOOKUP(B17,'P (C)'!$A$4:$H$51,6,FALSE)),\"\")","v":""},{"$f":"IFERROR(IF(D17=\"\",\"\",VLOOKUP(B17,'P (C)'!$A$4:$H$51,7,FALSE)),\"\")","v":""}]
[null,6,"6-P",{"$f":"IFERROR(VLOOKUP(B18,'P (C)'!$A$4:$H$51,3,FALSE),\"\")","v":""},{"$f":"IFERROR(IF(D18=\"\",\"\",VLOOKUP(B18,'P (C)'!$A$4:$H$51,2,FALSE)),\"\")","v":""},{"$f":"IFERROR(IF(D18=\"\",\"\",VLOOKUP(B18,'P (C)'!$A$4:$H$51,4,FALSE)),\"\")","v":""},{"$f":"IFERROR(IF(D18=\"\",\"\",VLOOKUP(B18,'P (C)'!$A$4:$H$51,5,FALSE)),\"\")","v":""},{"$f":"IFERROR(IF(D18=\"\",\"\",VLOOKUP(B18,'P (C)'!$A$4:$H$51,6,FALSE)),\"\")","v":""},{"$f":"IFERROR(IF(D18=\"\",\"\",VLOOKUP(B18,'P (C)'!$A$4:$H$51,7,FALSE)),\"\")","v":""}]
[null,7,"7-P",{"$f":"IFERROR(VLOOKUP(B19,'P (C)'!$A$4:$H$51,3,FALSE),\"\")","v":""},{"$f":"IFERROR(IF(D19=\"\",\"\",VLOOKUP(B19,'P (C)'!$A$4:$H$51,2,FALSE)),\"\")","v":""},{"$f":"IFERROR(IF(D19=\"\",\"\",VLOOKUP(B19,'P (C)'!$A$4:$H$51,4,FALSE)),\"\")","v":""},{"$f":"IFERROR(IF(D19=\"\",\"\",VLOOKUP(B19,'P (C)'!$A$4:$H$51,5,FALSE)),\"\")","v":""},{"$f":"IFERROR(IF(D19=\"\",\"\",VLOOKUP(B19,'P (C)'!$A$4:$H$51,6,FALSE)),\"\")","v":""},{"$f":"IFERROR(IF(D19=\"\",\"\",VLOOKUP(B19,'P (C)'!$A$4:$H$51,7,FALSE)),\"\")","v":""}]
[null,8,"8-P",{"$f":"IFERROR(VLOOKUP(B20,'P (C)'!$A$4:$H$51,3,FALSE),\"\")","v":""},{"$f":"IFERROR(IF(D20=\"\",\"\",VLOOKUP(B20,'P (C)'!$A$4:$H$51,2,FALSE)),\"\")","v":""},{"$f":"IFERROR(IF(D20=\"\",\"\",VLOOKUP(B20,'P (C)'!$A$4:$H$51,4,FALSE)),\"\")","v":""},{"$f":"IFERROR(IF(D20=\"\",\"\",VLOOKUP(B20,'P (C)'!$A$4:$H$51,5,FALSE)),\"\")","v":""},{"$f":"IFERROR(IF(D20=\"\",\"\",VLOOKUP(B20,'P (C)'!$A$4:$H$51,6,FALSE)),\"\")","v":""},{"$f":"IFERROR(IF(D20=\"\",\"\",VLOOKUP(B20,'P (C)'!$A$4:$H$51,7,FALSE)),\"\")","v":""}]
[null,9,"9-P",{"$f":"IFERROR(VLOOKUP(B21,'P (C)'!$A$4:$H$51,3,FALSE),\"\")","v":""},{"$f":"IFERROR(IF(D21=\"\",\"\",VLOOKUP(B21,'P (C)'!$A$4:$H$51,2,FALSE)),\"\")","v":""},{"$f":"IFERROR(IF(D21=\"\",\"\",VLOOKUP(B21,'P (C)'!$A$4:$H$51,4,FALSE)),\"\")","v":""},{"$f":"IFERROR(IF(D21=\"\",\"\",VLOOKUP(B21,'P (C)'!$A$4:$H$51,5,FALSE)),\"\")","v":""},{"$f":"IFERROR(IF(D21=\"\",\"\",VLOOKUP(B21,'P (C)'!$A$4:$H$51,6,FALSE)),\"\")","v":""},{"$f":"IFERROR(IF(D21=\"\",\"\",VLOOKUP(B21,'P (C)'!$A$4:$H$51,7,FALSE)),\"\")","v":""}]
[null,10,"10-P",{"$f":"IFERROR(VLOOKUP(B22,'P (C)'!$A$4:$H$51,3,FALSE),\"\")","v":""},{"$f":"IFERROR(IF(D22=\"\",\"\",VLOOKUP(B22,'P (C)'!$A$4:$H$51,2,FALSE)),\"\")","v":""},{"$f":"IFERROR(IF(D22=\"\",\"\",VLOOKUP(B22,'P (C)'!$A$4:$H$51,4,FALSE)),\"\")","v":""},{"$f":"IFERROR(IF(D22=\"\",\"\",VLOOKUP(B22,'P (C)'!$A$4:$H$51,5,FALSE)),\"\")","v":""},{"$f":"IFERROR(IF(D22=\"\",\"\",VLOOKUP(B22,'P (C)'!$A$4:$H$51,6,FALSE)),\"\")","v":""},{"$f":"IFERROR(IF(D22=\"\",\"\",VLOOKUP(B22,'P (C)'!$A$4:$H$51,7,FALSE)),\"\")","v":""}]
[null,11,"11-P",{"$f":"IFERROR(VLOOKUP(B23,'P (C)'!$A$4:$H$51,3,FALSE),\"\")","v":""},{"$f":"IFERROR(IF(D23=\"\",\"\",VLOOKUP(B23,'P (C)'!$A$4:$H$51,2,FALSE)),\"\")","v":""},{"$f":"IFERROR(IF(D23=\"\",\"\",VLOOKUP(B23,'P (C)'!$A$4:$H$51,4,FALSE)),\"\")","v":""},{"$f":"IFERROR(IF(D23=\"\",\"\",VLOOKUP(B23,'P (C)'!$A$4:$H$51,5,FALSE)),\"\")","v":""},{"$f":"IFERROR(IF(D23=\"\",\"\",VLOOKUP(B23,'P (C)'!$A$4:$H$51,6,FALSE)),\"\")","v":""},{"$f":"IFERROR(IF(D23=\"\",\"\",VLOOKUP(B23,'P (C)'!$A$4:$H$51,7,FALSE)),\"\")","v":""}]
[null,12,"12-P",{"$f":"IFERROR(VLOOKUP(B24,'P (C)'!$A$4:$H$51,3,FALSE),\"\")","v":""},{"$f":"IFERROR(IF(D24=\"\",\"\",VLOOKUP(B24,'P (C)'!$A$4:$H$51,2,FALSE)),\"\")","v":""},{"$f":"IFERROR(IF(D24=\"\",\"\",VLOOKUP(B24,'P (C)'!$A$4:$H$51,4,FALSE)),\"\")","v":""},{"$f":"IFERROR(IF(D24=\"\",\"\",VLOOKUP(B24,'P (C)'!$A$4:$H$51,5,FALSE)),\"\")","v":""},{"$f":"IFERROR(IF(D24=\"\",\"\",VLOOKUP(B24,'P (C)'!$A$4:$H$51,6,FALSE)),\"\")","v":""},{"$f":"IFERROR(IF(D24=\"\",\"\",VLOOKUP(B24,'P (C)'!$A$4:$H$51,7,FALSE)),\"\")","v":""}]
[null,13,"13-P",{"$f":"IFERROR(VLOOKUP(B25,'P (C)'!$A$4:$H$51,3,FALSE),\"\")","v":""},{"$f":"IFERROR(IF(D25=\"\",\"\",VLOOKUP(B25,'P (C)'!$A$4:$H$51,2,FALSE)),\"\")","v":""},{"$f":"IFERROR(IF(D25=\"\",\"\",VLOOKUP(B25,'P (C)'!$A$4:$H$51,4,FALSE)),\"\")","v":""},{"$f":"IFERROR(IF(D25=\"\",\"\",VLOOKUP(B25,'P (C)'!$A$4:$H$51,5,FALSE)),\"\")","v":""},{"$f":"IFERROR(IF(D25=\"\",\"\",VLOOKUP(B25,'P (C)'!$A$4:$H$51,6,FALSE)),\"\")","v":""},{"$f":"IFERROR(IF(D25=\"\",\"\",VLOOKUP(B25,'P (C)'!$A$4:$H$51,7,FALSE)),\"\")","v":""}]
[null,14,"14-P",{"$f":"IFERROR(VLOOKUP(B26,'P (C)'!$A$4:$H$51,3,FALSE),\"\")","v":""},{"$f":"IFERROR(IF(D26=\"\",\"\",VLOOKUP(B26,'P (C)'!$A$4:$H$51,2,FALSE)),\"\")","v":""},{"$f":"IFERROR(IF(D26=\"\",\"\",VLOOKUP(B26,'P (C)'!$A$4:$H$51,4,FALSE)),\"\")","v":""},{"$f":"IFERROR(IF(D26=\"\",\"\",VLOOKUP(B26,'P (C)'!$A$4:$H$51,5,FALSE)),\"\")","v":""},{"$f":"IFERROR(IF(D26=\"\",\"\",VLOOKUP(B26,'P (C)'!$A$4:$H$51,6,FALSE)),\"\")","v":""},{"$f":"IFERROR(IF(D26=\"\",\"\",VLOOKUP(B26,'P (C)'!$A$4:$H$51,7,FALSE)),\"\")","v":""}]
[null,15,"15-P",{"$f":"IFERROR(VLOOKUP(B27,'P (C)'!$A$4:$H$51,3,FALSE),\"\")","v":""},{"$f":"IFERROR(IF(D27=\"\",\"\",VLOOKUP(B27,'P (C)'!$A$4:$H$51,2,FALSE)),\"\")","v":""},{"$f":"IFERROR(IF(D27=\"\",\"\",VLOOKUP(B27,'P (C)'!$A$4:$H$51,4,FALSE)),\"\")","v":""},{"$f":"IFERROR(IF(D27=\"\",\"\",VLOOKUP(B27,'P (C)'!$A$4:$H$51,5,FALSE)),\"\")","v":""},{"$f":"IFERROR(IF(D27=\"\",\"\",VLOOKUP(B27,'P (C)'!$A$4:$H$51,6,FALSE)),\"\")","v":""},{"$f":"IFERROR(IF(D27=\"\",\"\",VLOOKUP(B27,'P (C)'!$A$4:$H$51,7,FALSE)),\"\")","v":""}]
[null,16,"16-P",{"$f":"IFERROR(VLOOKUP(B28,'P (C)'!$A$4:$H$51,3,FALSE),\"\")","v":""},{"$f":"IFERROR(IF(D28=\"\",\"\",VLOOKUP(B28,'P (C)'!$A$4:$H$51,2,FALSE)),\"\")","v":""},{"$f":"IFERROR(IF(D28=\"\",\"\",VLOOKUP(B28,'P (C)'!$A$4:$H$51,4,FALSE)),\"\")","v":""},{"$f":"IFERROR(IF(D28=\"\",\"\",VLOOKUP(B28,'P (C)'!$A$4:$H$51,5,FALSE)),\"\")","v":""},{"$f":"IFERROR(IF(D28=\"\",\"\",VLOOKUP(B28,'P (C)'!$A$4:$H$51,6,FALSE)),\"\")","v":""},{"$f":"IFERROR(IF(D28=\"\",\"\",VLOOKUP(B28,'P (C)'!$A$4:$H$51,7,FALSE)),\"\")","v":""}]
[null,17,"17-P",{"$f":"IFERROR(VLOOKUP(B29,'P (C)'!$A$4:$H$51,3,FALSE),\"\")","v":""},{"$f":"IFERROR(IF(D29=\"\",\"\",VLOOKUP(B29,'P (C)'!$A$4:$H$51,2,FALSE)),\"\")","v":""},{"$f":"IFERROR(IF(D29=\"\",\"\",VLOOKUP(B29,'P (C)'!$A$4:$H$51,4,FALSE)),\"\")","v":""},{"$f":"IFERROR(IF(D29=\"\",\"\",VLOOKUP(B29,'P (C)'!$A$4:$H$51,5,FALSE)),\"\")","v":""},{"$f":"IFERROR(IF(D29=\"\",\"\",VLOOKUP(B29,'P (C)'!$A$4:$H$51,6,FALSE)),\"\")","v":""},{"$f":"IFERROR(IF(D29=\"\",\"\",VLOOKUP(B29,'P (C)'!$A$4:$H$51,7,FALSE)),\"\")","v":""}]
[null,18,"18-P",{"$f":"IFERROR(VLOOKUP(B30,'P (C)'!$A$4:$H$51,3,FALSE),\"\")","v":""},{"$f":"IFERROR(IF(D30=\"\",\"\",VLOOKUP(B30,'P (C)'!$A$4:$H$51,2,FALSE)),\"\")","v":""},{"$f":"IFERROR(IF(D30=\"\",\"\",VLOOKUP(B30,'P (C)'!$A$4:$H$51,4,FALSE)),\"\")","v":""},{"$f":"IFERROR(IF(D30=\"\",\"\",VLOOKUP(B30,'P (C)'!$A$4:$H$51,5,FALSE)),\"\")","v":""},{"$f":"IFERROR(IF(D30=\"\",\"\",VLOOKUP(B30,'P (C)'!$A$4:$H$51,6,FALSE)),\"\")","v":""},{"$f":"IFERROR(IF(D30=\"\",\"\",VLOOKUP(B30,'P (C)'!$A$4:$H$51,7,FALSE)),\"\")","v":""}]
[null,19,"19-P",{"$f":"IFERROR(VLOOKUP(B31,'P (C)'!$A$4:$H$51,3,FALSE),\"\")","v":""},{"$f":"IFERROR(IF(D31=\"\",\"\",VLOOKUP(B31,'P (C)'!$A$4:$H$51,2,FALSE)),\"\")","v":""},{"$f":"IFERROR(IF(D31=\"\",\"\",VLOOKUP(B31,'P (C)'!$A$4:$H$51,4,FALSE)),\"\")","v":""},{"$f":"IFERROR(IF(D31=\"\",\"\",VLOOKUP(B31,'P (C)'!$A$4:$H$51,5,FALSE)),\"\")","v":""},{"$f":"IFERROR(IF(D31=\"\",\"\",VLOOKUP(B31,'P (C)'!$A$4:$H$51,6,FALSE)),\"\")","v":""},{"$f":"IFERROR(IF(D31=\"\",\"\",VLOOKUP(B31,'P (C)'!$A$4:$H$51,7,FALSE)),\"\")","v":""}]
[null,20,"20-P",{"$f":"IFERROR(VLOOKUP(B32,'P (C)'!$A$4:$H$51,3,FALSE),\"\")","v":""},{"$f":"IFERROR(IF(D32=\"\",\"\",VLOOKUP(B32,'P (C)'!$A$4:$H$51,2,FALSE)),\"\")","v":""},{"$f":"IFERROR(IF(D32=\"\",\"\",VLOOKUP(B32,'P (C)'!$A$4:$H$51,4,FALSE)),\"\")","v":""},{"$f":"IFERROR(IF(D32=\"\",\"\",VLOOKUP(B32,'P (C)'!$A$4:$H$51,5,FALSE)),\"\")","v":""},{"$f":"IFERROR(IF(D32=\"\",\"\",VLOOKUP(B32,'P (C)'!$A$4:$H$51,6,FALSE)),\"\")","v":""},{"$f":"IFERROR(IF(D32=\"\",\"\",VLOOKUP(B32,'P (C)'!$A$4:$H$51,7,FALSE)),\"\")","v":""}]
[null,21,"21-P",{"$f":"IFERROR(VLOOKUP(B33,'P (C)'!$A$4:$H$51,3,FALSE),\"\")","v":""},{"$f":"IFERROR(IF(D33=\"\",\"\",VLOOKUP(B33,'P (C)'!$A$4:$H$51,2,FALSE)),\"\")","v":""},{"$f":"IFERROR(IF(D33=\"\",\"\",VLOOKUP(B33,'P (C)'!$A$4:$H$51,4,FALSE)),\"\")","v":""},{"$f":"IFERROR(IF(D33=\"\",\"\",VLOOKUP(B33,'P (C)'!$A$4:$H$51,5,FALSE)),\"\")","v":""},{"$f":"IFERROR(IF(D33=\"\",\"\",VLOOKUP(B33,'P (C)'!$A$4:$H$51,6,FALSE)),\"\")","v":""},{"$f":"IFERROR(IF(D33=\"\",\"\",VLOOKUP(B33,'P (C)'!$A$4:$H$51,7,FALSE)),\"\")","v":""}]
[null,22,"22-P",{"$f":"IFERROR(VLOOKUP(B34,'P (C)'!$A$4:$H$51,3,FALSE),\"\")","v":""},{"$f":"IFERROR(IF(D34=\"\",\"\",VLOOKUP(B34,'P (C)'!$A$4:$H$51,2,FALSE)),\"\")","v":""},{"$f":"IFERROR(IF(D34=\"\",\"\",VLOOKUP(B34,'P (C)'!$A$4:$H$51,4,FALSE)),\"\")","v":""},{"$f":"IFERROR(IF(D34=\"\",\"\",VLOOKUP(B34,'P (C)'!$A$4:$H$51,5,FALSE)),\"\")","v":""},{"$f":"IFERROR(IF(D34=\"\",\"\",VLOOKUP(B34,'P (C)'!$A$4:$H$51,6,FALSE)),\"\")","v":""},{"$f":"IFERROR(IF(D34=\"\",\"\",VLOOKUP(B34,'P (C)'!$A$4:$H$51,7,FALSE)),\"\")","v":""}]
[null,23,"23-P",{"$f":"IFERROR(VLOOKUP(B35,'P (C)'!$A$4:$H$51,3,FALSE),\"\")","v":""},{"$f":"IFERROR(IF(D35=\"\",\"\",VLOOKUP(B35,'P (C)'!$A$4:$H$51,2,FALSE)),\"\")","v":""},{"$f":"IFERROR(IF(D35=\"\",\"\",VLOOKUP(B35,'P (C)'!$A$4:$H$51,4,FALSE)),\"\")","v":""},{"$f":"IFERROR(IF(D35=\"\",\"\",VLOOKUP(B35,'P (C)'!$A$4:$H$51,5,FALSE)),\"\")","v":""},{"$f":"IFERROR(IF(D35=\"\",\"\",VLOOKUP(B35,'P (C)'!$A$4:$H$51,6,FALSE)),\"\")","v":""},{"$f":"IFERROR(IF(D35=\"\",\"\",VLOOKUP(B35,'P (C)'!$A$4:$H$51,7,FALSE)),\"\")","v":""}]
[null,24,"24-P",{"$f":"IFERROR(VLOOKUP(B36,'P (C)'!$A$4:$H$51,3,FALSE),\"\")","v":""},{"$f":"IFERROR(IF(D36=\"\",\"\",VLOOKUP(B36,'P (C)'!$A$4:$H$51,2,FALSE)),\"\")","v":""},{"$f":"IFERROR(IF(D36=\"\",\"\",VLOOKUP(B36,'P (C)'!$A$4:$H$51,4,FALSE)),\"\")","v":""},{"$f":"IFERROR(IF(D36=\"\",\"\",VLOOKUP(B36,'P (C)'!$A$4:$H$51,5,FALSE)),\"\")","v":""},{"$f":"IFERROR(IF(D36=\"\",\"\",VLOOKUP(B36,'P (C)'!$A$4:$H$51,6,FALSE)),\"\")","v":""},{"$f":"IFERROR(IF(D36=\"\",\"\",VLOOKUP(B36,'P (C)'!$A$4:$H$51,7,FALSE)),\"\")","v":""}]
[null,25,"25-P",{"$f":"IFERROR(VLOOKUP(B37,'P (C)'!$A$4:$H$51,3,FALSE),\"\")","v":""},{"$f":"IFERROR(IF(D37=\"\",\"\",VLOOKUP(B37,'P (C)'!$A$4:$H$51,2,FALSE)),\"\")","v":""},{"$f":"IFERROR(IF(D37=\"\",\"\",VLOOKUP(B37,'P (C)'!$A$4:$H$51,4,FALSE)),\"\")","v":""},{"$f":"IFERROR(IF(D37=\"\",\"\",VLOOKUP(B37,'P (C)'!$A$4:$H$51,5,FALSE)),\"\")","v":""},{"$f":"IFERROR(IF(D37=\"\",\"\",VLOOKUP(B37,'P (C)'!$A$4:$H$51,6,FALSE)),\"\")","v":""},{"$f":"IFERROR(IF(D37=\"\",\"\",VLOOKUP(B37,'P (C)'!$A$4:$H$51,7,FALSE)),\"\")","v":""}]
[null,26,"26-P",{"$f":"IFERROR(VLOOKUP(B38,'P (C)'!$A$4:$H$51,3,FALSE),\"\")","v":""},{"$f":"IFERROR(IF(D38=\"\",\"\",VLOOKUP(B38,'P (C)'!$A$4:$H$51,2,FALSE)),\"\")","v":""},{"$f":"IFERROR(IF(D38=\"\",\"\",VLOOKUP(B38,'P (C)'!$A$4:$H$51,4,FALSE)),\"\")","v":""},{"$f":"IFERROR(IF(D38=\"\",\"\",VLOOKUP(B38,'P (C)'!$A$4:$H$51,5,FALSE)),\"\")","v":""},{"$f":"IFERROR(IF(D38=\"\",\"\",VLOOKUP(B38,'P (C)'!$A$4:$H$51,6,FALSE)),\"\")","v":""},{"$f":"IFERROR(IF(D38=\"\",\"\",VLOOKUP(B38,'P (C)'!$A$4:$H$51,7,FALSE)),\"\")","v":""}]
[null,27,"27-P",{"$f":"IFERROR(VLOOKUP(B39,'P (C)'!$A$4:$H$51,3,FALSE),\"\")","v":""},{"$f":"IFERROR(IF(D39=\"\",\"\",VLOOKUP(B39,'P (C)'!$A$4:$H$51,2,FALSE)),\"\")","v":""},{"$f":"IFERROR(IF(D39=\"\",\"\",VLOOKUP(B39,'P (C)'!$A$4:$H$51,4,FALSE)),\"\")","v":""},{"$f":"IFERROR(IF(D39=\"\",\"\",VLOOKUP(B39,'P (C)'!$A$4:$H$51,5,FALSE)),\"\")","v":""},{"$f":"IFERROR(IF(D39=\"\",\"\",VLOOKUP(B39,'P (C)'!$A$4:$H$51,6,FALSE)),\"\")","v":""},{"$f":"IFERROR(IF(D39=\"\",\"\",VLOOKUP(B39,'P (C)'!$A$4:$H$51,7,FALSE)),\"\")","v":""}]
[null,28,"28-P",{"$f":"IFERROR(VLOOKUP(B40,'P (C)'!$A$4:$H$51,3,FALSE),\"\")","v":""},{"$f":"IFERROR(IF(D40=\"\",\"\",VLOOKUP(B40,'P (C)'!$A$4:$H$51,2,FALSE)),\"\")","v":""},{"$f":"IFERROR(IF(D40=\"\",\"\",VLOOKUP(B40,'P (C)'!$A$4:$H$51,4,FALSE)),\"\")","v":""},{"$f":"IFERROR(IF(D40=\"\",\"\",VLOOKUP(B40,'P (C)'!$A$4:$H$51,5,FALSE)),\"\")","v":""},{"$f":"IFERROR(IF(D40=\"\",\"\",VLOOKUP(B40,'P (C)'!$A$4:$H$51,6,FALSE)),\"\")","v":""},{"$f":"IFERROR(IF(D40=\"\",\"\",VLOOKUP(B40,'P (C)'!$A$4:$H$51,7,FALSE)),\"\")","v":""}]
[null,29,"29-P",{"$f":"IFERROR(VLOOKUP(B41,'P (C)'!$A$4:$H$51,3,FALSE),\"\")","v":""},{"$f":"IFERROR(IF(D41=\"\",\"\",VLOOKUP(B41,'P (C)'!$A$4:$H$51,2,FALSE)),\"\")","v":""},{"$f":"IFERROR(IF(D41=\"\",\"\",VLOOKUP(B41,'P (C)'!$A$4:$H$51,4,FALSE)),\"\")","v":""},{"$f":"IFERROR(IF(D41=\"\",\"\",VLOOKUP(B41,'P (C)'!$A$4:$H$51,5,FALSE)),\"\")","v":""},{"$f":"IFERROR(IF(D41=\"\",\"\",VLOOKUP(B41,'P (C)'!$A$4:$H$51,6,FALSE)),\"\")","v":""},{"$f":"IFERROR(IF(D41=\"\",\"\",VLOOKUP(B41,'P (C)'!$A$4:$H$51,7,FALSE)),\"\")","v":""}]
[null,30,"30-P",{"$f":"IFERROR(VLOOKUP(B42,'P (C)'!$A$4:$H$51,3,FALSE),\"\")","v":""},{"$f":"IFERROR(IF(D42=\"\",\"\",VLOOKUP(B42,'P (C)'!$A$4:$H$51,2,FALSE)),\"\")","v":""},{"$f":"IFERROR(IF(D42=\"\",\"\",VLOOKUP(B42,'P (C)'!$A$4:$H$51,4,FALSE)),\"\")","v":""},{"$f":"IFERROR(IF(D42=\"\",\"\",VLOOKUP(B42,'P (C)'!$A$4:$H$51,5,FALSE)),\"\")","v":""},{"$f":"IFERROR(IF(D42=\"\",\"\",VLOOKUP(B42,'P (C)'!$A$4:$H$51,6,FALSE)),\"\")","v":""},{"$f":"IFERROR(IF(D42=\"\",\"\",VLOOKUP(B42,'P (C)'!$A$4:$H$51,7,FALSE)),\"\")","v":""}]
[null,31,"31-P",{"$f":"IFERROR(VLOOKUP(B43,'P (C)'!$A$4:$H$51,3,FALSE),\"\")","v":""},{"$f":"IFERROR(IF(D43=\"\",\"\",VLOOKUP(B43,'P (C)'!$A$4:$H$51,2,FALSE)),\"\")","v":""},{"$f":"IFERROR(IF(D43=\"\",\"\",VLOOKUP(B43,'P (C)'!$A$4:$H$51,4,FALSE)),\"\")","v":""},{"$f":"IFERROR(IF(D43=\"\",\"\",VLOOKUP(B43,'P (C)'!$A$4:$H$51,5,FALSE)),\"\")","v":""},{"$f":"IFERROR(IF(D43=\"\",\"\",VLOOKUP(B43,'P (C)'!$A$4:$H$51,6,FALSE)),\"\")","v":""},{"$f":"IFERROR(IF(D43=\"\",\"\",VLOOKUP(B43,'P (C)'!$A$4:$H$51,7,FALSE)),\"\")","v":""}]
[null,32,"32-P",{"$f":"IFERROR(VLOOKUP(B44,'P (C)'!$A$4:$H$51,3,FALSE),\"\")","v":""},{"$f":"IFERROR(IF(D44=\"\",\"\",VLOOKUP(B44,'P (C)'!$A$4:$H$51,2,FALSE)),\"\")","v":""},{"$f":"IFERROR(IF(D44=\"\",\"\",VLOOKUP(B44,'P (C)'!$A$4:$H$51,4,FALSE)),\"\")","v":""},{"$f":"IFERROR(IF(D44=\"\",\"\",VLOOKUP(B44,'P (C)'!$A$4:$H$51,5,FALSE)),\"\")","v":""},{"$f":"IFERROR(IF(D44=\"\",\"\",VLOOKUP(B44,'P (C)'!$A$4:$H$51,6,FALSE)),\"\")","v":""},{"$f":"IFERROR(IF(D44=\"\",\"\",VLOOKUP(B44,'P (C)'!$A$4:$H$51,7,FALSE)),\"\")","v":""}]
[null,33,"33-P",{"$f":"IFERROR(VLOOKUP(B45,'P (C)'!$A$4:$H$51,3,FALSE),\"\")","v":""},{"$f":"IFERROR(IF(D45=\"\",\"\",VLOOKUP(B45,'P (C)'!$A$4:$H$51,2,FALSE)),\"\")","v":""},{"$f":"IFERROR(IF(D45=\"\",\"\",VLOOKUP(B45,'P (C)'!$A$4:$H$51,4,FALSE)),\"\")","v":""},{"$f":"IFERROR(IF(D45=\"\",\"\",VLOOKUP(B45,'P (C)'!$A$4:$H$51,5,FALSE)),\"\")","v":""},{"$f":"IFERROR(IF(D45=\"\",\"\",VLOOKUP(B45,'P (C)'!$A$4:$H$51,6,FALSE)),\"\")","v":""},{"$f":"IFERROR(IF(D45=\"\",\"\",VLOOKUP(B45,'P (C)'!$A$4:$H$51,7,FALSE)),\"\")","v":""}]
[null,34,"34-P",{"$f":"IFERROR(VLOOKUP(B46,'P (C)'!$A$4:$H$51,3,FALSE),\"\")","v":""},{"$f":"IFERROR(IF(D46=\"\",\"\",VLOOKUP(B46,'P (C)'!$A$4:$H$51,2,FALSE)),\"\")","v":""},{"$f":"IFERROR(IF(D46=\"\",\"\",VLOOKUP(B46,'P (C)'!$A$4:$H$51,4,FALSE)),\"\")","v":""},{"$f":"IFERROR(IF(D46=\"\",\"\",VLOOKUP(B46,'P (C)'!$A$4:$H$51,5,FALSE)),\"\")","v":""},{"$f":"IFERROR(IF(D46=\"\",\"\",VLOOKUP(B46,'P (C)'!$A$4:$H$51,6,FALSE)),\"\")","v":""},{"$f":"IFERROR(IF(D46=\"\",\"\",VLOOKUP(B46,'P (C)'!$A$4:$H$51,7,FALSE)),\"\")","v":""}]
[null,35,"35-P",{"$f":"IFERROR(VLOOKUP(B47,'P (C)'!$A$4:$H$51,3,FALSE),\"\")","v":""},{"$f":"IFERROR(IF(D47=\"\",\"\",VLOOKUP(B47,'P (C)'!$A$4:$H$51,2,FALSE)),\"\")","v":""},{"$f":"IFERROR(IF(D47=\"\",\"\",VLOOKUP(B47,'P (C)'!$A$4:$H$51,4,FALSE)),\"\")","v":""},{"$f":"IFERROR(IF(D47=\"\",\"\",VLOOKUP(B47,'P (C)'!$A$4:$H$51,5,FALSE)),\"\")","v":""},{"$f":"IFERROR(IF(D47=\"\",\"\",VLOOKUP(B47,'P (C)'!$A$4:$H$51,6,FALSE)),\"\")","v":""},{"$f":"IFERROR(IF(D47=\"\",\"\",VLOOKUP(B47,'P (C)'!$A$4:$H$51,7,FALSE)),\"\")","v":""}]
[null,36,"36-P",{"$f":"IFERROR(VLOOKUP(B48,'P (C)'!$A$4:$H$51,3,FALSE),\"\")","v":""},{"$f":"IFERROR(IF(D48=\"\",\"\",VLOOKUP(B48,'P (C)'!$A$4:$H$51,2,FALSE)),\"\")","v":""},{"$f":"IFERROR(IF(D48=\"\",\"\",VLOOKUP(B48,'P (C)'!$A$4:$H$51,4,FALSE)),\"\")","v":""},{"$f":"IFERROR(IF(D48=\"\",\"\",VLOOKUP(B48,'P (C)'!$A$4:$H$51,5,FALSE)),\"\")","v":""},{"$f":"IFERROR(IF(D48=\"\",\"\",VLOOKUP(B48,'P (C)'!$A$4:$H$51,6,FALSE)),\"\")","v":""},{"$f":"IFERROR(IF(D48=\"\",\"\",VLOOKUP(B48,'P (C)'!$A$4:$H$51,7,FALSE)),\"\")","v":""}]
[null,37,"37-P",{"$f":"IFERROR(VLOOKUP(B49,'P (C)'!$A$4:$H$51,3,FALSE),\"\")","v":""},{"$f":"IFERROR(IF(D49=\"\",\"\",VLOOKUP(B49,'P (C)'!$A$4:$H$51,2,FALSE)),\"\")","v":""},{"$f":"IFERROR(IF(D49=\"\",\"\",VLOOKUP(B49,'P (C)'!$A$4:$H$51,4,FALSE)),\"\")","v":""},{"$f":"IFERROR(IF(D49=\"\",\"\",VLOOKUP(B49,'P (C)'!$A$4:$H$51,5,FALSE)),\"\")","v":""},{"$f":"IFERROR(IF(D49=\"\",\"\",VLOOKUP(B49,'P (C)'!$A$4:$H$51,6,FALSE)),\"\")","v":""},{"$f":"IFERROR(IF(D49=\"\",\"\",VLOOKUP(B49,'P (C)'!$A$4:$H$51,7,FALSE)),\"\")","v":""}]
[null,38,"38-P",{"$f":"IFERROR(VLOOKUP(B50,'P (C)'!$A$4:$H$51,3,FALSE),\"\")","v":""},{"$f":"IFERROR(IF(D50=\"\",\"\",VLOOKUP(B50,'P (C)'!$A$4:$H$51,2,FALSE)),\"\")","v":""},{"$f":"IFERROR(IF(D50=\"\",\"\",VLOOKUP(B50,'P (C)'!$A$4:$H$51,4,FALSE)),\"\")","v":""},{"$f":"IFERROR(IF(D50=\"\",\"\",VLOOKUP(B50,'P (C)'!$A$4:$H$51,5,FALSE)),\"\")","v":""},{"$f":"IFERROR(IF(D50=\"\",\"\",VLOOKUP(B50,'P (C)'!$A$4:$H$51,6,FALSE)),\"\")","v":""},{"$f":"IFERROR(IF(D50=\"\",\"\",VLOOKUP(B50,'P (C)'!$A$4:$H$51,7,FALSE)),\"\")","v":""}]
[null,39,"39-P",{"$f":"IFERROR(VLOOKUP(B51,'P (C)'!$A$4:$H$51,3,FALSE),\"\")","v":""},{"$f":"IFERROR(IF(D51=\"\",\"\",VLOOKUP(B51,'P (C)'!$A$4:$H$51,2,FALSE)),\"\")","v":""},{"$f":"IFERROR(IF(D51=\"\",\"\",VLOOKUP(B51,'P (C)'!$A$4:$H$51,4,FALSE)),\"\")","v":""},{"$f":"IFERROR(IF(D51=\"\",\"\",VLOOKUP(B51,'P (C)'!$A$4:$H$51,5,FALSE)),\"\")","v":""},{"$f":"IFERROR(IF(D51=\"\",\"\",VLOOKUP(B51,'P (C)'!$A$4:$H$51,6,FALSE)),\"\")","v":""},{"$f":"IFERROR(IF(D51=\"\",\"\",VLOOKUP(B51,'P (C)'!$A$4:$H$51,7,FALSE)),\"\")","v":""}]
[null,40,"40-P",{"$f":"IFERROR(VLOOKUP(B52,'P (C)'!$A$4:$H$51,3,FALSE),\"\")","v":""},{"$f":"IFERROR(IF(D52=\"\",\"\",VLOOKUP(B52,'P (C)'!$A$4:$H$51,2,FALSE)),\"\")","v":""},{"$f":"IFERROR(IF(D52=\"\",\"\",VLOOKUP(B52,'P (C)'!$A$4:$H$51,4,FALSE)),\"\")","v":""},{"$f":"IFERROR(IF(D52=\"\",\"\",VLOOKUP(B52,'P (C)'!$A$4:$H$51,5,FALSE)),\"\")","v":""},{"$f":"IFERROR(IF(D52=\"\",\"\",VLOOKUP(B52,'P (C)'!$A$4:$H$51,6,FALSE)),\"\")","v":""},{"$f":"IFERROR(IF(D52=\"\",\"\",VLOOKUP(B52,'P (C)'!$A$4:$H$51,7,FALSE)),\"\")","v":""}]
[null,41,"41-P",{"$f":"IFERROR(VLOOKUP(B53,'P (C)'!$A$4:$H$51,3,FALSE),\"\")","v":""},{"$f":"IFERROR(IF(D53=\"\",\"\",VLOOKUP(B53,'P (C)'!$A$4:$H$51,2,FALSE)),\"\")","v":""},{"$f":"IFERROR(IF(D53=\"\",\"\",VLOOKUP(B53,'P (C)'!$A$4:$H$51,4,FALSE)),\"\")","v":""},{"$f":"IFERROR(IF(D53=\"\",\"\",VLOOKUP(B53,'P (C)'!$A$4:$H$51,5,FALSE)),\"\")","v":""},{"$f":"IFERROR(IF(D53=\"\",\"\",VLOOKUP(B53,'P (C)'!$A$4:$H$51,6,FALSE)),\"\")","v":""},{"$f":"IFERROR(IF(D53=\"\",\"\",VLOOKUP(B53,'P (C)'!$A$4:$H$51,7,FALSE)),\"\")","v":""}]
[null,42,"42-P",{"$f":"IFERROR(VLOOKUP(B54,'P (C)'!$A$4:$H$51,3,FALSE),\"\")","v":""},{"$f":"IFERROR(IF(D54=\"\",\"\",VLOOKUP(B54,'P (C)'!$A$4:$H$51,2,FALSE)),\"\")","v":""},{"$f":"IFERROR(IF(D54=\"\",\"\",VLOOKUP(B54,'P (C)'!$A$4:$H$51,4,FALSE)),\"\")","v":""},{"$f":"IFERROR(IF(D54=\"\",\"\",VLOOKUP(B54,'P (C)'!$A$4:$H$51,5,FALSE)),\"\")","v":""},{"$f":"IFERROR(IF(D54=\"\",\"\",VLOOKUP(B54,'P (C)'!$A$4:$H$51,6,FALSE)),\"\")","v":""},{"$f":"IFERROR(IF(D54=\"\",\"\",VLOOKUP(B54,'P (C)'!$A$4:$H$51,7,FALSE)),\"\")","v":""}]
[null,43,"43-P",{"$f":"IFERROR(VLOOKUP(B55,'P (C)'!$A$4:$H$51,3,FALSE),\"\")","v":""},{"$f":"IFERROR(IF(D55=\"\",\"\",VLOOKUP(B55,'P (C)'!$A$4:$H$51,2,FALSE)),\"\")","v":""},{"$f":"IFERROR(IF(D55=\"\",\"\",VLOOKUP(B55,'P (C)'!$A$4:$H$51,4,FALSE)),\"\")","v":""},{"$f":"IFERROR(IF(D55=\"\",\"\",VLOOKUP(B55,'P (C)'!$A$4:$H$51,5,FALSE)),\"\")","v":""},{"$f":"IFERROR(IF(D55=\"\",\"\",VLOOKUP(B55,'P (C)'!$A$4:$H$51,6,FALSE)),\"\")","v":""},{"$f":"IFERROR(IF(D55=\"\",\"\",VLOOKUP(B55,'P (C)'!$A$4:$H$51,7,FALSE)),\"\")","v":""}]
[null,44,"44-P",{"$f":"IFERROR(VLOOKUP(B56,'P (C)'!$A$4:$H$51,3,FALSE),\"\")","v":""},{"$f":"IFERROR(IF(D56=\"\",\"\",VLOOKUP(B56,'P (C)'!$A$4:$H$51,2,FALSE)),\"\")","v":""},{"$f":"IFERROR(IF(D56=\"\",\"\",VLOOKUP(B56,'P (C)'!$A$4:$H$51,4,FALSE)),\"\")","v":""},{"$f":"IFERROR(IF(D56=\"\",\"\",VLOOKUP(B56,'P (C)'!$A$4:$H$51,5,FALSE)),\"\")","v":""},{"$f":"IFERROR(IF(D56=\"\",\"\",VLOOKUP(B56,'P (C)'!$A$4:$H$51,6,FALSE)),\"\")","v":""},{"$f":"IFERROR(IF(D56=\"\",\"\",VLOOKUP(B56,'P (C)'!$A$4:$H$51,7,FALSE)),\"\")","v":""}]
[null,45,"45-P",{"$f":"IFERROR(VLOOKUP(B57,'P (C)'!$A$4:$H$51,3,FALSE),\"\")","v":""},{"$f":"IFERROR(IF(D57=\"\",\"\",VLOOKUP(B57,'P (C)'!$A$4:$H$51,2,FALSE)),\"\")","v":""},{"$f":"IFERROR(IF(D57=\"\",\"\",VLOOKUP(B57,'P (C)'!$A$4:$H$51,4,FALSE)),\"\")","v":""},{"$f":"IFERROR(IF(D57=\"\",\"\",VLOOKUP(B57,'P (C)'!$A$4:$H$51,5,FALSE)),\"\")","v":""},{"$f":"IFERROR(IF(D57=\"\",\"\",VLOOKUP(B57,'P (C)'!$A$4:$H$51,6,FALSE)),\"\")","v":""},{"$f":"IFERROR(IF(D57=\"\",\"\",VLOOKUP(B57,'P (C)'!$A$4:$H$51,7,FALSE)),\"\")","v":""}]
[null,46,"46-P",{"$f":"IFERROR(VLOOKUP(B58,'P (C)'!$A$4:$H$51,3,FALSE),\"\")","v":""},{"$f":"IFERROR(IF(D58=\"\",\"\",VLOOKUP(B58,'P (C)'!$A$4:$H$51,2,FALSE)),\"\")","v":""},{"$f":"IFERROR(IF(D58=\"\",\"\",VLOOKUP(B58,'P (C)'!$A$4:$H$51,4,FALSE)),\"\")","v":""},{"$f":"IFERROR(IF(D58=\"\",\"\",VLOOKUP(B58,'P (C)'!$A$4:$H$51,5,FALSE)),\"\")","v":""},{"$f":"IFERROR(IF(D58=\"\",\"\",VLOOKUP(B58,'P (C)'!$A$4:$H$51,6,FALSE)),\"\")","v":""},{"$f":"IFERROR(IF(D58=\"\",\"\",VLOOKUP(B58,'P (C)'!$A$4:$H$51,7,FALSE)),\"\")","v":""}]
[null,47,"47-P",{"$f":"IFERROR(VLOOKUP(B59,'P (C)'!$A$4:$H$51,3,FALSE),\"\")","v":""},{"$f":"IFERROR(IF(D59=\"\",\"\",VLOOKUP(B59,'P (C)'!$A$4:$H$51,2,FALSE)),\"\")","v":""},{"$f":"IFERROR(IF(D59=\"\",\"\",VLOOKUP(B59,'P (C)'!$A$4:$H$51,4,FALSE)),\"\")","v":""},{"$f":"IFERROR(IF(D59=\"\",\"\",VLOOKUP(B59,'P (C)'!$A$4:$H$51,5,FALSE)),\"\")","v":""},{"$f":"IFERROR(IF(D59=\"\",\"\",VLOOKUP(B59,'P (C)'!$A$4:$H$51,6,FALSE)),\"\")","v":""},{"$f":"IFERROR(IF(D59=\"\",\"\",VLOOKUP(B59,'P (C)'!$A$4:$H$51,7,FALSE)),\"\")","v":""}]
[null,48,"48-P",{"$f":"IFERROR(VLOOKUP(B60,'P (C)'!$A$4:$H$51,3,FALSE),\"\")","v":""},{"$f":"IFERROR(IF(D60=\"\",\"\",VLOOKUP(B60,'P (C)'!$A$4:$H$51,2,FALSE)),\"\")","v":""},{"$f":"IFERROR(IF(D60=\"\",\"\",VLOOKUP(B60,'P (C)'!$A$4:$H$51,4,FALSE)),\"\")","v":""},{"$f":"IFERROR(IF(D60=\"\",\"\",VLOOKUP(B60,'P (C)'!$A$4:$H$51,5,FALSE)),\"\")","v":""},{"$f":"IFERROR(IF(D60=\"\",\"\",VLOOKUP(B60,'P (C)'!$A$4:$H$51,6,FALSE)),\"\")","v":""},{"$f":"IFERROR(IF(D60=\"\",\"\",VLOOKUP(B60,'P (C)'!$A$4:$H$51,7,FALSE)),\"\")","v":""}]

{"sheet":"Resultats SF","index":19,"n_rows":88,"n_cols":20,"rows_kept":88,"cut":false,"hidden":false,"merged":[[2,5,5,10],[7,1,7,12],[1,11,5,12],[1,1,1,10],[1,18,1,19]]}
[]
[null,{"$f":"IF(Inici!B2=\"INTRODUIR EN MAIÚSCULES EL NOM DE L'OPEN\",\"Introduiu el nom de l'Open a la pantalla d'Inici!!!\",Inici!B2)","v":"Introduiu el nom de l'Open a la pantalla d'Inici!!!"},null,null,null,null,null,null,null,null,null,null,null,null,"ANAR A PÀGINA","P-P-PRÈVIA","P-PRÈVIA","PRÈVIA","FASE FINAL"]
[null,null,null,null,null,null,null,null,null,null,null,null,null,null,"Rànquing Inicial","Grups PPP","Grups PP","Grups P","Setzens","Vuitens"]
[null,null,null,null,null,null,null,null,null,null,null,null,null,null,"Organigrama","Result PPP","Result PP","Result P","Class SF","Quarts/SF/F"]
[null,null,null,null,null,null,null,null,null,null,null,null,null,null,"Horaris","Classif PPP","Classif PP","Classif P"]
[]
[]
[null,"SETZENS DE FINAL (SF)",null,null,null,null,null,null,null,null,null,null,null,null,"Inici","Participants"]
[]
[null,"W.O.",null,null,"Jugador","Boles","Ent","Mitj","SM1","SM2","Punts","KO"]
[null,false,{"$f":"IFERROR(M11,\"\")","v":""},16,{"$f":"IFERROR(VLOOKUP(D11,'Rànquing Inicial'!$B$11:$G$138,2,FALSE),\"\")","v":"JUGADOR 16"},null,null,{"$f":"IF(G11=\"\",\"\",ROUND(F11/G11,3))","v":""},null,null,{"$f":"IF(H11=\"\",\"\",IF(F11>F13,2,IF(F11<F13,0,IF(L11>L13,2,0))))","v":""},null,{"$f":"IFERROR(IF(B13=TRUE,1,IF(B11=TRUE,2,RANK(N11,N11:N13,0))),\"\")","v":""},{"$f":"K11*0.1+H11*0.01","v":{"$error":"#VALUE!"}}]
[]
[null,false,{"$f":"IFERROR(M13,\"\")","v":""},{"$f":"Organigrama!Q25","v":17},{"$f":"IFERROR(IF(D13=\"\",\"\",IF(AND(D13>0,D13<129),VLOOKUP(D13,'Rànquing Inicial'!$B$11:$G$138,2,FALSE),VLOOKUP(D13,'Classificació P'!$C$13:$I$60,2,FALSE))),\"\")","v":"JUGADOR 17"},null,{"$f":"IF(G11=\"\",\"\",G11)","v":""},{"$f":"IF(G13=\"\",\"\",ROUND(F13/G13,3))","v":""},null,null,{"$f":"IF(H13=\"\",\"\",IF(F13>F11,2,IF(F13<F11,0,IF(L13>L11,2,0))))","v":""},null,{"$f":"IFERROR(IF(B11=TRUE,1,IF(B13=TRUE,2,RANK(N13,N11:N13,0))),\"\")","v":""},{"$f":"K13*0.1+H13*0.01","v":{"$error":"#VALUE!"}}]
[]
[null,"W.O.",null,null,"Jugador","Boles","Ent","Mitj","SM1","SM2","Punts","KO"]
[null,false,{"$f":"IFERROR(M16,\"\")","v":""},15,{"$f":"IFERROR(VLOOKUP(D16,'Rànquing Inicial'!$B$11:$G$138,2,FALSE),\"\")","v":"JUGADOR 15"},null,null,{"$f":"IF(G16=\"\",\"\",ROUND(F16/G16,3))","v":""},null,null,{"$f":"IF(H16=\"\",\"\",IF(F16>F18,2,IF(F16<F18,0,IF(L16>L18,2,0))))","v":""},null,{"$f":"IFERROR(IF(B18=TRUE,1,IF(B16=TRUE,2,RANK(N16,N16:N18,0))),\"\")","v":""},{"$f":"K16*0.1+H16*0.01","v":{"$error":"#VALUE!"}}]
[]
[null,false,{"$f":"IFERROR(M18,\"\")","v":""},{"$f":"Organigrama!P25","v":18},{"$f":"IFERROR(IF(D18=\"\",\"\",IF(AND(D18>0,D18<129),VLOOKUP(D18,'Rànquing Inicial'!$B$11:$G$138,2,FALSE),VLOOKUP(D18,'Classificació P'!$C$13:$I$60,2,FALSE))),\"\")","v":"JUGADOR 18"},null,{"$f":"IF(G16=\"\",\"\",G16)","v":""},{"$f":"IF(G18=\"\",\"\",ROUND(F18/G18,3))","v":""},null,null,{"$f":"IF(H18=\"\",\"\",IF(F18>F16,2,IF(F18<F16,0,IF(L18>L16,2,0))))","v":""},null,{"$f":"IFERROR(IF(B16=TRUE,1,IF(B18=TRUE,2,RANK(N18,N16:N18,0))),\"\")","v":""},{"$f":"K18*0.1+H18*0.01","v":{"$error":"#VALUE!"}}]
[]
[null,"W.O.",null,null,"Jugador","Boles","Ent","Mitj","SM1","SM2","Punts","KO"]
[null,false,{"$f":"IFERROR(M21,\"\")","v":""},14,{"$f":"IFERROR(VLOOKUP(D21,'Rànquing Inicial'!$B$11:$G$138,2,FALSE),\"\")","v":"JUGADOR 14"},null,null,{"$f":"IF(G21=\"\",\"\",ROUND(F21/G21,3))","v":""},null,null,{"$f":"IF(H21=\"\",\"\",IF(F21>F23,2,IF(F21<F23,0,IF(L21>L23,2,0))))","v":""},3,{"$f":"IFERROR(IF(B23=TRUE,1,IF(B21=TRUE,2,RANK(N21,N21:N23,0))),\"\")","v":""},{"$f":"K21*0.1+H21*0.01","v":{"$error":"#VALUE!"}}]
[]
[null,false,{"$f":"IFERROR(M23,\"\")","v":""},{"$f":"Organigrama!O25","v":"1-P"},{"$f":"IFERROR(IF(D23=\"\",\"\",IF(AND(D23>0,D23<129),VLOOKUP(D23,'Rànquing Inicial'!$B$11:$G$138,2,FALSE),VLOOKUP(D23,'Classificació P'!$C$13:$I$60,2,FALSE))),\"\")","v":""},null,{"$f":"IF(G21=\"\",\"\",G21)","v":""},{"$f":"IF(G23=\"\",\"\",ROUND(F23/G23,3))","v":""},null,null,{"$f":"IF(H23=\"\",\"\",IF(F23>F21,2,IF(F23<F21,0,IF(L23>L21,2,0))))","v":""},2,{"$f":"IFERROR(IF(B21=TRUE,1,IF(B23=TRUE,2,RANK(N23,N21:N23,0))),\"\")","v":""},{"$f":"K23*0.1+H23*0.01","v":{"$error":"#VALUE!"}}]
[]
[null,"W.O.",null,null,"Jugador","Boles","Ent","Mitj","SM1","SM2","Punts","KO"]
[null,false,{"$f":"IFERROR(M26,\"\")","v":""},13,{"$f":"IFERROR(VLOOKUP(D26,'Rànquing Inicial'!$B$11:$G$138,2,FALSE),\"\")","v":"JUGADOR 13"},null,null,{"$f":"IF(G26=\"\",\"\",ROUND(F26/G26,3))","v":""},null,null,{"$f":"IF(H26=\"\",\"\",IF(F26>F28,2,IF(F26<F28,0,IF(L26>L28,2,0))))","v":""},null,{"$f":"IFERROR(IF(B28=TRUE,1,IF(B26=TRUE,2,RANK(N26,N26:N28,0))),\"\")","v":""},{"$f":"K26*0.1+H26*0.01","v":{"$error":"#VALUE!"}}]
[]
[null,false,{"$f":"IFERROR(M28,\"\")","v":""},{"$f":"Organigrama!N25","v":"2-P"},{"$f":"IFERROR(IF(D28=\"\",\"\",IF(AND(D28>0,D28<129),VLOOKUP(D28,'Rànquing Inicial'!$B$11:$G$138,2,FALSE),VLOOKUP(D28,'Classificació P'!$C$13:$I$60,2,FALSE))),\"\")","v":""},null,{"$f":"IF(G26=\"\",\"\",G26)","v":""},{"$f":"IF(G28=\"\",\"\",ROUND(F28/G28,3))","v":""},null,null,{"$f":"IF(H28=\"\",\"\",IF(F28>F26,2,IF(F28<F26,0,IF(L28>L26,2,0))))","v":""},null,{"$f":"IFERROR(IF(B26=TRUE,1,IF(B28=TRUE,2,RANK(N28,N26:N28,0))),\"\")","v":""},{"$f":"K28*0.1+H28*0.01","v":{"$error":"#VALUE!"}}]
[]
[null,"W.O.",null,null,"Jugador","Boles","Ent","Mitj","SM1","SM2","Punts","KO"]
[null,false,{"$f":"IFERROR(M31,\"\")","v":""},12,{"$f":"IFERROR(VLOOKUP(D31,'Rànquing Inicial'!$B$11:$G$138,2,FALSE),\"\")","v":"JUGADOR 12"},null,null,{"$f":"IF(G31=\"\",\"\",ROUND(F31/G31,3))","v":""},null,null,{"$f":"IF(H31=\"\",\"\",IF(F31>F33,2,IF(F31<F33,0,IF(L31>L33,2,0))))","v":""},null,{"$f":"IFERROR(IF(B33=TRUE,1,IF(B31=TRUE,2,RANK(N31,N31:N33,0))),\"\")","v":""},{"$f":"K31*0.1+H31*0.01","v":{"$error":"#VALUE!"}}]
[]
[null,false,{"$f":"IFERROR(M33,\"\")","v":""},{"$f":"Organigrama!M25","v":"3-P"},{"$f":"IFERROR(IF(D33=\"\",\"\",IF(AND(D33>0,D33<129),VLOOKUP(D33,'Rànquing Inicial'!$B$11:$G$138,2,FALSE),VLOOKUP(D33,'Classificació P'!$C$13:$I$60,2,FALSE))),\"\")","v":""},null,{"$f":"IF(G31=\"\",\"\",G31)","v":""},{"$f":"IF(G33=\"\",\"\",ROUND(F33/G33,3))","v":""},null,null,{"$f":"IF(H33=\"\",\"\",IF(F33>F31,2,IF(F33<F31,0,IF(L33>L31,2,0))))","v":""},null,{"$f":"IFERROR(IF(B31=TRUE,1,IF(B33=TRUE,2,RANK(N33,N31:N33,0))),\"\")","v":""},{"$f":"K33*0.1+H33*0.01","v":{"$error":"#VALUE!"}}]
[]
[null,"W.O.",null,null,"Jugador","Boles","Ent","Mitj","SM1","SM2","Punts","KO"]
[null,false,{"$f":"IFERROR(M36,\"\")","v":""},11,{"$f":"IFERROR(VLOOKUP(D36,'Rànquing Inicial'!$B$11:$G$138,2,FALSE),\"\")","v":"JUGADOR 11"},null,null,{"$f":"IF(G36=\"\",\"\",ROUND(F36/G36,3))","v":""},null,null,{"$f":"IF(H36=\"\",\"\",IF(F36>F38,2,IF(F36<F38,0,IF(L36>L38,2,0))))","v":""},null,{"$f":"IFERROR(IF(B38=TRUE,1,IF(B36=TRUE,2,RANK(N36,N36:N38,0))),\"\")","v":""},{"$f":"K36*0.1+H36*0.01","v":{"$error":"#VALUE!"}}]
[]
[null,false,{"$f":"IFERROR(M38,\"\")","v":""},{"$f":"Organigrama!L25","v":"4-P"},{"$f":"IFERROR(IF(D38=\"\",\"\",IF(AND(D38>0,D38<129),VLOOKUP(D38,'Rànquing Inicial'!$B$11:$G$138,2,FALSE),VLOOKUP(D38,'Classificació P'!$C$13:$I$60,2,FALSE))),\"\")","v":""},null,{"$f":"IF(G36=\"\",\"\",G36)","v":""},{"$f":"IF(G38=\"\",\"\",ROUND(F38/G38,3))","v":""},null,null,{"$f":"IF(H38=\"\",\"\",IF(F38>F36,2,IF(F38<F36,0,IF(L38>L36,2,0))))","v":""},null,{"$f":"IFERROR(IF(B36=TRUE,1,IF(B38=TRUE,2,RANK(N38,N36:N38,0))),\"\")","v":""},{"$f":"K38*0.1+H38*0.01","v":{"$error":"#VALUE!"}}]
[]
[null,"W.O.",null,null,"Jugador","Boles","Ent","Mitj","SM1","SM2","Punts","KO"]
[null,false,{"$f":"IFERROR(M41,\"\")","v":""},10,{"$f":"IFERROR(VLOOKUP(D41,'Rànquing Inicial'!$B$11:$G$138,2,FALSE),\"\")","v":"JUGADOR 10"},null,null,{"$f":"IF(G41=\"\",\"\",ROUND(F41/G41,3))","v":""},null,null,{"$f":"IF(H41=\"\",\"\",IF(F41>F43,2,IF(F41<F43,0,IF(L41>L43,2,0))))","v":""},null,{"$f":"IFERROR(IF(B43=TRUE,1,IF(B41=TRUE,2,RANK(N41,N41:N43,0))),\"\")","v":""},{"$f":"K41*0.1+H41*0.01","v":{"$error":"#VALUE!"}}]
[]
[null,false,{"$f":"IFERROR(M43,\"\")","v":""},{"$f":"Organigrama!K25","v":"5-P"},{"$f":"IFERROR(IF(D43=\"\",\"\",IF(AND(D43>0,D43<129),VLOOKUP(D43,'Rànquing Inicial'!$B$11:$G$138,2,FALSE),VLOOKUP(D43,'Classificació P'!$C$13:$I$60,2,FALSE))),\"\")","v":""},null,{"$f":"IF(G41=\"\",\"\",G41)","v":""},{"$f":"IF(G43=\"\",\"\",ROUND(F43/G43,3))","v":""},null,null,{"$f":"IF(H43=\"\",\"\",IF(F43>F41,2,IF(F43<F41,0,IF(L43>L41,2,0))))","v":""},null,{"$f":"IFERROR(IF(B41=TRUE,1,IF(B43=TRUE,2,RANK(N43,N41:N43,0))),\"\")","v":""},{"$f":"K43*0.1+H43*0.01","v":{"$error":"#VALUE!"}}]
[]
[null,"W.O.",null,null,"Jugador","Boles","Ent","Mitj","SM1","SM2","Punts","KO"]
[null,false,{"$f":"IFERROR(M46,\"\")","v":""},9,{"$f":"IFERROR(VLOOKUP(D46,'Rànquing Inicial'!$B$11:$G$138,2,FALSE),\"\")","v":"JUGADOR 9"},null,null,{"$f":"IF(G46=\"\",\"\",ROUND(F46/G46,3))","v":""},null,null,{"$f":"IF(H46=\"\",\"\",IF(F46>F48,2,IF(F46<F48,0,IF(L46>L48,2,0))))","v":""},null,{"$f":"IFERROR(IF(B48=TRUE,1,IF(B46=TRUE,2,RANK(N46,N46:N48,0))),\"\")","v":""},{"$f":"K46*0.1+H46*0.01","v":{"$error":"#VALUE!"}}]
[]
[null,false,{"$f":"IFERROR(M48,\"\")","v":""},{"$f":"Organigrama!J25","v":"6-P"},{"$f":"IFERROR(IF(D48=\"\",\"\",IF(AND(D48>0,D48<129),VLOOKUP(D48,'Rànquing Inicial'!$B$11:$G$138,2,FALSE),VLOOKUP(D48,'Classificació P'!$C$13:$I$60,2,FALSE))),\"\")","v":""},null,{"$f":"IF(G46=\"\",\"\",G46)","v":""},{"$f":"IF(G48=\"\",\"\",ROUND(F48/G48,3))","v":""},null,null,{"$f":"IF(H48=\"\",\"\",IF(F48>F46,2,IF(F48<F46,0,IF(L48>L46,2,0))))","v":""},null,{"$f":"IFERROR(IF(B46=TRUE,1,IF(B48=TRUE,2,RANK(N48,N46:N48,0))),\"\")","v":""},{"$f":"K48*0.1+H48*0.01","v":{"$error":"#VALUE!"}}]
[]
[null,"W.O.",null,null,"Jugador","Boles","Ent","Mitj","SM1","SM2","Punts","KO"]
[null,false,{"$f":"IFERROR(M51,\"\")","v":""},8,{"$f":"IFERROR(VLOOKUP(D51,'Rànquing Inicial'!$B$11:$G$138,2,FALSE),\"\")","v":"JUGADOR 8"},null,null,{"$f":"IF(G51=\"\",\"\",ROUND(F51/G51,3))","v":""},null,null,{"$f":"IF(H51=\"\",\"\",IF(F51>F53,2,IF(F51<F53,0,IF(L51>L53,2,0))))","v":""},null,{"$f":"IFERROR(IF(B53=TRUE,1,IF(B51=TRUE,2,RANK(N51,N51:N53,0))),\"\")","v":""},{"$f":"K51*0.1+H51*0.01","v":{"$error":"#VALUE!"}}]
[]
[null,false,{"$f":"IFERROR(M53,\"\")","v":""},{"$f":"Organigrama!I25","v":"7-P"},{"$f":"IFERROR(IF(D53=\"\",\"\",IF(AND(D53>0,D53<129),VLOOKUP(D53,'Rànquing Inicial'!$B$11:$G$138,2,FALSE),VLOOKUP(D53,'Classificació P'!$C$13:$I$60,2,FALSE))),\"\")","v":""},null,{"$f":"IF(G51=\"\",\"\",G51)","v":""},{"$f":"IF(G53=\"\",\"\",ROUND(F53/G53,3))","v":""},null,null,{"$f":"IF(H53=\"\",\"\",IF(F53>F51,2,IF(F53<F51,0,IF(L53>L51,2,0))))","v":""},null,{"$f":"IFERROR(IF(B51=TRUE,1,IF(B53=TRUE,2,RANK(N53,N51:N53,0))),\"\")","v":""},{"$f":"K53*0.1+H53*0.01","v":{"$error":"#VALUE!"}}]
[]
[null,"W.O.",null,null,"Jugador","Boles","Ent","Mitj","SM1","SM2","Punts","KO"]
[null,false,{"$f":"IFERROR(M56,\"\")","v":""},7,{"$f":"IFERROR(VLOOKUP(D56,'Rànquing Inicial'!$B$11:$G$138,2,FALSE),\"\")","v":"JUGADOR 7"},null,null,{"$f":"IF(G56=\"\",\"\",ROUND(F56/G56,3))","v":""},null,null,{"$f":"IF(H56=\"\",\"\",IF(F56>F58,2,IF(F56<F58,0,IF(L56>L58,2,0))))","v":""},null,{"$f":"IFERROR(IF(B58=TRUE,1,IF(B56=TRUE,2,RANK(N56,N56:N58,0))),\"\")","v":""},{"$f":"K56*0.1+H56*0.01","v":{"$error":"#VALUE!"}}]
[]
[null,false,{"$f":"IFERROR(M58,\"\")","v":""},{"$f":"Organigrama!H25","v":"8-P"},{"$f":"IFERROR(IF(D58=\"\",\"\",IF(AND(D58>0,D58<129),VLOOKUP(D58,'Rànquing Inicial'!$B$11:$G$138,2,FALSE),VLOOKUP(D58,'Classificació P'!$C$13:$I$60,2,FALSE))),\"\")","v":""},null,{"$f":"IF(G56=\"\",\"\",G56)","v":""},{"$f":"IF(G58=\"\",\"\",ROUND(F58/G58,3))","v":""},null,null,{"$f":"IF(H58=\"\",\"\",IF(F58>F56,2,IF(F58<F56,0,IF(L58>L56,2,0))))","v":""},null,{"$f":"IFERROR(IF(B56=TRUE,1,IF(B58=TRUE,2,RANK(N58,N56:N58,0))),\"\")","v":""},{"$f":"K58*0.1+H58*0.01","v":{"$error":"#VALUE!"}}]
[]
[null,"W.O.",null,null,"Jugador","Boles","Ent","Mitj","SM1","SM2","Punts","KO"]
[null,false,{"$f":"IFERROR(M61,\"\")","v":""},6,{"$f":"IFERROR(VLOOKUP(D61,'Rànquing Inicial'!$B$11:$G$138,2,FALSE),\"\")","v":"JUGADOR 6"},null,null,{"$f":"IF(G61=\"\",\"\",ROUND(F61/G61,3))","v":""},null,null,{"$f":"IF(H61=\"\",\"\",IF(F61>F63,2,IF(F61<F63,0,IF(L61>L63,2,0))))","v":""},null,{"$f":"IFERROR(IF(B63=TRUE,1,IF(B61=TRUE,2,RANK(N61,N61:N63,0))),\"\")","v":""},{"$f":"K61*0.1+H61*0.01","v":{"$error":"#VALUE!"}}]
[]
[null,false,{"$f":"IFERROR(M63,\"\")","v":""},{"$f":"Organigrama!G25","v":"9-P"},{"$f":"IFERROR(IF(D63=\"\",\"\",IF(AND(D63>0,D63<129),VLOOKUP(D63,'Rànquing Inicial'!$B$11:$G$138,2,FALSE),VLOOKUP(D63,'Classificació P'!$C$13:$I$60,2,FALSE))),\"\")","v":""},null,{"$f":"IF(G61=\"\",\"\",G61)","v":""},{"$f":"IF(G63=\"\",\"\",ROUND(F63/G63,3))","v":""},null,null,{"$f":"IF(H63=\"\",\"\",IF(F63>F61,2,IF(F63<F61,0,IF(L63>L61,2,0))))","v":""},null,{"$f":"IFERROR(IF(B61=TRUE,1,IF(B63=TRUE,2,RANK(N63,N61:N63,0))),\"\")","v":""},{"$f":"K63*0.1+H63*0.01","v":{"$error":"#VALUE!"}}]
[]
[null,"W.O.",null,null,"Jugador","Boles","Ent","Mitj","SM1","SM2","Punts","KO"]
[null,false,{"$f":"IFERROR(M66,\"\")","v":""},5,{"$f":"IFERROR(VLOOKUP(D66,'Rànquing Inicial'!$B$11:$G$138,2,FALSE),\"\")","v":"JUGADOR 5"},null,null,{"$f":"IF(G66=\"\",\"\",ROUND(F66/G66,3))","v":""},null,null,{"$f":"IF(H66=\"\",\"\",IF(F66>F68,2,IF(F66<F68,0,IF(L66>L68,2,0))))","v":""},null,{"$f":"IFERROR(IF(B68=TRUE,1,IF(B66=TRUE,2,RANK(N66,N66:N68,0))),\"\")","v":""},{"$f":"K66*0.1+H66*0.01","v":{"$error":"#VALUE!"}}]
[]
[null,false,{"$f":"IFERROR(M68,\"\")","v":""},{"$f":"Organigrama!F25","v":"10-P"},{"$f":"IFERROR(IF(D68=\"\",\"\",IF(AND(D68>0,D68<129),VLOOKUP(D68,'Rànquing Inicial'!$B$11:$G$138,2,FALSE),VLOOKUP(D68,'Classificació P'!$C$13:$I$60,2,FALSE))),\"\")","v":""},null,{"$f":"IF(G66=\"\",\"\",G66)","v":""},{"$f":"IF(G68=\"\",\"\",ROUND(F68/G68,3))","v":""},null,null,{"$f":"IF(H68=\"\",\"\",IF(F68>F66,2,IF(F68<F66,0,IF(L68>L66,2,0))))","v":""},null,{"$f":"IFERROR(IF(B66=TRUE,1,IF(B68=TRUE,2,RANK(N68,N66:N68,0))),\"\")","v":""},{"$f":"K68*0.1+H68*0.01","v":{"$error":"#VALUE!"}}]
[]
[null,"W.O.",null,null,"Jugador","Boles","Ent","Mitj","SM1","SM2","Punts","KO"]
[null,false,{"$f":"IFERROR(M71,\"\")","v":""},4,{"$f":"IFERROR(VLOOKUP(D71,'Rànquing Inicial'!$B$11:$G$138,2,FALSE),\"\")","v":"JUGADOR 4"},null,null,{"$f":"IF(G71=\"\",\"\",ROUND(F71/G71,3))","v":""},null,null,{"$f":"IF(H71=\"\",\"\",IF(F71>F73,2,IF(F71<F73,0,IF(L71>L73,2,0))))","v":""},null,{"$f":"IFERROR(IF(B73=TRUE,1,IF(B71=TRUE,2,RANK(N71,N71:N73,0))),\"\")","v":""},{"$f":"K71*0.1+H71*0.01","v":{"$error":"#VALUE!"}}]
[]
[null,false,{"$f":"IFERROR(M73,\"\")","v":""},{"$f":"Organigrama!E25","v":"11-P"},{"$f":"IFERROR(IF(D73=\"\",\"\",IF(AND(D73>0,D73<129),VLOOKUP(D73,'Rànquing Inicial'!$B$11:$G$138,2,FALSE),VLOOKUP(D73,'Classificació P'!$C$13:$I$60,2,FALSE))),\"\")","v":""},null,{"$f":"IF(G71=\"\",\"\",G71)","v":""},{"$f":"IF(G73=\"\",\"\",ROUND(F73/G73,3))","v":""},null,null,{"$f":"IF(H73=\"\",\"\",IF(F73>F71,2,IF(F73<F71,0,IF(L73>L71,2,0))))","v":""},null,{"$f":"IFERROR(IF(B71=TRUE,1,IF(B73=TRUE,2,RANK(N73,N71:N73,0))),\"\")","v":""},{"$f":"K73*0.1+H73*0.01","v":{"$error":"#VALUE!"}}]
[]
[null,"W.O.",null,null,"Jugador","Boles","Ent","Mitj","SM1","SM2","Punts","KO"]
[null,false,{"$f":"IFERROR(M76,\"\")","v":""},3,{"$f":"IFERROR(VLOOKUP(D76,'Rànquing Inicial'!$B$11:$G$138,2,FALSE),\"\")","v":"JUGADOR 3"},null,null,{"$f":"IF(G76=\"\",\"\",ROUND(F76/G76,3))","v":""},null,null,{"$f":"IF(H76=\"\",\"\",IF(F76>F78,2,IF(F76<F78,0,IF(L76>L78,2,0))))","v":""},null,{"$f":"IFERROR(IF(B78=TRUE,1,IF(B76=TRUE,2,RANK(N76,N76:N78,0))),\"\")","v":""},{"$f":"K76*0.1+H76*0.01","v":{"$error":"#VALUE!"}}]
[]
[null,false,{"$f":"IFERROR(M78,\"\")","v":""},{"$f":"Organigrama!D25","v":"12-P"},{"$f":"IFERROR(IF(D78=\"\",\"\",IF(AND(D78>0,D78<129),VLOOKUP(D78,'Rànquing Inicial'!$B$11:$G$138,2,FALSE),VLOOKUP(D78,'Classificació P'!$C$13:$I$60,2,FALSE))),\"\")","v":""},null,{"$f":"IF(G76=\"\",\"\",G76)","v":""},{"$f":"IF(G78=\"\",\"\",ROUND(F78/G78,3))","v":""},null,null,{"$f":"IF(H78=\"\",\"\",IF(F78>F76,2,IF(F78<F76,0,IF(L78>L76,2,0))))","v":""},null,{"$f":"IFERROR(IF(B76=TRUE,1,IF(B78=TRUE,2,RANK(N78,N76:N78,0))),\"\")","v":""},{"$f":"K78*0.1+H78*0.01","v":{"$error":"#VALUE!"}}]
[]
[null,"W.O.",null,null,"Jugador","Boles","Ent","Mitj","SM1","SM2","Punts","KO"]
[null,false,{"$f":"IFERROR(M81,\"\")","v":""},2,{"$f":"IFERROR(VLOOKUP(D81,'Rànquing Inicial'!$B$11:$G$138,2,FALSE),\"\")","v":"JUGADOR 2"},null,null,{"$f":"IF(G81=\"\",\"\",ROUND(F81/G81,3))","v":""},null,null,{"$f":"IF(H81=\"\",\"\",IF(F81>F83,2,IF(F81<F83,0,IF(L81>L83,2,0))))","v":""},null,{"$f":"IFERROR(IF(B83=TRUE,1,IF(B81=TRUE,2,RANK(N81,N81:N83,0))),\"\")","v":""},{"$f":"K81*0.1+H81*0.01","v":{"$error":"#VALUE!"}}]
[]
[null,false,{"$f":"IFERROR(M83,\"\")","v":""},{"$f":"Organigrama!C25","v":"13-P"},{"$f":"IFERROR(IF(D83=\"\",\"\",IF(AND(D83>0,D83<129),VLOOKUP(D83,'Rànquing Inicial'!$B$11:$G$138,2,FALSE),VLOOKUP(D83,'Classificació P'!$C$13:$I$60,2,FALSE))),\"\")","v":""},null,{"$f":"IF(G81=\"\",\"\",G81)","v":""},{"$f":"IF(G83=\"\",\"\",ROUND(F83/G83,3))","v":""},null,null,{"$f":"IF(H83=\"\",\"\",IF(F83>F81,2,IF(F83<F81,0,IF(L83>L81,2,0))))","v":""},null,{"$f":"IFERROR(IF(B81=TRUE,1,IF(B83=TRUE,2,RANK(N83,N81:N83,0))),\"\")","v":""},{"$f":"K83*0.1+H83*0.01","v":{"$error":"#VALUE!"}}]
[]
[null,"W.O.",null,null,"Jugador","Boles","Ent","Mitj","SM1","SM2","Punts","KO"]
[null,false,{"$f":"IFERROR(M86,\"\")","v":""},1,{"$f":"IFERROR(VLOOKUP(D86,'Rànquing Inicial'!$B$11:$G$138,2,FALSE),\"\")","v":"JUGADOR 1"},null,null,{"$f":"IF(G86=\"\",\"\",ROUND(F86/G86,3))","v":""},null,null,{"$f":"IF(H86=\"\",\"\",IF(F86>F88,2,IF(F86<F88,0,IF(L86>L88,2,0))))","v":""},null,{"$f":"IFERROR(IF(B88=TRUE,1,IF(B86=TRUE,2,RANK(N86,N86:N88,0))),\"\")","v":""},{"$f":"K86*0.1+H86*0.01","v":{"$error":"#VALUE!"}}]
[]
[null,false,{"$f":"IFERROR(M88,\"\")","v":""},{"$f":"Organigrama!B25","v":"14-P"},{"$f":"IFERROR(IF(D88=\"\",\"\",IF(AND(D88>0,D88<129),VLOOKUP(D88,'Rànquing Inicial'!$B$11:$G$138,2,FALSE),VLOOKUP(D88,'Classificació P'!$C$13:$I$60,2,FALSE))),\"\")","v":""},null,{"$f":"IF(G86=\"\",\"\",G86)","v":""},{"$f":"IF(G88=\"\",\"\",ROUND(F88/G88,3))","v":""},null,null,{"$f":"IF(H88=\"\",\"\",IF(F88>F86,2,IF(F88<F86,0,IF(L88>L86,2,0))))","v":""},null,{"$f":"IFERROR(IF(B86=TRUE,1,IF(B88=TRUE,2,RANK(N88,N86:N88,0))),\"\")","v":""},{"$f":"K88*0.1+H88*0.01","v":{"$error":"#VALUE!"}}]

{"sheet":"SF (C)","index":20,"n_rows":27,"n_cols":11,"rows_kept":27,"cut":false,"hidden":true,"merged":[[0,1,0,7]]}
[null,"CLASSIFICACIÓ GUANYADORS EN FASE FINAL AL KO"]
[]
[null,"SETZENS DE FINAL (S)",null,null,null,null,null,null,{"$f":"16-COUNTBLANK(I6:I21)","v":0}]
[]
["Classificació","Provisional","Jugador","Punts","Mitjana","SM (1)","SM (2)","Puntuació","WO","Puntuació final"]
[{"$f":"IF(J6=0,\"\",RANK(J6,$J$6:$J$21,))","v":16},{"$f":"IF(H6=0,\"\",RANK(H6,$H$6:$H$21,))","v":16},{"$f":"IFERROR(VLOOKUP(1,'Resultats SF'!C11:E13,3,FALSE),\"\")","v":""},{"$f":"IF('Resultats SF'!F11+'Resultats SF'!F13=0,\"\",IF('Resultats SF'!F11='Resultats SF'!F13,1,2))","v":""},{"$f":"IF(OR('Resultats SF'!B11=TRUE,'Resultats SF'!B13=TRUE),\"WO\",IFERROR(VLOOKUP(C6,'Resultats SF'!E11:K13,4,FALSE),\"\"))","v":""},{"$f":"IFERROR(VLOOKUP(C6,'Resultats SF'!E11:K13,5,FALSE),\"\")","v":""},{"$f":"IFERROR(VLOOKUP(C6,'Resultats SF'!E11:K13,6,FALSE),\"\")","v":""},{"$f":"IFERROR(E6+F6*0.00001+G6*0.0000001+0.0000000001,0.0000000001)","v":1E-10},{"$f":"IF(OR('Resultats SF'!B11=TRUE,'Resultats SF'!B13=TRUE),16,\"\")","v":""},{"$f":"IFERROR((VLOOKUP(I6-K6,$B$6:$H$21,7,FALSE)+0.000000000000001),H6)","v":1E-10},{"$f":"IFERROR($I$3-(RANK(I6,$I$6:$I$21)),0)","v":0}]
[15,{"$f":"IF(H7=0,\"\",RANK(H7,$H$6:$H$21,))","v":15},{"$f":"IFERROR(VLOOKUP(1,'Resultats SF'!C16:E18,3,FALSE),\"\")","v":""},{"$f":"IF('Resultats SF'!F16+'Resultats SF'!F18=0,\"\",IF('Resultats SF'!F16='Resultats SF'!F18,1,2))","v":""},{"$f":"IF(OR('Resultats SF'!B16=TRUE,'Resultats SF'!B18=TRUE),\"WO\",IFERROR(VLOOKUP(C7,'Resultats SF'!E16:K18,4,FALSE),\"\"))","v":""},{"$f":"IFERROR(VLOOKUP(C7,'Resultats SF'!E14:K18,5,FALSE),\"\")","v":""},{"$f":"IFERROR(VLOOKUP(C7,'Resultats SF'!E16:K18,6,FALSE),\"\")","v":""},{"$f":"IFERROR(E7+F7*0.00001+G7*0.0000001+0.0000000002,0.0000000002)","v":2.0000000000000001E-10},{"$f":"IF(OR('Resultats SF'!B16=TRUE,'Resultats SF'!B18=TRUE),15,\"\")","v":""},2.0000000000000001E-10,0]
[14,14,{"$f":"IFERROR(VLOOKUP(1,'Resultats SF'!C21:K23,3,FALSE),\"\")","v":""},{"$f":"IF('Resultats SF'!F21+'Resultats SF'!F23=0,\"\",IF('Resultats SF'!F21='Resultats SF'!F23,1,2))","v":""},{"$f":"IF(OR('Resultats SF'!B21=TRUE,'Resultats SF'!B23=TRUE),\"WO\",IFERROR(VLOOKUP(C8,'Resultats SF'!E21:K23,4,FALSE),\"\"))","v":""},{"$f":"IFERROR(VLOOKUP(C8,'Resultats SF'!E21:K23,5,FALSE),\"\")","v":0},{"$f":"IFERROR(VLOOKUP(C8,'Resultats SF'!E21:K23,6,FALSE),\"\")","v":0},{"$f":"IFERROR(E8+F8*0.00001+G8*0.0000001+0.0000000003,0.0000000003)","v":3E-10},{"$f":"IF(OR('Resultats SF'!B21=TRUE,'Resultats SF'!B23=TRUE),14,\"\")","v":""},3E-10,0]
[13,13,{"$f":"IFERROR(VLOOKUP(1,'Resultats SF'!C26:K28,3,FALSE),\"\")","v":""},{"$f":"IF('Resultats SF'!F26+'Resultats SF'!F28=0,\"\",IF('Resultats SF'!F26='Resultats SF'!F28,1,2))","v":""},{"$f":"IF(OR('Resultats SF'!B26=TRUE,'Resultats SF'!B28=TRUE),\"WO\",IFERROR(VLOOKUP(C9,'Resultats SF'!E26:K28,4,FALSE),\"\"))","v":""},{"$f":"IFERROR(VLOOKUP(C9,'Resultats SF'!E26:K28,5,FALSE),\"\")","v":0},{"$f":"IFERROR(VLOOKUP(C9,'Resultats SF'!E26:K28,6,FALSE),\"\")","v":0},{"$f":"IFERROR(E9+F9*0.00001+G9*0.0000001+0.0000000004,0.0000000004)","v":4.0000000000000001E-10},{"$f":"IF(OR('Resultats SF'!B26=TRUE,'Resultats SF'!B28=TRUE),13,\"\")","v":""},4.0000000000000001E-10,0]
[12,12,{"$f":"IFERROR(VLOOKUP(1,'Resultats SF'!C31:K33,3,FALSE),\"\")","v":""},{"$f":"IF('Resultats SF'!F31+'Resultats SF'!F33=0,\"\",IF('Resultats SF'!F31='Resultats SF'!F33,1,2))","v":""},{"$f":"IF(OR('Resultats SF'!B31=TRUE,'Resultats SF'!B33=TRUE),\"WO\",IFERROR(VLOOKUP(C10,'Resultats SF'!E31:K33,4,FALSE),\"\"))","v":""},{"$f":"IFERROR(VLOOKUP(C10,'Resultats SF'!E31:K33,5,FALSE),\"\")","v":0},{"$f":"IFERROR(VLOOKUP(C10,'Resultats SF'!E31:K33,6,FALSE),\"\")","v":0},{"$f":"IFERROR(E10+F10*0.00001+G10*0.0000001+0.0000000005,0.0000000005)","v":5.0000000000000003E-10},{"$f":"IF(OR('Resultats SF'!B31=TRUE,'Resultats SF'!B33=TRUE),12,\"\")","v":""},5.0000000000000003E-10,0]
[11,11,{"$f":"IFERROR(VLOOKUP(1,'Resultats SF'!C36:K38,3,FALSE),\"\")","v":""},{"$f":"IF('Resultats SF'!F36+'Resultats SF'!F38=0,\"\",IF('Resultats SF'!F36='Resultats SF'!F38,1,2))","v":""},{"$f":"IF(OR('Resultats SF'!B36=TRUE,'Resultats SF'!B38=TRUE),\"WO\",IFERROR(VLOOKUP(C11,'Resultats SF'!E36:K38,4,FALSE),\"\"))","v":""},{"$f":"IFERROR(VLOOKUP(C11,'Resultats SF'!E36:K38,5,FALSE),\"\")","v":0},{"$f":"IFERROR(VLOOKUP(C11,'Resultats SF'!E36:K38,6,FALSE),\"\")","v":0},{"$f":"IFERROR(E11+F11*0.00001+G11*0.0000001+0.0000000006,0.0000000006)","v":6E-10},{"$f":"IF(OR('Resultats SF'!B36=TRUE,'Resultats SF'!B38=TRUE),11,\"\")","v":""},6E-10,0]
[10,10,{"$f":"IFERROR(VLOOKUP(1,'Resultats SF'!C41:K43,3,FALSE),\"\")","v":""},{"$f":"IF('Resultats SF'!F41+'Resultats SF'!F43=0,\"\",IF('Resultats SF'!F41='Resultats SF'!F43,1,2))","v":""},{"$f":"IF(OR('Resultats SF'!B41=TRUE,'Resultats SF'!B43=TRUE),\"WO\",IFERROR(VLOOKUP(C12,'Resultats SF'!E41:K43,4,FALSE),\"\"))","v":""},{"$f":"IFERROR(VLOOKUP(C12,'Resultats SF'!E41:K43,5,FALSE),\"\")","v":0},{"$f":"IFERROR(VLOOKUP(C12,'Resultats SF'!E41:K43,6,FALSE),\"\")","v":0},{"$f":"IFERROR(E12+F12*0.00001+G12*0.0000001+0.000000007,0.0000000007)","v":6.9999999999999996E-10},{"$f":"IF(OR('Resultats SF'!B41=TRUE,'Resultats SF'!B43=TRUE),10,\"\")","v":""},6.9999999999999996E-10,{"$f":"IFERROR($I$3-(RANK(I12,$I$6:$I$21)),0)","v":0}]
[9,9,{"$f":"IFERROR(VLOOKUP(1,'Resultats SF'!C46:K48,3,FALSE),\"\")","v":""},{"$f":"IF('Resultats SF'!F46+'Resultats SF'!F48=0,\"\",IF('Resultats SF'!F46='Resultats SF'!F48,1,2))","v":""},{"$f":"IF(OR('Resultats SF'!B46=TRUE,'Resultats SF'!B48=TRUE),\"WO\",IFERROR(VLOOKUP(C13,'Resultats SF'!E46:K48,4,FALSE),\"\"))","v":""},{"$f":"IFERROR(VLOOKUP(C13,'Resultats SF'!E46:K48,5,FALSE),\"\")","v":0},{"$f":"IFERROR(VLOOKUP(C13,'Resultats SF'!E46:K48,6,FALSE),\"\")","v":0},{"$f":"IFERROR(E13+F13*0.00001+G13*0.0000001+0.0000000008,0.0000000008)","v":8.0000000000000003E-10},{"$f":"IF(OR('Resultats SF'!B46=TRUE,'Resultats SF'!B48=TRUE),9,\"\")","v":""},8.0000000000000003E-10,{"$f":"IFERROR($I$3-(RANK(I13,$I$6:$I$21)),0)","v":0}]
[8,8,{"$f":"IFERROR(VLOOKUP(1,'Resultats SF'!C51:K53,3,FALSE),\"\")","v":""},{"$f":"IF('Resultats SF'!F51+'Resultats SF'!F53=0,\"\",IF('Resultats SF'!F51='Resultats SF'!F53,1,2))","v":""},{"$f":"IF(OR('Resultats SF'!B51=TRUE,'Resultats SF'!B53=TRUE),\"WO\",IFERROR(VLOOKUP(C14,'Resultats SF'!E51:K53,4,FALSE),\"\"))","v":""},{"$f":"IFERROR(VLOOKUP(C14,'Resultats SF'!E51:K53,5,FALSE),\"\")","v":0},{"$f":"IFERROR(VLOOKUP(C14,'Resultats SF'!E51:K53,6,FALSE),\"\")","v":0},{"$f":"IFERROR(E14+F14*0.00001+G14*0.0000001+0.0000000009,0.0000000009)","v":8.9999999999999999E-10},{"$f":"IF(OR('Resultats SF'!B51=TRUE,'Resultats SF'!B53=TRUE),8,\"\")","v":""},8.9999999999999999E-10,0]
[7,7,{"$f":"IFERROR(VLOOKUP(1,'Resultats SF'!C56:K58,3,FALSE),\"\")","v":""},{"$f":"IF('Resultats SF'!F56+'Resultats SF'!F58=0,\"\",IF('Resultats SF'!F56='Resultats SF'!F58,1,2))","v":""},{"$f":"IF(OR('Resultats SF'!B56=TRUE,'Resultats SF'!B58=TRUE),\"WO\",IFERROR(VLOOKUP(C15,'Resultats SF'!E56:K58,4,FALSE),\"\"))","v":""},{"$f":"IFERROR(VLOOKUP(C15,'Resultats SF'!E56:K58,5,FALSE),\"\")","v":0},{"$f":"IFERROR(VLOOKUP(C15,'Resultats SF'!E56:K58,6,FALSE),\"\")","v":0},{"$f":"IFERROR(E15+F15*0.00001+G15*0.0000001+0.000000001,0.000000001)","v":1.0000000000000001E-9},{"$f":"IF(OR('Resultats SF'!B56=TRUE,'Resultats SF'!B58=TRUE),7,\"\")","v":""},1.0000000000000001E-9,0]
[6,6,{"$f":"IFERROR(VLOOKUP(1,'Resultats SF'!C61:K63,3,FALSE),\"\")","v":""},{"$f":"IF('Resultats SF'!F61+'Resultats SF'!F63=0,\"\",IF('Resultats SF'!F61='Resultats SF'!F63,1,2))","v":""},{"$f":"IF(OR('Resultats SF'!B61=TRUE,'Resultats SF'!B63=TRUE),\"WO\",IFERROR(VLOOKUP(C16,'Resultats SF'!E61:K63,4,FALSE),\"\"))","v":""},{"$f":"IFERROR(VLOOKUP(C16,'Resultats SF'!E61:K63,5,FALSE),\"\")","v":0},{"$f":"IFERROR(VLOOKUP(C16,'Resultats SF'!E61:K63,6,FALSE),\"\")","v":0},{"$f":"IFERROR(E16+F16*0.00001+G16*0.0000001+0.0000000011,0.0000000011)","v":1.0999999999999999E-9},{"$f":"IF(OR('Resultats SF'!B61=TRUE,'Resultats SF'!B63=TRUE),6,\"\")","v":""},1.0999999999999999E-9,0]
[5,5,{"$f":"IFERROR(VLOOKUP(1,'Resultats SF'!C66:K68,3,FALSE),\"\")","v":""},{"$f":"IF('Resultats SF'!F66+'Resultats SF'!F68=0,\"\",IF('Resultats SF'!F66='Resultats SF'!F68,1,2))","v":""},{"$f":"IF(OR('Resultats SF'!B66=TRUE,'Resultats SF'!B68=TRUE),\"WO\",IFERROR(VLOOKUP(C17,'Resultats SF'!E66:K68,4,FALSE),\"\"))","v":""},{"$f":"IFERROR(VLOOKUP(C17,'Resultats SF'!E66:K68,5,FALSE),\"\")","v":0},{"$f":"IFERROR(VLOOKUP(C17,'Resultats SF'!E66:K68,6,FALSE),\"\")","v":0},{"$f":"IFERROR(E17+F17*0.00001+G17*0.0000001+0.0000000012,0.0000000012)","v":1.2E-9},{"$f":"IF(OR('Resultats SF'!B66=TRUE,'Resultats SF'!B68=TRUE),5,\"\")","v":""},1.2E-9,0]
[4,4,{"$f":"IFERROR(VLOOKUP(1,'Resultats SF'!C71:K73,3,FALSE),\"\")","v":""},{"$f":"IF('Resultats SF'!F71+'Resultats SF'!F73=0,\"\",IF('Resultats SF'!F71='Resultats SF'!F73,1,2))","v":""},{"$f":"IF(OR('Resultats SF'!B71=TRUE,'Resultats SF'!B73=TRUE),\"WO\",IFERROR(VLOOKUP(C18,'Resultats SF'!E71:K73,4,FALSE),\"\"))","v":""},{"$f":"IFERROR(VLOOKUP(C18,'Resultats SF'!E71:K73,5,FALSE),\"\")","v":0},{"$f":"IFERROR(VLOOKUP(C18,'Resultats SF'!E71:K73,6,FALSE),\"\")","v":0},{"$f":"IFERROR(E18+F18*0.00001+G18*0.0000001+0.0000000013,0.0000000013)","v":1.3000000000000001E-9},{"$f":"IF(OR('Resultats SF'!B71=TRUE,'Resultats SF'!B73=TRUE),4,\"\")","v":""},1.3000000000000001E-9,0]
[3,3,{"$f":"IFERROR(VLOOKUP(1,'Resultats SF'!C76:K78,3,FALSE),\"\")","v":""},{"$f":"IF('Resultats SF'!F76+'Resultats SF'!F78=0,\"\",IF('Resultats SF'!F76='Resultats SF'!F78,1,2))","v":""},{"$f":"IF(OR('Resultats SF'!B76=TRUE,'Resultats SF'!B78=TRUE),\"WO\",IFERROR(VLOOKUP(C19,'Resultats SF'!E76:K78,4,FALSE),\"\"))","v":""},{"$f":"IFERROR(VLOOKUP(C19,'Resultats SF'!E76:K78,5,FALSE),\"\")","v":0},{"$f":"IFERROR(VLOOKUP(C19,'Resultats SF'!E76:K78,6,FALSE),\"\")","v":0},{"$f":"IFERROR(E19+F19*0.00001+G19*0.0000001+0.0000000014,0.0000000014)","v":1.3999999999999999E-9},{"$f":"IF(OR('Resultats SF'!B76=TRUE,'Resultats SF'!B78=TRUE),3,\"\")","v":""},1.3999999999999999E-9,0]
[2,2,{"$f":"IFERROR(VLOOKUP(1,'Resultats SF'!C81:K83,3,FALSE),\"\")","v":""},{"$f":"IF('Resultats SF'!F81+'Resultats SF'!F83=0,\"\",IF('Resultats SF'!F81='Resultats SF'!F83,1,2))","v":""},{"$f":"IF(OR('Resultats SF'!B81=TRUE,'Resultats SF'!B83=TRUE),\"WO\",IFERROR(VLOOKUP(C20,'Resultats SF'!E81:K83,4,FALSE),\"\"))","v":""},{"$f":"IFERROR(VLOOKUP(C20,'Resultats SF'!E81:K83,5,FALSE),\"\")","v":0},{"$f":"IFERROR(VLOOKUP(C20,'Resultats SF'!E81:K83,6,FALSE),\"\")","v":0},{"$f":"IFERROR(E20+F20*0.00001+G20*0.0000001+0.0000000015,0.0000000015)","v":1.5E-9},{"$f":"IF(OR('Resultats SF'!B81=TRUE,'Resultats SF'!B83=TRUE),2,\"\")","v":""},1.5E-9,0]
[1,1,{"$f":"IFERROR(VLOOKUP(1,'Resultats SF'!C86:K88,3,FALSE),\"\")","v":""},{"$f":"IF('Resultats SF'!F86+'Resultats SF'!F88=0,\"\",IF('Resultats SF'!F86='Resultats SF'!F88,1,2))","v":""},{"$f":"IF(OR('Resultats SF'!B86=TRUE,'Resultats SF'!B88=TRUE),\"WO\",IFERROR(VLOOKUP(C21,'Resultats SF'!E86:K88,4,FALSE),\"\"))","v":""},{"$f":"IFERROR(VLOOKUP(C21,'Resultats SF'!E86:K88,5,FALSE),\"\")","v":0},{"$f":"IFERROR(VLOOKUP(C21,'Resultats SF'!E86:K88,6,FALSE),\"\")","v":0},{"$f":"IFERROR(E21+F21*0.00001+G21*0.0000001+0.0000000016,0.0000000016)","v":1.6000000000000001E-9},{"$f":"IF(OR('Resultats SF'!B86=TRUE,'Resultats SF'!B88=TRUE),1,\"\")","v":""},1.6000000000000001E-9,0]
[null,{"$f":"IF(H22=0,\"\",RANK(H22,$H$6:$H$27,))","v":""}]
[null,""]
[null,""]
[null,""]
[null,""]
[null,""]

{"sheet":"Classificació SF","index":21,"n_rows":44,"n_cols":15,"rows_kept":44,"cut":false,"hidden":false,"merged":[[9,2,9,6],[1,13,1,14],[1,1,1,5],[1,6,5,7],[2,4,5,5],[7,1,7,7]]}
[]
[null,{"$f":"IF(Inici!B2=\"INTRODUIR EN MAIÚSCULES EL NOM DE L'OPEN\",\"Introduiu el nom de l'Open a la pantalla d'Inici!!!\",Inici!B2)","v":"Introduiu el nom de l'Open a la pantalla d'Inici!!!"},null,null,null,null,null,null,null,"ANAR A PÀGINA","P-P-PRÈVIA","P-PRÈVIA","PRÈVIA","FASE FINAL"]
[null,null,null,null,null,null,null,null,null,"Rànquing Inicial","Grups PPP","Grups PP","Grups P","Setzens","Vuitens"]
[null,null,null,null,null,null,null,null,null,"Organigrama","Result PPP","Result PP","Result P","Class SF","Quarts/SF/F"]
[null,null,null,null,null,null,null,null,null,"Horaris","Classif PPP","Classif PP","Classif P"]
[]
[]
[null,"CLASSIFICACIÓ SETZENS DE FINAL",null,null,null,null,null,null,null,"Inici","Participants"]
[]
[null,null,"Passen a Vuitens de Final els 16 guanyadors per ordre de mitjana i sèrie major"]
[]
[null,null,"Posició","Jugador","Mitjana","SM (1)","SM (2)"]
[null,null,1,{"$f":"IFERROR(VLOOKUP(C13,'SF (C)'!$A$6:$G$21,3,FALSE),\"\")","v":""},{"$f":"IFERROR(VLOOKUP(C13,'SF (C)'!$A$6:$G$21,5,FALSE),\"\")","v":""},{"$f":"IFERROR(VLOOKUP(C13,'SF (C)'!$A$6:$G$21,6,FALSE),\"\")","v":0},{"$f":"IFERROR(VLOOKUP(C13,'SF (C)'!$A$6:$G$21,7,FALSE),\"\")","v":0}]
[null,null,2,{"$f":"IFERROR(VLOOKUP(C14,'SF (C)'!$A$6:$G$21,3,FALSE),\"\")","v":""},{"$f":"IFERROR(VLOOKUP(C14,'SF (C)'!$A$6:$G$21,5,FALSE),\"\")","v":""},{"$f":"IFERROR(VLOOKUP(C14,'SF (C)'!$A$6:$G$21,6,FALSE),\"\")","v":0},{"$f":"IFERROR(VLOOKUP(C14,'SF (C)'!$A$6:$G$21,7,FALSE),\"\")","v":0}]
[null,null,3,{"$f":"IFERROR(VLOOKUP(C15,'SF (C)'!$A$6:$G$21,3,FALSE),\"\")","v":""},{"$f":"IFERROR(VLOOKUP(C15,'SF (C)'!$A$6:$G$21,5,FALSE),\"\")","v":""},{"$f":"IFERROR(VLOOKUP(C15,'SF (C)'!$A$6:$G$21,6,FALSE),\"\")","v":0},{"$f":"IFERROR(VLOOKUP(C15,'SF (C)'!$A$6:$G$21,7,FALSE),\"\")","v":0}]
[null,null,4,{"$f":"IFERROR(VLOOKUP(C16,'SF (C)'!$A$6:$G$21,3,FALSE),\"\")","v":""},{"$f":"IFERROR(VLOOKUP(C16,'SF (C)'!$A$6:$G$21,5,FALSE),\"\")","v":""},{"$f":"IFERROR(VLOOKUP(C16,'SF (C)'!$A$6:$G$21,6,FALSE),\"\")","v":0},{"$f":"IFERROR(VLOOKUP(C16,'SF (C)'!$A$6:$G$21,7,FALSE),\"\")","v":0}]
[null,null,5,{"$f":"IFERROR(VLOOKUP(C17,'SF (C)'!$A$6:$G$21,3,FALSE),\"\")","v":""},{"$f":"IFERROR(VLOOKUP(C17,'SF (C)'!$A$6:$G$21,5,FALSE),\"\")","v":""},{"$f":"IFERROR(VLOOKUP(C17,'SF (C)'!$A$6:$G$21,6,FALSE),\"\")","v":0},{"$f":"IFERROR(VLOOKUP(C17,'SF (C)'!$A$6:$G$21,7,FALSE),\"\")","v":0}]
[null,null,6,{"$f":"IFERROR(VLOOKUP(C18,'SF (C)'!$A$6:$G$21,3,FALSE),\"\")","v":""},{"$f":"IFERROR(VLOOKUP(C18,'SF (C)'!$A$6:$G$21,5,FALSE),\"\")","v":""},{"$f":"IFERROR(VLOOKUP(C18,'SF (C)'!$A$6:$G$21,6,FALSE),\"\")","v":0},{"$f":"IFERROR(VLOOKUP(C18,'SF (C)'!$A$6:$G$21,7,FALSE),\"\")","v":0}]
[null,null,7,{"$f":"IFERROR(VLOOKUP(C19,'SF (C)'!$A$6:$G$21,3,FALSE),\"\")","v":""},{"$f":"IFERROR(VLOOKUP(C19,'SF (C)'!$A$6:$G$21,5,FALSE),\"\")","v":""},{"$f":"IFERROR(VLOOKUP(C19,'SF (C)'!$A$6:$G$21,6,FALSE),\"\")","v":0},{"$f":"IFERROR(VLOOKUP(C19,'SF (C)'!$A$6:$G$21,7,FALSE),\"\")","v":0}]
[null,null,8,{"$f":"IFERROR(VLOOKUP(C20,'SF (C)'!$A$6:$G$21,3,FALSE),\"\")","v":""},{"$f":"IFERROR(VLOOKUP(C20,'SF (C)'!$A$6:$G$21,5,FALSE),\"\")","v":""},{"$f":"IFERROR(VLOOKUP(C20,'SF (C)'!$A$6:$G$21,6,FALSE),\"\")","v":0},{"$f":"IFERROR(VLOOKUP(C20,'SF (C)'!$A$6:$G$21,7,FALSE),\"\")","v":0}]
[null,null,9,{"$f":"IFERROR(VLOOKUP(C21,'SF (C)'!$A$6:$G$21,3,FALSE),\"\")","v":""},{"$f":"IFERROR(VLOOKUP(C21,'SF (C)'!$A$6:$G$21,5,FALSE),\"\")","v":""},{"$f":"IFERROR(VLOOKUP(C21,'SF (C)'!$A$6:$G$21,6,FALSE),\"\")","v":0},{"$f":"IFERROR(VLOOKUP(C21,'SF (C)'!$A$6:$G$21,7,FALSE),\"\")","v":0}]
[null,null,10,{"$f":"IFERROR(VLOOKUP(C22,'SF (C)'!$A$6:$G$21,3,FALSE),\"\")","v":""},{"$f":"IFERROR(VLOOKUP(C22,'SF (C)'!$A$6:$G$21,5,FALSE),\"\")","v":""},{"$f":"IFERROR(VLOOKUP(C22,'SF (C)'!$A$6:$G$21,6,FALSE),\"\")","v":0},{"$f":"IFERROR(VLOOKUP(C22,'SF (C)'!$A$6:$G$21,7,FALSE),\"\")","v":0}]
[null,null,11,{"$f":"IFERROR(VLOOKUP(C23,'SF (C)'!$A$6:$G$21,3,FALSE),\"\")","v":""},{"$f":"IFERROR(VLOOKUP(C23,'SF (C)'!$A$6:$G$21,5,FALSE),\"\")","v":""},{"$f":"IFERROR(VLOOKUP(C23,'SF (C)'!$A$6:$G$21,6,FALSE),\"\")","v":0},{"$f":"IFERROR(VLOOKUP(C23,'SF (C)'!$A$6:$G$21,7,FALSE),\"\")","v":0}]
[null,null,12,{"$f":"IFERROR(VLOOKUP(C24,'SF (C)'!$A$6:$G$21,3,FALSE),\"\")","v":""},{"$f":"IFERROR(VLOOKUP(C24,'SF (C)'!$A$6:$G$21,5,FALSE),\"\")","v":""},{"$f":"IFERROR(VLOOKUP(C24,'SF (C)'!$A$6:$G$21,6,FALSE),\"\")","v":0},{"$f":"IFERROR(VLOOKUP(C24,'SF (C)'!$A$6:$G$21,7,FALSE),\"\")","v":0}]
[null,null,13,{"$f":"IFERROR(VLOOKUP(C25,'SF (C)'!$A$6:$G$21,3,FALSE),\"\")","v":""},{"$f":"IFERROR(VLOOKUP(C25,'SF (C)'!$A$6:$G$21,5,FALSE),\"\")","v":""},{"$f":"IFERROR(VLOOKUP(C25,'SF (C)'!$A$6:$G$21,6,FALSE),\"\")","v":0},{"$f":"IFERROR(VLOOKUP(C25,'SF (C)'!$A$6:$G$21,7,FALSE),\"\")","v":0}]
[null,null,14,{"$f":"IFERROR(VLOOKUP(C26,'SF (C)'!$A$6:$G$21,3,FALSE),\"\")","v":""},{"$f":"IFERROR(VLOOKUP(C26,'SF (C)'!$A$6:$G$21,5,FALSE),\"\")","v":""},{"$f":"IFERROR(VLOOKUP(C26,'SF (C)'!$A$6:$G$21,6,FALSE),\"\")","v":0},{"$f":"IFERROR(VLOOKUP(C26,'SF (C)'!$A$6:$G$21,7,FALSE),\"\")","v":0}]
[null,null,15,{"$f":"IFERROR(VLOOKUP(C27,'SF (C)'!$A$6:$G$21,3,FALSE),\"\")","v":""},{"$f":"IFERROR(VLOOKUP(C27,'SF (C)'!$A$6:$G$21,5,FALSE),\"\")","v":""},{"$f":"IFERROR(VLOOKUP(C27,'SF (C)'!$A$6:$G$21,6,FALSE),\"\")","v":""},{"$f":"IFERROR(VLOOKUP(C27,'SF (C)'!$A$6:$G$21,7,FALSE),\"\")","v":""}]
[null,null,16,{"$f":"IFERROR(VLOOKUP(C28,'SF (C)'!$A$6:$G$21,3,FALSE),\"\")","v":""},{"$f":"IFERROR(VLOOKUP(C28,'SF (C)'!$A$6:$G$21,5,FALSE),\"\")","v":""},{"$f":"IFERROR(VLOOKUP(C28,'SF (C)'!$A$6:$G$21,6,FALSE),\"\")","v":""},{"$f":"IFERROR(VLOOKUP(C28,'SF (C)'!$A$6:$G$21,7,FALSE),\"\")","v":""}]
[null,null,17,{"$f":"IFERROR(VLOOKUP(C29-16,'FF (CP)'!$A$6:$G$21,2,FALSE),\"\")","v":""},{"$f":"IFERROR(VLOOKUP(C29-16,'FF (CP)'!$A$6:$G$21,4,FALSE),\"\")","v":""},{"$f":"IFERROR(VLOOKUP(C29-16,'FF (CP)'!$A$6:$G$21,5,FALSE),\"\")","v":0},{"$f":"IFERROR(VLOOKUP(C29-16,'FF (CP)'!$A$6:$G$21,6,FALSE),\"\")","v":0}]
[null,null,18,{"$f":"IFERROR(VLOOKUP(C30-16,'FF (CP)'!$A$6:$G$21,2,FALSE),\"\")","v":""},{"$f":"IFERROR(VLOOKUP(C30-16,'FF (CP)'!$A$6:$G$21,4,FALSE),\"\")","v":""},{"$f":"IFERROR(VLOOKUP(C30-16,'FF (CP)'!$A$6:$G$21,5,FALSE),\"\")","v":0},{"$f":"IFERROR(VLOOKUP(C30-16,'FF (CP)'!$A$6:$G$21,6,FALSE),\"\")","v":0}]
[null,null,19,{"$f":"IFERROR(VLOOKUP(C31-16,'FF (CP)'!$A$6:$G$21,2,FALSE),\"\")","v":""},{"$f":"IFERROR(VLOOKUP(C31-16,'FF (CP)'!$A$6:$G$21,4,FALSE),\"\")","v":""},{"$f":"IFERROR(VLOOKUP(C31-16,'FF (CP)'!$A$6:$G$21,5,FALSE),\"\")","v":0},{"$f":"IFERROR(VLOOKUP(C31-16,'FF (CP)'!$A$6:$G$21,6,FALSE),\"\")","v":0}]
[null,null,20,{"$f":"IFERROR(VLOOKUP(C32-16,'FF (CP)'!$A$6:$G$21,2,FALSE),\"\")","v":""},{"$f":"IFERROR(VLOOKUP(C32-16,'FF (CP)'!$A$6:$G$21,4,FALSE),\"\")","v":""},{"$f":"IFERROR(VLOOKUP(C32-16,'FF (CP)'!$A$6:$G$21,5,FALSE),\"\")","v":0},{"$f":"IFERROR(VLOOKUP(C32-16,'FF (CP)'!$A$6:$G$21,6,FALSE),\"\")","v":0}]
[null,null,21,{"$f":"IFERROR(VLOOKUP(C33-16,'FF (CP)'!$A$6:$G$21,2,FALSE),\"\")","v":""},{"$f":"IFERROR(VLOOKUP(C33-16,'FF (CP)'!$A$6:$G$21,4,FALSE),\"\")","v":""},{"$f":"IFERROR(VLOOKUP(C33-16,'FF (CP)'!$A$6:$G$21,5,FALSE),\"\")","v":0},{"$f":"IFERROR(VLOOKUP(C33-16,'FF (CP)'!$A$6:$G$21,6,FALSE),\"\")","v":0}]
[null,null,22,{"$f":"IFERROR(VLOOKUP(C34-16,'FF (CP)'!$A$6:$G$21,2,FALSE),\"\")","v":""},{"$f":"IFERROR(VLOOKUP(C34-16,'FF (CP)'!$A$6:$G$21,4,FALSE),\"\")","v":""},{"$f":"IFERROR(VLOOKUP(C34-16,'FF (CP)'!$A$6:$G$21,5,FALSE),\"\")","v":0},{"$f":"IFERROR(VLOOKUP(C34-16,'FF (CP)'!$A$6:$G$21,6,FALSE),\"\")","v":0}]
[null,null,23,{"$f":"IFERROR(VLOOKUP(C35-16,'FF (CP)'!$A$6:$G$21,2,FALSE),\"\")","v":""},{"$f":"IFERROR(VLOOKUP(C35-16,'FF (CP)'!$A$6:$G$21,4,FALSE),\"\")","v":""},{"$f":"IFERROR(VLOOKUP(C35-16,'FF (CP)'!$A$6:$G$21,5,FALSE),\"\")","v":0},{"$f":"IFERROR(VLOOKUP(C35-16,'FF (CP)'!$A$6:$G$21,6,FALSE),\"\")","v":0}]
[null,null,24,{"$f":"IFERROR(VLOOKUP(C36-16,'FF (CP)'!$A$6:$G$21,2,FALSE),\"\")","v":""},{"$f":"IFERROR(VLOOKUP(C36-16,'FF (CP)'!$A$6:$G$21,4,FALSE),\"\")","v":""},{"$f":"IFERROR(VLOOKUP(C36-16,'FF (CP)'!$A$6:$G$21,5,FALSE),\"\")","v":0},{"$f":"IFERROR(VLOOKUP(C36-16,'FF (CP)'!$A$6:$G$21,6,FALSE),\"\")","v":0}]
[null,null,25,{"$f":"IFERROR(VLOOKUP(C37-16,'FF (CP)'!$A$6:$G$21,2,FALSE),\"\")","v":""},{"$f":"IFERROR(VLOOKUP(C37-16,'FF (CP)'!$A$6:$G$21,4,FALSE),\"\")","v":""},{"$f":"IFERROR(VLOOKUP(C37-16,'FF (CP)'!$A$6:$G$21,5,FALSE),\"\")","v":0},{"$f":"IFERROR(VLOOKUP(C37-16,'FF (CP)'!$A$6:$G$21,6,FALSE),\"\")","v":0}]
[null,null,26,{"$f":"IFERROR(VLOOKUP(C38-16,'FF (CP)'!$A$6:$G$21,2,FALSE),\"\")","v":""},{"$f":"IFERROR(VLOOKUP(C38-16,'FF (CP)'!$A$6:$G$21,4,FALSE),\"\")","v":""},{"$f":"IFERROR(VLOOKUP(C38-16,'FF (CP)'!$A$6:$G$21,5,FALSE),\"\")","v":0},{"$f":"IFERROR(VLOOKUP(C38-16,'FF (CP)'!$A$6:$G$21,6,FALSE),\"\")","v":0}]
[null,null,27,{"$f":"IFERROR(VLOOKUP(C39-16,'FF (CP)'!$A$6:$G$21,2,FALSE),\"\")","v":""},{"$f":"IFERROR(VLOOKUP(C39-16,'FF (CP)'!$A$6:$G$21,4,FALSE),\"\")","v":""},{"$f":"IFERROR(VLOOKUP(C39-16,'FF (CP)'!$A$6:$G$21,5,FALSE),\"\")","v":0},{"$f":"IFERROR(VLOOKUP(C39-16,'FF (CP)'!$A$6:$G$21,6,FALSE),\"\")","v":0}]
[null,null,28,{"$f":"IFERROR(VLOOKUP(C40-16,'FF (CP)'!$A$6:$G$21,2,FALSE),\"\")","v":""},{"$f":"IFERROR(VLOOKUP(C40-16,'FF (CP)'!$A$6:$G$21,4,FALSE),\"\")","v":""},{"$f":"IFERROR(VLOOKUP(C40-16,'FF (CP)'!$A$6:$G$21,5,FALSE),\"\")","v":0},{"$f":"IFERROR(VLOOKUP(C40-16,'FF (CP)'!$A$6:$G$21,6,FALSE),\"\")","v":0}]
[null,null,29,{"$f":"IFERROR(VLOOKUP(C41-16,'FF (CP)'!$A$6:$G$21,2,FALSE),\"\")","v":""},{"$f":"IFERROR(VLOOKUP(C41-16,'FF (CP)'!$A$6:$G$21,4,FALSE),\"\")","v":""},{"$f":"IFERROR(VLOOKUP(C41-16,'FF (CP)'!$A$6:$G$21,5,FALSE),\"\")","v":0},{"$f":"IFERROR(VLOOKUP(C41-16,'FF (CP)'!$A$6:$G$21,6,FALSE),\"\")","v":0}]
[null,null,30,{"$f":"IFERROR(VLOOKUP(C42-16,'FF (CP)'!$A$6:$G$21,2,FALSE),\"\")","v":""},{"$f":"IFERROR(VLOOKUP(C42-16,'FF (CP)'!$A$6:$G$21,4,FALSE),\"\")","v":""},{"$f":"IFERROR(VLOOKUP(C42-16,'FF (CP)'!$A$6:$G$21,5,FALSE),\"\")","v":0},{"$f":"IFERROR(VLOOKUP(C42-16,'FF (CP)'!$A$6:$G$21,6,FALSE),\"\")","v":0}]
[null,null,31,{"$f":"IFERROR(VLOOKUP(C43-16,'FF (CP)'!$A$6:$G$21,2,FALSE),\"\")","v":""},{"$f":"IFERROR(VLOOKUP(C43-16,'FF (CP)'!$A$6:$G$21,4,FALSE),\"\")","v":""},{"$f":"IFERROR(VLOOKUP(C43-16,'FF (CP)'!$A$6:$G$21,5,FALSE),\"\")","v":""},{"$f":"IFERROR(VLOOKUP(C43-16,'FF (CP)'!$A$6:$G$21,6,FALSE),\"\")","v":""}]
[null,null,32,{"$f":"IFERROR(VLOOKUP(C44-16,'FF (CP)'!$A$6:$G$21,2,FALSE),\"\")","v":""},{"$f":"IFERROR(VLOOKUP(C44-16,'FF (CP)'!$A$6:$G$21,4,FALSE),\"\")","v":""},{"$f":"IFERROR(VLOOKUP(C44-16,'FF (CP)'!$A$6:$G$21,5,FALSE),\"\")","v":""},{"$f":"IFERROR(VLOOKUP(C44-16,'FF (CP)'!$A$6:$G$21,6,FALSE),\"\")","v":""}]

{"sheet":"Resultats VF","index":22,"n_rows":48,"n_cols":20,"rows_kept":48,"cut":false,"hidden":false,"merged":[[7,1,7,12],[1,1,1,10],[1,11,5,12],[2,5,5,10],[1,18,1,19]]}
[]
[null,{"$f":"IF(Inici!B2=\"INTRODUIR EN MAIÚSCULES EL NOM DE L'OPEN\",\"Introduiu el nom de l'Open a la pantalla d'Inici!!!\",Inici!B2)","v":"Introduiu el nom de l'Open a la pantalla d'Inici!!!"},null,null,null,null,null,null,null,null,null,null,null,null,"ANAR A PÀGINA","P-P-PRÈVIA","P-PRÈVIA","PRÈVIA","FASE FINAL"]
[null,null,null,null,null,null,null,null,null,null,null,null,null,null,"Rànquing Inicial","Grups PPP","Grups PP","Grups P","Setzens","Vuitens"]
[null,null,null,null,null,null,null,null,null,null,null,null,null,null,"Organigrama","Result PPP","Result PP","Result P","Class SF","Quarts/SF/F"]
[null,null,null,null,null,null,null,null,null,null,null,null,null,null,"Horaris","Classif PPP","Classif PP","Classif P"]
[]
[]
[null,"VUITENS DE FINAL (V)",null,null,null,null,null,null,null,null,null,null,null,null,"Inici","Participants"]
[]
[null,"W.O.",null,null,"Jugador","Boles","Ent","Mitj","SM1","SM2","Punts","KO"]
[null,false,{"$f":"IFERROR(M11,\"\")","v":""},"8-S",{"$f":"'Classificació SF'!D20","v":""},null,null,{"$f":"IF(G11=\"\",\"\",ROUND(F11/G11,3))","v":""},null,null,{"$f":"IF(H11=\"\",\"\",IF(F11>F13,2,IF(F11<F13,0,IF(L11>L13,2,0))))","v":""},null,{"$f":"IFERROR(IF(B13=TRUE,1,IF(B11=TRUE,2,RANK(N11,N11:N13,0))),\"\")","v":""},{"$f":"K11*0.1+H11*0.01","v":{"$error":"#VALUE!"}}]
[]
[null,false,{"$f":"IFERROR(M13,\"\")","v":""},"9-S",{"$f":"'Classificació SF'!D21","v":""},null,{"$f":"IF(G11=\"\",\"\",G11)","v":""},{"$f":"IF(G13=\"\",\"\",ROUND(F13/G13,3))","v":""},null,null,{"$f":"IF(H13=\"\",\"\",IF(F13>F11,2,IF(F13<F11,0,IF(L13>L11,2,0))))","v":""},null,{"$f":"IFERROR(IF(B11=TRUE,1,IF(B13=TRUE,2,RANK(N13,N11:N13,0))),\"\")","v":""},{"$f":"K13*0.1+H13*0.01","v":{"$error":"#VALUE!"}}]
[]
[null,"W.O.",null,null,"Jugador","Boles","Ent","Mitj","SM1","SM2","Punts","KO"]
[null,false,{"$f":"IFERROR(M16,\"\")","v":""},"7-S",{"$f":"'Classificació SF'!D19","v":""},null,null,{"$f":"IF(G16=\"\",\"\",ROUND(F16/G16,3))","v":""},null,null,{"$f":"IF(H16=\"\",\"\",IF(F16>F18,2,IF(F16<F18,0,IF(L16>L18,2,0))))","v":""},null,{"$f":"IFERROR(IF(B18=TRUE,1,IF(B16=TRUE,2,RANK(N16,N16:N18,0))),\"\")","v":""},{"$f":"K16*0.1+H16*0.01","v":{"$error":"#VALUE!"}}]
[]
[null,false,{"$f":"IFERROR(M18,\"\")","v":""},"10-S",{"$f":"'Classificació SF'!D22","v":""},null,{"$f":"IF(G16=\"\",\"\",G16)","v":""},{"$f":"IF(G18=\"\",\"\",ROUND(F18/G18,3))","v":""},null,null,{"$f":"IF(H18=\"\",\"\",IF(F18>F16,2,IF(F18<F16,0,IF(L18>L16,2,0))))","v":""},null,{"$f":"IFERROR(IF(B16=TRUE,1,IF(B18=TRUE,2,RANK(N18,N16:N18,0))),\"\")","v":""},{"$f":"K18*0.1+H18*0.01","v":{"$error":"#VALUE!"}}]
[]
[null,"W.O.",null,null,"Jugador","Boles","Ent","Mitj","SM1","SM2","Punts","KO"]
[null,false,{"$f":"IFERROR(M21,\"\")","v":""},"6-S",{"$f":"'Classificació SF'!D18","v":""},null,null,{"$f":"IF(G21=\"\",\"\",ROUND(F21/G21,3))","v":""},null,null,{"$f":"IF(H21=\"\",\"\",IF(F21>F23,2,IF(F21<F23,0,IF(L21>L23,2,0))))","v":""},null,{"$f":"IFERROR(IF(B23=TRUE,1,IF(B21=TRUE,2,RANK(N21,N21:N23,0))),\"\")","v":""},{"$f":"K21*0.1+H21*0.01","v":{"$error":"#VALUE!"}}]
[]
[null,false,{"$f":"IFERROR(M23,\"\")","v":""},"11-S",{"$f":"'Classificació SF'!D23","v":""},null,{"$f":"IF(G21=\"\",\"\",G21)","v":""},{"$f":"IF(G23=\"\",\"\",ROUND(F23/G23,3))","v":""},null,null,{"$f":"IF(H23=\"\",\"\",IF(F23>F21,2,IF(F23<F21,0,IF(L23>L21,2,0))))","v":""},null,{"$f":"IFERROR(IF(B21=TRUE,1,IF(B23=TRUE,2,RANK(N23,N21:N23,0))),\"\")","v":""},{"$f":"K23*0.1+H23*0.01","v":{"$error":"#VALUE!"}}]
[]
[null,"W.O.",null,null,"Jugador","Boles","Ent","Mitj","SM1","SM2","Punts","KO"]
[null,false,{"$f":"IFERROR(M26,\"\")","v":""},"5-S",{"$f":"'Classificació SF'!D17","v":""},null,null,{"$f":"IF(G26=\"\",\"\",ROUND(F26/G26,3))","v":""},null,null,{"$f":"IF(H26=\"\",\"\",IF(F26>F28,2,IF(F26<F28,0,IF(L26>L28,2,0))))","v":""},null,{"$f":"IFERROR(IF(B28=TRUE,1,IF(B26=TRUE,2,RANK(N26,N26:N28,0))),\"\")","v":""},{"$f":"K26*0.1+H26*0.01","v":{"$error":"#VALUE!"}}]
[]
[null,false,{"$f":"IFERROR(M28,\"\")","v":""},"12-S",{"$f":"'Classificació SF'!D24","v":""},null,{"$f":"IF(G26=\"\",\"\",G26)","v":""},{"$f":"IF(G28=\"\",\"\",ROUND(F28/G28,3))","v":""},null,null,{"$f":"IF(H28=\"\",\"\",IF(F28>F26,2,IF(F28<F26,0,IF(L28>L26,2,0))))","v":""},null,{"$f":"IFERROR(IF(B26=TRUE,1,IF(B28=TRUE,2,RANK(N28,N26:N28,0))),\"\")","v":""},{"$f":"K28*0.1+H28*0.01","v":{"$error":"#VALUE!"}}]
[]
[null,"W.O.",null,null,"Jugador","Boles","Ent","Mitj","SM1","SM2","Punts","KO"]
[null,false,{"$f":"IFERROR(M31,\"\")","v":""},"4-S",{"$f":"'Classificació SF'!D16","v":""},null,null,{"$f":"IF(G31=\"\",\"\",ROUND(F31/G31,3))","v":""},null,null,{"$f":"IF(H31=\"\",\"\",IF(F31>F33,2,IF(F31<F33,0,IF(L31>L33,2,0))))","v":""},null,{"$f":"IFERROR(IF(B33=TRUE,1,IF(B31=TRUE,2,RANK(N31,N31:N33,0))),\"\")","v":""},{"$f":"K31*0.1+H31*0.01","v":{"$error":"#VALUE!"}}]
[]
[null,false,{"$f":"IFERROR(M33,\"\")","v":""},"13-S",{"$f":"'Classificació SF'!D25","v":""},null,{"$f":"IF(G31=\"\",\"\",G31)","v":""},{"$f":"IF(G33=\"\",\"\",ROUND(F33/G33,3))","v":""},null,null,{"$f":"IF(H33=\"\",\"\",IF(F33>F31,2,IF(F33<F31,0,IF(L33>L31,2,0))))","v":""},null,{"$f":"IFERROR(IF(B31=TRUE,1,IF(B33=TRUE,2,RANK(N33,N31:N33,0))),\"\")","v":""},{"$f":"K33*0.1+H33*0.01","v":{"$error":"#VALUE!"}}]
[]
[null,"W.O.",null,null,"Jugador","Boles","Ent","Mitj","SM1","SM2","Punts","KO"]
[null,false,{"$f":"IFERROR(M36,\"\")","v":""},"3-S",{"$f":"'Classificació SF'!D15","v":""},null,null,{"$f":"IF(G36=\"\",\"\",ROUND(F36/G36,3))","v":""},null,null,{"$f":"IF(H36=\"\",\"\",IF(F36>F38,2,IF(F36<F38,0,IF(L36>L38,2,0))))","v":""},null,{"$f":"IFERROR(IF(B38=TRUE,1,IF(B36=TRUE,2,RANK(N36,N36:N38,0))),\"\")","v":""},{"$f":"K36*0.1+H36*0.01","v":{"$error":"#VALUE!"}}]
[]
[null,false,{"$f":"IFERROR(M38,\"\")","v":""},"14-S",{"$f":"'Classificació SF'!D26","v":""},null,{"$f":"IF(G36=\"\",\"\",G36)","v":""},{"$f":"IF(G38=\"\",\"\",ROUND(F38/G38,3))","v":""},null,null,{"$f":"IF(H38=\"\",\"\",IF(F38>F36,2,IF(F38<F36,0,IF(L38>L36,2,0))))","v":""},null,{"$f":"IFERROR(IF(B36=TRUE,1,IF(B38=TRUE,2,RANK(N38,N36:N38,0))),\"\")","v":""},{"$f":"K38*0.1+H38*0.01","v":{"$error":"#VALUE!"}}]
[]
[null,"W.O.",null,null,"Jugador","Boles","Ent","Mitj","SM1","SM2","Punts","KO"]
[null,false,{"$f":"IFERROR(M41,\"\")","v":""},"2-S",{"$f":"'Classificació SF'!D14","v":""},null,null,{"$f":"IF(G41=\"\",\"\",ROUND(F41/G41,3))","v":""},null,null,{"$f":"IF(H41=\"\",\"\",IF(F41>F43,2,IF(F41<F43,0,IF(L41>L43,2,0))))","v":""},null,{"$f":"IFERROR(IF(B43=TRUE,1,IF(B41=TRUE,2,RANK(N41,N41:N43,0))),\"\")","v":""},{"$f":"K41*0.1+H41*0.01","v":{"$error":"#VALUE!"}}]
[]
[null,false,{"$f":"IFERROR(M43,\"\")","v":""},"15-S",{"$f":"'Classificació SF'!D27","v":""},null,{"$f":"IF(G41=\"\",\"\",G41)","v":""},{"$f":"IF(G43=\"\",\"\",ROUND(F43/G43,3))","v":""},null,null,{"$f":"IF(H43=\"\",\"\",IF(F43>F41,2,IF(F43<F41,0,IF(L43>L41,2,0))))","v":""},null,{"$f":"IFERROR(IF(B41=TRUE,1,IF(B43=TRUE,2,RANK(N43,N41:N43,0))),\"\")","v":""},{"$f":"K43*0.1+H43*0.01","v":{"$error":"#VALUE!"}}]
[]
[null,"W.O.",null,null,"Jugador","Boles","Ent","Mitj","SM1","SM2","Punts","KO"]
[null,false,{"$f":"IFERROR(M46,\"\")","v":""},"1-S",{"$f":"'Classificació SF'!D13","v":""},null,null,{"$f":"IF(G46=\"\",\"\",ROUND(F46/G46,3))","v":""},null,null,{"$f":"IF(H46=\"\",\"\",IF(F46>F48,2,IF(F46<F48,0,IF(L46>L48,2,0))))","v":""},null,{"$f":"IFERROR(IF(B48=TRUE,1,IF(B46=TRUE,2,RANK(N46,N46:N48,0))),\"\")","v":""},{"$f":"K46*0.1+H46*0.01","v":{"$error":"#VALUE!"}}]
[]
[null,false,{"$f":"IFERROR(M48,\"\")","v":""},"16-S",{"$f":"'Classificació SF'!D28","v":""},null,{"$f":"IF(G46=\"\",\"\",G46)","v":""},{"$f":"IF(G48=\"\",\"\",ROUND(F48/G48,3))","v":""},null,null,{"$f":"IF(H48=\"\",\"\",IF(F48>F46,2,IF(F48<F46,0,IF(L48>L46,2,0))))","v":""},null,{"$f":"IFERROR(IF(B46=TRUE,1,IF(B48=TRUE,2,RANK(N48,N46:N48,0))),\"\")","v":""},{"$f":"K48*0.1+H48*0.01","v":{"$error":"#VALUE!"}}]

{"sheet":"Resultats QF-SF-F","index":23,"n_rows":48,"n_cols":20,"rows_kept":48,"cut":false,"hidden":false,"merged":[[1,18,1,19],[6,16,6,17],[8,1,8,12],[30,1,30,12],[42,1,42,12],[1,1,1,10],[1,11,5,12],[2,5,5,10]]}
[]
[null,{"$f":"IF(Inici!B2=\"INTRODUIR EN MAIÚSCULES EL NOM DE L'OPEN\",\"Introduiu el nom de l'Open a la pantalla d'Inici!!!\",Inici!B2)","v":"Introduiu el nom de l'Open a la pantalla d'Inici!!!"},null,null,null,null,null,null,null,null,null,null,null,null,"ANAR A PÀGINA","P-P-PRÈVIA","P-PRÈVIA","PRÈVIA","FASE FINAL"]
[null,null,null,null,null,null,null,null,null,null,null,null,null,null,"Rànquing Inicial","Grups PPP","Grups PP","Grups P","Setzens","Vuitens"]
[null,null,null,null,null,null,null,null,null,null,null,null,null,null,"Organigrama","Result PPP","Result PP","Result P","Class SF","Quarts/SF/F"]
[null,null,null,null,null,null,null,null,null,null,null,null,null,null,"Horaris","Classif PPP","Classif PP","Classif P"]
[]
[null,null,null,null,null,null,null,null,null,null,null,null,null,null,"Inici","Participants","Classificació Final"]
[]
[null,"QUARTS DE FINAL (Q)"]
[]
[null,"W.O.",null,null,"Jugador","Boles","Ent","Mitj","SM1","SM2","Punts","KO"]
[null,false,{"$f":"IFERROR(M12,\"\")","v":""},"4-V",{"$f":"IFERROR(VLOOKUP(1,'Resultats VF'!$C$31:$E$33,3,FALSE),\"\")","v":""},null,null,{"$f":"IF(G12=\"\",\"\",ROUND(F12/G12,3))","v":""},null,null,{"$f":"IF(H12=\"\",\"\",IF(F12>F14,2,IF(F12<F14,0,IF(L12>L14,2,0))))","v":""},null,{"$f":"IFERROR(IF(B14=TRUE,1,IF(B12=TRUE,2,RANK(N12,N12:N14,0))),\"\")","v":""},{"$f":"K12*0.1+H12*0.01","v":{"$error":"#VALUE!"}}]
[]
[null,false,{"$f":"IFERROR(M14,\"\")","v":""},"5-V",{"$f":"IFERROR(VLOOKUP(1,'Resultats VF'!$C$26:$E$28,3,FALSE),\"\")","v":""},null,{"$f":"IF(G12=\"\",\"\",G12)","v":""},{"$f":"IF(G14=\"\",\"\",ROUND(F14/G14,3))","v":""},null,null,{"$f":"IF(H14=\"\",\"\",IF(F14>F12,2,IF(F14<F12,0,IF(L14>L12,2,0))))","v":""},null,{"$f":"IFERROR(IF(B12=TRUE,1,IF(B14=TRUE,2,RANK(N14,N12:N14,0))),\"\")","v":""},{"$f":"K14*0.1+H14*0.01","v":{"$error":"#VALUE!"}}]
[]
[null,"W.O.",null,null,"Jugador","Boles","Ent","Mitj","SM1","SM2","Punts","KO"]
[null,false,{"$f":"IFERROR(M17,\"\")","v":""},"3-V",{"$f":"IFERROR(VLOOKUP(1,'Resultats VF'!$C$36:$E$38,3,FALSE),\"\")","v":""},null,null,{"$f":"IF(G17=\"\",\"\",ROUND(F17/G17,3))","v":""},null,null,{"$f":"IF(H17=\"\",\"\",IF(F17>F19,2,IF(F17<F19,0,IF(L17>L19,2,0))))","v":""},null,{"$f":"IFERROR(IF(B19=TRUE,1,IF(B17=TRUE,2,RANK(N17,N17:N19,0))),\"\")","v":""},{"$f":"K17*0.1+H17*0.01","v":{"$error":"#VALUE!"}}]
[]
[null,false,{"$f":"IFERROR(M19,\"\")","v":""},"6-V",{"$f":"IFERROR(VLOOKUP(1,'Resultats VF'!$C$21:$E$23,3,FALSE),\"\")","v":""},null,{"$f":"IF(G17=\"\",\"\",G17)","v":""},{"$f":"IF(G19=\"\",\"\",ROUND(F19/G19,3))","v":""},null,null,{"$f":"IF(H19=\"\",\"\",IF(F19>F17,2,IF(F19<F17,0,IF(L19>L17,2,0))))","v":""},null,{"$f":"IFERROR(IF(B17=TRUE,1,IF(B19=TRUE,2,RANK(N19,N17:N19,0))),\"\")","v":""},{"$f":"K19*0.1+H19*0.01","v":{"$error":"#VALUE!"}}]
[]
[null,"W.O.",null,null,"Jugador","Boles","Ent","Mitj","SM1","SM2","Punts","KO"]
[null,false,{"$f":"IFERROR(M22,\"\")","v":""},"2-V",{"$f":"IFERROR(VLOOKUP(1,'Resultats VF'!$C$41:$E$43,3,FALSE),\"\")","v":""},null,null,{"$f":"IF(G22=\"\",\"\",ROUND(F22/G22,3))","v":""},null,null,{"$f":"IF(H22=\"\",\"\",IF(F22>F24,2,IF(F22<F24,0,IF(L22>L24,2,0))))","v":""},null,{"$f":"IFERROR(IF(B24=TRUE,1,IF(B22=TRUE,2,RANK(N22,N22:N24,0))),\"\")","v":""},{"$f":"K22*0.1+H22*0.01","v":{"$error":"#VALUE!"}}]
[]
[null,false,{"$f":"IFERROR(M24,\"\")","v":""},"7-V",{"$f":"IFERROR(VLOOKUP(1,'Resultats VF'!$C$16:$E$18,3,FALSE),\"\")","v":""},null,{"$f":"IF(G22=\"\",\"\",G22)","v":""},{"$f":"IF(G24=\"\",\"\",ROUND(F24/G24,3))","v":""},null,null,{"$f":"IF(H24=\"\",\"\",IF(F24>F22,2,IF(F24<F22,0,IF(L24>L22,2,0))))","v":""},null,{"$f":"IFERROR(IF(B22=TRUE,1,IF(B24=TRUE,2,RANK(N24,N22:N24,0))),\"\")","v":""},{"$f":"K24*0.1+H24*0.01","v":{"$error":"#VALUE!"}}]
[]
[null,"W.O.",null,null,"Jugador","Boles","Ent","Mitj","SM1","SM2","Punts","KO"]
[null,false,{"$f":"IFERROR(M27,\"\")","v":""},"1-V",{"$f":"IFERROR(VLOOKUP(1,'Resultats VF'!$C$46:$E$48,3,FALSE),\"\")","v":""},null,null,{"$f":"IF(G27=\"\",\"\",ROUND(F27/G27,3))","v":""},null,null,{"$f":"IF(H27=\"\",\"\",IF(F27>F29,2,IF(F27<F29,0,IF(L27>L29,2,0))))","v":""},null,{"$f":"IFERROR(IF(B29=TRUE,1,IF(B27=TRUE,2,RANK(N27,N27:N29,0))),\"\")","v":""},{"$f":"K27*0.1+H27*0.01","v":{"$error":"#VALUE!"}}]
[]
[null,false,{"$f":"IFERROR(M29,\"\")","v":""},"8-V",{"$f":"IFERROR(VLOOKUP(1,'Resultats VF'!$C$11:$E$13,3,FALSE),\"\")","v":""},null,{"$f":"IF(G27=\"\",\"\",G27)","v":""},{"$f":"IF(G29=\"\",\"\",ROUND(F29/G29,3))","v":""},null,null,{"$f":"IF(H29=\"\",\"\",IF(F29>F27,2,IF(F29<F27,0,IF(L29>L27,2,0))))","v":""},null,{"$f":"IFERROR(IF(B27=TRUE,1,IF(B29=TRUE,2,RANK(N29,N27:N29,0))),\"\")","v":""},{"$f":"K29*0.1+H29*0.01","v":{"$error":"#VALUE!"}}]
[]
[null,"SEMIFINAL"]
[]
[null,"W.O.",null,null,"Jugador","Boles","Ent","Mitj","SM1","SM2","Punts","KO"]
[null,false,{"$f":"IFERROR(M34,\"\")","v":""},"2-Q",{"$f":"IFERROR(VLOOKUP(1,$C$22:$E$24,3,FALSE),\"\")","v":""},null,null,{"$f":"IF(G34=\"\",\"\",ROUND(F34/G34,3))","v":""},null,null,{"$f":"IF(H34=\"\",\"\",IF(F34>F36,2,IF(F34<F36,0,IF(L34>L36,2,0))))","v":""},null,{"$f":"IFERROR(IF(B36=TRUE,1,IF(B34=TRUE,2,RANK(N34,N34:N36,0))),\"\")","v":""},{"$f":"K34*0.1+H34*0.01","v":{"$error":"#VALUE!"}}]
[]
[null,false,{"$f":"IFERROR(M36,\"\")","v":""},"3-Q",{"$f":"IFERROR(VLOOKUP(1,$C$17:$E$19,3,FALSE),\"\")","v":""},null,{"$f":"IF(G34=\"\",\"\",G34)","v":""},{"$f":"IF(G36=\"\",\"\",ROUND(F36/G36,3))","v":""},null,null,{"$f":"IF(H36=\"\",\"\",IF(F36>F34,2,IF(F36<F34,0,IF(L36>L34,2,0))))","v":""},null,{"$f":"IFERROR(IF(B34=TRUE,1,IF(B36=TRUE,2,RANK(N36,N34:N36,0))),\"\")","v":""},{"$f":"K36*0.1+H36*0.01","v":{"$error":"#VALUE!"}}]
[]
[null,"W.O.",null,null,"Jugador","Boles","Ent","Mitj","SM1","SM2","Punts","KO"]
[null,false,{"$f":"IFERROR(M39,\"\")","v":""},"1-Q",{"$f":"IFERROR(VLOOKUP(1,$C$27:$E$29,3,FALSE),\"\")","v":""},null,null,{"$f":"IF(G39=\"\",\"\",ROUND(F39/G39,3))","v":""},null,null,{"$f":"IF(H39=\"\",\"\",IF(F39>F41,2,IF(F39<F41,0,IF(L39>L41,2,0))))","v":""},null,{"$f":"IFERROR(IF(B41=TRUE,1,IF(B39=TRUE,2,RANK(N39,N39:N41,0))),\"\")","v":""},{"$f":"K39*0.1+H39*0.01","v":{"$error":"#VALUE!"}}]
[]
[null,false,{"$f":"IFERROR(M41,\"\")","v":""},"4-Q",{"$f":"IFERROR(VLOOKUP(1,$C$12:$E$14,3,FALSE),\"\")","v":""},null,{"$f":"IF(G39=\"\",\"\",G39)","v":""},{"$f":"IF(G41=\"\",\"\",ROUND(F41/G41,3))","v":""},null,null,{"$f":"IF(H41=\"\",\"\",IF(F41>F39,2,IF(F41<F39,0,IF(L41>L39,2,0))))","v":""},null,{"$f":"IFERROR(IF(B39=TRUE,1,IF(B41=TRUE,2,RANK(N41,N39:N41,0))),\"\")","v":""},{"$f":"K41*0.1+H41*0.01","v":{"$error":"#VALUE!"}}]
[]
[null,"FINAL"]
[]
[null,"W.O.",null,null,"Jugador","Boles","Ent","Mitj","SM1","SM2","Punts","KO"]
[null,false,{"$f":"IFERROR(M46,\"\")","v":""},"1-SF",{"$f":"IFERROR(VLOOKUP(1,$C$39:$E$41,3,FALSE),\"\")","v":""},null,null,{"$f":"IF(G46=\"\",\"\",ROUND(F46/G46,3))","v":""},null,null,{"$f":"IF(H46=\"\",\"\",IF(F46>F48,2,IF(F46<F48,0,IF(L46>L48,2,0))))","v":""},null,{"$f":"IFERROR(IF(B48=TRUE,1,IF(B46=TRUE,2,RANK(N46,N46:N48,0))),\"\")","v":""},{"$f":"K46*0.1+H46*0.01","v":{"$error":"#VALUE!"}}]
[]
[null,false,{"$f":"IFERROR(M48,\"\")","v":""},"2-SF",{"$f":"IFERROR(VLOOKUP(1,$C$34:$E$36,3,FALSE),\"\")","v":""},null,{"$f":"IF(G46=\"\",\"\",G46)","v":""},{"$f":"IF(G48=\"\",\"\",ROUND(F48/G48,3))","v":""},null,null,{"$f":"IF(H48=\"\",\"\",IF(F48>F46,2,IF(F48<F46,0,IF(L48>L46,2,0))))","v":""},null,{"$f":"IFERROR(IF(B46=TRUE,1,IF(B48=TRUE,2,RANK(N48,N46:N48,0))),\"\")","v":""},{"$f":"K48*0.1+H48*0.01","v":{"$error":"#VALUE!"}}]

{"sheet":"FF (CP)","index":24,"n_rows":53,"n_cols":7,"rows_kept":53,"cut":false,"hidden":true,"merged":[[0,0,0,6]]}
["CLASSIFICACIÓ PERDEDORS EN FASE FINAL AL KO"]
[]
["SETZENS DE FINAL (S)"]
[]
["Classificació","Jugador","Punts","Mitjana","SM (1)","SM (2)","Puntuació"]
[{"$f":"IF(G6=0,\"\",RANK(G6,$G$6:$G$21,))","v":16},{"$f":"IFERROR(VLOOKUP(2,'Resultats SF'!C11:E13,3,FALSE),\"\")","v":""},{"$f":"IF('Resultats SF'!F11+'Resultats SF'!F13=0,\"\",IF('Resultats SF'!F11='Resultats SF'!F13,1,2))","v":""},{"$f":"IF(OR('Resultats SF'!B11=TRUE,'Resultats SF'!B13=TRUE),\"WO\",IFERROR(VLOOKUP(B6,'Resultats SF'!E11:K13,4,FALSE),\"\"))","v":""},{"$f":"IFERROR(VLOOKUP(B6,'Resultats SF'!E11:K13,5,FALSE),\"\")","v":""},{"$f":"IFERROR(VLOOKUP(B6,'Resultats SF'!E11:K13,6,FALSE),\"\")","v":""},{"$f":"IFERROR(D6+E6*0.00001+F6*0.0000001+0.0000000001,0.0000000001)","v":1E-10}]
[{"$f":"IF(G7=0,\"\",RANK(G7,$G$6:$G$21,))","v":15},{"$f":"IFERROR(VLOOKUP(2,'Resultats SF'!C16:E18,3,FALSE),\"\")","v":""},{"$f":"IF('Resultats SF'!F16+'Resultats SF'!F18=0,\"\",IF('Resultats SF'!F16='Resultats SF'!F18,1,2))","v":""},{"$f":"IF(OR('Resultats SF'!B16=TRUE,'Resultats SF'!B18=TRUE),\"WO\",IFERROR(VLOOKUP(B7,'Resultats SF'!E16:K18,4,FALSE),\"\"))","v":""},{"$f":"IFERROR(VLOOKUP(B7,'Resultats SF'!E14:K18,5,FALSE),\"\")","v":""},{"$f":"IFERROR(VLOOKUP(B7,'Resultats SF'!E16:K18,6,FALSE),\"\")","v":""},{"$f":"IFERROR(D7+E7*0.00001+F7*0.0000001+0.0000000002,0.0000000002)","v":2.0000000000000001E-10}]
[14,{"$f":"IFERROR(VLOOKUP(2,'Resultats SF'!C21:K23,3,FALSE),\"\")","v":""},{"$f":"IF('Resultats SF'!F21+'Resultats SF'!F23=0,\"\",IF('Resultats SF'!F21='Resultats SF'!F23,1,2))","v":""},{"$f":"IF(OR('Resultats SF'!B21=TRUE,'Resultats SF'!B23=TRUE),\"WO\",IFERROR(VLOOKUP(B8,'Resultats SF'!E21:K23,4,FALSE),\"\"))","v":""},{"$f":"IFERROR(VLOOKUP(B8,'Resultats SF'!E21:K23,5,FALSE),\"\")","v":0},{"$f":"IFERROR(VLOOKUP(B8,'Resultats SF'!E21:K23,6,FALSE),\"\")","v":0},{"$f":"IFERROR(D8+E8*0.00001+F8*0.0000001+0.0000000003,0.0000000003)","v":3E-10}]
[13,{"$f":"IFERROR(VLOOKUP(2,'Resultats SF'!C26:K28,3,FALSE),\"\")","v":""},{"$f":"IF('Resultats SF'!F26+'Resultats SF'!F28=0,\"\",IF('Resultats SF'!F26='Resultats SF'!F28,1,2))","v":""},{"$f":"IF(OR('Resultats SF'!B26=TRUE,'Resultats SF'!B28=TRUE),\"WO\",IFERROR(VLOOKUP(B9,'Resultats SF'!E26:K28,4,FALSE),\"\"))","v":""},{"$f":"IFERROR(VLOOKUP(B9,'Resultats SF'!E26:K28,5,FALSE),\"\")","v":0},{"$f":"IFERROR(VLOOKUP(B9,'Resultats SF'!E26:K28,6,FALSE),\"\")","v":0},{"$f":"IFERROR(D9+E9*0.00001+F9*0.0000001+0.0000000004,0.0000000004)","v":4.0000000000000001E-10}]
[12,{"$f":"IFERROR(VLOOKUP(2,'Resultats SF'!C31:K33,3,FALSE),\"\")","v":""},{"$f":"IF('Resultats SF'!F31+'Resultats SF'!F33=0,\"\",IF('Resultats SF'!F31='Resultats SF'!F33,1,2))","v":""},{"$f":"IF(OR('Resultats SF'!B31=TRUE,'Resultats SF'!B33=TRUE),\"WO\",IFERROR(VLOOKUP(B10,'Resultats SF'!E31:K33,4,FALSE),\"\"))","v":""},{"$f":"IFERROR(VLOOKUP(B10,'Resultats SF'!E31:K33,5,FALSE),\"\")","v":0},{"$f":"IFERROR(VLOOKUP(B10,'Resultats SF'!E31:K33,6,FALSE),\"\")","v":0},{"$f":"IFERROR(D10+E10*0.00001+F10*0.0000001+0.0000000005,0.0000000005)","v":5.0000000000000003E-10}]
[11,{"$f":"IFERROR(VLOOKUP(2,'Resultats SF'!C36:K38,3,FALSE),\"\")","v":""},{"$f":"IF('Resultats SF'!F36+'Resultats SF'!F38=0,\"\",IF('Resultats SF'!F36='Resultats SF'!F38,1,2))","v":""},{"$f":"IF(OR('Resultats SF'!B36=TRUE,'Resultats SF'!B38=TRUE),\"WO\",IFERROR(VLOOKUP(B11,'Resultats SF'!E36:K38,4,FALSE),\"\"))","v":""},{"$f":"IFERROR(VLOOKUP(B11,'Resultats SF'!E36:K38,5,FALSE),\"\")","v":0},{"$f":"IFERROR(VLOOKUP(B11,'Resultats SF'!E36:K38,6,FALSE),\"\")","v":0},{"$f":"IFERROR(D11+E11*0.00001+F11*0.0000001+0.0000000006,0.0000000006)","v":6E-10}]
[10,{"$f":"IFERROR(VLOOKUP(2,'Resultats SF'!C41:K43,3,FALSE),\"\")","v":""},{"$f":"IF('Resultats SF'!F41+'Resultats SF'!F43=0,\"\",IF('Resultats SF'!F41='Resultats SF'!F43,1,2))","v":""},{"$f":"IF(OR('Resultats SF'!B41=TRUE,'Resultats SF'!B43=TRUE),\"WO\",IFERROR(VLOOKUP(B12,'Resultats SF'!E41:K43,4,FALSE),\"\"))","v":""},{"$f":"IFERROR(VLOOKUP(B12,'Resultats SF'!E41:K43,5,FALSE),\"\")","v":0},{"$f":"IFERROR(VLOOKUP(B12,'Resultats SF'!E41:K43,6,FALSE),\"\")","v":0},{"$f":"IFERROR(D12+E12*0.00001+F12*0.0000001+0.000000007,0.0000000007)","v":6.9999999999999996E-10}]
[9,{"$f":"IFERROR(VLOOKUP(2,'Resultats SF'!C46:K48,3,FALSE),\"\")","v":""},{"$f":"IF('Resultats SF'!F46+'Resultats SF'!F48=0,\"\",IF('Resultats SF'!F46='Resultats SF'!F48,1,2))","v":""},{"$f":"IF(OR('Resultats SF'!B46=TRUE,'Resultats SF'!B48=TRUE),\"WO\",IFERROR(VLOOKUP(B13,'Resultats SF'!E46:K48,4,FALSE),\"\"))","v":""},{"$f":"IFERROR(VLOOKUP(B13,'Resultats SF'!E46:K48,5,FALSE),\"\")","v":0},{"$f":"IFERROR(VLOOKUP(B13,'Resultats SF'!E46:K48,6,FALSE),\"\")","v":0},{"$f":"IFERROR(D13+E13*0.00001+F13*0.0000001+0.0000000008,0.0000000008)","v":8.0000000000000003E-10}]
[8,{"$f":"IFERROR(VLOOKUP(2,'Resultats SF'!C51:K53,3,FALSE),\"\")","v":""},{"$f":"IF('Resultats SF'!F51+'Resultats SF'!F53=0,\"\",IF('Resultats SF'!F51='Resultats SF'!F53,1,2))","v":""},{"$f":"IF(OR('Resultats SF'!B51=TRUE,'Resultats SF'!B53=TRUE),\"WO\",IFERROR(VLOOKUP(B14,'Resultats SF'!E51:K53,4,FALSE),\"\"))","v":""},{"$f":"IFERROR(VLOOKUP(B14,'Resultats SF'!E51:K53,5,FALSE),\"\")","v":0},{"$f":"IFERROR(VLOOKUP(B14,'Resultats SF'!E51:K53,6,FALSE),\"\")","v":0},{"$f":"IFERROR(D14+E14*0.00001+F14*0.0000001+0.0000000009,0.0000000009)","v":8.9999999999999999E-10}]
[7,{"$f":"IFERROR(VLOOKUP(2,'Resultats SF'!C56:K58,3,FALSE),\"\")","v":""},{"$f":"IF('Resultats SF'!F56+'Resultats SF'!F58=0,\"\",IF('Resultats SF'!F56='Resultats SF'!F58,1,2))","v":""},{"$f":"IF(OR('Resultats SF'!B56=TRUE,'Resultats SF'!B58=TRUE),\"WO\",IFERROR(VLOOKUP(B15,'Resultats SF'!E56:K58,4,FALSE),\"\"))","v":""},{"$f":"IFERROR(VLOOKUP(B15,'Resultats SF'!E56:K58,5,FALSE),\"\")","v":0},{"$f":"IFERROR(VLOOKUP(B15,'Resultats SF'!E56:K58,6,FALSE),\"\")","v":0},{"$f":"IFERROR(D15+E15*0.00001+F15*0.0000001+0.000000001,0.000000001)","v":1.0000000000000001E-9}]
[6,{"$f":"IFERROR(VLOOKUP(2,'Resultats SF'!C61:K63,3,FALSE),\"\")","v":""},{"$f":"IF('Resultats SF'!F61+'Resultats SF'!F63=0,\"\",IF('Resultats SF'!F61='Resultats SF'!F63,1,2))","v":""},{"$f":"IF(OR('Resultats SF'!B61=TRUE,'Resultats SF'!B63=TRUE),\"WO\",IFERROR(VLOOKUP(B16,'Resultats SF'!E61:K63,4,FALSE),\"\"))","v":""},{"$f":"IFERROR(VLOOKUP(B16,'Resultats SF'!E61:K63,5,FALSE),\"\")","v":0},{"$f":"IFERROR(VLOOKUP(B16,'Resultats SF'!E61:K63,6,FALSE),\"\")","v":0},{"$f":"IFERROR(D16+E16*0.00001+F16*0.0000001+0.0000000011,0.0000000011)","v":1.0999999999999999E-9}]
[5,{"$f":"IFERROR(VLOOKUP(2,'Resultats SF'!C66:K68,3,FALSE),\"\")","v":""},{"$f":"IF('Resultats SF'!F66+'Resultats SF'!F68=0,\"\",IF('Resultats SF'!F66='Resultats SF'!F68,1,2))","v":""},{"$f":"IF(OR('Resultats SF'!B66=TRUE,'Resultats SF'!B68=TRUE),\"WO\",IFERROR(VLOOKUP(B17,'Resultats SF'!E66:K68,4,FALSE),\"\"))","v":""},{"$f":"IFERROR(VLOOKUP(B17,'Resultats SF'!E66:K68,5,FALSE),\"\")","v":0},{"$f":"IFERROR(VLOOKUP(B17,'Resultats SF'!E66:K68,6,FALSE),\"\")","v":0},{"$f":"IFERROR(D17+E17*0.00001+F17*0.0000001+0.0000000012,0.0000000012)","v":1.2E-9}]
[4,{"$f":"IFERROR(VLOOKUP(2,'Resultats SF'!C71:K73,3,FALSE),\"\")","v":""},{"$f":"IF('Resultats SF'!F71+'Resultats SF'!F73=0,\"\",IF('Resultats SF'!F71='Resultats SF'!F73,1,2))","v":""},{"$f":"IF(OR('Resultats SF'!B71=TRUE,'Resultats SF'!B73=TRUE),\"WO\",IFERROR(VLOOKUP(B18,'Resultats SF'!E71:K73,4,FALSE),\"\"))","v":""},{"$f":"IFERROR(VLOOKUP(B18,'Resultats SF'!E71:K73,5,FALSE),\"\")","v":0},{"$f":"IFERROR(VLOOKUP(B18,'Resultats SF'!E71:K73,6,FALSE),\"\")","v":0},{"$f":"IFERROR(D18+E18*0.00001+F18*0.0000001+0.0000000013,0.0000000013)","v":1.3000000000000001E-9}]
[3,{"$f":"IFERROR(VLOOKUP(2,'Resultats SF'!C76:K78,3,FALSE),\"\")","v":""},{"$f":"IF('Resultats SF'!F76+'Resultats SF'!F78=0,\"\",IF('Resultats SF'!F76='Resultats SF'!F78,1,2))","v":""},{"$f":"IF(OR('Resultats SF'!B76=TRUE,'Resultats SF'!B78=TRUE),\"WO\",IFERROR(VLOOKUP(B19,'Resultats SF'!E76:K78,4,FALSE),\"\"))","v":""},{"$f":"IFERROR(VLOOKUP(B19,'Resultats SF'!E76:K78,5,FALSE),\"\")","v":0},{"$f":"IFERROR(VLOOKUP(B19,'Resultats SF'!E76:K78,6,FALSE),\"\")","v":0},{"$f":"IFERROR(D19+E19*0.00001+F19*0.0000001+0.0000000014,0.0000000014)","v":1.3999999999999999E-9}]
[2,{"$f":"IFERROR(VLOOKUP(2,'Resultats SF'!C81:K83,3,FALSE),\"\")","v":""},{"$f":"IF('Resultats SF'!F81+'Resultats SF'!F83=0,\"\",IF('Resultats SF'!F81='Resultats SF'!F83,1,2))","v":""},{"$f":"IF(OR('Resultats SF'!B81=TRUE,'Resultats SF'!B83=TRUE),\"WO\",IFERROR(VLOOKUP(B20,'Resultats SF'!E81:K83,4,FALSE),\"\"))","v":""},{"$f":"IFERROR(VLOOKUP(B20,'Resultats SF'!E81:K83,5,FALSE),\"\")","v":0},{"$f":"IFERROR(VLOOKUP(B20,'Resultats SF'!E81:K83,6,FALSE),\"\")","v":0},{"$f":"IFERROR(D20+E20*0.00001+F20*0.0000001+0.0000000015,0.0000000015)","v":1.5E-9}]
[1,{"$f":"IFERROR(VLOOKUP(2,'Resultats SF'!C86:K88,3,FALSE),\"\")","v":""},{"$f":"IF('Resultats SF'!F86+'Resultats SF'!F88=0,\"\",IF('Resultats SF'!F86='Resultats SF'!F88,1,2))","v":""},{"$f":"IF(OR('Resultats SF'!B86=TRUE,'Resultats SF'!B88=TRUE),\"WO\",IFERROR(VLOOKUP(B21,'Resultats SF'!E86:K88,4,FALSE),\"\"))","v":""},{"$f":"IFERROR(VLOOKUP(B21,'Resultats SF'!E86:K88,5,FALSE),\"\")","v":0},{"$f":"IFERROR(VLOOKUP(B21,'Resultats SF'!E86:K88,6,FALSE),\"\")","v":0},{"$f":"IFERROR(D21+E21*0.00001+F21*0.0000001+0.0000000016,0.0000000016)","v":1.6000000000000001E-9}]
[{"$f":"IF(G22=0,\"\",RANK(G22,$G$6:$G$53,))","v":""}]
["VUITENS DE FINAL"]
[]
["Classificació","Jugador",null,"Mitjana","SM (1)","SM (2)","Puntuació"]
[{"$f":"IF(G26=0,\"\",RANK(G26,$G$26:$G$33,))","v":8},{"$f":"IFERROR(VLOOKUP(2,'Resultats VF'!C11:E13,3,FALSE),\"\")","v":""},null,{"$f":"IFERROR(VLOOKUP(B26,'Resultats VF'!E11:K13,4,FALSE),\"\")","v":""},{"$f":"IFERROR(VLOOKUP(B26,'Resultats VF'!E11:K13,5,FALSE),\"\")","v":0},{"$f":"IFERROR(VLOOKUP(B26,'Resultats VF'!E11:K13,6,FALSE),\"\")","v":0},{"$f":"IFERROR(D26+E26*0.00001+F26*0.0000001+0.0000000001,0.0000000001)","v":1E-10}]
[{"$f":"IF(G27=0,\"\",RANK(G27,$G$26:$G$33,))","v":7},{"$f":"IFERROR(VLOOKUP(2,'Resultats VF'!C16:E18,3,FALSE),\"\")","v":""},null,{"$f":"IFERROR(VLOOKUP(B27,'Resultats VF'!E16:K18,4,FALSE),\"\")","v":""},{"$f":"IFERROR(VLOOKUP(B27,'Resultats VF'!E16:K18,5,FALSE),\"\")","v":0},{"$f":"IFERROR(VLOOKUP(B27,'Resultats VF'!E16:K18,6,FALSE),\"\")","v":0},{"$f":"IFERROR(D27+E27*0.00001+F27*0.0000001+0.0000000002,0.0000000002)","v":2.0000000000000001E-10}]
[6,{"$f":"IFERROR(VLOOKUP(2,'Resultats VF'!C21:E23,3,FALSE),\"\")","v":""},null,{"$f":"IFERROR(VLOOKUP(B28,'Resultats VF'!E21:K23,4,FALSE),\"\")","v":""},{"$f":"IFERROR(VLOOKUP(B28,'Resultats VF'!E21:K23,5,FALSE),\"\")","v":0},{"$f":"IFERROR(VLOOKUP(B28,'Resultats VF'!E21:K23,6,FALSE),\"\")","v":0},{"$f":"IFERROR(D28+E28*0.00001+F28*0.0000001+0.0000000003,0.0000000003)","v":3E-10}]
[5,{"$f":"IFERROR(VLOOKUP(2,'Resultats VF'!C26:E28,3,FALSE),\"\")","v":""},null,{"$f":"IFERROR(VLOOKUP(B29,'Resultats VF'!E26:K28,4,FALSE),\"\")","v":""},{"$f":"IFERROR(VLOOKUP(B29,'Resultats VF'!E26:K28,5,FALSE),\"\")","v":0},{"$f":"IFERROR(VLOOKUP(B29,'Resultats VF'!E26:K28,6,FALSE),\"\")","v":0},{"$f":"IFERROR(D29+E29*0.00001+F29*0.0000001+0.0000000004,0.0000000004)","v":4.0000000000000001E-10}]
[4,{"$f":"IFERROR(VLOOKUP(2,'Resultats VF'!C31:E33,3,FALSE),\"\")","v":""},null,{"$f":"IFERROR(VLOOKUP(B30,'Resultats VF'!E31:K33,4,FALSE),\"\")","v":""},{"$f":"IFERROR(VLOOKUP(B30,'Resultats VF'!E31:K33,5,FALSE),\"\")","v":0},{"$f":"IFERROR(VLOOKUP(B30,'Resultats VF'!E31:K33,6,FALSE),\"\")","v":0},{"$f":"IFERROR(D30+E30*0.00001+F30*0.0000001+0.0000000005,0.0000000005)","v":5.0000000000000003E-10}]
[3,{"$f":"IFERROR(VLOOKUP(2,'Resultats VF'!C36:E38,3,FALSE),\"\")","v":""},null,{"$f":"IFERROR(VLOOKUP(B31,'Resultats VF'!E36:K38,4,FALSE),\"\")","v":""},{"$f":"IFERROR(VLOOKUP(B31,'Resultats VF'!E36:K38,5,FALSE),\"\")","v":0},{"$f":"IFERROR(VLOOKUP(B31,'Resultats VF'!E36:K38,6,FALSE),\"\")","v":0},{"$f":"IFERROR(D31+E31*0.00001+F31*0.0000001+0.0000000006,0.0000000006)","v":6E-10}]
[2,{"$f":"IFERROR(VLOOKUP(2,'Resultats VF'!C41:E43,3,FALSE),\"\")","v":""},null,{"$f":"IFERROR(VLOOKUP(B32,'Resultats VF'!E41:K43,4,FALSE),\"\")","v":""},{"$f":"IFERROR(VLOOKUP(B32,'Resultats VF'!E41:K43,5,FALSE),\"\")","v":0},{"$f":"IFERROR(VLOOKUP(B32,'Resultats VF'!E41:K43,6,FALSE),\"\")","v":0},{"$f":"IFERROR(D32+E32*0.00001+F32*0.0000001+0.000000007,0.0000000007)","v":6.9999999999999996E-10}]
[1,{"$f":"IFERROR(VLOOKUP(2,'Resultats VF'!C46:E48,3,FALSE),\"\")","v":""},null,{"$f":"IFERROR(VLOOKUP(B33,'Resultats VF'!E46:K48,4,FALSE),\"\")","v":""},{"$f":"IFERROR(VLOOKUP(B33,'Resultats VF'!E46:K48,5,FALSE),\"\")","v":0},{"$f":"IFERROR(VLOOKUP(B33,'Resultats VF'!E46:K48,6,FALSE),\"\")","v":0},{"$f":"IFERROR(D33+E33*0.00001+F33*0.0000001+0.0000000008,0.0000000008)","v":8.0000000000000003E-10}]
[""]
["QUARTS DE FINAL"]
[]
["Classificació","Jugador",null,"Mitjana","SM (1)","SM (2)","Puntuació"]
[{"$f":"IF(G38=0,\"\",RANK(G38,$G$38:$G$41,))","v":4},{"$f":"IFERROR(VLOOKUP(2,'Resultats QF-SF-F'!C12:E14,3,FALSE),\"\")","v":""},null,{"$f":"IFERROR(VLOOKUP(B38,'Resultats QF-SF-F'!E12:K14,4,FALSE),\"\")","v":""},{"$f":"IFERROR(VLOOKUP(B38,'Resultats QF-SF-F'!E12:K14,5,FALSE),\"\")","v":0},{"$f":"IFERROR(VLOOKUP(B38,'Resultats QF-SF-F'!E12:K14,6,FALSE),\"\")","v":0},{"$f":"IFERROR(D38+E38*0.00001+F38*0.0000001+0.0000000001,0.0000000001)","v":1E-10}]
[{"$f":"IF(G39=0,\"\",RANK(G39,$G$38:$G$41,))","v":3},{"$f":"IFERROR(VLOOKUP(2,'Resultats QF-SF-F'!C17:E19,3,FALSE),\"\")","v":""},null,{"$f":"IFERROR(VLOOKUP(B39,'Resultats QF-SF-F'!E17:K19,4,FALSE),\"\")","v":""},{"$f":"IFERROR(VLOOKUP(B39,'Resultats QF-SF-F'!E17:K19,5,FALSE),\"\")","v":0},{"$f":"IFERROR(VLOOKUP(B39,'Resultats QF-SF-F'!E17:K19,6,FALSE),\"\")","v":0},{"$f":"IFERROR(D39+E39*0.00001+F39*0.0000001+0.0000000002,0.0000000002)","v":2.0000000000000001E-10}]
[{"$f":"IF(G40=0,\"\",RANK(G40,$G$38:$G$41,))","v":2},{"$f":"IFERROR(VLOOKUP(2,'Resultats QF-SF-F'!C22:E24,3,FALSE),\"\")","v":""},null,{"$f":"IFERROR(VLOOKUP(B40,'Resultats QF-SF-F'!E22:K24,4,FALSE),\"\")","v":""},{"$f":"IFERROR(VLOOKUP(B40,'Resultats QF-SF-F'!E22:K24,5,FALSE),\"\")","v":0},{"$f":"IFERROR(VLOOKUP(B40,'Resultats QF-SF-F'!E22:K24,6,FALSE),\"\")","v":0},{"$f":"IFERROR(D40+E40*0.00001+F40*0.0000001+0.0000000003,0.0000000003)","v":3E-10}]
[{"$f":"IF(G41=0,\"\",RANK(G41,$G$38:$G$41,))","v":1},{"$f":"IFERROR(VLOOKUP(2,'Resultats QF-SF-F'!C27:E29,3,FALSE),\"\")","v":""},null,{"$f":"IFERROR(VLOOKUP(B41,'Resultats QF-SF-F'!E27:K29,4,FALSE),\"\")","v":""},{"$f":"IFERROR(VLOOKUP(B41,'Resultats QF-SF-F'!E27:K29,5,FALSE),\"\")","v":0},{"$f":"IFERROR(VLOOKUP(B41,'Resultats QF-SF-F'!E27:K29,6,FALSE),\"\")","v":0},{"$f":"IFERROR(D41+E41*0.00001+F41*0.0000001+0.0000000004,0.0000000004)","v":4.0000000000000001E-10}]
[""]
["SEMIFINAL"]
[]
["Classificació","Jugador",null,"Mitjana","SM (1)","SM (2)","Puntuació"]
[{"$f":"IF(G46=0,\"\",RANK(G46,$G$46:$G$47,))","v":2},{"$f":"IFERROR(VLOOKUP(2,'Resultats QF-SF-F'!C34:E36,3,FALSE),\"\")","v":""},null,{"$f":"IFERROR(VLOOKUP(B46,'Resultats QF-SF-F'!E34:K36,4,FALSE),\"\")","v":""},{"$f":"IFERROR(VLOOKUP(B46,'Resultats QF-SF-F'!E34:K36,5,FALSE),\"\")","v":0},{"$f":"IFERROR(VLOOKUP(B46,'Resultats QF-SF-F'!E34:K36,6,FALSE),\"\")","v":0},{"$f":"IFERROR(D46+E46*0.00001+F46*0.0000001+0.0000000001,0.0000000001)","v":1E-10}]
[{"$f":"IF(G47=0,\"\",RANK(G47,$G$46:$G$47,))","v":1},{"$f":"IFERROR(VLOOKUP(2,'Resultats QF-SF-F'!C39:E41,3,FALSE),\"\")","v":""},null,{"$f":"IFERROR(VLOOKUP(B47,'Resultats QF-SF-F'!E39:K41,4,FALSE),\"\")","v":""},{"$f":"IFERROR(VLOOKUP(B47,'Resultats QF-SF-F'!E39:K41,5,FALSE),\"\")","v":0},{"$f":"IFERROR(VLOOKUP(B47,'Resultats QF-SF-F'!E39:K41,6,FALSE),\"\")","v":0},{"$f":"IFERROR(D47+E47*0.00001+F47*0.0000001+0.0000000002,0.0000000002)","v":2.0000000000000001E-10}]
[""]
[""]
[""]
[""]
[""]
[""]

{"sheet":"Classificació Final","index":25,"n_rows":153,"n_cols":14,"rows_kept":153,"cut":false,"hidden":false,"merged":[[1,12,1,13],[7,1,7,6],[2,3,5,4],[1,1,1,4],[1,5,5,6],[76,1,107,1],[109,1,140,1],[12,1,13,1],[14,1,17,1],[18,1,25,1],[26,1,41,1],[43,1,74,1]]}
[]
[null,{"$f":"IF(Inici!B2=\"INTRODUIR EN MAIÚSCULES EL NOM DE L'OPEN\",\"Introduiu el nom de l'Open a la pantalla d'Inici!!!\",Inici!B2)","v":"Introduiu el nom de l'Open a la pantalla d'Inici!!!"},null,null,null,null,null,null,"ANAR A PÀGINA","P-P-PRÈVIA","P-PRÈVIA","PRÈVIA","FASE FINAL"]
[null,null,null,null,null,null,null,null,"Rànquing Inicial","Grups PPP","Grups PP","Grups P","Setzens","Vuitens"]
[null,null,null,null,null,null,null,null,"Organigrama","Result PPP","Result PP","Result P","Class SF","Quarts/SF/F"]
[null,null,null,null,null,null,null,null,"Horaris","Classif PPP","Classif PP","Classif P"]
[]
[]
[null,"CLASSIFICACIÓ FINAL",null,null,null,null,null,null,"Inici","Participants"]
[]
[null,"Fase final","Posició","Jugador","Club"]
[null,"CAMPIÓ",{"$f":"IF(Participants!B11=\"\",\"\",Participants!B11)","v":1},{"$f":"IFERROR(VLOOKUP(1,'Resultats QF-SF-F'!$C$46:$E$48,3,FALSE),\"\")","v":""},{"$f":"IFERROR(VLOOKUP(D11,'Rànquing Inicial'!$C$11:$D$138,2,FALSE),\"\")","v":""}]
[null,"SOTS-CAMPIÓ",{"$f":"IF(Participants!B12=\"\",\"\",Participants!B12)","v":2},{"$f":"IFERROR(VLOOKUP(2,'Resultats QF-SF-F'!$C$46:$E$48,3,FALSE),\"\")","v":""},{"$f":"IFERROR(VLOOKUP(D12,'Rànquing Inicial'!$C$11:$D$138,2,FALSE),\"\")","v":""}]
[null,"SEMIFINALISTES",{"$f":"IF(Participants!B13=\"\",\"\",Participants!B13)","v":3},{"$f":"IFERROR(VLOOKUP(C13-2,'FF (CP)'!$A$46:$B$47,2,FALSE),\"\")","v":""},{"$f":"IFERROR(VLOOKUP(D13,'Rànquing Inicial'!$C$11:$D$138,2,FALSE),\"\")","v":""}]
[null,null,{"$f":"IF(Participants!B14=\"\",\"\",Participants!B14)","v":4},{"$f":"IFERROR(VLOOKUP(C14-2,'FF (CP)'!$A$46:$B$47,2,FALSE),\"\")","v":""},{"$f":"IFERROR(VLOOKUP(D14,'Rànquing Inicial'!$C$11:$D$138,2,FALSE),\"\")","v":""}]
[null,"QUARTS DE FINAL",{"$f":"IF(Participants!B15=\"\",\"\",Participants!B15)","v":5},{"$f":"IFERROR(VLOOKUP(C15-4,'FF (CP)'!$A$38:$B$41,2,FALSE),\"\")","v":""},{"$f":"IFERROR(VLOOKUP(D15,'Rànquing Inicial'!$C$11:$D$138,2,FALSE),\"\")","v":""}]
[null,null,{"$f":"IF(Participants!B16=\"\",\"\",Participants!B16)","v":6},{"$f":"IFERROR(VLOOKUP(C16-4,'FF (CP)'!$A$38:$B$41,2,FALSE),\"\")","v":""},{"$f":"IFERROR(VLOOKUP(D16,'Rànquing Inicial'!$C$11:$D$138,2,FALSE),\"\")","v":""}]
[null,null,{"$f":"IF(Participants!B17=\"\",\"\",Participants!B17)","v":7},{"$f":"IFERROR(VLOOKUP(C17-4,'FF (CP)'!$A$38:$B$41,2,FALSE),\"\")","v":""},{"$f":"IFERROR(VLOOKUP(D17,'Rànquing Inicial'!$C$11:$D$138,2,FALSE),\"\")","v":""}]
[null,null,{"$f":"IF(Participants!B18=\"\",\"\",Participants!B18)","v":8},{"$f":"IFERROR(VLOOKUP(C18-4,'FF (CP)'!$A$38:$B$41,2,FALSE),\"\")","v":""},{"$f":"IFERROR(VLOOKUP(D18,'Rànquing Inicial'!$C$11:$D$138,2,FALSE),\"\")","v":""}]
[null,"VUITENS DE FINAL",{"$f":"IF(Participants!B19=\"\",\"\",Participants!B19)","v":9},{"$f":"IFERROR(VLOOKUP(C19-8,'FF (CP)'!$A$26:$B$33,2,FALSE),\"\")","v":""},{"$f":"IFERROR(VLOOKUP(D19,'Rànquing Inicial'!$C$11:$D$138,2,FALSE),\"\")","v":""}]
[null,null,{"$f":"IF(Participants!B20=\"\",\"\",Participants!B20)","v":10},{"$f":"IFERROR(VLOOKUP(C20-8,'FF (CP)'!$A$26:$B$33,2,FALSE),\"\")","v":""},{"$f":"IFERROR(VLOOKUP(D20,'Rànquing Inicial'!$C$11:$D$138,2,FALSE),\"\")","v":""}]
[null,null,{"$f":"IF(Participants!B21=\"\",\"\",Participants!B21)","v":11},{"$f":"IFERROR(VLOOKUP(C21-8,'FF (CP)'!$A$26:$B$33,2,FALSE),\"\")","v":""},{"$f":"IFERROR(VLOOKUP(D21,'Rànquing Inicial'!$C$11:$D$138,2,FALSE),\"\")","v":""}]
[null,null,{"$f":"IF(Participants!B22=\"\",\"\",Participants!B22)","v":12},{"$f":"IFERROR(VLOOKUP(C22-8,'FF (CP)'!$A$26:$B$33,2,FALSE),\"\")","v":""},{"$f":"IFERROR(VLOOKUP(D22,'Rànquing Inicial'!$C$11:$D$138,2,FALSE),\"\")","v":""}]
[null,null,{"$f":"IF(Participants!B23=\"\",\"\",Participants!B23)","v":13},{"$f":"IFERROR(VLOOKUP(C23-8,'FF (CP)'!$A$26:$B$33,2,FALSE),\"\")","v":""},{"$f":"IFERROR(VLOOKUP(D23,'Rànquing Inicial'!$C$11:$D$138,2,FALSE),\"\")","v":""}]
[null,null,{"$f":"IF(Participants!B24=\"\",\"\",Participants!B24)","v":14},{"$f":"IFERROR(VLOOKUP(C24-8,'FF (CP)'!$A$26:$B$33,2,FALSE),\"\")","v":""},{"$f":"IFERROR(VLOOKUP(D24,'Rànquing Inicial'!$C$11:$D$138,2,FALSE),\"\")","v":""}]
[null,null,{"$f":"IF(Participants!B25=\"\",\"\",Participants!B25)","v":15},{"$f":"IFERROR(VLOOKUP(C25-8,'FF (CP)'!$A$26:$B$33,2,FALSE),\"\")","v":""},{"$f":"IFERROR(VLOOKUP(D25,'Rànquing Inicial'!$C$11:$D$138,2,FALSE),\"\")","v":""}]
[null,null,{"$f":"IF(Participants!B26=\"\",\"\",Participants!B26)","v":16},{"$f":"IFERROR(VLOOKUP(C26-8,'FF (CP)'!$A$26:$B$33,2,FALSE),\"\")","v":""},{"$f":"IFERROR(VLOOKUP(D26,'Rànquing Inicial'!$C$11:$D$138,2,FALSE),\"\")","v":""}]
[null,"SETZENS DE FINAL",{"$f":"IF(Participants!B27=\"\",\"\",Participants!B27)","v":17},{"$f":"IFERROR(VLOOKUP(C27-16,'FF (CP)'!$A$6:$B$21,2,FALSE),\"\")","v":""},{"$f":"IFERROR(VLOOKUP(D27,'Rànquing Inicial'!$C$11:$D$138,2,FALSE),\"\")","v":""}]
[null,null,{"$f":"IF(Participants!B28=\"\",\"\",Participants!B28)","v":18},{"$f":"IFERROR(VLOOKUP(C28-16,'FF (CP)'!$A$6:$B$21,2,FALSE),\"\")","v":""},{"$f":"IFERROR(VLOOKUP(D28,'Rànquing Inicial'!$C$11:$D$138,2,FALSE),\"\")","v":""}]
[null,null,{"$f":"IF(Participants!B29=\"\",\"\",Participants!B29)","v":19},{"$f":"IFERROR(VLOOKUP(C29-16,'FF (CP)'!$A$6:$B$21,2,FALSE),\"\")","v":""},{"$f":"IFERROR(VLOOKUP(D29,'Rànquing Inicial'!$C$11:$D$138,2,FALSE),\"\")","v":""}]
[null,null,{"$f":"IF(Participants!B30=\"\",\"\",Participants!B30)","v":20},{"$f":"IFERROR(VLOOKUP(C30-16,'FF (CP)'!$A$6:$B$21,2,FALSE),\"\")","v":""},{"$f":"IFERROR(VLOOKUP(D30,'Rànquing Inicial'!$C$11:$D$138,2,FALSE),\"\")","v":""}]
[null,null,{"$f":"IF(Participants!B31=\"\",\"\",Participants!B31)","v":21},{"$f":"IFERROR(VLOOKUP(C31-16,'FF (CP)'!$A$6:$B$21,2,FALSE),\"\")","v":""},{"$f":"IFERROR(VLOOKUP(D31,'Rànquing Inicial'!$C$11:$D$138,2,FALSE),\"\")","v":""}]
[null,null,{"$f":"IF(Participants!B32=\"\",\"\",Participants!B32)","v":22},{"$f":"IFERROR(VLOOKUP(C32-16,'FF (CP)'!$A$6:$B$21,2,FALSE),\"\")","v":""},{"$f":"IFERROR(VLOOKUP(D32,'Rànquing Inicial'!$C$11:$D$138,2,FALSE),\"\")","v":""}]
[null,null,{"$f":"IF(Participants!B33=\"\",\"\",Participants!B33)","v":23},{"$f":"IFERROR(VLOOKUP(C33-16,'FF (CP)'!$A$6:$B$21,2,FALSE),\"\")","v":""},{"$f":"IFERROR(VLOOKUP(D33,'Rànquing Inicial'!$C$11:$D$138,2,FALSE),\"\")","v":""}]
[null,null,{"$f":"IF(Participants!B34=\"\",\"\",Participants!B34)","v":24},{"$f":"IFERROR(VLOOKUP(C34-16,'FF (CP)'!$A$6:$B$21,2,FALSE),\"\")","v":""},{"$f":"IFERROR(VLOOKUP(D34,'Rànquing Inicial'!$C$11:$D$138,2,FALSE),\"\")","v":""}]
[null,null,{"$f":"IF(Participants!B35=\"\",\"\",Participants!B35)","v":25},{"$f":"IFERROR(VLOOKUP(C35-16,'FF (CP)'!$A$6:$B$21,2,FALSE),\"\")","v":""},{"$f":"IFERROR(VLOOKUP(D35,'Rànquing Inicial'!$C$11:$D$138,2,FALSE),\"\")","v":""}]
[null,null,{"$f":"IF(Participants!B36=\"\",\"\",Participants!B36)","v":26},{"$f":"IFERROR(VLOOKUP(C36-16,'FF (CP)'!$A$6:$B$21,2,FALSE),\"\")","v":""},{"$f":"IFERROR(VLOOKUP(D36,'Rànquing Inicial'!$C$11:$D$138,2,FALSE),\"\")","v":""}]
[null,null,{"$f":"IF(Participants!B37=\"\",\"\",Participants!B37)","v":27},{"$f":"IFERROR(VLOOKUP(C37-16,'FF (CP)'!$A$6:$B$21,2,FALSE),\"\")","v":""},{"$f":"IFERROR(VLOOKUP(D37,'Rànquing Inicial'!$C$11:$D$138,2,FALSE),\"\")","v":""}]
[null,null,{"$f":"IF(Participants!B38=\"\",\"\",Participants!B38)","v":28},{"$f":"IFERROR(VLOOKUP(C38-16,'FF (CP)'!$A$6:$B$21,2,FALSE),\"\")","v":""},{"$f":"IFERROR(VLOOKUP(D38,'Rànquing Inicial'!$C$11:$D$138,2,FALSE),\"\")","v":""}]
[null,null,{"$f":"IF(Participants!B39=\"\",\"\",Participants!B39)","v":29},{"$f":"IFERROR(VLOOKUP(C39-16,'FF (CP)'!$A$6:$B$21,2,FALSE),\"\")","v":""},{"$f":"IFERROR(VLOOKUP(D39,'Rànquing Inicial'!$C$11:$D$138,2,FALSE),\"\")","v":""}]
[null,null,{"$f":"IF(Participants!B40=\"\",\"\",Participants!B40)","v":30},{"$f":"IFERROR(VLOOKUP(C40-16,'FF (CP)'!$A$6:$B$21,2,FALSE),\"\")","v":""},{"$f":"IFERROR(VLOOKUP(D40,'Rànquing Inicial'!$C$11:$D$138,2,FALSE),\"\")","v":""}]
[null,null,{"$f":"IF(Participants!B41=\"\",\"\",Participants!B41)","v":31},{"$f":"IFERROR(VLOOKUP(C41-16,'FF (CP)'!$A$6:$B$21,2,FALSE),\"\")","v":""},{"$f":"IFERROR(VLOOKUP(D41,'Rànquing Inicial'!$C$11:$D$138,2,FALSE),\"\")","v":""}]
[null,null,{"$f":"IF(Participants!B42=\"\",\"\",Participants!B42)","v":32},{"$f":"IFERROR(VLOOKUP(C42-16,'FF (CP)'!$A$6:$B$21,2,FALSE),\"\")","v":""},{"$f":"IFERROR(VLOOKUP(D42,'Rànquing Inicial'!$C$11:$D$138,2,FALSE),\"\")","v":""}]
[null,"Prèvia (P)","Posició","Jugador","Club"]
[null,{"$f":"IF('Rànquing Inicial'!$D$141<33,\"NO HI HA HAGUT PRÈVIA\",\"JUGADORS NO CLASSIFICATS A LA PRÈVIA (P)\")","v":"JUGADORS NO CLASSIFICATS A LA PRÈVIA (P)"},{"$f":"IF(Participants!B43=\"\",\"\",Participants!B43)","v":33},{"$f":"IFERROR(VLOOKUP($D$146+1,'Classificació P'!$B$13:$D$60,3,FALSE),\"\")","v":""},{"$f":"IFERROR(VLOOKUP(D44,'Rànquing Inicial'!$C$11:$D$138,2,FALSE),\"\")","v":""}]
[null,null,{"$f":"IF(Participants!B44=\"\",\"\",Participants!B44)","v":34},{"$f":"IFERROR(VLOOKUP($D$146+2,'Classificació P'!$B$13:$D$60,3,FALSE),\"\")","v":""},{"$f":"IFERROR(VLOOKUP(D45,'Rànquing Inicial'!$C$11:$D$138,2,FALSE),\"\")","v":""}]
[null,null,{"$f":"IF(Participants!B45=\"\",\"\",Participants!B45)","v":35},{"$f":"IFERROR(VLOOKUP($D$146+3,'Classificació P'!$B$13:$D$60,3,FALSE),\"\")","v":""},{"$f":"IFERROR(VLOOKUP(D46,'Rànquing Inicial'!$C$11:$D$138,2,FALSE),\"\")","v":""}]
[null,null,{"$f":"IF(Participants!B46=\"\",\"\",Participants!B46)","v":36},{"$f":"IFERROR(VLOOKUP($D$146+4,'Classificació P'!$B$13:$D$60,3,FALSE),\"\")","v":""},{"$f":"IFERROR(VLOOKUP(D47,'Rànquing Inicial'!$C$11:$D$138,2,FALSE),\"\")","v":""}]
[null,null,{"$f":"IF(Participants!B47=\"\",\"\",Participants!B47)","v":37},{"$f":"IFERROR(VLOOKUP($D$146+5,'Classificació P'!$B$13:$D$60,3,FALSE),\"\")","v":""},{"$f":"IFERROR(VLOOKUP(D48,'Rànquing Inicial'!$C$11:$D$138,2,FALSE),\"\")","v":""}]
[null,null,{"$f":"IF(Participants!B48=\"\",\"\",Participants!B48)","v":38},{"$f":"IFERROR(VLOOKUP($D$146+6,'Classificació P'!$B$13:$D$60,3,FALSE),\"\")","v":""},{"$f":"IFERROR(VLOOKUP(D49,'Rànquing Inicial'!$C$11:$D$138,2,FALSE),\"\")","v":""}]
[null,null,{"$f":"IF(Participants!B49=\"\",\"\",Participants!B49)","v":39},{"$f":"IFERROR(VLOOKUP($D$146+7,'Classificació P'!$B$13:$D$60,3,FALSE),\"\")","v":""},{"$f":"IFERROR(VLOOKUP(D50,'Rànquing Inicial'!$C$11:$D$138,2,FALSE),\"\")","v":""}]
[null,null,{"$f":"IF(Participants!B50=\"\",\"\",Participants!B50)","v":40},{"$f":"IFERROR(VLOOKUP($D$146+8,'Classificació P'!$B$13:$D$60,3,FALSE),\"\")","v":""},{"$f":"IFERROR(VLOOKUP(D51,'Rànquing Inicial'!$C$11:$D$138,2,FALSE),\"\")","v":""}]
[null,null,{"$f":"IF(Participants!B51=\"\",\"\",Participants!B51)","v":41},{"$f":"IFERROR(VLOOKUP($D$146+9,'Classificació P'!$B$13:$D$60,3,FALSE),\"\")","v":""},{"$f":"IFERROR(VLOOKUP(D52,'Rànquing Inicial'!$C$11:$D$138,2,FALSE),\"\")","v":""}]
[null,null,{"$f":"IF(Participants!B52=\"\",\"\",Participants!B52)","v":42},{"$f":"IFERROR(VLOOKUP($D$146+10,'Classificació P'!$B$13:$D$60,3,FALSE),\"\")","v":""},{"$f":"IFERROR(VLOOKUP(D53,'Rànquing Inicial'!$C$11:$D$138,2,FALSE),\"\")","v":""}]
[null,null,{"$f":"IF(Participants!B53=\"\",\"\",Participants!B53)","v":""},{"$f":"IFERROR(VLOOKUP($D$146+11,'Classificació P'!$B$13:$D$60,3,FALSE),\"\")","v":""},{"$f":"IFERROR(VLOOKUP(D54,'Rànquing Inicial'!$C$11:$D$138,2,FALSE),\"\")","v":""}]
[null,null,{"$f":"IF(Participants!B54=\"\",\"\",Participants!B54)","v":""},{"$f":"IFERROR(VLOOKUP($D$146+12,'Classificació P'!$B$13:$D$60,3,FALSE),\"\")","v":""},{"$f":"IFERROR(VLOOKUP(D55,'Rànquing Inicial'!$C$11:$D$138,2,FALSE),\"\")","v":""}]
[null,null,{"$f":"IF(Participants!B55=\"\",\"\",Participants!B55)","v":""},{"$f":"IFERROR(VLOOKUP($D$146+13,'Classificació P'!$B$13:$D$60,3,FALSE),\"\")","v":""},{"$f":"IFERROR(VLOOKUP(D56,'Rànquing Inicial'!$C$11:$D$138,2,FALSE),\"\")","v":""}]
[null,null,{"$f":"IF(Participants!B56=\"\",\"\",Participants!B56)","v":""},{"$f":"IFERROR(VLOOKUP($D$146+14,'Classificació P'!$B$13:$D$60,3,FALSE),\"\")","v":""},{"$f":"IFERROR(VLOOKUP(D57,'Rànquing Inicial'!$C$11:$D$138,2,FALSE),\"\")","v":""}]
[null,null,{"$f":"IF(Participants!B57=\"\",\"\",Participants!B57)","v":""},{"$f":"IFERROR(VLOOKUP($D$146+15,'Classificació P'!$B$13:$D$60,3,FALSE),\"\")","v":""},{"$f":"IFERROR(VLOOKUP(D58,'Rànquing Inicial'!$C$11:$D$138,2,FALSE),\"\")","v":""}]
[null,null,{"$f":"IF(Participants!B58=\"\",\"\",Participants!B58)","v":""},{"$f":"IFERROR(VLOOKUP($D$146+16,'Classificació P'!$B$13:$D$60,3,FALSE),\"\")","v":""},{"$f":"IFERROR(VLOOKUP(D59,'Rànquing Inicial'!$C$11:$D$138,2,FALSE),\"\")","v":""}]
[null,null,{"$f":"IF(Participants!B59=\"\",\"\",Participants!B59)","v":""},{"$f":"IFERROR(VLOOKUP($D$146+17,'Classificació P'!$B$13:$D$60,3,FALSE),\"\")","v":""},{"$f":"IFERROR(VLOOKUP(D60,'Rànquing Inicial'!$C$11:$D$138,2,FALSE),\"\")","v":""}]
[null,null,{"$f":"IF(Participants!B60=\"\",\"\",Participants!B60)","v":""},{"$f":"IFERROR(VLOOKUP($D$146+18,'Classificació P'!$B$13:$D$60,3,FALSE),\"\")","v":""},{"$f":"IFERROR(VLOOKUP(D61,'Rànquing Inicial'!$C$11:$D$138,2,FALSE),\"\")","v":""}]
[null,null,{"$f":"IF(Participants!B61=\"\",\"\",Participants!B61)","v":""},{"$f":"IFERROR(VLOOKUP($D$146+19,'Classificació P'!$B$13:$D$60,3,FALSE),\"\")","v":""},{"$f":"IFERROR(VLOOKUP(D62,'Rànquing Inicial'!$C$11:$D$138,2,FALSE),\"\")","v":""}]
[null,null,{"$f":"IF(Participants!B62=\"\",\"\",Participants!B62)","v":""},{"$f":"IFERROR(VLOOKUP($D$146+20,'Classificació P'!$B$13:$D$60,3,FALSE),\"\")","v":""},{"$f":"IFERROR(VLOOKUP(D63,'Rànquing Inicial'!$C$11:$D$138,2,FALSE),\"\")","v":""}]
[null,null,{"$f":"IF(Participants!B63=\"\",\"\",Participants!B63)","v":""},{"$f":"IFERROR(VLOOKUP($D$146+21,'Classificació P'!$B$13:$D$60,3,FALSE),\"\")","v":""},{"$f":"IFERROR(VLOOKUP(D64,'Rànquing Inicial'!$C$11:$D$138,2,FALSE),\"\")","v":""}]
[null,null,{"$f":"IF(Participants!B64=\"\",\"\",Participants!B64)","v":""},{"$f":"IFERROR(VLOOKUP($D$146+22,'Classificació P'!$B$13:$D$60,3,FALSE),\"\")","v":""},{"$f":"IFERROR(VLOOKUP(D65,'Rànquing Inicial'!$C$11:$D$138,2,FALSE),\"\")","v":""}]
[null,null,{"$f":"IF(Participants!B65=\"\",\"\",Participants!B65)","v":""},{"$f":"IFERROR(VLOOKUP($D$146+23,'Classificació P'!$B$13:$D$60,3,FALSE),\"\")","v":""},{"$f":"IFERROR(VLOOKUP(D66,'Rànquing Inicial'!$C$11:$D$138,2,FALSE),\"\")","v":""}]
[null,null,{"$f":"IF(Participants!B66=\"\",\"\",Participants!B66)","v":""},{"$f":"IFERROR(VLOOKUP($D$146+24,'Classificació P'!$B$13:$D$60,3,FALSE),\"\")","v":""},{"$f":"IFERROR(VLOOKUP(D67,'Rànquing Inicial'!$C$11:$D$138,2,FALSE),\"\")","v":""}]
[null,null,{"$f":"IF(Participants!B67=\"\",\"\",Participants!B67)","v":""},{"$f":"IFERROR(VLOOKUP($D$146+25,'Classificació P'!$B$13:$D$60,3,FALSE),\"\")","v":""},{"$f":"IFERROR(VLOOKUP(D68,'Rànquing Inicial'!$C$11:$D$138,2,FALSE),\"\")","v":""}]
[null,null,{"$f":"IF(Participants!B68=\"\",\"\",Participants!B68)","v":""},{"$f":"IFERROR(VLOOKUP($D$146+26,'Classificació P'!$B$13:$D$60,3,FALSE),\"\")","v":""},{"$f":"IFERROR(VLOOKUP(D69,'Rànquing Inicial'!$C$11:$D$138,2,FALSE),\"\")","v":""}]
[null,null,{"$f":"IF(Participants!B69=\"\",\"\",Participants!B69)","v":""},{"$f":"IFERROR(VLOOKUP($D$146+27,'Classificació P'!$B$13:$D$60,3,FALSE),\"\")","v":""},{"$f":"IFERROR(VLOOKUP(D70,'Rànquing Inicial'!$C$11:$D$138,2,FALSE),\"\")","v":""}]
[null,null,{"$f":"IF(Participants!B70=\"\",\"\",Participants!B70)","v":""},{"$f":"IFERROR(VLOOKUP($D$146+28,'Classificació P'!$B$13:$D$60,3,FALSE),\"\")","v":""},{"$f":"IFERROR(VLOOKUP(D71,'Rànquing Inicial'!$C$11:$D$138,2,FALSE),\"\")","v":""}]
[null,null,{"$f":"IF(Participants!B71=\"\",\"\",Participants!B71)","v":""},{"$f":"IFERROR(VLOOKUP($D$146+29,'Classificació P'!$B$13:$D$60,3,FALSE),\"\")","v":""},{"$f":"IFERROR(VLOOKUP(D72,'Rànquing Inicial'!$C$11:$D$138,2,FALSE),\"\")","v":""}]
[null,null,{"$f":"IF(Participants!B72=\"\",\"\",Participants!B72)","v":""},{"$f":"IFERROR(VLOOKUP($D$146+30,'Classificació P'!$B$13:$D$60,3,FALSE),\"\")","v":""},{"$f":"IFERROR(VLOOKUP(D73,'Rànquing Inicial'!$C$11:$D$138,2,FALSE),\"\")","v":""}]
[null,null,{"$f":"IF(Participants!B73=\"\",\"\",Participants!B73)","v":""},{"$f":"IFERROR(VLOOKUP($D$146+31,'Classificació P'!$B$13:$D$60,3,FALSE),\"\")","v":""},{"$f":"IFERROR(VLOOKUP(D74,'Rànquing Inicial'!$C$11:$D$138,2,FALSE),\"\")","v":""}]
[null,null,{"$f":"IF(Participants!B74=\"\",\"\",Participants!B74)","v":""},{"$f":"IFERROR(VLOOKUP($D$146+32,'Classificació P'!$B$13:$D$60,3,FALSE),\"\")","v":""},{"$f":"IFERROR(VLOOKUP(D75,'Rànquing Inicial'!$C$11:$D$138,2,FALSE),\"\")","v":""}]
[null,"Pre-Prèvia (PP)","Posició","Jugador","Club"]
[null,{"$f":"IF('Rànquing Inicial'!$D$141<65,\"NO HI HA HAGUT PRE-PRÈVIA\",\"JUGADORS NO CLASSIFICATS A LA PRE-PRÈVIA (PP)\")","v":"NO HI HA HAGUT PRE-PRÈVIA"},{"$f":"IF(Participants!B75=\"\",\"\",Participants!B75)","v":""},{"$f":"IFERROR(VLOOKUP($D$149+1,'Classificació PP'!$B$13:$D$60,3,FALSE),\"\")","v":""},{"$f":"IFERROR(VLOOKUP(D77,'Rànquing Inicial'!$C$11:$D$138,2,FALSE),\"\")","v":""}]
[null,null,{"$f":"IF(Participants!B76=\"\",\"\",Participants!B76)","v":""},{"$f":"IFERROR(VLOOKUP($D$149+2,'Classificació PP'!$B$13:$D$60,3,FALSE),\"\")","v":""},{"$f":"IFERROR(VLOOKUP(D78,'Rànquing Inicial'!$C$11:$D$138,2,FALSE),\"\")","v":""}]
[null,null,{"$f":"IF(Participants!B77=\"\",\"\",Participants!B77)","v":""},{"$f":"IFERROR(VLOOKUP($D$149+3,'Classificació PP'!$B$13:$D$60,3,FALSE),\"\")","v":""},{"$f":"IFERROR(VLOOKUP(D79,'Rànquing Inicial'!$C$11:$D$138,2,FALSE),\"\")","v":""}]
[null,null,{"$f":"IF(Participants!B78=\"\",\"\",Participants!B78)","v":""},{"$f":"IFERROR(VLOOKUP($D$149+4,'Classificació PP'!$B$13:$D$60,3,FALSE),\"\")","v":""},{"$f":"IFERROR(VLOOKUP(D80,'Rànquing Inicial'!$C$11:$D$138,2,FALSE),\"\")","v":""}]
[null,null,{"$f":"IF(Participants!B79=\"\",\"\",Participants!B79)","v":""},{"$f":"IFERROR(VLOOKUP($D$149+5,'Classificació PP'!$B$13:$D$60,3,FALSE),\"\")","v":""},{"$f":"IFERROR(VLOOKUP(D81,'Rànquing Inicial'!$C$11:$D$138,2,FALSE),\"\")","v":""}]
[null,null,{"$f":"IF(Participants!B80=\"\",\"\",Participants!B80)","v":""},{"$f":"IFERROR(VLOOKUP($D$149+6,'Classificació PP'!$B$13:$D$60,3,FALSE),\"\")","v":""},{"$f":"IFERROR(VLOOKUP(D82,'Rànquing Inicial'!$C$11:$D$138,2,FALSE),\"\")","v":""}]
[null,null,{"$f":"IF(Participants!B81=\"\",\"\",Participants!B81)","v":""},{"$f":"IFERROR(VLOOKUP($D$149+7,'Classificació PP'!$B$13:$D$60,3,FALSE),\"\")","v":""},{"$f":"IFERROR(VLOOKUP(D83,'Rànquing Inicial'!$C$11:$D$138,2,FALSE),\"\")","v":""}]
[null,null,{"$f":"IF(Participants!B82=\"\",\"\",Participants!B82)","v":""},{"$f":"IFERROR(VLOOKUP($D$149+8,'Classificació PP'!$B$13:$D$60,3,FALSE),\"\")","v":""},{"$f":"IFERROR(VLOOKUP(D84,'Rànquing Inicial'!$C$11:$D$138,2,FALSE),\"\")","v":""}]
[null,null,{"$f":"IF(Participants!B83=\"\",\"\",Participants!B83)","v":""},{"$f":"IFERROR(VLOOKUP($D$149+9,'Classificació PP'!$B$13:$D$60,3,FALSE),\"\")","v":""},{"$f":"IFERROR(VLOOKUP(D85,'Rànquing Inicial'!$C$11:$D$138,2,FALSE),\"\")","v":""}]
[null,null,{"$f":"IF(Participants!B84=\"\",\"\",Participants!B84)","v":""},{"$f":"IFERROR(VLOOKUP($D$149+10,'Classificació PP'!$B$13:$D$60,3,FALSE),\"\")","v":""},{"$f":"IFERROR(VLOOKUP(D86,'Rànquing Inicial'!$C$11:$D$138,2,FALSE),\"\")","v":""}]
[null,null,{"$f":"IF(Participants!B85=\"\",\"\",Participants!B85)","v":""},{"$f":"IFERROR(VLOOKUP($D$149+11,'Classificació PP'!$B$13:$D$60,3,FALSE),\"\")","v":""},{"$f":"IFERROR(VLOOKUP(D87,'Rànquing Inicial'!$C$11:$D$138,2,FALSE),\"\")","v":""}]
[null,null,{"$f":"IF(Participants!B86=\"\",\"\",Participants!B86)","v":""},{"$f":"IFERROR(VLOOKUP($D$149+12,'Classificació PP'!$B$13:$D$60,3,FALSE),\"\")","v":""},{"$f":"IFERROR(VLOOKUP(D88,'Rànquing Inicial'!$C$11:$D$138,2,FALSE),\"\")","v":""}]
[null,null,{"$f":"IF(Participants!B87=\"\",\"\",Participants!B87)","v":""},{"$f":"IFERROR(VLOOKUP($D$149+13,'Classificació PP'!$B$13:$D$60,3,FALSE),\"\")","v":""},{"$f":"IFERROR(VLOOKUP(D89,'Rànquing Inicial'!$C$11:$D$138,2,FALSE),\"\")","v":""}]
[null,null,{"$f":"IF(Participants!B88=\"\",\"\",Participants!B88)","v":""},{"$f":"IFERROR(VLOOKUP($D$149+14,'Classificació PP'!$B$13:$D$60,3,FALSE),\"\")","v":""},{"$f":"IFERROR(VLOOKUP(D90,'Rànquing Inicial'!$C$11:$D$138,2,FALSE),\"\")","v":""}]
[null,null,{"$f":"IF(Participants!B89=\"\",\"\",Participants!B89)","v":""},{"$f":"IFERROR(VLOOKUP($D$149+15,'Classificació PP'!$B$13:$D$60,3,FALSE),\"\")","v":""},{"$f":"IFERROR(VLOOKUP(D91,'Rànquing Inicial'!$C$11:$D$138,2,FALSE),\"\")","v":""}]
[null,null,{"$f":"IF(Participants!B90=\"\",\"\",Participants!B90)","v":""},{"$f":"IFERROR(VLOOKUP($D$149+16,'Classificació PP'!$B$13:$D$60,3,FALSE),\"\")","v":""},{"$f":"IFERROR(VLOOKUP(D92,'Rànquing Inicial'!$C$11:$D$138,2,FALSE),\"\")","v":""}]
[null,null,{"$f":"IF(Participants!B91=\"\",\"\",Participants!B91)","v":""},{"$f":"IFERROR(VLOOKUP($D$149+17,'Classificació PP'!$B$13:$D$60,3,FALSE),\"\")","v":""},{"$f":"IFERROR(VLOOKUP(D93,'Rànquing Inicial'!$C$11:$D$138,2,FALSE),\"\")","v":""}]
[null,null,{"$f":"IF(Participants!B92=\"\",\"\",Participants!B92)","v":""},{"$f":"IFERROR(VLOOKUP($D$149+18,'Classificació PP'!$B$13:$D$60,3,FALSE),\"\")","v":""},{"$f":"IFERROR(VLOOKUP(D94,'Rànquing Inicial'!$C$11:$D$138,2,FALSE),\"\")","v":""}]
[null,null,{"$f":"IF(Participants!B93=\"\",\"\",Participants!B93)","v":""},{"$f":"IFERROR(VLOOKUP($D$149+19,'Classificació PP'!$B$13:$D$60,3,FALSE),\"\")","v":""},{"$f":"IFERROR(VLOOKUP(D95,'Rànquing Inicial'!$C$11:$D$138,2,FALSE),\"\")","v":""}]
[null,null,{"$f":"IF(Participants!B94=\"\",\"\",Participants!B94)","v":""},{"$f":"IFERROR(VLOOKUP($D$149+20,'Classificació PP'!$B$13:$D$60,3,FALSE),\"\")","v":""},{"$f":"IFERROR(VLOOKUP(D96,'Rànquing Inicial'!$C$11:$D$138,2,FALSE),\"\")","v":""}]
[null,null,{"$f":"IF(Participants!B95=\"\",\"\",Participants!B95)","v":""},{"$f":"IFERROR(VLOOKUP($D$149+21,'Classificació PP'!$B$13:$D$60,3,FALSE),\"\")","v":""},{"$f":"IFERROR(VLOOKUP(D97,'Rànquing Inicial'!$C$11:$D$138,2,FALSE),\"\")","v":""}]
[null,null,{"$f":"IF(Participants!B96=\"\",\"\",Participants!B96)","v":""},{"$f":"IFERROR(VLOOKUP($D$149+22,'Classificació PP'!$B$13:$D$60,3,FALSE),\"\")","v":""},{"$f":"IFERROR(VLOOKUP(D98,'Rànquing Inicial'!$C$11:$D$138,2,FALSE),\"\")","v":""}]
[null,null,{"$f":"IF(Participants!B97=\"\",\"\",Participants!B97)","v":""},{"$f":"IFERROR(VLOOKUP($D$149+23,'Classificació PP'!$B$13:$D$60,3,FALSE),\"\")","v":""},{"$f":"IFERROR(VLOOKUP(D99,'Rànquing Inicial'!$C$11:$D$138,2,FALSE),\"\")","v":""}]
[null,null,{"$f":"IF(Participants!B98=\"\",\"\",Participants!B98)","v":""},{"$f":"IFERROR(VLOOKUP($D$149+24,'Classificació PP'!$B$13:$D$60,3,FALSE),\"\")","v":""},{"$f":"IFERROR(VLOOKUP(D100,'Rànquing Inicial'!$C$11:$D$138,2,FALSE),\"\")","v":""}]
[null,null,{"$f":"IF(Participants!B99=\"\",\"\",Participants!B99)","v":""},{"$f":"IFERROR(VLOOKUP($D$149+25,'Classificació PP'!$B$13:$D$60,3,FALSE),\"\")","v":""},{"$f":"IFERROR(VLOOKUP(D101,'Rànquing Inicial'!$C$11:$D$138,2,FALSE),\"\")","v":""}]
[null,null,{"$f":"IF(Participants!B100=\"\",\"\",Participants!B100)","v":""},{"$f":"IFERROR(VLOOKUP($D$149+26,'Classificació PP'!$B$13:$D$60,3,FALSE),\"\")","v":""},{"$f":"IFERROR(VLOOKUP(D102,'Rànquing Inicial'!$C$11:$D$138,2,FALSE),\"\")","v":""}]
[null,null,{"$f":"IF(Participants!B101=\"\",\"\",Participants!B101)","v":""},{"$f":"IFERROR(VLOOKUP($D$149+27,'Classificació PP'!$B$13:$D$60,3,FALSE),\"\")","v":""},{"$f":"IFERROR(VLOOKUP(D103,'Rànquing Inicial'!$C$11:$D$138,2,FALSE),\"\")","v":""}]
[null,null,{"$f":"IF(Participants!B102=\"\",\"\",Participants!B102)","v":""},{"$f":"IFERROR(VLOOKUP($D$149+28,'Classificació PP'!$B$13:$D$60,3,FALSE),\"\")","v":""},{"$f":"IFERROR(VLOOKUP(D104,'Rànquing Inicial'!$C$11:$D$138,2,FALSE),\"\")","v":""}]
[null,null,{"$f":"IF(Participants!B103=\"\",\"\",Participants!B103)","v":""},{"$f":"IFERROR(VLOOKUP($D$149+29,'Classificació PP'!$B$13:$D$60,3,FALSE),\"\")","v":""},{"$f":"IFERROR(VLOOKUP(D105,'Rànquing Inicial'!$C$11:$D$138,2,FALSE),\"\")","v":""}]
[null,null,{"$f":"IF(Participants!B104=\"\",\"\",Participants!B104)","v":""},{"$f":"IFERROR(VLOOKUP($D$149+30,'Classificació PP'!$B$13:$D$60,3,FALSE),\"\")","v":""},{"$f":"IFERROR(VLOOKUP(D106,'Rànquing Inicial'!$C$11:$D$138,2,FALSE),\"\")","v":""}]
[null,null,{"$f":"IF(Participants!B105=\"\",\"\",Participants!B105)","v":""},{"$f":"IFERROR(VLOOKUP($D$149+31,'Classificació PP'!$B$13:$D$60,3,FALSE),\"\")","v":""},{"$f":"IFERROR(VLOOKUP(D107,'Rànquing Inicial'!$C$11:$D$138,2,FALSE),\"\")","v":""}]
[null,null,{"$f":"IF(Participants!B106=\"\",\"\",Participants!B106)","v":""},{"$f":"IFERROR(VLOOKUP($D$149+32,'Classificació PP'!$B$13:$D$60,3,FALSE),\"\")","v":""},{"$f":"IFERROR(VLOOKUP(D108,'Rànquing Inicial'!$C$11:$D$138,2,FALSE),\"\")","v":""}]
[null,"Pre-Pre-Prèvia (PPP)","Posició","Jugador","Club"]
[null,{"$f":"IF('Rànquing Inicial'!$D$141<97,\"NO HI HA HAGUT PRE-PRE-PRÈVIA\",\"JUGADORS NO CLASSIFICATS A LA PRE-PRE-PRÈVIA (PPP)\")","v":"NO HI HA HAGUT PRE-PRE-PRÈVIA"},{"$f":"IF(Participants!B107=\"\",\"\",Participants!B107)","v":""},{"$f":"IFERROR(VLOOKUP($D$152+1,'Classificació PPP'!$B$13:$D$60,3,FALSE),\"\")","v":""},{"$f":"IFERROR(VLOOKUP(D110,'Rànquing Inicial'!$C$11:$D$138,2,FALSE),\"\")","v":""}]
[null,null,{"$f":"IF(Participants!B108=\"\",\"\",Participants!B108)","v":""},{"$f":"IFERROR(VLOOKUP($D$152+2,'Classificació PPP'!$B$13:$D$60,3,FALSE),\"\")","v":""},{"$f":"IFERROR(VLOOKUP(D111,'Rànquing Inicial'!$C$11:$D$138,2,FALSE),\"\")","v":""}]
[null,null,{"$f":"IF(Participants!B109=\"\",\"\",Participants!B109)","v":""},{"$f":"IFERROR(VLOOKUP($D$152+3,'Classificació PPP'!$B$13:$D$60,3,FALSE),\"\")","v":""},{"$f":"IFERROR(VLOOKUP(D112,'Rànquing Inicial'!$C$11:$D$138,2,FALSE),\"\")","v":""}]
[null,null,{"$f":"IF(Participants!B110=\"\",\"\",Participants!B110)","v":""},{"$f":"IFERROR(VLOOKUP($D$152+4,'Classificació PPP'!$B$13:$D$60,3,FALSE),\"\")","v":""},{"$f":"IFERROR(VLOOKUP(D113,'Rànquing Inicial'!$C$11:$D$138,2,FALSE),\"\")","v":""}]
[null,null,{"$f":"IF(Participants!B111=\"\",\"\",Participants!B111)","v":""},{"$f":"IFERROR(VLOOKUP($D$152+5,'Classificació PPP'!$B$13:$D$60,3,FALSE),\"\")","v":""},{"$f":"IFERROR(VLOOKUP(D114,'Rànquing Inicial'!$C$11:$D$138,2,FALSE),\"\")","v":""}]
[null,null,{"$f":"IF(Participants!B112=\"\",\"\",Participants!B112)","v":""},{"$f":"IFERROR(VLOOKUP($D$152+6,'Classificació PPP'!$B$13:$D$60,3,FALSE),\"\")","v":""},{"$f":"IFERROR(VLOOKUP(D115,'Rànquing Inicial'!$C$11:$D$138,2,FALSE),\"\")","v":""}]
[null,null,{"$f":"IF(Participants!B113=\"\",\"\",Participants!B113)","v":""},{"$f":"IFERROR(VLOOKUP($D$152+7,'Classificació PPP'!$B$13:$D$60,3,FALSE),\"\")","v":""},{"$f":"IFERROR(VLOOKUP(D116,'Rànquing Inicial'!$C$11:$D$138,2,FALSE),\"\")","v":""}]
[null,null,{"$f":"IF(Participants!B114=\"\",\"\",Participants!B114)","v":""},{"$f":"IFERROR(VLOOKUP($D$152+8,'Classificació PPP'!$B$13:$D$60,3,FALSE),\"\")","v":""},{"$f":"IFERROR(VLOOKUP(D117,'Rànquing Inicial'!$C$11:$D$138,2,FALSE),\"\")","v":""}]
[null,null,{"$f":"IF(Participants!B115=\"\",\"\",Participants!B115)","v":""},{"$f":"IFERROR(VLOOKUP($D$152+9,'Classificació PPP'!$B$13:$D$60,3,FALSE),\"\")","v":""},{"$f":"IFERROR(VLOOKUP(D118,'Rànquing Inicial'!$C$11:$D$138,2,FALSE),\"\")","v":""}]
[null,null,{"$f":"IF(Participants!B116=\"\",\"\",Participants!B116)","v":""},{"$f":"IFERROR(VLOOKUP($D$152+10,'Classificació PPP'!$B$13:$D$60,3,FALSE),\"\")","v":""},{"$f":"IFERROR(VLOOKUP(D119,'Rànquing Inicial'!$C$11:$D$138,2,FALSE),\"\")","v":""}]
[null,null,{"$f":"IF(Participants!B117=\"\",\"\",Participants!B117)","v":""},{"$f":"IFERROR(VLOOKUP($D$152+11,'Classificació PPP'!$B$13:$D$60,3,FALSE),\"\")","v":""},{"$f":"IFERROR(VLOOKUP(D120,'Rànquing Inicial'!$C$11:$D$138,2,FALSE),\"\")","v":""}]
[null,null,{"$f":"IF(Participants!B118=\"\",\"\",Participants!B118)","v":""},{"$f":"IFERROR(VLOOKUP($D$152+12,'Classificació PPP'!$B$13:$D$60,3,FALSE),\"\")","v":""},{"$f":"IFERROR(VLOOKUP(D121,'Rànquing Inicial'!$C$11:$D$138,2,FALSE),\"\")","v":""}]
[null,null,{"$f":"IF(Participants!B119=\"\",\"\",Participants!B119)","v":""},{"$f":"IFERROR(VLOOKUP($D$152+13,'Classificació PPP'!$B$13:$D$60,3,FALSE),\"\")","v":""},{"$f":"IFERROR(VLOOKUP(D122,'Rànquing Inicial'!$C$11:$D$138,2,FALSE),\"\")","v":""}]
[null,null,{"$f":"IF(Participants!B120=\"\",\"\",Participants!B120)","v":""},{"$f":"IFERROR(VLOOKUP($D$152+14,'Classificació PPP'!$B$13:$D$60,3,FALSE),\"\")","v":""},{"$f":"IFERROR(VLOOKUP(D123,'Rànquing Inicial'!$C$11:$D$138,2,FALSE),\"\")","v":""}]
[null,null,{"$f":"IF(Participants!B121=\"\",\"\",Participants!B121)","v":""},{"$f":"IFERROR(VLOOKUP($D$152+15,'Classificació PPP'!$B$13:$D$60,3,FALSE),\"\")","v":""},{"$f":"IFERROR(VLOOKUP(D124,'Rànquing Inicial'!$C$11:$D$138,2,FALSE),\"\")","v":""}]
[null,null,{"$f":"IF(Participants!B122=\"\",\"\",Participants!B122)","v":""},{"$f":"IFERROR(VLOOKUP($D$152+16,'Classificació PPP'!$B$13:$D$60,3,FALSE),\"\")","v":""},{"$f":"IFERROR(VLOOKUP(D125,'Rànquing Inicial'!$C$11:$D$138,2,FALSE),\"\")","v":""}]
[null,null,{"$f":"IF(Participants!B123=\"\",\"\",Participants!B123)","v":""},{"$f":"IFERROR(VLOOKUP($D$152+17,'Classificació PPP'!$B$13:$D$60,3,FALSE),\"\")","v":""},{"$f":"IFERROR(VLOOKUP(D126,'Rànquing Inicial'!$C$11:$D$138,2,FALSE),\"\")","v":""}]
[null,null,{"$f":"IF(Participants!B124=\"\",\"\",Participants!B124)","v":""},{"$f":"IFERROR(VLOOKUP($D$152+18,'Classificació PPP'!$B$13:$D$60,3,FALSE),\"\")","v":""},{"$f":"IFERROR(VLOOKUP(D127,'Rànquing Inicial'!$C$11:$D$138,2,FALSE),\"\")","v":""}]
[null,null,{"$f":"IF(Participants!B125=\"\",\"\",Participants!B125)","v":""},{"$f":"IFERROR(VLOOKUP($D$152+19,'Classificació PPP'!$B$13:$D$60,3,FALSE),\"\")","v":""},{"$f":"IFERROR(VLOOKUP(D128,'Rànquing Inicial'!$C$11:$D$138,2,FALSE),\"\")","v":""}]
[null,null,{"$f":"IF(Participants!B126=\"\",\"\",Participants!B126)","v":""},{"$f":"IFERROR(VLOOKUP($D$152+20,'Classificació PPP'!$B$13:$D$60,3,FALSE),\"\")","v":""},{"$f":"IFERROR(VLOOKUP(D129,'Rànquing Inicial'!$C$11:$D$138,2,FALSE),\"\")","v":""}]
[null,null,{"$f":"IF(Participants!B127=\"\",\"\",Participants!B127)","v":""},{"$f":"IFERROR(VLOOKUP($D$152+21,'Classificació PPP'!$B$13:$D$60,3,FALSE),\"\")","v":""},{"$f":"IFERROR(VLOOKUP(D130,'Rànquing Inicial'!$C$11:$D$138,2,FALSE),\"\")","v":""}]
[null,null,{"$f":"IF(Participants!B128=\"\",\"\",Participants!B128)","v":""},{"$f":"IFERROR(VLOOKUP($D$152+22,'Classificació PPP'!$B$13:$D$60,3,FALSE),\"\")","v":""},{"$f":"IFERROR(VLOOKUP(D131,'Rànquing Inicial'!$C$11:$D$138,2,FALSE),\"\")","v":""}]
[null,null,{"$f":"IF(Participants!B129=\"\",\"\",Participants!B129)","v":""},{"$f":"IFERROR(VLOOKUP($D$152+23,'Classificació PPP'!$B$13:$D$60,3,FALSE),\"\")","v":""},{"$f":"IFERROR(VLOOKUP(D132,'Rànquing Inicial'!$C$11:$D$138,2,FALSE),\"\")","v":""}]
[null,null,{"$f":"IF(Participants!B130=\"\",\"\",Participants!B130)","v":""},{"$f":"IFERROR(VLOOKUP($D$152+24,'Classificació PPP'!$B$13:$D$60,3,FALSE),\"\")","v":""},{"$f":"IFERROR(VLOOKUP(D133,'Rànquing Inicial'!$C$11:$D$138,2,FALSE),\"\")","v":""}]
[null,null,{"$f":"IF(Participants!B131=\"\",\"\",Participants!B131)","v":""},{"$f":"IFERROR(VLOOKUP($D$152+25,'Classificació PPP'!$B$13:$D$60,3,FALSE),\"\")","v":""},{"$f":"IFERROR(VLOOKUP(D134,'Rànquing Inicial'!$C$11:$D$138,2,FALSE),\"\")","v":""}]
[null,null,{"$f":"IF(Participants!B132=\"\",\"\",Participants!B132)","v":""},{"$f":"IFERROR(VLOOKUP($D$152+26,'Classificació PPP'!$B$13:$D$60,3,FALSE),\"\")","v":""},{"$f":"IFERROR(VLOOKUP(D135,'Rànquing Inicial'!$C$11:$D$138,2,FALSE),\"\")","v":""}]
[null,null,{"$f":"IF(Participants!B133=\"\",\"\",Participants!B133)","v":""},{"$f":"IFERROR(VLOOKUP($D$152+27,'Classificació PPP'!$B$13:$D$60,3,FALSE),\"\")","v":""},{"$f":"IFERROR(VLOOKUP(D136,'Rànquing Inicial'!$C$11:$D$138,2,FALSE),\"\")","v":""}]
[null,null,{"$f":"IF(Participants!B134=\"\",\"\",Participants!B134)","v":""},{"$f":"IFERROR(VLOOKUP($D$152+28,'Classificació PPP'!$B$13:$D$60,3,FALSE),\"\")","v":""},{"$f":"IFERROR(VLOOKUP(D137,'Rànquing Inicial'!$C$11:$D$138,2,FALSE),\"\")","v":""}]
[null,null,{"$f":"IF(Participants!B135=\"\",\"\",Participants!B135)","v":""},{"$f":"IFERROR(VLOOKUP($D$152+29,'Classificació PPP'!$B$13:$D$60,3,FALSE),\"\")","v":""},{"$f":"IFERROR(VLOOKUP(D138,'Rànquing Inicial'!$C$11:$D$138,2,FALSE),\"\")","v":""}]
[null,null,{"$f":"IF(Participants!B136=\"\",\"\",Participants!B136)","v":""},{"$f":"IFERROR(VLOOKUP($D$152+30,'Classificació PPP'!$B$13:$D$60,3,FALSE),\"\")","v":""},{"$f":"IFERROR(VLOOKUP(D139,'Rànquing Inicial'!$C$11:$D$138,2,FALSE),\"\")","v":""}]
[null,null,{"$f":"IF(Participants!B137=\"\",\"\",Participants!B137)","v":""},{"$f":"IFERROR(VLOOKUP($D$152+31,'Classificació PPP'!$B$13:$D$60,3,FALSE),\"\")","v":""},{"$f":"IFERROR(VLOOKUP(D140,'Rànquing Inicial'!$C$11:$D$138,2,FALSE),\"\")","v":""}]
[null,null,{"$f":"IF(Participants!B138=\"\",\"\",Participants!B138)","v":""},{"$f":"IFERROR(VLOOKUP($D$152+32,'Classificació PPP'!$B$13:$D$60,3,FALSE),\"\")","v":""},{"$f":"IFERROR(VLOOKUP(D141,'Rànquing Inicial'!$C$11:$D$138,2,FALSE),\"\")","v":""}]
[]
[]
[null,null,"Total jugadors",{"$f":"128-(COUNTBLANK(C11:C141))","v":42}]
[null,null,"Reservats per a la fase final",{"$f":"VLOOKUP($D$144,Taules!$A$2:$J$129,2,FALSE)","v":18}]
[null,null,"Classificats per a la fase final",{"$f":"VLOOKUP($D$144,Taules!$A$2:$J$129,4,FALSE)","v":14}]
[null,null,"Juguen la prèvia",{"$f":"VLOOKUP($D$144,Taules!$A$2:$J$129,3,FALSE)","v":24}]
[null,null,"Reservats per a la prèvia",{"$f":"VLOOKUP($D$144,Taules!$A$2:$J$129,5,FALSE)","v":0}]
[null,null,"Classificats per a la prèvia",{"$f":"VLOOKUP($D$144,Taules!$A$2:$J$129,7,FALSE)","v":0}]
[null,null,"Juguen la pre-prèvia",{"$f":"VLOOKUP($D$144,Taules!$A$2:$J$129,6,FALSE)","v":0}]
[null,null,"Reservats per a la pre-prèvia",{"$f":"VLOOKUP($D$144,Taules!$A$2:$J$129,8,FALSE)","v":0}]
[null,null,"Classificats per a la pre-prèvia",{"$f":"VLOOKUP(D144,Taules!$A$2:$J$129,10,FALSE)","v":0}]
[null,null,"Juguen la pre-pre prèvia",{"$f":"VLOOKUP(D144,Taules!$A$2:$J$129,9,FALSE)","v":0}]